{"text_format":"1","workbook":"xlsx","n_sheets":11,"sheets":["Información","hoja de cálculo","Oferta Educativa","NIVEL 2","Plan Estu Especialidades","PROYECTOS","Hoja4","REAJUSTES Y CASOS ESPEC","Cuadro de Personal","Bitacora","Plan de Estudios"],"not_rendered":{"charts":0,"images":3,"macros":1,"external_links":5,"defined_names":27,"comments":4,"pivot_tables":0},"unopened":[],"bounds":{"document_bytes":16777216,"sheet_cells":100000,"rows_first":2000,"rows_last":500,"rows_between":2000,"halvings":0,"cell_chars":16384,"cell_head_chars":4096},"cells_cut":0,"cells_raw":0,"read":"whole","date_system":"1900"}

{"sheet":"Información","index":0,"n_rows":54,"n_cols":14,"rows_kept":54,"cut":false,"hidden":false,"merged":[[25,2,25,3],[27,2,27,5],[28,2,28,5],[53,1,53,5],[49,0,49,1],[33,0,33,1],[34,0,36,0],[50,0,52,0],[42,1,42,3],[43,1,43,3],[44,1,44,3],[41,1,41,3],[31,1,31,7],[39,1,39,7],[47,1,47,7],[45,1,45,3],[23,6,23,7],[24,6,24,7],[22,6,22,7],[8,1,8,7],[20,1,20,3],[20,5,20,7],[21,6,21,7],[9,1,9,4],[9,5,9,8],[10,5,10,8],[13,2,13,4]]}
[]
[]
[]
[]
[]
[]
[]
[]
[null,null,null,null,null,null,null,null,null,null,null,null,null,"HC24.4"]
[null,"Código Presupuestario: ",null,null,null,"Nombre de la Institución:"]
[null,{"$f":"IF(E11=\"\",\"\",573)","v":""},{"$f":"IFERROR(\"0\"&VLOOKUP(E11,'NIVEL 2'!A2:T1326,7,1),\"\")","v":""},{"$f":"IFERROR(VLOOKUP(E11,'NIVEL 2'!A2:T1326,6,1),\"\")","v":""},null,{"$f":"IFERROR(VLOOKUP($E$11,'NIVEL 2'!$A$2:$T$1326,2,1),\"REVISAR CODIGO\")","v":"REVISAR CODIGO"}]
[]
[]
[1,"Plan de Estudios:",{"$f":"IF(OR(E11=4844,E11=4857),\"COLEGIO TECNICO PROFESIONAL\",IF(C11=\"03\",\"COLEGIO TECNICO PROFESIONAL\",\"REVISAR CODIGO PRESUPUESTARIO\"))","v":"REVISAR CODIGO PRESUPUESTARIO"}]
[]
[null,"Sección Nocturna:",{"$f":"IFERROR(VLOOKUP(E11,Hoja4!A17:C109,3,0),\"NO\")","v":"NO"},{"$f":"IF(C16=\"SI\",1,IF(OR(E11=4844,E11=4857),1,2))","v":2},{"$f":"IF(D16=1,\"NIVEL\",\"\")","v":""},{"$f":"IF(D16=1,\"10°\",\"\")","v":""},{"$f":"IF(D16=1,\"11°\",\"\")","v":""},{"$f":"IF(D16=1,\"12°\",\"\")","v":""}]
[null,null,null,null,{"$f":"IF(D16=1,\"GRUPOS\",\"\")","v":""}]
[null,"Plan 2 Años:",{"$f":"IFERROR(VLOOKUP(E11,Hoja4!G28:I34,3,0),\"NO\")","v":"NO"},{"$f":"IF(C18=\"SI\",1,2)","v":2},{"$f":"IF(D16=1,\"MATRICULA\",\"\")","v":""}]
[]
[]
[null,"Ubicación Administrativa",null,null,null,"Ubicación Geográfica"]
[null,"Dirección Regional:",{"$f":"IFERROR(VLOOKUP($E$11,'NIVEL 2'!A2:T1326,5,1),\"\")","v":""},null,null,"Provincia:",{"$f":"IFERROR(VLOOKUP($E$11,'NIVEL 2'!A2:T1326,12,1),\"\")","v":""}]
[null,"Circuito:",{"$f":"IFERROR(VLOOKUP($E$11,'NIVEL 2'!A2:T1326,8,1),\"\")","v":""},null,null,"Cantón:",{"$f":"IFERROR(VLOOKUP($E$11,'NIVEL 2'!A2:T1326,13,1),\"\")","v":""}]
[null,"N° de teléfono:",{"$f":"IFERROR(VLOOKUP($E$11,'NIVEL 2'!A2:T1326,17,1),\"\")","v":""},null,null,"Distrito:",{"$f":"IFERROR(VLOOKUP($E$11,'NIVEL 2'!A2:T1326,14,1),\"\")","v":""}]
[null,"N° de fax:",{"$f":"IFERROR(VLOOKUP($E$11,'NIVEL 2'!A2:T1326,18,1),\"\")","v":""},null,null,"Poblado:",{"$f":"IFERROR(VLOOKUP($E$11,'NIVEL 2'!A2:T1326,15,1),\"\")","v":""}]
[null,"Correo electrónico:"]
[]
[null,"Director:"]
[null,"Supervisor:"]
[]
[]
[null,"Información Matrícula Diurna"]
[]
["Variable",null,"Total","7°","8°","9°","10°","11°","12°"]
[2024,"Matrícula",{"$f":"+SUM(D35:I35)","v":0}]
[null,"No. de Secciones",{"$f":"+SUM(D36:I36)","v":0}]
[null,"Promedio",{"$f":"+IF(C36=0,\"\",IF(C36=\"\",\"\",C35/C36))","v":""},"","","","","",""]
[]
[]
[null,"Información de la oferta"]
[]
[null,"Tipo de lecciones de Educación Física:",null,null,"SEPARADO",{"$f":"IF(E42=\"\",0,IF(E42=\"NO APLICA\",0,IF(E42=\"SEPARADO\",1,IF(E42=\"MIXTO\",2,0))))","v":1}]
[null,"Codigo Presupuestario Plan Nacional",null,null,{"$f":"IFERROR(VLOOKUP(E11,PROYECTOS!B479:E611,2,0),\"\")","v":""}]
[null,"Plan Nacional Educación Especial",null,null,{"$f":"IFERROR(VLOOKUP(E11,PROYECTOS!B479:E611,4,0),\"NO\")","v":"NO"}]
[null,"Informatica Educativa",null,null,{"$f":"IFERROR(VLOOKUP(E11,PROYECTOS!B17:F254,5,0),\"NO\")","v":"NO"},{"$f":"IF(E45=\"SI\",2,1)","v":1}]
[null,"Tutorías y Reforzamiento en EE",null,null,{"$f":"IFERROR(VLOOKUP(E11,PROYECTOS!A328:E370,4,0),\"NO\")","v":"NO"}]
[]
[null,"Talleres Exploratorios"]
[]
["Talleres Exploratorios",null,"Total","7°","8°","9°","N.A.","N.A."]
[{"$f":"+A35","v":2024},"N° de Grupos",{"$f":"+SUM(D51:H51)","v":0}]
[null,"Grupos Propuestos",{"$f":"+SUM(D52:H52)","v":0},{"$f":"IF(D36=\"\",\"\",D36*4)","v":""},{"$f":"IF(E36=\"\",\"\",E36*4)","v":""},{"$f":"IF(F36=\"\",\"\",F36*4)","v":""}]
[null,"Promedio",{"$f":"+SUM(D53:H53)","v":0},{"$f":"+IF(D50=\"n.a.\",\"\",IF(OR(D51=\"\",D51=0),\"\",(D35/D51)*2))","v":""},{"$f":"+IF(E50=\"n.a.\",\"\",IF(OR(E51=\"\",E51=0),\"\",(E35/E51)*2))","v":""},{"$f":"+IF(F50=\"n.a.\",\"\",IF(OR(F51=\"\",F51=0),\"\",(F35/F51)*2))","v":""}]
[null,{"$f":"+IF(C51=0,\"NO REQUIERE TALLER EXPLORATORIO\",\"Seleccione para incluir Grupos de Talleres Exploratorios\")","v":"NO REQUIERE TALLER EXPLORATORIO"}]

{"sheet":"hoja de cálculo","index":1,"n_rows":322,"n_cols":56,"rows_kept":322,"cut":false,"hidden":false,"merged":[[5,17,6,19],[13,50,14,55],[262,4,262,6],[1,7,1,20],[57,7,58,7],[57,9,57,11],[57,12,57,14],[57,15,58,15],[57,16,58,16],[57,17,58,17],[57,18,58,18],[18,17,18,19],[24,11,24,13],[25,11,25,13],[23,11,23,13],[23,16,23,19],[32,11,32,13],[29,11,29,13],[6,11,6,14],[7,15,13,15],[7,17,7,19],[8,18,8,19],[16,17,16,19],[11,17,11,19],[12,17,12,19],[26,16,26,19],[164,27,165,27],[164,18,164,21],[164,22,164,25],[2,9,2,12],[3,9,3,12],[55,7,55,20],[262,13,262,15],[262,9,262,12],[255,7,255,18],[256,7,257,7],[256,9,256,11],[256,12,257,12],[262,16,263,16],[262,7,263,7],[258,12,260,12],[30,16,30,19],[29,16,29,19],[28,16,28,19],[36,7,36,20],[17,11,17,14],[18,11,18,14],[20,11,20,14],[164,26,165,26],[245,9,245,12],[164,15,164,17],[83,8,83,14],[83,26,84,26],[83,15,83,17],[245,19,246,19],[245,16,245,18],[245,13,245,15],[244,7,244,19],[245,7,246,7],[83,7,84,7],[164,7,165,7],[164,8,164,14],[163,7,163,26],[14,30,14,35],[14,37,14,42],[46,16,46,19],[47,16,47,19],[48,16,48,19],[43,16,43,19],[44,16,44,19],[44,11,44,13],[43,11,43,13],[42,16,42,19],[15,22,15,26],[16,22,33,26],[39,22,39,26],[40,22,52,26],[19,11,19,14],[30,11,30,13],[51,11,51,13],[50,11,50,13],[48,11,48,13],[49,11,49,13],[25,16,25,19],[45,11,45,13],[24,16,24,19],[83,27,84,27],[83,18,83,21],[83,22,83,25],[31,11,31,13],[16,11,16,14],[2,13,2,16],[82,7,82,27],[27,16,27,19],[26,11,26,13],[27,11,27,13],[50,16,50,19],[51,16,51,19],[52,16,52,19],[49,16,49,19],[33,11,33,13],[31,16,31,19],[32,16,32,19],[33,16,33,19],[38,7,39,7],[38,9,38,11],[38,12,39,12],[45,16,45,19],[46,11,46,13],[52,11,52,13]]}
[1,{"$f":"+A1+1","v":2},{"$f":"+B1+1","v":3},4,5,6,7,8,9,10,11,12,13,14,15,16,17,18,19,20,21,22,23,24,25,26,27,28,29,30,31,32,33,34,35,36,37,38,39,40,41,42,43,{"$f":"+AQ1+1","v":44},{"$f":"+AR1+1","v":45},{"$f":"+AS1+1","v":46},{"$f":"+AT1+1","v":47},{"$f":"+AU1+1","v":48},{"$f":"+AV1+1","v":49},{"$f":"+AW1+1","v":50},{"$f":"+AX1+1","v":51},{"$f":"+AY1+1","v":52},{"$f":"+AZ1+1","v":53},{"$f":"+BA1+1","v":54},{"$f":"+BB1+1","v":55},{"$f":"+BC1+1","v":56}]
[null,null,null,null,null,null,null,"HOJA DE CALCULO"]
[null,null,99,null,null,null,null,"Centro Educativo:",null,{"$f":"Información!F11","v":"REVISAR CODIGO"},null,null,null,"Codigo Presupuestario: ",null,null,null,{"$f":"Información!B11","v":""},{"$f":"Información!C11","v":""},{"$f":"Información!D11","v":""},{"$f":"IF(Información!E11=0,\"\",Información!E11)","v":""}]
[null,null,99,null,null,null,null,"Oferta Educativa: ",null,{"$f":"Información!C14","v":"REVISAR CODIGO PRESUPUESTARIO"}]
[null,null,99]
[null,null,99,null,null,null,null,null,null,null,null,null,null,null,null,null,null,"COLOQUE LA FECHA DE MODIFICACIÓN"]
[null,null,99,null,null,null,null,"TOTAL RELACION DE PUESTOS",null,null,null,"REVISIÓN POR VERSIÓN"]
[null,null,99,null,null,null,null,"Total Lecciones Requeridas:",null,{"$f":"J21+P21+U17+U19","v":0},null,"Fecha Edición","Fecha Rige","Edición","Lecciones",{"$f":"IF(N9=0,\"\",IF($J$8=O9,\"\",\"ACTUALICE LAS LECCIONES D12\"))","v":""},null,"Firma del Director"]
[null,null,99,null,null,null,null,"Total Lecciones RP:",null,null,null,null,null,null,null,null,null,"Fecha"]
[null,null,99,null,null,null,null,"Ajuste Presupuestario:",null,{"$f":"J8-J9","v":0}]
[null,null,99]
[null,null,99]
[null,null,99,null,null,null,null,null,null,null,null,null,null,null,null,null,null,"Analista de Presupuesto"]
[null,null,99,null,null,null,null,null,null,null,null,null,null,null,null,null,null,null,null,null,null,null,null,null,null,null,null,null,null,null,null,null,null,null,null,null,null,null,null,null,null,null,null,null,null,null,null,null,null,null,"PLAN DE ESTUDIO "]
[null,null,99,null,null,null,null,null,null,null,null,null,null,null,null,null,null,null,null,null,null,null,null,null,null,null,null,null,null,null,"lecciones",null,null,null,null,null,null,"grupos"]
[null,null,99,null,null,null,null,"DIURNO",null,null,null,"NOCTURNO",null,null,null,null,null,"PLAN DOS AÑOS",null,null,null,null,"OBSERVACIONES DEL ANALISTA",null,null,null,null,null,null,null,"7°","8°","9°","10°","11°","12°",null,"7°","8°","9°","10°","11°","12°",null,null,null,null,null,null,null,"7°","8°","9°","10°","11°","12°"]
[{"$f":"SUM(B17:$B$321)","v":1},1,99,null,null,null,null,"Lecciones de Reajuste",null,{"$f":"+IFERROR(VLOOKUP(U3,'REAJUSTES Y CASOS ESPEC'!D3:E92,2,0),0)","v":0},null,"Lecciones de Reajuste:",null,null,null,null,null,"Total Lecciones Requeridas:",null,null,{"$f":"SUM(T253)","v":0},null,null,null,null,null,null,null,null,null,null,null,null,null,null,{"$f":"+J17","v":0}]
[null,null,99,null,null,null,null,"Total Lecciones Diurno",null,{"$f":"S80","v":0},null,"Total Lecciones Técnicas",null,null,null,{"$f":"+O47","v":0}]
[null,null,99,null,null,null,null,"Total Lecciones Técnicas",null,{"$f":"+O28","v":0},null,"Total Lecc.Proyectos, Coordinación",null,null,null,{"$f":"J48+J53+O53+U53","v":0},null,"Situación Especial Licencias:",null,null,{"$f":"+IFERROR(VLOOKUP(U3,'REAJUSTES Y CASOS ESPEC'!C100:D113,2,0),0)","v":0}]
[null,null,99,null,null,null,null,"Total Lecc.Proyectos, Coordinación",null,{"$f":"+J29+J34+O34+U34","v":0},null,"Total Lecciones Técnicas"]
[null,null,99,null,null,null,null,"Total Lecciones Requeridas:",null,{"$f":"SUM(J17:J20)","v":0},null,"Lecciones Requeridas:",null,null,null,{"$f":"SUM(P17:P20)","v":0}]
[{"$f":"+IF(B22>0,SUM(B22:$B$321),0)","v":0},{"$f":"+IF(U34+U53>0,1,0)","v":0},95,null,null,null,null,"Proyectos Especiales (especifique el proyecto o servicio del funcionario)",null,null,null,null,null,null,null,null,null,null,null,null,null,null,null,null,null,null,null,null,null,null,null,null,null,null,null,{"$f":"+U34+U53","v":0}]
[{"$f":"+IF(B23>0,SUM(B23:$B$321),0)","v":0},{"$f":"+IF(O34+O53>0,1,0)","v":0},null,null,null,null,null,"Equiparando Oportunidades  (especifique el proyecto o servicio del funcionario)",null,null,null,null,null,null,null,null,null,null,null,null,null,null,null,null,null,null,null,null,null,null,null,null,null,null,null,{"$f":"O34+O53","v":0}]
[null,null,99,null,null,null,null,"COORDINACIONES",null,null,null,"ESPECIALIDADES",null,null,null,null,"PROYECTOS ESPECIALES"]
[null,null,99,null,null,null,null,"Coordinación con la Empresa",null,{"$f":"IF(U3=\"\",0,IF(K25=1,20,U61))","v":0},{"$f":"IFERROR(IF(U3=0,0,VLOOKUP(U3,Hoja4!G17:J22,4,0)),0)","v":0},"Talleres Exploratorios",null,null,{"$f":"+M259","v":0},null,"Clubes 4S",null,null,null,{"$f":"IFERROR(VLOOKUP(U3,PROYECTOS!B283:D298,3,0),0)","v":0}]
[null,null,99,null,null,null,null,"Coordinación Técnica",null,{"$f":"IF(OR(U3=\"\",Q61=0),0,IF(K25=1,20,40))","v":0},null,"Lecciones Técnica",null,null,{"$f":"SUM(P160:U160,W160:Y160)","v":0},null,"Cooperativas",null,null,null,{"$f":"IF(OR(U3=4844,U3=4857),0,IFERROR(VLOOKUP(U3,PROYECTOS!C400:F474,4,0),0))","v":0}]
[null,null,99,null,null,null,null,"Coordinador Académico",null,{"$f":"IF(Q61>500,30,IF(Q61>350,20,IF(Q61>0,15,0)))","v":0},null,"Lecciones Labor@",null,null,{"$f":"IFERROR(VLOOKUP(U3,PROYECTOS!B617:F749,4,0),0)","v":0},null,"Informática de Innovación educativa",null,null,null,{"$f":"IFERROR(VLOOKUP(U3,PROYECTOS!A382:D394,4,0),0)","v":0}]
[null,null,99,null,null,null,null,"Comité Técnico Asesor",1,{"$f":"IF(Q61>2000,18,IF(Q61>1500,15,IF(Q61>1000,12,IF(Q61>0,9,0))))","v":0},null,"TOTAL",null,null,{"$f":"SUM(O25:O27)","v":0},null,"Piad"]
[null,null,99,null,null,null,null,"TOTAL",null,{"$f":"SUM(J25:J28)","v":0},null,null,null,null,null,null,"Videoconferencias",null,null,null,{"$f":"IFERROR(VLOOKUP(U3,PROYECTOS!D260:F276,3,0),0)","v":0}]
[{"$f":"+IF(B30>0,SUM(B30:$B$321),0)","v":0},{"$f":"+IF(O27>0,1,0)","v":0},99,null,null,null,null,"Lecciones Labor@ Diurnas",null,null,null,"EQUIPARANDO OPORTUNIDADES",null,null,null,null,"Incubadoras de Empresas",null,null,null,null,null,null,null,null,null,null,null,null,null,null,null,null,null,null,{"$f":"+O27","v":0}]
[null,null,99,null,null,null,null,"PROYECTOS TECNICOS",null,null,null,"Tutorías estudiantes sordos"]
[{"$f":"+IF(B32>0,SUM(B32:$B$321),0)","v":0},{"$f":"+IF(J32>0,1,0)","v":0},95,null,null,null,null,"Unidades Productivas",null,null,null,"Refuerzo Academico",null,null,{"$f":"IFERROR(VLOOKUP(U3,PROYECTOS!A328:E370,5,0),0)","v":0},null,"",null,null,null,null,null,null,null,null,null,null,null,null,null,null,null,null,null,null,{"$f":"+J32","v":0}]
[null,null,99,null,null,null,null,"Fortalecimiento Enseñanza Inglés",null,null,{"$f":"IFERROR(VLOOKUP(U3,PROYECTOS!A306:D313,3,0),0)","v":0},"Tutoria estudiantes ACS"]
[null,null,99,null,null,null,null,"TOTAL",null,{"$f":"J33+J32","v":0},null,"TOTAL",null,null,{"$f":"SUM(O31:O33)","v":0},null,"TOTAL",null,null,null,{"$f":"SUM(U25:U33)","v":0}]
[null,null,99]
[null,null,99]
[null,null,99,null,null,null,null,"SECCIÓN NOCTURNA"]
[]
[null,null,99,null,null,null,null,"Nivel",null,"CUARTO CICLO",null,null,"TOTAL"]
[null,null,99,null,null,null,null,null,null,"10°","11°","12°",null,null,null,null,null,null,null,null,null,null,"OBSERVACIONES DEL ANALISTA"]
[null,null,99,null,null,null,null,"Número grupos de Especialidad",null,{"$f":"+Información!F17","v":0},{"$f":"+Información!G17","v":0},{"$f":"+Información!H17","v":0},{"$f":"SUM(J41:L41)","v":0}]
[null,null,99,null,null,null,null,"Matrícula Especialidades",null,{"$f":"+Información!F18","v":0},{"$f":"+Información!G18","v":0},{"$f":"+Información!H18","v":0},{"$f":"SUM(J42:L42)","v":0},null,null,null,null,null,null,null,{"$f":"IF(Q42=0,0,IF(AND(SUM(J42:L42)>0,SUM(J42:O42)>350),40,IF(AND(SUM(J42:L42)>0,SUM(J42:O42)<351),32,IF(AND(SUM(J42:L42)=0,SUM(J42:O42)>200),40,32))))","v":0}]
[null,null,99,null,null,null,null,null,null,null,null,null,null,null,null,null,"PROYECTOS ESPECIALES"]
[null,null,99,null,null,null,null,"COORDINACIONES",null,null,null,"ESPECIALIDADES",null,null,null,null,"Clubes 4S"]
[null,null,99,null,null,null,null,"Coordinación con la Empresa",null,{"$f":"IF(OR(M42=0,U3=\"\"),0,IF(VLOOKUP(U3,Hoja4!$A$16:$D$108,4,0)=2019,20,IF(OR(U3=4844,U3=4857),K46,IF(K45=2,20,IF(M42<150,20,IF(M42<350,32,40))))))","v":0},{"$f":"IF(Información!D16=2,0,VLOOKUP(U3,Hoja4!A17:E108,5,0))","v":0},"Leccciones Técnica",null,null,{"$f":"SUM(P241:U241,W241:Y241)","v":0},null,"Cooperativas",null,null,null,{"$f":"IF(OR(U3=4844,U3=4857),IFERROR(VLOOKUP(U3,PROYECTOS!C400:F474,4,0),0),0)","v":0}]
[null,null,99,null,null,null,null,"Coordinación Técnica",null,{"$f":"IF(OR(Información!D16=2,M42=0),0,IF(VLOOKUP(U3,Hoja4!$A$16:$D$108,4,0)=2019,20,IF(OR(U3=4844,U3=4857),K47,IF(K45=2,20,IF(M42<150,20,40)))))","v":0},{"$f":"IF(AND(OR(U3=4844,U3=4857),M42<200),32,IF(AND(OR(U3=4844,U3=4857),M42>200),40,IF(AND(M42<150),20,IF(AND(M42<350),32,40))))","v":20},"Lecciones Labor@",null,null,{"$f":"IFERROR(VLOOKUP(U3,PROYECTOS!B617:F749,5,0),0)","v":0},null,"Infor Educ De Innovaciones"]
[null,null,99,null,null,null,null,"Comité Técnico Asesor",1,{"$f":"IF(AND(U3<>4844,U3<>4857),0,IF(M42>2000,18,IF(M42>1500,15,IF(M42>1000,12,IF(M42>0,9,0)))))","v":0},{"$f":"+IF(AND(OR(U3=4844,U3=4857),M42<150),20,40)","v":40},"TOTAL",null,null,{"$f":"SUM(O45:O46)","v":0},null,"Piad"]
[null,null,99,null,null,null,null,"TOTAL",null,{"$f":"SUM(J45:J47)","v":0},null,null,null,null,null,null,"Videoconferencias"]
[{"$f":"+IF(B49>0,SUM(B49:$B$321),0)","v":0},{"$f":"IF(O46>0,1,0)","v":0},99,null,null,null,null,"Lecciones Labor@ Nocturno",null,null,null,"EQUIPARANDO OPORTUNIDADES",null,null,null,null,null,null,null,null,null,null,null,null,null,null,null,null,null,null,null,null,null,null,null,{"$f":"+O46","v":0}]
[null,null,99,null,null,null,null,"PROYECTOS TECNICOS",null,null,null,"Tutorías estudiantes sordos"]
[null,null,99,null,null,null,null,"Unidades Productivas",null,null,null,"Refuerzo Academico",null,null,null,null,""]
[null,null,99,null,null,null,null,"Fortalecimiento Enseñanza Inglés",null,null,{"$f":"IFERROR(VLOOKUP(U3,PROYECTOS!A306:D322,4,0),0)","v":0},"Tutoria estudiantes ACS"]
[null,null,99,null,null,null,null,"TOTAL",null,{"$f":"SUM(J51:J52)","v":0},null,"TOTAL",null,null,{"$f":"SUM(O50:O51)","v":0},null,"TOTAL",null,null,null,{"$f":"SUM(U44:U52)","v":0}]
[null,null,99]
[]
[null,null,null,null,null,null,null,"CTP DIURNO"]
[null,null,90]
[null,null,90,null,null,null,null,"Nivel",null,"TERCER CICLO",null,null,"CUARTO CICLO",null,null,"Taller Pre y Voca.","SUB TOTAL","Coord. Depto.","TOTAL"]
[null,null,90,null,null,null,null,null,null,"7°","8°","9°","10°","11°","12°",null,null,null,null,null,null,null,null,null,null,null,null,null,null,null,"7°","8°","9°","10°","11°","12°",null,"7°","8°","9°","10°","11°","12°"]
[null,null,90,null,null,null,null,"Número de secciones",null,{"$f":"Información!D36","v":0},{"$f":"Información!E36","v":0},{"$f":"Información!F36","v":0},{"$f":"+Información!G36","v":0},{"$f":"+Información!H36","v":0},{"$f":"+Información!I36","v":0},{"$f":"IF(Información!E43=\"SI\",Información!H44,0)","v":0},{"$f":"SUM(J60:P60)","v":0},null,{"$f":"Q60","v":0},{"$f":"IF((J60+K60+L60)=0,1,2)","v":1},{"$f":"IFERROR(IF(U3=0,0,VLOOKUP(U3,Hoja4!G17:J22,4,0)),0)","v":0}]
[null,null,90,null,null,null,null,"Matrícula",null,{"$f":"Información!D35","v":0},{"$f":"Información!E35","v":0},{"$f":"Información!F35","v":0},{"$f":"+Información!G35","v":0},{"$f":"+Información!H35","v":0},{"$f":"+Información!I35","v":0},{"$f":"IF(Información!E43=\"SI\",Información!H43,0)","v":0},{"$f":"SUM(J61:O61,P61)","v":0},null,{"$f":"Q61","v":0},{"$f":"IF(Q61>150,40,32)","v":32},{"$f":"IF(Q61=0,0,IF(AND(SUM(J61:L61)>0,SUM(M61:O61)>0,SUM(J61:O61)>350),40,IF(AND(SUM(J61:L61)>0,SUM(M61:O61)>0,SUM(J61:O61)<351),32,IF(AND(SUM(J61:L61)=0,SUM(J61:O61)>200),40,32))))","v":0}]
[]
[{"$f":"+IF(B63=0,0,SUM($B$62:B63))","v":0},{"$f":"+IF(S63>0,1,0)","v":0},90,null,null,null,null,"Actividad de Grupo",1,{"$f":"IF($I63=1,'Plan de Estudios'!B5*J$60)","v":0},{"$f":"IF($I63=1,'Plan de Estudios'!C5*K$60)","v":0},{"$f":"IF($I63=1,'Plan de Estudios'!D5*L$60)","v":0},{"$f":"IF($I63=1,'Plan de Estudios'!E5*M$60)","v":0},{"$f":"IF($I63=1,'Plan de Estudios'!F5*N$60)","v":0},{"$f":"IF($I63=1,'Plan de Estudios'!G5*O$60)","v":0},null,{"$f":"SUM(J63:P63)","v":0},null,{"$f":"SUM(Q63:R63)","v":0},null,null,null,null,null,null,null,null,null,null,null,{"$f":"+J63","v":0},{"$f":"+K63","v":0},0,0,0,0,null,{"$f":"+Información!D36","v":0},{"$f":"+Información!E36","v":0},{"$f":"+Información!F36","v":0},{"$f":"+Información!G36","v":0},{"$f":"+Información!H36","v":0},{"$f":"+Información!I36","v":0},null,null,null,null,null,null,null,{"$f":"IF($I63=1,'Plan de Estudios'!B5,\"\")","v":1},{"$f":"IF($I63=1,'Plan de Estudios'!C5,\"\")","v":1},{"$f":"IF($I63=1,'Plan de Estudios'!D5,\"\")","v":1},{"$f":"IF($I63=1,'Plan de Estudios'!E5,\"\")","v":1},{"$f":"IF($I63=1,'Plan de Estudios'!F5,\"\")","v":1},{"$f":"IF($I63=1,'Plan de Estudios'!G5,\"\")","v":0}]
[{"$f":"+IF(B64=0,0,SUM($B$62:B64))","v":0},{"$f":"+IF(S64>0,1,0)","v":0},90,null,null,null,null,"Ciencias",1,{"$f":"IF($I64=1,'Plan de Estudios'!B6*J$60)","v":0},{"$f":"IF($I64=1,'Plan de Estudios'!C6*K$60)","v":0},{"$f":"IF($I64=1,'Plan de Estudios'!D6*L$60)","v":0},{"$f":"IF($I64=1,'Plan de Estudios'!E6*M$60)","v":0},{"$f":"IF($I64=1,'Plan de Estudios'!F6*N$60)","v":0},{"$f":"IF($I64=1,'Plan de Estudios'!G6*O$60)","v":0},null,{"$f":"SUM(J64:P64)","v":0},{"$f":"IF(AND(SUM(Q64:Q67)>59,$Q$61>599),2,0)","v":0},{"$f":"SUM(Q64:R64)","v":0},null,null,null,null,null,null,null,null,null,null,null,{"$f":"+J64","v":0},{"$f":"+K64","v":0},{"$f":"+L64","v":0},{"$f":"+M64","v":0},{"$f":"+N64","v":0},{"$f":"+O64","v":0},null,{"$f":"+AL63","v":0},0,0,0,0,0,null,null,null,null,null,null,null,{"$f":"IF($I64=1,'Plan de Estudios'!B6,\"\")","v":5},{"$f":"IF($I64=1,'Plan de Estudios'!C6,\"\")","v":5},{"$f":"IF($I64=1,'Plan de Estudios'!D6,\"\")","v":5},{"$f":"IF($I64=1,'Plan de Estudios'!E6,\"\")","v":0},{"$f":"IF($I64=1,'Plan de Estudios'!F6,\"\")","v":0},{"$f":"IF($I64=1,'Plan de Estudios'!G6,\"\")","v":0}]
[{"$f":"+IF(B65=0,0,SUM($B$62:B65))","v":0},0,90,null,null,null,null,"Ciencias Biología",1,{"$f":"IF($I65=1,'Plan de Estudios'!B7*J$60)","v":0},{"$f":"IF($I65=1,'Plan de Estudios'!C7*K$60)","v":0},{"$f":"IF($I65=1,'Plan de Estudios'!D7*L$60)","v":0},{"$f":"IF($I65=1,'Plan de Estudios'!E7*M$60)","v":0},{"$f":"IF($I65=1,'Plan de Estudios'!F7*N$60)","v":0},{"$f":"IF($I65=1,'Plan de Estudios'!G7*O$60)","v":0},null,0,null,0,null,null,null,null,null,null,null,null,null,null,null,0,0,0,0,0,0,null,{"$f":"+AL64","v":0},0,0,0,0,0,null,null,null,null,null,null,null,{"$f":"IF($I65=1,'Plan de Estudios'!B7,\"\")","v":0},{"$f":"IF($I65=1,'Plan de Estudios'!C7,\"\")","v":0},{"$f":"IF($I65=1,'Plan de Estudios'!D7,\"\")","v":0},{"$f":"IF($I65=1,'Plan de Estudios'!E7,\"\")","v":0},{"$f":"IF($I65=1,'Plan de Estudios'!F7,\"\")","v":3},{"$f":"IF($I65=1,'Plan de Estudios'!G7,\"\")","v":3}]
[{"$f":"+IF(B66=0,0,SUM($B$62:B66))","v":0},0,90,null,null,null,null,"Ciencias Física",1,{"$f":"IF($I66=1,'Plan de Estudios'!B8*J$60)","v":0},{"$f":"IF($I66=1,'Plan de Estudios'!C8*K$60)","v":0},{"$f":"IF($I66=1,'Plan de Estudios'!D8*L$60)","v":0},{"$f":"IF($I66=1,'Plan de Estudios'!E8*M$60)","v":0},{"$f":"IF($I66=1,'Plan de Estudios'!F8*N$60)","v":0},{"$f":"IF($I66=1,'Plan de Estudios'!G8*O$60)","v":0},null,0,null,0,null,null,null,null,null,null,null,null,null,null,null,0,0,0,0,0,0,null,0,0,0,0,0,0,null,null,null,null,null,null,null,{"$f":"IF($I66=1,'Plan de Estudios'!B8,\"\")","v":0},{"$f":"IF($I66=1,'Plan de Estudios'!C8,\"\")","v":0},{"$f":"IF($I66=1,'Plan de Estudios'!D8,\"\")","v":0},{"$f":"IF($I66=1,'Plan de Estudios'!E8,\"\")","v":6},{"$f":"IF($I66=1,'Plan de Estudios'!F8,\"\")","v":0},{"$f":"IF($I66=1,'Plan de Estudios'!G8,\"\")","v":0}]
[{"$f":"+IF(B67=0,0,SUM($B$62:B67))","v":0},0,90,null,null,null,null,"Ciencias Química",1,{"$f":"IF($I67=1,'Plan de Estudios'!B9*J$60)","v":0},{"$f":"IF($I67=1,'Plan de Estudios'!C9*K$60)","v":0},{"$f":"IF($I67=1,'Plan de Estudios'!D9*L$60)","v":0},{"$f":"IF($I67=1,'Plan de Estudios'!E9*M$60)","v":0},{"$f":"IF($I67=1,'Plan de Estudios'!F9*N$60)","v":0},{"$f":"IF($I67=1,'Plan de Estudios'!G9*O$60)","v":0},null,0,null,0,null,null,null,null,null,null,null,null,null,null,null,0,0,0,{"$f":"+M67","v":0},0,0,null,0,0,0,0,0,0,null,null,null,null,null,null,null,{"$f":"IF($I67=1,'Plan de Estudios'!B9,\"\")","v":0},{"$f":"IF($I67=1,'Plan de Estudios'!C9,\"\")","v":0},{"$f":"IF($I67=1,'Plan de Estudios'!D9,\"\")","v":0},{"$f":"IF($I67=1,'Plan de Estudios'!E9,\"\")","v":0},{"$f":"IF($I67=1,'Plan de Estudios'!F9,\"\")","v":3},{"$f":"IF($I67=1,'Plan de Estudios'!G9,\"\")","v":3}]
[{"$f":"+IF(B68=0,0,SUM($B$62:B68))","v":0},0,90,null,null,null,null,"Educación Física ( 2 o 4 )",1,{"$f":"IF(AND($I68=1,Información!$F$42=2),'Plan de Estudios'!B11*J$60,IF(AND($I68=1,Información!$F$42=1),('Plan de Estudios'!B11*J$60)*2,0))","v":0},{"$f":"IF(AND($I68=1,Información!$F$42=2),'Plan de Estudios'!C11*K$60,IF(AND($I68=1,Información!$F$42=1),('Plan de Estudios'!C11*K$60)*2,0))","v":0},{"$f":"IF(AND($I68=1,Información!$F$42=2),'Plan de Estudios'!D11*L$60,IF(AND($I68=1,Información!$F$42=1),('Plan de Estudios'!D11*L$60)*2,0))","v":0},{"$f":"IF(AND($I68=1,Información!$F$42=2),'Plan de Estudios'!E11*M$60,IF(AND($I68=1,Información!$F$42=1),('Plan de Estudios'!E11*M$60)*2,0))","v":0},{"$f":"IF(AND($I68=1,Información!$F$42=2),'Plan de Estudios'!F11*N$60,IF(AND($I68=1,Información!$F$42=1),('Plan de Estudios'!F11*N$60)*2,0))","v":0},{"$f":"IF(AND($I68=1,Información!$F$42=2),'Plan de Estudios'!G11*O$60,IF(AND($I68=1,Información!$F$42=1),('Plan de Estudios'!G11*O$60)*2,0))","v":0},{"$f":"IF(AND($I68=1,$P$60=0),0,P60*'Plan de Estudios'!H11)","v":0},0,null,0,null,null,null,null,null,null,null,null,null,null,null,0,0,0,0,0,0,null,{"$f":"+AL67","v":0},0,0,0,0,0,null,null,null,null,null,null,null,{"$f":"IF($I68=1,'Plan de Estudios'!B11,\"\")","v":2},{"$f":"IF($I68=1,'Plan de Estudios'!C11,\"\")","v":2},{"$f":"IF($I68=1,'Plan de Estudios'!D11,\"\")","v":2},{"$f":"IF($I68=1,'Plan de Estudios'!E11,\"\")","v":2},{"$f":"IF($I68=1,'Plan de Estudios'!F11,\"\")","v":2},{"$f":"IF($I68=1,'Plan de Estudios'!G11,\"\")","v":0}]
[{"$f":"+IF(B69=0,0,SUM($B$62:B69))","v":0},0,90,null,null,null,null,"Educación Musical",1,{"$f":"IF($I69=1,'Plan de Estudios'!B12*J$60)","v":0},{"$f":"IF($I69=1,'Plan de Estudios'!C12*K$60)","v":0},{"$f":"IF($I69=1,'Plan de Estudios'!D12*L$60)","v":0},{"$f":"IF($I69=1,'Plan de Estudios'!E12*M$60)","v":0},{"$f":"IF($I69=1,'Plan de Estudios'!F12*N$60)","v":0},{"$f":"IF($I69=1,'Plan de Estudios'!G12*O$60)","v":0},{"$f":"IF(AND($I69=1,$P$60=0),0,P61*'Plan de Estudios'!H12)","v":0},0,null,0,null,null,null,null,null,null,null,null,null,null,null,0,0,0,0,0,0,null,{"$f":"+AL68","v":0},0,0,0,0,0,null,null,null,null,null,null,null,{"$f":"IF($I69=1,'Plan de Estudios'!B12,\"\")","v":2},{"$f":"IF($I69=1,'Plan de Estudios'!C12,\"\")","v":2},{"$f":"IF($I69=1,'Plan de Estudios'!D12,\"\")","v":2},{"$f":"IF($I69=1,'Plan de Estudios'!E12,\"\")","v":1},{"$f":"IF($I69=1,'Plan de Estudios'!F12,\"\")","v":1},{"$f":"IF($I69=1,'Plan de Estudios'!G12,\"\")","v":0}]
[{"$f":"+IF(B70=0,0,SUM($B$62:B70))","v":0},{"$f":"+IF(S70>0,1,0)","v":0},90,null,null,null,null,"Educación Religiosa",1,{"$f":"IF($I70=1,'Plan de Estudios'!B13*J$60)","v":0},{"$f":"IF($I70=1,'Plan de Estudios'!C13*K$60)","v":0},{"$f":"IF($I70=1,'Plan de Estudios'!D13*L$60)","v":0},{"$f":"IF($I70=1,'Plan de Estudios'!E13*M$60)","v":0},{"$f":"IF($I70=1,'Plan de Estudios'!F13*N$60)","v":0},{"$f":"IF($I70=1,'Plan de Estudios'!G13*O$60)","v":0},{"$f":"IF(AND($I70=1,$P$60=0),0,P62*'Plan de Estudios'!H13)","v":0},0,null,0,null,null,null,null,null,null,null,null,null,null,null,0,0,0,0,0,0,null,{"$f":"+AL69","v":0},0,0,0,0,0,null,null,null,null,null,null,null,{"$f":"IF($I70=1,'Plan de Estudios'!B13,\"\")","v":1},{"$f":"IF($I70=1,'Plan de Estudios'!C13,\"\")","v":1},{"$f":"IF($I70=1,'Plan de Estudios'!D13,\"\")","v":1},{"$f":"IF($I70=1,'Plan de Estudios'!E13,\"\")","v":1},{"$f":"IF($I70=1,'Plan de Estudios'!F13,\"\")","v":1},{"$f":"IF($I70=1,'Plan de Estudios'!G13,\"\")","v":0}]
[{"$f":"+IF(B71=0,0,SUM($B$62:B71))","v":0},0,90,null,null,null,null,"Español",1,{"$f":"IF($I71=1,'Plan de Estudios'!B14*J$60)","v":0},{"$f":"IF($I71=1,'Plan de Estudios'!C14*K$60)","v":0},{"$f":"IF($I71=1,'Plan de Estudios'!D14*L$60)","v":0},{"$f":"IF($I71=1,'Plan de Estudios'!E14*M$60)","v":0},{"$f":"IF($I71=1,'Plan de Estudios'!F14*N$60)","v":0},{"$f":"IF($I71=1,'Plan de Estudios'!G14*O$60)","v":0},null,0,{"$f":"IF(AND(Q71>59,$Q$61>599),2,0)","v":0},0,null,null,null,null,null,null,null,null,null,null,null,0,0,0,0,0,0,null,{"$f":"+AL70","v":0},0,0,0,0,0,null,null,null,null,null,null,null,{"$f":"IF($I71=1,'Plan de Estudios'!B14,\"\")","v":5},{"$f":"IF($I71=1,'Plan de Estudios'!C14,\"\")","v":5},{"$f":"IF($I71=1,'Plan de Estudios'!D14,\"\")","v":5},{"$f":"IF($I71=1,'Plan de Estudios'!E14,\"\")","v":3},{"$f":"IF($I71=1,'Plan de Estudios'!F14,\"\")","v":3},{"$f":"IF($I71=1,'Plan de Estudios'!G14,\"\")","v":4}]
[{"$f":"+IF(B72=0,0,SUM($B$62:B72))","v":0},0,90,null,null,null,null,"Estudios Sociales / Educación Cívica",1,{"$f":"IF($I72=1,'Plan de Estudios'!B15*J$60)","v":0},{"$f":"IF($I72=1,'Plan de Estudios'!C15*K$60)","v":0},{"$f":"IF($I72=1,'Plan de Estudios'!D15*L$60)","v":0},{"$f":"IF($I72=1,'Plan de Estudios'!E15*M$60)","v":0},{"$f":"IF($I72=1,'Plan de Estudios'!F15*N$60)","v":0},{"$f":"IF($I72=1,'Plan de Estudios'!G15*O$60)","v":0},null,0,{"$f":"IF(AND(Q72>59,$Q$61>599),2,0)","v":0},0,null,null,null,null,null,null,null,null,null,null,null,0,0,0,0,0,0,null,{"$f":"+AL71","v":0},0,0,0,0,0,null,null,null,null,null,null,null,{"$f":"IF($I72=1,'Plan de Estudios'!B15,\"\")","v":6},{"$f":"IF($I72=1,'Plan de Estudios'!C15,\"\")","v":6},{"$f":"IF($I72=1,'Plan de Estudios'!D15,\"\")","v":6},{"$f":"IF($I72=1,'Plan de Estudios'!E15,\"\")","v":3},{"$f":"IF($I72=1,'Plan de Estudios'!F15,\"\")","v":3},{"$f":"IF($I72=1,'Plan de Estudios'!G15,\"\")","v":6}]
[{"$f":"+IF(B73=0,0,SUM($B$62:B73))","v":0},0,90,null,null,null,null,"Fortalecimiento Areas Específicas",1,{"$f":"IF($I73=1,'Plan de Estudios'!B16*J$60)","v":0},{"$f":"IF($I73=1,'Plan de Estudios'!C16*K$60)","v":0},{"$f":"IF($I73=1,'Plan de Estudios'!D16*L$60)","v":0},{"$f":"IF($I73=1,'Plan de Estudios'!E16*M$60)","v":0},{"$f":"IF($I73=1,'Plan de Estudios'!F16*N$60)","v":0},{"$f":"IF($I73=1,'Plan de Estudios'!G16*O$60)","v":0},null,0,null,0,null,null,null,null,null,null,null,null,null,null,null,0,0,0,0,0,0,null,{"$f":"+AL72","v":0},0,0,0,0,0,null,null,null,null,null,null,null,{"$f":"IF($I73=1,'Plan de Estudios'!B16,\"\")","v":1},{"$f":"IF($I73=1,'Plan de Estudios'!C16,\"\")","v":1},{"$f":"IF($I73=1,'Plan de Estudios'!D16,\"\")","v":1},{"$f":"IF($I73=1,'Plan de Estudios'!E16,\"\")","v":0},{"$f":"IF($I73=1,'Plan de Estudios'!F16,\"\")","v":0},{"$f":"IF($I73=1,'Plan de Estudios'!G16,\"\")","v":0}]
[{"$f":"+IF(B74=0,0,SUM($B$62:B74))","v":0},0,90,null,null,null,null,"Francés",1,{"$f":"IF($I74=1,'Plan de Estudios'!B17*J$60)","v":0},{"$f":"IF($I74=1,'Plan de Estudios'!C17*K$60)","v":0},{"$f":"IF($I74=1,'Plan de Estudios'!D17*L$60)","v":0},{"$f":"IF($I74=1,'Plan de Estudios'!E17*M$60)","v":0},{"$f":"IF($I74=1,'Plan de Estudios'!F17*N$60)","v":0},{"$f":"IF($I74=1,'Plan de Estudios'!G17*O$60)","v":0},null,0,{"$f":"IF(AND(Q74>59,$Q$61>599),2,0)","v":0},0,null,null,null,null,null,null,null,null,null,null,null,0,0,0,0,0,0,null,{"$f":"+AL73","v":0},0,0,0,0,0,null,null,null,null,null,null,null,{"$f":"IF($I74=1,'Plan de Estudios'!B17,\"\")","v":3},{"$f":"IF($I74=1,'Plan de Estudios'!C17,\"\")","v":3},{"$f":"IF($I74=1,'Plan de Estudios'!D17,\"\")","v":3},{"$f":"IF($I74=1,'Plan de Estudios'!E17,\"\")","v":0},{"$f":"IF($I74=1,'Plan de Estudios'!F17,\"\")","v":0},{"$f":"IF($I74=1,'Plan de Estudios'!G17,\"\")","v":0}]
[{"$f":"+IF(B75=0,0,SUM($B$62:B75))","v":0},0,90,null,null,null,null,"Informática Educativa (SI o NO)",1,{"$f":"IF(AND($I75=1,Información!$F$45=2),'Plan de Estudios'!B18*J$60,0)","v":0},{"$f":"IF(AND($I75=1,Información!$F$45=2),'Plan de Estudios'!C18*K$60,0)","v":0},{"$f":"IF(AND($I75=1,Información!$F$45=2),'Plan de Estudios'!D18*L$60,0)","v":0},{"$f":"IF(AND($I75=1,Información!$F$45=2),'Plan de Estudios'!E18*M$60,0)","v":0},{"$f":"IF(AND($I75=1,Información!$F$45=2),'Plan de Estudios'!F18*N$60,0)","v":0},{"$f":"IF(AND($I75=1,Información!$F$45=2),'Plan de Estudios'!G18*O$60,0)","v":0},{"$f":"IF(AND($I75=1,Información!$F$45=1),'Plan de Estudios'!H18*P$60,0)","v":0},0,null,0,null,null,null,null,null,null,null,null,null,null,null,0,0,0,0,0,0,null,{"$f":"+AL74","v":0},0,0,0,0,0,null,null,null,null,null,null,null,{"$f":"IF($I75=1,'Plan de Estudios'!B18,\"\")","v":2},{"$f":"IF($I75=1,'Plan de Estudios'!C18,\"\")","v":2},{"$f":"IF($I75=1,'Plan de Estudios'!D18,\"\")","v":2},{"$f":"IF($I75=1,'Plan de Estudios'!E18,\"\")","v":0},{"$f":"IF($I75=1,'Plan de Estudios'!F18,\"\")","v":0},{"$f":"IF($I75=1,'Plan de Estudios'!G18,\"\")","v":0}]
[{"$f":"+IF(B76=0,0,SUM($B$62:B76))","v":0},0,90,null,null,null,null,"Inglés",1,{"$f":"IF($I76=1,'Plan de Estudios'!B19*J$60)","v":0},{"$f":"IF($I76=1,'Plan de Estudios'!C19*K$60)","v":0},{"$f":"IF($I76=1,'Plan de Estudios'!D19*L$60)","v":0},{"$f":"IF($I76=1,'Plan de Estudios'!E19*M$60)","v":0},{"$f":"IF($I76=1,'Plan de Estudios'!F19*N$60)","v":0},{"$f":"IF($I76=1,'Plan de Estudios'!G19*O$60)","v":0},null,0,{"$f":"IF(AND(Q76>59,$Q$61>599),2,0)","v":0},0,null,null,null,null,null,null,null,null,null,null,null,0,0,0,0,0,0,null,{"$f":"+AL75","v":0},0,0,0,0,0,null,null,null,null,null,null,null,{"$f":"IF($I76=1,'Plan de Estudios'!B19,\"\")","v":3},{"$f":"IF($I76=1,'Plan de Estudios'!C19,\"\")","v":3},{"$f":"IF($I76=1,'Plan de Estudios'!D19,\"\")","v":3},{"$f":"IF($I76=1,'Plan de Estudios'!E19,\"\")","v":4},{"$f":"IF($I76=1,'Plan de Estudios'!F19,\"\")","v":3},{"$f":"IF($I76=1,'Plan de Estudios'!G19,\"\")","v":3}]
[{"$f":"+IF(B77=0,0,SUM($B$62:B77))","v":0},0,90,null,null,null,null,"Matemática",1,{"$f":"IF($I77=1,'Plan de Estudios'!B20*J$60)","v":0},{"$f":"IF($I77=1,'Plan de Estudios'!C20*K$60)","v":0},{"$f":"IF($I77=1,'Plan de Estudios'!D20*L$60)","v":0},{"$f":"IF($I77=1,'Plan de Estudios'!E20*M$60)","v":0},{"$f":"IF($I77=1,'Plan de Estudios'!F20*N$60)","v":0},{"$f":"IF($I77=1,'Plan de Estudios'!G20*O$60)","v":0},null,0,{"$f":"IF(AND(Q77>59,$Q$61>599),2,0)","v":0},0,null,null,null,null,null,null,null,null,null,null,null,0,0,0,0,0,0,null,{"$f":"+AL76","v":0},0,0,0,0,0,null,null,null,null,null,null,null,{"$f":"IF($I77=1,'Plan de Estudios'!B20,\"\")","v":5},{"$f":"IF($I77=1,'Plan de Estudios'!C20,\"\")","v":5},{"$f":"IF($I77=1,'Plan de Estudios'!D20,\"\")","v":5},{"$f":"IF($I77=1,'Plan de Estudios'!E20,\"\")","v":3},{"$f":"IF($I77=1,'Plan de Estudios'!F20,\"\")","v":3},{"$f":"IF($I77=1,'Plan de Estudios'!G20,\"\")","v":4}]
[{"$f":"+IF(B78=0,0,SUM($B$62:B78))","v":0},0,90,null,null,null,null,"Afectividad y Sexualidad Integral",1,{"$f":"IF($I78=1,'Plan de Estudios'!B21*J$60)","v":0},{"$f":"IF($I78=1,'Plan de Estudios'!C21*K$60)","v":0},{"$f":"IF($I78=1,'Plan de Estudios'!D21*L$60)","v":0},{"$f":"IF($I78=1,'Plan de Estudios'!E21*M$60)","v":0},{"$f":"IF($I78=1,'Plan de Estudios'!F21*N$60)","v":0},{"$f":"IF($I78=1,'Plan de Estudios'!G21*O$60)","v":0},null,0,{"$f":"IF(AND(Q78>59,$Q$61>599),2,0)","v":0},0,null,null,null,null,null,null,null,null,null,null,null,0,0,0,0,0,0,null,{"$f":"+AL77","v":0},0,0,0,0,0,null,null,null,null,null,null,null,{"$f":"IF($I78=1,'Plan de Estudios'!B21,\"\")","v":0},{"$f":"IF($I78=1,'Plan de Estudios'!C21,\"\")","v":0},{"$f":"IF($I78=1,'Plan de Estudios'!D21,\"\")","v":0},{"$f":"IF($I78=1,'Plan de Estudios'!E21,\"\")","v":0},{"$f":"IF($I78=1,'Plan de Estudios'!F21,\"\")","v":1},{"$f":"IF($I78=1,'Plan de Estudios'!G21,\"\")","v":0}]
[{"$f":"+IF(B79=0,0,SUM($B$62:B79))","v":0},0,90,null,null,null,null,"Sicología y Etica",1,{"$f":"IF($I79=1,'Plan de Estudios'!B22*J$60)","v":0},{"$f":"IF($I79=1,'Plan de Estudios'!C22*K$60)","v":0},{"$f":"IF($I79=1,'Plan de Estudios'!D22*L$60)","v":0},{"$f":"IF($I79=1,'Plan de Estudios'!E22*M$60)","v":0},{"$f":"IF($I79=1,'Plan de Estudios'!F22*N$60)","v":0},{"$f":"IF($I79=1,'Plan de Estudios'!G22*O$60)","v":0},null,0,{"$f":"IF(AND(Q79>59,$Q$61>599),2,0)","v":0},0,null,null,null,null,null,null,null,null,null,null,null,0,0,0,0,0,0,null,{"$f":"+AL78","v":0},0,0,0,0,0,null,null,null,null,null,null,null,{"$f":"IF($I79=1,'Plan de Estudios'!B22,\"\")","v":0},{"$f":"IF($I79=1,'Plan de Estudios'!C22,\"\")","v":0},{"$f":"IF($I79=1,'Plan de Estudios'!D22,\"\")","v":0},{"$f":"IF($I79=1,'Plan de Estudios'!E22,\"\")","v":0},{"$f":"IF($I79=1,'Plan de Estudios'!F22,\"\")","v":0},{"$f":"IF($I79=1,'Plan de Estudios'!G22,\"\")","v":1}]
[9999,null,90,null,null,null,null,"TOTAL DE LECCIONES",1,{"$f":"SUM(J63:J79)","v":0},0,0,0,0,0,0,0,0,0]
[9999,null,90]
[9999]
[9999,null,91,null,null,null,null,"ESPECIALIDADES TECNICAS DIURNA"]
[9999,null,91,null,null,null,null,"DESCRIPCION\nESPECIALIDADES TECNICAS","Matrícula",null,null,null,null,null,null,"10°",null,null,"11º",null,null,null,"12º",null,null,null,"Total diurna","Total Labora"]
[9999,null,91,"UBICADOR","10°","11°","12°",null,null,"GRUPOS","10º","GRUPOS","11º","GRUPOS","12º","ESPEC","INGLES","DIB. TEC / INFORM","ESPEC","INGLES","DIB. TEC / INFORM","LABORA","ESPEC","INGLES","DIB. TEC / INFORM","LABORA",null,null,null,null,"7°","8°","9°","10°","11°","12°",null,"7°","8°","9°","10°","11°","12°",null,"Labor@",{"$f":"SUMIF($AS86:$AS158,0,$V86:$V158)+SUMIF($AS86:$AS158,1,$V86:$V158)+SUMIF($AS86:$AS158,0,$Z86:$Z158)+SUMIF($AS86:$AS158,1,$Z86:$Z158)","v":0},{"$f":"SUMIF($AS86:$AS158,0,$V86:$V158)+SUMIF($AS86:$AS158,2,$V86:$V158)+SUMIF($AS86:$AS158,0,$Z86:$Z158)+SUMIF($AS86:$AS158,2,$Z86:$Z158)","v":0},null,null,null,"7°","8°","9°","10°","11°","12°"]
[{"$f":"+IF(B86=0,0,SUM($B$62:B86))","v":0},{"$f":"+IF(AA86>0,1,0)","v":0},91,1,{"$f":"IF(K86>29,1,IF(K86>14,2,0))","v":0},{"$f":"IF(M86>20,1,IF(M86>8,2,IF(M86>0,3,0)))","v":0},{"$f":"IF(O86>20,1,IF(O86>7,2,IF(O86>5,3,IF(O86>0,4,0))))","v":0},"Accounting",{"$f":"+$U$3&\"_\"&D86","v":"_1"},null,null,null,null,null,null,{"$f":"IF(E86=2,VLOOKUP(D86,'Plan Estu Especialidades'!$B$4:$AF$77,3,0),IF(E86=1,VLOOKUP(D86,'Plan Estu Especialidades'!$B$4:$AF$77,3,0)*J86,0))","v":0},{"$f":"IF(E86=2,VLOOKUP(D86,'Plan Estu Especialidades'!$B$4:$AF$77,4,0),IF(E86=1,VLOOKUP(D86,'Plan Estu Especialidades'!$B$4:$AF$77,4,0)*J86,0))","v":0},{"$f":"IF(E86=2,VLOOKUP(D86,'Plan Estu Especialidades'!$B$4:$AF$77,5,0),IF(E86=1,VLOOKUP(D86,'Plan Estu Especialidades'!$B$4:$AF$77,5,0)*J86,0))","v":0},{"$f":"IF(F86=3,VLOOKUP(D86,'Plan Estu Especialidades'!$B$4:$AF$77,12,0),IF(F86=2,VLOOKUP(D86,'Plan Estu Especialidades'!$B$4:$AF$77,7,0),IF(F86=1,VLOOKUP(D86,'Plan Estu Especialidades'!$B$4:$AF$77,7,0)*L86,0)))","v":0},{"$f":"IF(F86=3,VLOOKUP(D86,'Plan Estu Especialidades'!$B$4:$AF$77,13,0),IF(F86=2,VLOOKUP(D86,'Plan Estu Especialidades'!$B$4:$AF$77,8,0),IF(F86=1,VLOOKUP(D86,'Plan Estu Especialidades'!$B$4:$AF$77,8,0)*L86,0)))","v":0},{"$f":"IF(F86=3,VLOOKUP(D86,'Plan Estu Especialidades'!$B$4:$AF$77,14,0),IF(F86=2,VLOOKUP(D86,'Plan Estu Especialidades'!$B$4:$AF$77,9,0),IF(F86=1,VLOOKUP(D86,'Plan Estu Especialidades'!$B$4:$AF$77,9,0)*L86,0)))","v":0},{"$f":"IF(F86=3,VLOOKUP(D86,'Plan Estu Especialidades'!$B$4:$AF$77,15,0),IF(F86=2,VLOOKUP(D86,'Plan Estu Especialidades'!$B$4:$AF$77,10,0),IF(F86=1,VLOOKUP(D86,'Plan Estu Especialidades'!$B$4:$AF$77,10,0)*L86,0)))","v":0},{"$f":"IF(G86=4,VLOOKUP(D86,'Plan Estu Especialidades'!$B$4:$AF$77,27,0),IF(G86=3,VLOOKUP(D86,'Plan Estu Especialidades'!$B$4:$AF$77,22,0),IF(G86=2,VLOOKUP(D86,'Plan Estu Especialidades'!$B$4:$AF$77,17,0),IF(G86=1,VLOOKUP(D86,'Plan Estu Especialidades'!$B$4:$AF$77,17,0)*N86,0))))","v":0},{"$f":"IF(G86=4,VLOOKUP(D86,'Plan Estu Especialidades'!$B$4:$AF$77,28,0),IF(G86=3,VLOOKUP(D86,'Plan Estu Especialidades'!$B$4:$AF$77,23,0),IF(G86=2,VLOOKUP(D86,'Plan Estu Especialidades'!$B$4:$AF$77,18,0),IF(G86=1,VLOOKUP(D86,'Plan Estu Especialidades'!$B$4:$AF$77,18,0)*N86,0))))","v":0},{"$f":"IF(G86=4,VLOOKUP(D86,'Plan Estu Especialidades'!$B$4:$AF$77,29,0),IF(G86=3,VLOOKUP(D86,'Plan Estu Especialidades'!$B$4:$AF$77,24,0),IF(G86=2,VLOOKUP(D86,'Plan Estu Especialidades'!$B$4:$AF$77,19,0),IF(G86=1,VLOOKUP(D86,'Plan Estu Especialidades'!$B$4:$AF$77,19,0)*N86,0))))","v":0},{"$f":"IF(G86=4,VLOOKUP(D86,'Plan Estu Especialidades'!$B$4:$AF$77,30,0),IF(G86=3,VLOOKUP(D86,'Plan Estu Especialidades'!$B$4:$AF$77,25,0),IF(G86=2,VLOOKUP(D86,'Plan Estu Especialidades'!$B$4:$AF$77,20,0),IF(G86=1,VLOOKUP(D86,'Plan Estu Especialidades'!$B$4:$AF$77,20,0)*N86,0))))","v":0},{"$f":"SUM(P86:R86,S86:U86,W86:Y86)","v":0},{"$f":"+AT86+AU86","v":0},null,null,null,null,null,{"$f":"SUM(P86:R86)","v":0},{"$f":"SUM(S86:U86)","v":0},{"$f":"SUM(W86:Y86)","v":0},null,null,null,null,{"$f":"+J86","v":0},{"$f":"+L86","v":0},{"$f":"+N86","v":0},null,{"$f":"IF(SUM(J86,L86,N86)=0,\"S/V\",VLOOKUP(D86,'Plan Estu Especialidades'!$B$4:$AG$77,32,0))","v":"S/V"},{"$f":"IF(AND(AS86<2,$AT$85>$AU$85),V86+Z86,IF($AT$85=$AU$85,V86+Z86,0))","v":0},{"$f":"+IF(AND($AU$85>$AT$85,AS86=2),V86+Z86,IF(AND($AU$85>$AT$85,AS86=0),V86+Z86,0))","v":0},null,null,null,null,null,null,{"$f":"+IF(AH86=0,0,AH86/J86)","v":0},{"$f":"+IF(AI86=0,0,AI86/L86)","v":0},{"$f":"+IF(AJ86=0,0,AJ86/N86)","v":0}]
[{"$f":"+IF(B87=0,0,SUM($B$62:B87))","v":0},0,91,2,{"$f":"IF(K87>29,1,IF(K87>14,2,0))","v":0},{"$f":"IF(M87>20,1,IF(M87>8,2,IF(M87>0,3,0)))","v":0},{"$f":"IF(O87>20,1,IF(O87>7,2,IF(O87>5,3,IF(O87>0,4,0))))","v":0},"Administración y Operación Aduanera",{"$f":"+$U$3&\"_\"&D87","v":"_2"},null,null,null,null,null,null,{"$f":"IF(E87=2,VLOOKUP(D87,'Plan Estu Especialidades'!$B$4:$AF$77,3,0),IF(E87=1,VLOOKUP(D87,'Plan Estu Especialidades'!$B$4:$AF$77,3,0)*J87,0))","v":0},{"$f":"IF(E87=2,VLOOKUP(D87,'Plan Estu Especialidades'!$B$4:$AF$77,4,0),IF(E87=1,VLOOKUP(D87,'Plan Estu Especialidades'!$B$4:$AF$77,4,0)*J87,0))","v":0},{"$f":"IF(E87=2,VLOOKUP(D87,'Plan Estu Especialidades'!$B$4:$AF$77,5,0),IF(E87=1,VLOOKUP(D87,'Plan Estu Especialidades'!$B$4:$AF$77,5,0)*J87,0))","v":0},{"$f":"IF(F87=3,VLOOKUP(D87,'Plan Estu Especialidades'!$B$4:$AF$77,12,0),IF(F87=2,VLOOKUP(D87,'Plan Estu Especialidades'!$B$4:$AF$77,7,0),IF(F87=1,VLOOKUP(D87,'Plan Estu Especialidades'!$B$4:$AF$77,7,0)*L87,0)))","v":0},{"$f":"IF(F87=3,VLOOKUP(D87,'Plan Estu Especialidades'!$B$4:$AF$77,13,0),IF(F87=2,VLOOKUP(D87,'Plan Estu Especialidades'!$B$4:$AF$77,8,0),IF(F87=1,VLOOKUP(D87,'Plan Estu Especialidades'!$B$4:$AF$77,8,0)*L87,0)))","v":0},{"$f":"IF(F87=3,VLOOKUP(D87,'Plan Estu Especialidades'!$B$4:$AF$77,14,0),IF(F87=2,VLOOKUP(D87,'Plan Estu Especialidades'!$B$4:$AF$77,9,0),IF(F87=1,VLOOKUP(D87,'Plan Estu Especialidades'!$B$4:$AF$77,9,0)*L87,0)))","v":0},{"$f":"IF(F87=3,VLOOKUP(D87,'Plan Estu Especialidades'!$B$4:$AF$77,15,0),IF(F87=2,VLOOKUP(D87,'Plan Estu Especialidades'!$B$4:$AF$77,10,0),IF(F87=1,VLOOKUP(D87,'Plan Estu Especialidades'!$B$4:$AF$77,10,0)*L87,0)))","v":0},{"$f":"IF(G87=4,VLOOKUP(D87,'Plan Estu Especialidades'!$B$4:$AF$77,27,0),IF(G87=3,VLOOKUP(D87,'Plan Estu Especialidades'!$B$4:$AF$77,22,0),IF(G87=2,VLOOKUP(D87,'Plan Estu Especialidades'!$B$4:$AF$77,17,0),IF(G87=1,VLOOKUP(D87,'Plan Estu Especialidades'!$B$4:$AF$77,17,0)*N87,0))))","v":0},{"$f":"IF(G87=4,VLOOKUP(D87,'Plan Estu Especialidades'!$B$4:$AF$77,28,0),IF(G87=3,VLOOKUP(D87,'Plan Estu Especialidades'!$B$4:$AF$77,23,0),IF(G87=2,VLOOKUP(D87,'Plan Estu Especialidades'!$B$4:$AF$77,18,0),IF(G87=1,VLOOKUP(D87,'Plan Estu Especialidades'!$B$4:$AF$77,18,0)*N87,0))))","v":0},{"$f":"IF(G87=4,VLOOKUP(D87,'Plan Estu Especialidades'!$B$4:$AF$77,29,0),IF(G87=3,VLOOKUP(D87,'Plan Estu Especialidades'!$B$4:$AF$77,24,0),IF(G87=2,VLOOKUP(D87,'Plan Estu Especialidades'!$B$4:$AF$77,19,0),IF(G87=1,VLOOKUP(D87,'Plan Estu Especialidades'!$B$4:$AF$77,19,0)*N87,0))))","v":0},{"$f":"IF(G87=4,VLOOKUP(D87,'Plan Estu Especialidades'!$B$4:$AF$77,30,0),IF(G87=3,VLOOKUP(D87,'Plan Estu Especialidades'!$B$4:$AF$77,25,0),IF(G87=2,VLOOKUP(D87,'Plan Estu Especialidades'!$B$4:$AF$77,20,0),IF(G87=1,VLOOKUP(D87,'Plan Estu Especialidades'!$B$4:$AF$77,20,0)*N87,0))))","v":0},{"$f":"SUM(P87:R87,S87:U87,W87:Y87)","v":0},{"$f":"+AT87+AU87","v":0},null,null,null,null,null,{"$f":"SUM(P87:R87)","v":0},{"$f":"SUM(S87:U87)","v":0},{"$f":"SUM(W87:Y87)","v":0},null,null,null,null,{"$f":"+J87","v":0},{"$f":"+L87","v":0},{"$f":"+N87","v":0},null,{"$f":"IF(SUM(J87,L87,N87)=0,\"S/V\",VLOOKUP(D87,'Plan Estu Especialidades'!$B$4:$AG$77,32,0))","v":"S/V"},{"$f":"IF(AND(AS87<2,$AT$85>$AU$85),V87+Z87,IF($AT$85=$AU$85,V87+Z87,0))","v":0},{"$f":"+IF(AND($AU$85>$AT$85,AS87=2),V87+Z87,IF(AND($AU$85>$AT$85,AS87=0),V87+Z87,0))","v":0},null,null,null,null,null,null,{"$f":"+IF(AH87=0,0,AH87/J87)","v":0},{"$f":"+IF(AI87=0,0,AI87/L87)","v":0},{"$f":"+IF(AJ87=0,0,AJ87/N87)","v":0}]
[{"$f":"+IF(B88=0,0,SUM($B$62:B88))","v":0},0,91,3,0,0,0,"Administración, Logística y Distribución","_3",null,null,null,null,null,null,{"$f":"IF(E88=2,VLOOKUP(D88,'Plan Estu Especialidades'!$B$4:$AF$77,3,0),IF(E88=1,VLOOKUP(D88,'Plan Estu Especialidades'!$B$4:$AF$77,3,0)*J88,0))","v":0},{"$f":"IF(E88=2,VLOOKUP(D88,'Plan Estu Especialidades'!$B$4:$AF$77,4,0),IF(E88=1,VLOOKUP(D88,'Plan Estu Especialidades'!$B$4:$AF$77,4,0)*J88,0))","v":0},{"$f":"IF(E88=2,VLOOKUP(D88,'Plan Estu Especialidades'!$B$4:$AF$77,5,0),IF(E88=1,VLOOKUP(D88,'Plan Estu Especialidades'!$B$4:$AF$77,5,0)*J88,0))","v":0},{"$f":"IF(F88=3,VLOOKUP(D88,'Plan Estu Especialidades'!$B$4:$AF$77,12,0),IF(F88=2,VLOOKUP(D88,'Plan Estu Especialidades'!$B$4:$AF$77,7,0),IF(F88=1,VLOOKUP(D88,'Plan Estu Especialidades'!$B$4:$AF$77,7,0)*L88,0)))","v":0},{"$f":"IF(F88=3,VLOOKUP(D88,'Plan Estu Especialidades'!$B$4:$AF$77,13,0),IF(F88=2,VLOOKUP(D88,'Plan Estu Especialidades'!$B$4:$AF$77,8,0),IF(F88=1,VLOOKUP(D88,'Plan Estu Especialidades'!$B$4:$AF$77,8,0)*L88,0)))","v":0},{"$f":"IF(F88=3,VLOOKUP(D88,'Plan Estu Especialidades'!$B$4:$AF$77,14,0),IF(F88=2,VLOOKUP(D88,'Plan Estu Especialidades'!$B$4:$AF$77,9,0),IF(F88=1,VLOOKUP(D88,'Plan Estu Especialidades'!$B$4:$AF$77,9,0)*L88,0)))","v":0},{"$f":"IF(F88=3,VLOOKUP(D88,'Plan Estu Especialidades'!$B$4:$AF$77,15,0),IF(F88=2,VLOOKUP(D88,'Plan Estu Especialidades'!$B$4:$AF$77,10,0),IF(F88=1,VLOOKUP(D88,'Plan Estu Especialidades'!$B$4:$AF$77,10,0)*L88,0)))","v":0},{"$f":"IF(G88=4,VLOOKUP(D88,'Plan Estu Especialidades'!$B$4:$AF$77,27,0),IF(G88=3,VLOOKUP(D88,'Plan Estu Especialidades'!$B$4:$AF$77,22,0),IF(G88=2,VLOOKUP(D88,'Plan Estu Especialidades'!$B$4:$AF$77,17,0),IF(G88=1,VLOOKUP(D88,'Plan Estu Especialidades'!$B$4:$AF$77,17,0)*N88,0))))","v":0},{"$f":"IF(G88=4,VLOOKUP(D88,'Plan Estu Especialidades'!$B$4:$AF$77,28,0),IF(G88=3,VLOOKUP(D88,'Plan Estu Especialidades'!$B$4:$AF$77,23,0),IF(G88=2,VLOOKUP(D88,'Plan Estu Especialidades'!$B$4:$AF$77,18,0),IF(G88=1,VLOOKUP(D88,'Plan Estu Especialidades'!$B$4:$AF$77,18,0)*N88,0))))","v":0},{"$f":"IF(G88=4,VLOOKUP(D88,'Plan Estu Especialidades'!$B$4:$AF$77,29,0),IF(G88=3,VLOOKUP(D88,'Plan Estu Especialidades'!$B$4:$AF$77,24,0),IF(G88=2,VLOOKUP(D88,'Plan Estu Especialidades'!$B$4:$AF$77,19,0),IF(G88=1,VLOOKUP(D88,'Plan Estu Especialidades'!$B$4:$AF$77,19,0)*N88,0))))","v":0},{"$f":"IF(G88=4,VLOOKUP(D88,'Plan Estu Especialidades'!$B$4:$AF$77,30,0),IF(G88=3,VLOOKUP(D88,'Plan Estu Especialidades'!$B$4:$AF$77,25,0),IF(G88=2,VLOOKUP(D88,'Plan Estu Especialidades'!$B$4:$AF$77,20,0),IF(G88=1,VLOOKUP(D88,'Plan Estu Especialidades'!$B$4:$AF$77,20,0)*N88,0))))","v":0},0,{"$f":"+AT88+AU88","v":0},null,null,null,null,null,0,0,0,null,null,null,null,0,0,0,null,{"$f":"IF(SUM(J88,L88,N88)=0,\"S/V\",VLOOKUP(D88,'Plan Estu Especialidades'!$B$4:$AG$77,32,0))","v":"S/V"},0,0,null,null,null,null,null,null,0,0,0]
[{"$f":"+IF(B89=0,0,SUM($B$62:B89))","v":0},0,91,4,0,0,0,"Administration, Logistic and Distribution","_4",null,null,null,null,null,null,{"$f":"IF(E89=2,VLOOKUP(D89,'Plan Estu Especialidades'!$B$4:$AF$77,3,0),IF(E89=1,VLOOKUP(D89,'Plan Estu Especialidades'!$B$4:$AF$77,3,0)*J89,0))","v":0},{"$f":"IF(E89=2,VLOOKUP(D89,'Plan Estu Especialidades'!$B$4:$AF$77,4,0),IF(E89=1,VLOOKUP(D89,'Plan Estu Especialidades'!$B$4:$AF$77,4,0)*J89,0))","v":0},{"$f":"IF(E89=2,VLOOKUP(D89,'Plan Estu Especialidades'!$B$4:$AF$77,5,0),IF(E89=1,VLOOKUP(D89,'Plan Estu Especialidades'!$B$4:$AF$77,5,0)*J89,0))","v":0},{"$f":"IF(F89=3,VLOOKUP(D89,'Plan Estu Especialidades'!$B$4:$AF$77,12,0),IF(F89=2,VLOOKUP(D89,'Plan Estu Especialidades'!$B$4:$AF$77,7,0),IF(F89=1,VLOOKUP(D89,'Plan Estu Especialidades'!$B$4:$AF$77,7,0)*L89,0)))","v":0},{"$f":"IF(F89=3,VLOOKUP(D89,'Plan Estu Especialidades'!$B$4:$AF$77,13,0),IF(F89=2,VLOOKUP(D89,'Plan Estu Especialidades'!$B$4:$AF$77,8,0),IF(F89=1,VLOOKUP(D89,'Plan Estu Especialidades'!$B$4:$AF$77,8,0)*L89,0)))","v":0},{"$f":"IF(F89=3,VLOOKUP(D89,'Plan Estu Especialidades'!$B$4:$AF$77,14,0),IF(F89=2,VLOOKUP(D89,'Plan Estu Especialidades'!$B$4:$AF$77,9,0),IF(F89=1,VLOOKUP(D89,'Plan Estu Especialidades'!$B$4:$AF$77,9,0)*L89,0)))","v":0},{"$f":"IF(F89=3,VLOOKUP(D89,'Plan Estu Especialidades'!$B$4:$AF$77,15,0),IF(F89=2,VLOOKUP(D89,'Plan Estu Especialidades'!$B$4:$AF$77,10,0),IF(F89=1,VLOOKUP(D89,'Plan Estu Especialidades'!$B$4:$AF$77,10,0)*L89,0)))","v":0},{"$f":"IF(G89=4,VLOOKUP(D89,'Plan Estu Especialidades'!$B$4:$AF$77,27,0),IF(G89=3,VLOOKUP(D89,'Plan Estu Especialidades'!$B$4:$AF$77,22,0),IF(G89=2,VLOOKUP(D89,'Plan Estu Especialidades'!$B$4:$AF$77,17,0),IF(G89=1,VLOOKUP(D89,'Plan Estu Especialidades'!$B$4:$AF$77,17,0)*N89,0))))","v":0},{"$f":"IF(G89=4,VLOOKUP(D89,'Plan Estu Especialidades'!$B$4:$AF$77,28,0),IF(G89=3,VLOOKUP(D89,'Plan Estu Especialidades'!$B$4:$AF$77,23,0),IF(G89=2,VLOOKUP(D89,'Plan Estu Especialidades'!$B$4:$AF$77,18,0),IF(G89=1,VLOOKUP(D89,'Plan Estu Especialidades'!$B$4:$AF$77,18,0)*N89,0))))","v":0},{"$f":"IF(G89=4,VLOOKUP(D89,'Plan Estu Especialidades'!$B$4:$AF$77,29,0),IF(G89=3,VLOOKUP(D89,'Plan Estu Especialidades'!$B$4:$AF$77,24,0),IF(G89=2,VLOOKUP(D89,'Plan Estu Especialidades'!$B$4:$AF$77,19,0),IF(G89=1,VLOOKUP(D89,'Plan Estu Especialidades'!$B$4:$AF$77,19,0)*N89,0))))","v":0},{"$f":"IF(G89=4,VLOOKUP(D89,'Plan Estu Especialidades'!$B$4:$AF$77,30,0),IF(G89=3,VLOOKUP(D89,'Plan Estu Especialidades'!$B$4:$AF$77,25,0),IF(G89=2,VLOOKUP(D89,'Plan Estu Especialidades'!$B$4:$AF$77,20,0),IF(G89=1,VLOOKUP(D89,'Plan Estu Especialidades'!$B$4:$AF$77,20,0)*N89,0))))","v":0},0,0,null,null,null,null,null,0,0,0,null,null,null,null,0,0,0,null,{"$f":"IF(SUM(J89,L89,N89)=0,\"S/V\",VLOOKUP(D89,'Plan Estu Especialidades'!$B$4:$AG$77,32,0))","v":"S/V"},0,0,null,null,null,null,null,null,0,0,0]
[{"$f":"+IF(B90=0,0,SUM($B$62:B90))","v":0},0,91,5,0,0,0,"Agroecología","_5",null,null,null,null,null,null,{"$f":"IF(E90=2,VLOOKUP(D90,'Plan Estu Especialidades'!$B$4:$AF$77,3,0),IF(E90=1,VLOOKUP(D90,'Plan Estu Especialidades'!$B$4:$AF$77,3,0)*J90,0))","v":0},{"$f":"IF(E90=2,VLOOKUP(D90,'Plan Estu Especialidades'!$B$4:$AF$77,4,0),IF(E90=1,VLOOKUP(D90,'Plan Estu Especialidades'!$B$4:$AF$77,4,0)*J90,0))","v":0},{"$f":"IF(E90=2,VLOOKUP(D90,'Plan Estu Especialidades'!$B$4:$AF$77,5,0),IF(E90=1,VLOOKUP(D90,'Plan Estu Especialidades'!$B$4:$AF$77,5,0)*J90,0))","v":0},{"$f":"IF(F90=3,VLOOKUP(D90,'Plan Estu Especialidades'!$B$4:$AF$77,12,0),IF(F90=2,VLOOKUP(D90,'Plan Estu Especialidades'!$B$4:$AF$77,7,0),IF(F90=1,VLOOKUP(D90,'Plan Estu Especialidades'!$B$4:$AF$77,7,0)*L90,0)))","v":0},{"$f":"IF(F90=3,VLOOKUP(D90,'Plan Estu Especialidades'!$B$4:$AF$77,13,0),IF(F90=2,VLOOKUP(D90,'Plan Estu Especialidades'!$B$4:$AF$77,8,0),IF(F90=1,VLOOKUP(D90,'Plan Estu Especialidades'!$B$4:$AF$77,8,0)*L90,0)))","v":0},{"$f":"IF(F90=3,VLOOKUP(D90,'Plan Estu Especialidades'!$B$4:$AF$77,14,0),IF(F90=2,VLOOKUP(D90,'Plan Estu Especialidades'!$B$4:$AF$77,9,0),IF(F90=1,VLOOKUP(D90,'Plan Estu Especialidades'!$B$4:$AF$77,9,0)*L90,0)))","v":0},{"$f":"IF(F90=3,VLOOKUP(D90,'Plan Estu Especialidades'!$B$4:$AF$77,15,0),IF(F90=2,VLOOKUP(D90,'Plan Estu Especialidades'!$B$4:$AF$77,10,0),IF(F90=1,VLOOKUP(D90,'Plan Estu Especialidades'!$B$4:$AF$77,10,0)*L90,0)))","v":0},{"$f":"IF(G90=4,VLOOKUP(D90,'Plan Estu Especialidades'!$B$4:$AF$77,27,0),IF(G90=3,VLOOKUP(D90,'Plan Estu Especialidades'!$B$4:$AF$77,22,0),IF(G90=2,VLOOKUP(D90,'Plan Estu Especialidades'!$B$4:$AF$77,17,0),IF(G90=1,VLOOKUP(D90,'Plan Estu Especialidades'!$B$4:$AF$77,17,0)*N90,0))))","v":0},{"$f":"IF(G90=4,VLOOKUP(D90,'Plan Estu Especialidades'!$B$4:$AF$77,28,0),IF(G90=3,VLOOKUP(D90,'Plan Estu Especialidades'!$B$4:$AF$77,23,0),IF(G90=2,VLOOKUP(D90,'Plan Estu Especialidades'!$B$4:$AF$77,18,0),IF(G90=1,VLOOKUP(D90,'Plan Estu Especialidades'!$B$4:$AF$77,18,0)*N90,0))))","v":0},{"$f":"IF(G90=4,VLOOKUP(D90,'Plan Estu Especialidades'!$B$4:$AF$77,29,0),IF(G90=3,VLOOKUP(D90,'Plan Estu Especialidades'!$B$4:$AF$77,24,0),IF(G90=2,VLOOKUP(D90,'Plan Estu Especialidades'!$B$4:$AF$77,19,0),IF(G90=1,VLOOKUP(D90,'Plan Estu Especialidades'!$B$4:$AF$77,19,0)*N90,0))))","v":0},{"$f":"IF(G90=4,VLOOKUP(D90,'Plan Estu Especialidades'!$B$4:$AF$77,30,0),IF(G90=3,VLOOKUP(D90,'Plan Estu Especialidades'!$B$4:$AF$77,25,0),IF(G90=2,VLOOKUP(D90,'Plan Estu Especialidades'!$B$4:$AF$77,20,0),IF(G90=1,VLOOKUP(D90,'Plan Estu Especialidades'!$B$4:$AF$77,20,0)*N90,0))))","v":0},0,0,null,null,null,null,null,{"$f":"SUM(P90:R90)","v":0},0,0,null,null,null,null,0,0,0,null,{"$f":"IF(SUM(J90,L90,N90)=0,\"S/V\",VLOOKUP(D90,'Plan Estu Especialidades'!$B$4:$AG$77,32,0))","v":"S/V"},0,0,null,null,null,null,null,null,0,0,0]
[{"$f":"+IF(B91=0,0,SUM($B$62:B91))","v":0},0,91,6,0,0,0,"Agroindustria Alimentaria con Téc. Agrícola","_6",null,null,null,null,null,null,{"$f":"IF(E91=2,VLOOKUP(D91,'Plan Estu Especialidades'!$B$4:$AF$77,3,0),IF(E91=1,VLOOKUP(D91,'Plan Estu Especialidades'!$B$4:$AF$77,3,0)*J91,0))","v":0},{"$f":"IF(E91=2,VLOOKUP(D91,'Plan Estu Especialidades'!$B$4:$AF$77,4,0),IF(E91=1,VLOOKUP(D91,'Plan Estu Especialidades'!$B$4:$AF$77,4,0)*J91,0))","v":0},{"$f":"IF(E91=2,VLOOKUP(D91,'Plan Estu Especialidades'!$B$4:$AF$77,5,0),IF(E91=1,VLOOKUP(D91,'Plan Estu Especialidades'!$B$4:$AF$77,5,0)*J91,0))","v":0},{"$f":"IF(F91=3,VLOOKUP(D91,'Plan Estu Especialidades'!$B$4:$AF$77,12,0),IF(F91=2,VLOOKUP(D91,'Plan Estu Especialidades'!$B$4:$AF$77,7,0),IF(F91=1,VLOOKUP(D91,'Plan Estu Especialidades'!$B$4:$AF$77,7,0)*L91,0)))","v":0},{"$f":"IF(F91=3,VLOOKUP(D91,'Plan Estu Especialidades'!$B$4:$AF$77,13,0),IF(F91=2,VLOOKUP(D91,'Plan Estu Especialidades'!$B$4:$AF$77,8,0),IF(F91=1,VLOOKUP(D91,'Plan Estu Especialidades'!$B$4:$AF$77,8,0)*L91,0)))","v":0},{"$f":"IF(F91=3,VLOOKUP(D91,'Plan Estu Especialidades'!$B$4:$AF$77,14,0),IF(F91=2,VLOOKUP(D91,'Plan Estu Especialidades'!$B$4:$AF$77,9,0),IF(F91=1,VLOOKUP(D91,'Plan Estu Especialidades'!$B$4:$AF$77,9,0)*L91,0)))","v":0},{"$f":"IF(F91=3,VLOOKUP(D91,'Plan Estu Especialidades'!$B$4:$AF$77,15,0),IF(F91=2,VLOOKUP(D91,'Plan Estu Especialidades'!$B$4:$AF$77,10,0),IF(F91=1,VLOOKUP(D91,'Plan Estu Especialidades'!$B$4:$AF$77,10,0)*L91,0)))","v":0},{"$f":"IF(G91=4,VLOOKUP(D91,'Plan Estu Especialidades'!$B$4:$AF$77,27,0),IF(G91=3,VLOOKUP(D91,'Plan Estu Especialidades'!$B$4:$AF$77,22,0),IF(G91=2,VLOOKUP(D91,'Plan Estu Especialidades'!$B$4:$AF$77,17,0),IF(G91=1,VLOOKUP(D91,'Plan Estu Especialidades'!$B$4:$AF$77,17,0)*N91,0))))","v":0},{"$f":"IF(G91=4,VLOOKUP(D91,'Plan Estu Especialidades'!$B$4:$AF$77,28,0),IF(G91=3,VLOOKUP(D91,'Plan Estu Especialidades'!$B$4:$AF$77,23,0),IF(G91=2,VLOOKUP(D91,'Plan Estu Especialidades'!$B$4:$AF$77,18,0),IF(G91=1,VLOOKUP(D91,'Plan Estu Especialidades'!$B$4:$AF$77,18,0)*N91,0))))","v":0},{"$f":"IF(G91=4,VLOOKUP(D91,'Plan Estu Especialidades'!$B$4:$AF$77,29,0),IF(G91=3,VLOOKUP(D91,'Plan Estu Especialidades'!$B$4:$AF$77,24,0),IF(G91=2,VLOOKUP(D91,'Plan Estu Especialidades'!$B$4:$AF$77,19,0),IF(G91=1,VLOOKUP(D91,'Plan Estu Especialidades'!$B$4:$AF$77,19,0)*N91,0))))","v":0},{"$f":"IF(G91=4,VLOOKUP(D91,'Plan Estu Especialidades'!$B$4:$AF$77,30,0),IF(G91=3,VLOOKUP(D91,'Plan Estu Especialidades'!$B$4:$AF$77,25,0),IF(G91=2,VLOOKUP(D91,'Plan Estu Especialidades'!$B$4:$AF$77,20,0),IF(G91=1,VLOOKUP(D91,'Plan Estu Especialidades'!$B$4:$AF$77,20,0)*N91,0))))","v":0},0,0,null,null,null,null,null,{"$f":"SUM(P91:R91)","v":0},0,0,null,null,null,null,0,0,0,null,{"$f":"IF(SUM(J91,L91,N91)=0,\"S/V\",VLOOKUP(D91,'Plan Estu Especialidades'!$B$4:$AG$77,32,0))","v":"S/V"},0,0,null,null,null,null,null,null,0,0,0]
[{"$f":"+IF(B92=0,0,SUM($B$62:B92))","v":0},0,91,7,0,0,0,"Agroindustria Alimentaria con Téc. Pecuaria","_7",null,null,null,null,null,null,{"$f":"IF(E92=2,VLOOKUP(D92,'Plan Estu Especialidades'!$B$4:$AF$77,3,0),IF(E92=1,VLOOKUP(D92,'Plan Estu Especialidades'!$B$4:$AF$77,3,0)*J92,0))","v":0},{"$f":"IF(E92=2,VLOOKUP(D92,'Plan Estu Especialidades'!$B$4:$AF$77,4,0),IF(E92=1,VLOOKUP(D92,'Plan Estu Especialidades'!$B$4:$AF$77,4,0)*J92,0))","v":0},{"$f":"IF(E92=2,VLOOKUP(D92,'Plan Estu Especialidades'!$B$4:$AF$77,5,0),IF(E92=1,VLOOKUP(D92,'Plan Estu Especialidades'!$B$4:$AF$77,5,0)*J92,0))","v":0},{"$f":"IF(F92=3,VLOOKUP(D92,'Plan Estu Especialidades'!$B$4:$AF$77,12,0),IF(F92=2,VLOOKUP(D92,'Plan Estu Especialidades'!$B$4:$AF$77,7,0),IF(F92=1,VLOOKUP(D92,'Plan Estu Especialidades'!$B$4:$AF$77,7,0)*L92,0)))","v":0},{"$f":"IF(F92=3,VLOOKUP(D92,'Plan Estu Especialidades'!$B$4:$AF$77,13,0),IF(F92=2,VLOOKUP(D92,'Plan Estu Especialidades'!$B$4:$AF$77,8,0),IF(F92=1,VLOOKUP(D92,'Plan Estu Especialidades'!$B$4:$AF$77,8,0)*L92,0)))","v":0},{"$f":"IF(F92=3,VLOOKUP(D92,'Plan Estu Especialidades'!$B$4:$AF$77,14,0),IF(F92=2,VLOOKUP(D92,'Plan Estu Especialidades'!$B$4:$AF$77,9,0),IF(F92=1,VLOOKUP(D92,'Plan Estu Especialidades'!$B$4:$AF$77,9,0)*L92,0)))","v":0},{"$f":"IF(F92=3,VLOOKUP(D92,'Plan Estu Especialidades'!$B$4:$AF$77,15,0),IF(F92=2,VLOOKUP(D92,'Plan Estu Especialidades'!$B$4:$AF$77,10,0),IF(F92=1,VLOOKUP(D92,'Plan Estu Especialidades'!$B$4:$AF$77,10,0)*L92,0)))","v":0},{"$f":"IF(G92=4,VLOOKUP(D92,'Plan Estu Especialidades'!$B$4:$AF$77,27,0),IF(G92=3,VLOOKUP(D92,'Plan Estu Especialidades'!$B$4:$AF$77,22,0),IF(G92=2,VLOOKUP(D92,'Plan Estu Especialidades'!$B$4:$AF$77,17,0),IF(G92=1,VLOOKUP(D92,'Plan Estu Especialidades'!$B$4:$AF$77,17,0)*N92,0))))","v":0},{"$f":"IF(G92=4,VLOOKUP(D92,'Plan Estu Especialidades'!$B$4:$AF$77,28,0),IF(G92=3,VLOOKUP(D92,'Plan Estu Especialidades'!$B$4:$AF$77,23,0),IF(G92=2,VLOOKUP(D92,'Plan Estu Especialidades'!$B$4:$AF$77,18,0),IF(G92=1,VLOOKUP(D92,'Plan Estu Especialidades'!$B$4:$AF$77,18,0)*N92,0))))","v":0},{"$f":"IF(G92=4,VLOOKUP(D92,'Plan Estu Especialidades'!$B$4:$AF$77,29,0),IF(G92=3,VLOOKUP(D92,'Plan Estu Especialidades'!$B$4:$AF$77,24,0),IF(G92=2,VLOOKUP(D92,'Plan Estu Especialidades'!$B$4:$AF$77,19,0),IF(G92=1,VLOOKUP(D92,'Plan Estu Especialidades'!$B$4:$AF$77,19,0)*N92,0))))","v":0},{"$f":"IF(G92=4,VLOOKUP(D92,'Plan Estu Especialidades'!$B$4:$AF$77,30,0),IF(G92=3,VLOOKUP(D92,'Plan Estu Especialidades'!$B$4:$AF$77,25,0),IF(G92=2,VLOOKUP(D92,'Plan Estu Especialidades'!$B$4:$AF$77,20,0),IF(G92=1,VLOOKUP(D92,'Plan Estu Especialidades'!$B$4:$AF$77,20,0)*N92,0))))","v":0},0,0,null,null,null,null,null,{"$f":"SUM(P92:R92)","v":0},0,0,null,null,null,null,{"$f":"+J92","v":0},0,0,null,{"$f":"IF(SUM(J92,L92,N92)=0,\"S/V\",VLOOKUP(D92,'Plan Estu Especialidades'!$B$4:$AG$77,32,0))","v":"S/V"},0,0,null,null,null,null,null,null,0,0,0]
[{"$f":"+IF(B93=0,0,SUM($B$62:B93))","v":0},0,91,8,0,0,0,"Agrojardinería","_8",null,null,null,null,null,null,{"$f":"IF(E93=2,VLOOKUP(D93,'Plan Estu Especialidades'!$B$4:$AF$77,3,0),IF(E93=1,VLOOKUP(D93,'Plan Estu Especialidades'!$B$4:$AF$77,3,0)*J93,0))","v":0},{"$f":"IF(E93=2,VLOOKUP(D93,'Plan Estu Especialidades'!$B$4:$AF$77,4,0),IF(E93=1,VLOOKUP(D93,'Plan Estu Especialidades'!$B$4:$AF$77,4,0)*J93,0))","v":0},{"$f":"IF(E93=2,VLOOKUP(D93,'Plan Estu Especialidades'!$B$4:$AF$77,5,0),IF(E93=1,VLOOKUP(D93,'Plan Estu Especialidades'!$B$4:$AF$77,5,0)*J93,0))","v":0},{"$f":"IF(F93=3,VLOOKUP(D93,'Plan Estu Especialidades'!$B$4:$AF$77,12,0),IF(F93=2,VLOOKUP(D93,'Plan Estu Especialidades'!$B$4:$AF$77,7,0),IF(F93=1,VLOOKUP(D93,'Plan Estu Especialidades'!$B$4:$AF$77,7,0)*L93,0)))","v":0},{"$f":"IF(F93=3,VLOOKUP(D93,'Plan Estu Especialidades'!$B$4:$AF$77,13,0),IF(F93=2,VLOOKUP(D93,'Plan Estu Especialidades'!$B$4:$AF$77,8,0),IF(F93=1,VLOOKUP(D93,'Plan Estu Especialidades'!$B$4:$AF$77,8,0)*L93,0)))","v":0},{"$f":"IF(F93=3,VLOOKUP(D93,'Plan Estu Especialidades'!$B$4:$AF$77,14,0),IF(F93=2,VLOOKUP(D93,'Plan Estu Especialidades'!$B$4:$AF$77,9,0),IF(F93=1,VLOOKUP(D93,'Plan Estu Especialidades'!$B$4:$AF$77,9,0)*L93,0)))","v":0},{"$f":"IF(F93=3,VLOOKUP(D93,'Plan Estu Especialidades'!$B$4:$AF$77,15,0),IF(F93=2,VLOOKUP(D93,'Plan Estu Especialidades'!$B$4:$AF$77,10,0),IF(F93=1,VLOOKUP(D93,'Plan Estu Especialidades'!$B$4:$AF$77,10,0)*L93,0)))","v":0},{"$f":"IF(G93=4,VLOOKUP(D93,'Plan Estu Especialidades'!$B$4:$AF$77,27,0),IF(G93=3,VLOOKUP(D93,'Plan Estu Especialidades'!$B$4:$AF$77,22,0),IF(G93=2,VLOOKUP(D93,'Plan Estu Especialidades'!$B$4:$AF$77,17,0),IF(G93=1,VLOOKUP(D93,'Plan Estu Especialidades'!$B$4:$AF$77,17,0)*N93,0))))","v":0},{"$f":"IF(G93=4,VLOOKUP(D93,'Plan Estu Especialidades'!$B$4:$AF$77,28,0),IF(G93=3,VLOOKUP(D93,'Plan Estu Especialidades'!$B$4:$AF$77,23,0),IF(G93=2,VLOOKUP(D93,'Plan Estu Especialidades'!$B$4:$AF$77,18,0),IF(G93=1,VLOOKUP(D93,'Plan Estu Especialidades'!$B$4:$AF$77,18,0)*N93,0))))","v":0},{"$f":"IF(G93=4,VLOOKUP(D93,'Plan Estu Especialidades'!$B$4:$AF$77,29,0),IF(G93=3,VLOOKUP(D93,'Plan Estu Especialidades'!$B$4:$AF$77,24,0),IF(G93=2,VLOOKUP(D93,'Plan Estu Especialidades'!$B$4:$AF$77,19,0),IF(G93=1,VLOOKUP(D93,'Plan Estu Especialidades'!$B$4:$AF$77,19,0)*N93,0))))","v":0},{"$f":"IF(G93=4,VLOOKUP(D93,'Plan Estu Especialidades'!$B$4:$AF$77,30,0),IF(G93=3,VLOOKUP(D93,'Plan Estu Especialidades'!$B$4:$AF$77,25,0),IF(G93=2,VLOOKUP(D93,'Plan Estu Especialidades'!$B$4:$AF$77,20,0),IF(G93=1,VLOOKUP(D93,'Plan Estu Especialidades'!$B$4:$AF$77,20,0)*N93,0))))","v":0},0,0,null,null,null,null,null,0,0,0,null,null,null,null,0,0,0,null,{"$f":"IF(SUM(J93,L93,N93)=0,\"S/V\",VLOOKUP(D93,'Plan Estu Especialidades'!$B$4:$AG$77,32,0))","v":"S/V"},0,0,null,null,null,null,null,null,0,0,0]
[{"$f":"+IF(B94=0,0,SUM($B$62:B94))","v":0},0,91,9,0,0,0,"Agropecuario en Producción Agrícola","_9",null,null,null,null,null,null,{"$f":"IF(E94=2,VLOOKUP(D94,'Plan Estu Especialidades'!$B$4:$AF$77,3,0),IF(E94=1,VLOOKUP(D94,'Plan Estu Especialidades'!$B$4:$AF$77,3,0)*J94,0))","v":0},{"$f":"IF(E94=2,VLOOKUP(D94,'Plan Estu Especialidades'!$B$4:$AF$77,4,0),IF(E94=1,VLOOKUP(D94,'Plan Estu Especialidades'!$B$4:$AF$77,4,0)*J94,0))","v":0},{"$f":"IF(E94=2,VLOOKUP(D94,'Plan Estu Especialidades'!$B$4:$AF$77,5,0),IF(E94=1,VLOOKUP(D94,'Plan Estu Especialidades'!$B$4:$AF$77,5,0)*J94,0))","v":0},{"$f":"IF(F94=3,VLOOKUP(D94,'Plan Estu Especialidades'!$B$4:$AF$77,12,0),IF(F94=2,VLOOKUP(D94,'Plan Estu Especialidades'!$B$4:$AF$77,7,0),IF(F94=1,VLOOKUP(D94,'Plan Estu Especialidades'!$B$4:$AF$77,7,0)*L94,0)))","v":0},{"$f":"IF(F94=3,VLOOKUP(D94,'Plan Estu Especialidades'!$B$4:$AF$77,13,0),IF(F94=2,VLOOKUP(D94,'Plan Estu Especialidades'!$B$4:$AF$77,8,0),IF(F94=1,VLOOKUP(D94,'Plan Estu Especialidades'!$B$4:$AF$77,8,0)*L94,0)))","v":0},{"$f":"IF(F94=3,VLOOKUP(D94,'Plan Estu Especialidades'!$B$4:$AF$77,14,0),IF(F94=2,VLOOKUP(D94,'Plan Estu Especialidades'!$B$4:$AF$77,9,0),IF(F94=1,VLOOKUP(D94,'Plan Estu Especialidades'!$B$4:$AF$77,9,0)*L94,0)))","v":0},{"$f":"IF(F94=3,VLOOKUP(D94,'Plan Estu Especialidades'!$B$4:$AF$77,15,0),IF(F94=2,VLOOKUP(D94,'Plan Estu Especialidades'!$B$4:$AF$77,10,0),IF(F94=1,VLOOKUP(D94,'Plan Estu Especialidades'!$B$4:$AF$77,10,0)*L94,0)))","v":0},{"$f":"IF(G94=4,VLOOKUP(D94,'Plan Estu Especialidades'!$B$4:$AF$77,27,0),IF(G94=3,VLOOKUP(D94,'Plan Estu Especialidades'!$B$4:$AF$77,22,0),IF(G94=2,VLOOKUP(D94,'Plan Estu Especialidades'!$B$4:$AF$77,17,0),IF(G94=1,VLOOKUP(D94,'Plan Estu Especialidades'!$B$4:$AF$77,17,0)*N94,0))))","v":0},{"$f":"IF(G94=4,VLOOKUP(D94,'Plan Estu Especialidades'!$B$4:$AF$77,28,0),IF(G94=3,VLOOKUP(D94,'Plan Estu Especialidades'!$B$4:$AF$77,23,0),IF(G94=2,VLOOKUP(D94,'Plan Estu Especialidades'!$B$4:$AF$77,18,0),IF(G94=1,VLOOKUP(D94,'Plan Estu Especialidades'!$B$4:$AF$77,18,0)*N94,0))))","v":0},{"$f":"IF(G94=4,VLOOKUP(D94,'Plan Estu Especialidades'!$B$4:$AF$77,29,0),IF(G94=3,VLOOKUP(D94,'Plan Estu Especialidades'!$B$4:$AF$77,24,0),IF(G94=2,VLOOKUP(D94,'Plan Estu Especialidades'!$B$4:$AF$77,19,0),IF(G94=1,VLOOKUP(D94,'Plan Estu Especialidades'!$B$4:$AF$77,19,0)*N94,0))))","v":0},{"$f":"IF(G94=4,VLOOKUP(D94,'Plan Estu Especialidades'!$B$4:$AF$77,30,0),IF(G94=3,VLOOKUP(D94,'Plan Estu Especialidades'!$B$4:$AF$77,25,0),IF(G94=2,VLOOKUP(D94,'Plan Estu Especialidades'!$B$4:$AF$77,20,0),IF(G94=1,VLOOKUP(D94,'Plan Estu Especialidades'!$B$4:$AF$77,20,0)*N94,0))))","v":0},0,0,null,null,null,null,null,0,0,0,null,null,null,null,0,0,0,null,{"$f":"IF(SUM(J94,L94,N94)=0,\"S/V\",VLOOKUP(D94,'Plan Estu Especialidades'!$B$4:$AG$77,32,0))","v":"S/V"},0,0,null,null,null,null,null,null,0,0,0]
[{"$f":"+IF(B95=0,0,SUM($B$62:B95))","v":0},0,91,10,0,0,0,"Agropecuario en Producción Pecuaria","_10",null,null,null,null,null,null,{"$f":"IF(E95=2,VLOOKUP(D95,'Plan Estu Especialidades'!$B$4:$AF$77,3,0),IF(E95=1,VLOOKUP(D95,'Plan Estu Especialidades'!$B$4:$AF$77,3,0)*J95,0))","v":0},{"$f":"IF(E95=2,VLOOKUP(D95,'Plan Estu Especialidades'!$B$4:$AF$77,4,0),IF(E95=1,VLOOKUP(D95,'Plan Estu Especialidades'!$B$4:$AF$77,4,0)*J95,0))","v":0},{"$f":"IF(E95=2,VLOOKUP(D95,'Plan Estu Especialidades'!$B$4:$AF$77,5,0),IF(E95=1,VLOOKUP(D95,'Plan Estu Especialidades'!$B$4:$AF$77,5,0)*J95,0))","v":0},{"$f":"IF(F95=3,VLOOKUP(D95,'Plan Estu Especialidades'!$B$4:$AF$77,12,0),IF(F95=2,VLOOKUP(D95,'Plan Estu Especialidades'!$B$4:$AF$77,7,0),IF(F95=1,VLOOKUP(D95,'Plan Estu Especialidades'!$B$4:$AF$77,7,0)*L95,0)))","v":0},{"$f":"IF(F95=3,VLOOKUP(D95,'Plan Estu Especialidades'!$B$4:$AF$77,13,0),IF(F95=2,VLOOKUP(D95,'Plan Estu Especialidades'!$B$4:$AF$77,8,0),IF(F95=1,VLOOKUP(D95,'Plan Estu Especialidades'!$B$4:$AF$77,8,0)*L95,0)))","v":0},{"$f":"IF(F95=3,VLOOKUP(D95,'Plan Estu Especialidades'!$B$4:$AF$77,14,0),IF(F95=2,VLOOKUP(D95,'Plan Estu Especialidades'!$B$4:$AF$77,9,0),IF(F95=1,VLOOKUP(D95,'Plan Estu Especialidades'!$B$4:$AF$77,9,0)*L95,0)))","v":0},{"$f":"IF(F95=3,VLOOKUP(D95,'Plan Estu Especialidades'!$B$4:$AF$77,15,0),IF(F95=2,VLOOKUP(D95,'Plan Estu Especialidades'!$B$4:$AF$77,10,0),IF(F95=1,VLOOKUP(D95,'Plan Estu Especialidades'!$B$4:$AF$77,10,0)*L95,0)))","v":0},{"$f":"IF(G95=4,VLOOKUP(D95,'Plan Estu Especialidades'!$B$4:$AF$77,27,0),IF(G95=3,VLOOKUP(D95,'Plan Estu Especialidades'!$B$4:$AF$77,22,0),IF(G95=2,VLOOKUP(D95,'Plan Estu Especialidades'!$B$4:$AF$77,17,0),IF(G95=1,VLOOKUP(D95,'Plan Estu Especialidades'!$B$4:$AF$77,17,0)*N95,0))))","v":0},{"$f":"IF(G95=4,VLOOKUP(D95,'Plan Estu Especialidades'!$B$4:$AF$77,28,0),IF(G95=3,VLOOKUP(D95,'Plan Estu Especialidades'!$B$4:$AF$77,23,0),IF(G95=2,VLOOKUP(D95,'Plan Estu Especialidades'!$B$4:$AF$77,18,0),IF(G95=1,VLOOKUP(D95,'Plan Estu Especialidades'!$B$4:$AF$77,18,0)*N95,0))))","v":0},{"$f":"IF(G95=4,VLOOKUP(D95,'Plan Estu Especialidades'!$B$4:$AF$77,29,0),IF(G95=3,VLOOKUP(D95,'Plan Estu Especialidades'!$B$4:$AF$77,24,0),IF(G95=2,VLOOKUP(D95,'Plan Estu Especialidades'!$B$4:$AF$77,19,0),IF(G95=1,VLOOKUP(D95,'Plan Estu Especialidades'!$B$4:$AF$77,19,0)*N95,0))))","v":0},{"$f":"IF(G95=4,VLOOKUP(D95,'Plan Estu Especialidades'!$B$4:$AF$77,30,0),IF(G95=3,VLOOKUP(D95,'Plan Estu Especialidades'!$B$4:$AF$77,25,0),IF(G95=2,VLOOKUP(D95,'Plan Estu Especialidades'!$B$4:$AF$77,20,0),IF(G95=1,VLOOKUP(D95,'Plan Estu Especialidades'!$B$4:$AF$77,20,0)*N95,0))))","v":0},0,0,null,null,null,null,null,0,0,0,null,null,null,null,0,0,0,null,{"$f":"IF(SUM(J95,L95,N95)=0,\"S/V\",VLOOKUP(D95,'Plan Estu Especialidades'!$B$4:$AG$77,32,0))","v":"S/V"},0,0,null,null,null,null,null,null,0,0,0]
[{"$f":"+IF(B96=0,0,SUM($B$62:B96))","v":0},0,91,11,0,0,0,"Automotriz","_11",null,null,null,null,null,null,{"$f":"IF(E96=2,VLOOKUP(D96,'Plan Estu Especialidades'!$B$4:$AF$77,3,0),IF(E96=1,VLOOKUP(D96,'Plan Estu Especialidades'!$B$4:$AF$77,3,0)*J96,0))","v":0},{"$f":"IF(E96=2,VLOOKUP(D96,'Plan Estu Especialidades'!$B$4:$AF$77,4,0),IF(E96=1,VLOOKUP(D96,'Plan Estu Especialidades'!$B$4:$AF$77,4,0)*J96,0))","v":0},{"$f":"IF(E96=2,VLOOKUP(D96,'Plan Estu Especialidades'!$B$4:$AF$77,5,0),IF(E96=1,VLOOKUP(D96,'Plan Estu Especialidades'!$B$4:$AF$77,5,0)*J96,0))","v":0},{"$f":"IF(F96=3,VLOOKUP(D96,'Plan Estu Especialidades'!$B$4:$AF$77,12,0),IF(F96=2,VLOOKUP(D96,'Plan Estu Especialidades'!$B$4:$AF$77,7,0),IF(F96=1,VLOOKUP(D96,'Plan Estu Especialidades'!$B$4:$AF$77,7,0)*L96,0)))","v":0},{"$f":"IF(F96=3,VLOOKUP(D96,'Plan Estu Especialidades'!$B$4:$AF$77,13,0),IF(F96=2,VLOOKUP(D96,'Plan Estu Especialidades'!$B$4:$AF$77,8,0),IF(F96=1,VLOOKUP(D96,'Plan Estu Especialidades'!$B$4:$AF$77,8,0)*L96,0)))","v":0},{"$f":"IF(F96=3,VLOOKUP(D96,'Plan Estu Especialidades'!$B$4:$AF$77,14,0),IF(F96=2,VLOOKUP(D96,'Plan Estu Especialidades'!$B$4:$AF$77,9,0),IF(F96=1,VLOOKUP(D96,'Plan Estu Especialidades'!$B$4:$AF$77,9,0)*L96,0)))","v":0},{"$f":"IF(F96=3,VLOOKUP(D96,'Plan Estu Especialidades'!$B$4:$AF$77,15,0),IF(F96=2,VLOOKUP(D96,'Plan Estu Especialidades'!$B$4:$AF$77,10,0),IF(F96=1,VLOOKUP(D96,'Plan Estu Especialidades'!$B$4:$AF$77,10,0)*L96,0)))","v":0},{"$f":"IF(G96=4,VLOOKUP(D96,'Plan Estu Especialidades'!$B$4:$AF$77,27,0),IF(G96=3,VLOOKUP(D96,'Plan Estu Especialidades'!$B$4:$AF$77,22,0),IF(G96=2,VLOOKUP(D96,'Plan Estu Especialidades'!$B$4:$AF$77,17,0),IF(G96=1,VLOOKUP(D96,'Plan Estu Especialidades'!$B$4:$AF$77,17,0)*N96,0))))","v":0},{"$f":"IF(G96=4,VLOOKUP(D96,'Plan Estu Especialidades'!$B$4:$AF$77,28,0),IF(G96=3,VLOOKUP(D96,'Plan Estu Especialidades'!$B$4:$AF$77,23,0),IF(G96=2,VLOOKUP(D96,'Plan Estu Especialidades'!$B$4:$AF$77,18,0),IF(G96=1,VLOOKUP(D96,'Plan Estu Especialidades'!$B$4:$AF$77,18,0)*N96,0))))","v":0},{"$f":"IF(G96=4,VLOOKUP(D96,'Plan Estu Especialidades'!$B$4:$AF$77,29,0),IF(G96=3,VLOOKUP(D96,'Plan Estu Especialidades'!$B$4:$AF$77,24,0),IF(G96=2,VLOOKUP(D96,'Plan Estu Especialidades'!$B$4:$AF$77,19,0),IF(G96=1,VLOOKUP(D96,'Plan Estu Especialidades'!$B$4:$AF$77,19,0)*N96,0))))","v":0},{"$f":"IF(G96=4,VLOOKUP(D96,'Plan Estu Especialidades'!$B$4:$AF$77,30,0),IF(G96=3,VLOOKUP(D96,'Plan Estu Especialidades'!$B$4:$AF$77,25,0),IF(G96=2,VLOOKUP(D96,'Plan Estu Especialidades'!$B$4:$AF$77,20,0),IF(G96=1,VLOOKUP(D96,'Plan Estu Especialidades'!$B$4:$AF$77,20,0)*N96,0))))","v":0},0,0,null,null,null,null,null,0,0,0,null,null,null,null,0,0,0,null,{"$f":"IF(SUM(J96,L96,N96)=0,\"S/V\",VLOOKUP(D96,'Plan Estu Especialidades'!$B$4:$AG$77,32,0))","v":"S/V"},0,0,null,null,null,null,null,null,0,0,0]
[{"$f":"+IF(B97=0,0,SUM($B$62:B97))","v":0},0,91,12,0,0,0,"Autoremodelado","_12",null,null,null,null,null,null,{"$f":"IF(E97=2,VLOOKUP(D97,'Plan Estu Especialidades'!$B$4:$AF$77,3,0),IF(E97=1,VLOOKUP(D97,'Plan Estu Especialidades'!$B$4:$AF$77,3,0)*J97,0))","v":0},{"$f":"IF(E97=2,VLOOKUP(D97,'Plan Estu Especialidades'!$B$4:$AF$77,4,0),IF(E97=1,VLOOKUP(D97,'Plan Estu Especialidades'!$B$4:$AF$77,4,0)*J97,0))","v":0},{"$f":"IF(E97=2,VLOOKUP(D97,'Plan Estu Especialidades'!$B$4:$AF$77,5,0),IF(E97=1,VLOOKUP(D97,'Plan Estu Especialidades'!$B$4:$AF$77,5,0)*J97,0))","v":0},{"$f":"IF(F97=3,VLOOKUP(D97,'Plan Estu Especialidades'!$B$4:$AF$77,12,0),IF(F97=2,VLOOKUP(D97,'Plan Estu Especialidades'!$B$4:$AF$77,7,0),IF(F97=1,VLOOKUP(D97,'Plan Estu Especialidades'!$B$4:$AF$77,7,0)*L97,0)))","v":0},{"$f":"IF(F97=3,VLOOKUP(D97,'Plan Estu Especialidades'!$B$4:$AF$77,13,0),IF(F97=2,VLOOKUP(D97,'Plan Estu Especialidades'!$B$4:$AF$77,8,0),IF(F97=1,VLOOKUP(D97,'Plan Estu Especialidades'!$B$4:$AF$77,8,0)*L97,0)))","v":0},{"$f":"IF(F97=3,VLOOKUP(D97,'Plan Estu Especialidades'!$B$4:$AF$77,14,0),IF(F97=2,VLOOKUP(D97,'Plan Estu Especialidades'!$B$4:$AF$77,9,0),IF(F97=1,VLOOKUP(D97,'Plan Estu Especialidades'!$B$4:$AF$77,9,0)*L97,0)))","v":0},{"$f":"IF(F97=3,VLOOKUP(D97,'Plan Estu Especialidades'!$B$4:$AF$77,15,0),IF(F97=2,VLOOKUP(D97,'Plan Estu Especialidades'!$B$4:$AF$77,10,0),IF(F97=1,VLOOKUP(D97,'Plan Estu Especialidades'!$B$4:$AF$77,10,0)*L97,0)))","v":0},{"$f":"IF(G97=4,VLOOKUP(D97,'Plan Estu Especialidades'!$B$4:$AF$77,27,0),IF(G97=3,VLOOKUP(D97,'Plan Estu Especialidades'!$B$4:$AF$77,22,0),IF(G97=2,VLOOKUP(D97,'Plan Estu Especialidades'!$B$4:$AF$77,17,0),IF(G97=1,VLOOKUP(D97,'Plan Estu Especialidades'!$B$4:$AF$77,17,0)*N97,0))))","v":0},{"$f":"IF(G97=4,VLOOKUP(D97,'Plan Estu Especialidades'!$B$4:$AF$77,28,0),IF(G97=3,VLOOKUP(D97,'Plan Estu Especialidades'!$B$4:$AF$77,23,0),IF(G97=2,VLOOKUP(D97,'Plan Estu Especialidades'!$B$4:$AF$77,18,0),IF(G97=1,VLOOKUP(D97,'Plan Estu Especialidades'!$B$4:$AF$77,18,0)*N97,0))))","v":0},{"$f":"IF(G97=4,VLOOKUP(D97,'Plan Estu Especialidades'!$B$4:$AF$77,29,0),IF(G97=3,VLOOKUP(D97,'Plan Estu Especialidades'!$B$4:$AF$77,24,0),IF(G97=2,VLOOKUP(D97,'Plan Estu Especialidades'!$B$4:$AF$77,19,0),IF(G97=1,VLOOKUP(D97,'Plan Estu Especialidades'!$B$4:$AF$77,19,0)*N97,0))))","v":0},{"$f":"IF(G97=4,VLOOKUP(D97,'Plan Estu Especialidades'!$B$4:$AF$77,30,0),IF(G97=3,VLOOKUP(D97,'Plan Estu Especialidades'!$B$4:$AF$77,25,0),IF(G97=2,VLOOKUP(D97,'Plan Estu Especialidades'!$B$4:$AF$77,20,0),IF(G97=1,VLOOKUP(D97,'Plan Estu Especialidades'!$B$4:$AF$77,20,0)*N97,0))))","v":0},0,0,null,null,null,null,null,0,0,0,null,null,null,null,0,0,0,null,{"$f":"IF(SUM(J97,L97,N97)=0,\"S/V\",VLOOKUP(D97,'Plan Estu Especialidades'!$B$4:$AG$77,32,0))","v":"S/V"},0,0,null,null,null,null,null,null,0,0,0]
[{"$f":"+IF(B98=0,0,SUM($B$62:B98))","v":0},0,91,13,0,0,0,"Banca y Finanzas","_13",null,null,null,null,null,null,{"$f":"IF(E98=2,VLOOKUP(D98,'Plan Estu Especialidades'!$B$4:$AF$77,3,0),IF(E98=1,VLOOKUP(D98,'Plan Estu Especialidades'!$B$4:$AF$77,3,0)*J98,0))","v":0},{"$f":"IF(E98=2,VLOOKUP(D98,'Plan Estu Especialidades'!$B$4:$AF$77,4,0),IF(E98=1,VLOOKUP(D98,'Plan Estu Especialidades'!$B$4:$AF$77,4,0)*J98,0))","v":0},{"$f":"IF(E98=2,VLOOKUP(D98,'Plan Estu Especialidades'!$B$4:$AF$77,5,0),IF(E98=1,VLOOKUP(D98,'Plan Estu Especialidades'!$B$4:$AF$77,5,0)*J98,0))","v":0},{"$f":"IF(F98=3,VLOOKUP(D98,'Plan Estu Especialidades'!$B$4:$AF$77,12,0),IF(F98=2,VLOOKUP(D98,'Plan Estu Especialidades'!$B$4:$AF$77,7,0),IF(F98=1,VLOOKUP(D98,'Plan Estu Especialidades'!$B$4:$AF$77,7,0)*L98,0)))","v":0},{"$f":"IF(F98=3,VLOOKUP(D98,'Plan Estu Especialidades'!$B$4:$AF$77,13,0),IF(F98=2,VLOOKUP(D98,'Plan Estu Especialidades'!$B$4:$AF$77,8,0),IF(F98=1,VLOOKUP(D98,'Plan Estu Especialidades'!$B$4:$AF$77,8,0)*L98,0)))","v":0},{"$f":"IF(F98=3,VLOOKUP(D98,'Plan Estu Especialidades'!$B$4:$AF$77,14,0),IF(F98=2,VLOOKUP(D98,'Plan Estu Especialidades'!$B$4:$AF$77,9,0),IF(F98=1,VLOOKUP(D98,'Plan Estu Especialidades'!$B$4:$AF$77,9,0)*L98,0)))","v":0},{"$f":"IF(F98=3,VLOOKUP(D98,'Plan Estu Especialidades'!$B$4:$AF$77,15,0),IF(F98=2,VLOOKUP(D98,'Plan Estu Especialidades'!$B$4:$AF$77,10,0),IF(F98=1,VLOOKUP(D98,'Plan Estu Especialidades'!$B$4:$AF$77,10,0)*L98,0)))","v":0},{"$f":"IF(G98=4,VLOOKUP(D98,'Plan Estu Especialidades'!$B$4:$AF$77,27,0),IF(G98=3,VLOOKUP(D98,'Plan Estu Especialidades'!$B$4:$AF$77,22,0),IF(G98=2,VLOOKUP(D98,'Plan Estu Especialidades'!$B$4:$AF$77,17,0),IF(G98=1,VLOOKUP(D98,'Plan Estu Especialidades'!$B$4:$AF$77,17,0)*N98,0))))","v":0},{"$f":"IF(G98=4,VLOOKUP(D98,'Plan Estu Especialidades'!$B$4:$AF$77,28,0),IF(G98=3,VLOOKUP(D98,'Plan Estu Especialidades'!$B$4:$AF$77,23,0),IF(G98=2,VLOOKUP(D98,'Plan Estu Especialidades'!$B$4:$AF$77,18,0),IF(G98=1,VLOOKUP(D98,'Plan Estu Especialidades'!$B$4:$AF$77,18,0)*N98,0))))","v":0},{"$f":"IF(G98=4,VLOOKUP(D98,'Plan Estu Especialidades'!$B$4:$AF$77,29,0),IF(G98=3,VLOOKUP(D98,'Plan Estu Especialidades'!$B$4:$AF$77,24,0),IF(G98=2,VLOOKUP(D98,'Plan Estu Especialidades'!$B$4:$AF$77,19,0),IF(G98=1,VLOOKUP(D98,'Plan Estu Especialidades'!$B$4:$AF$77,19,0)*N98,0))))","v":0},{"$f":"IF(G98=4,VLOOKUP(D98,'Plan Estu Especialidades'!$B$4:$AF$77,30,0),IF(G98=3,VLOOKUP(D98,'Plan Estu Especialidades'!$B$4:$AF$77,25,0),IF(G98=2,VLOOKUP(D98,'Plan Estu Especialidades'!$B$4:$AF$77,20,0),IF(G98=1,VLOOKUP(D98,'Plan Estu Especialidades'!$B$4:$AF$77,20,0)*N98,0))))","v":0},0,0,null,null,null,null,null,0,0,0,null,null,null,null,0,0,0,null,{"$f":"IF(SUM(J98,L98,N98)=0,\"S/V\",VLOOKUP(D98,'Plan Estu Especialidades'!$B$4:$AG$77,32,0))","v":"S/V"},0,0,null,null,null,null,null,null,0,0,0]
[{"$f":"+IF(B99=0,0,SUM($B$62:B99))","v":0},0,91,14,0,0,0,"Bilingual Secretary","_14",null,null,null,null,null,null,{"$f":"IF(E99=2,VLOOKUP(D99,'Plan Estu Especialidades'!$B$4:$AF$77,3,0),IF(E99=1,VLOOKUP(D99,'Plan Estu Especialidades'!$B$4:$AF$77,3,0)*J99,0))","v":0},{"$f":"IF(E99=2,VLOOKUP(D99,'Plan Estu Especialidades'!$B$4:$AF$77,4,0),IF(E99=1,VLOOKUP(D99,'Plan Estu Especialidades'!$B$4:$AF$77,4,0)*J99,0))","v":0},{"$f":"IF(E99=2,VLOOKUP(D99,'Plan Estu Especialidades'!$B$4:$AF$77,5,0),IF(E99=1,VLOOKUP(D99,'Plan Estu Especialidades'!$B$4:$AF$77,5,0)*J99,0))","v":0},{"$f":"IF(F99=3,VLOOKUP(D99,'Plan Estu Especialidades'!$B$4:$AF$77,12,0),IF(F99=2,VLOOKUP(D99,'Plan Estu Especialidades'!$B$4:$AF$77,7,0),IF(F99=1,VLOOKUP(D99,'Plan Estu Especialidades'!$B$4:$AF$77,7,0)*L99,0)))","v":0},{"$f":"IF(F99=3,VLOOKUP(D99,'Plan Estu Especialidades'!$B$4:$AF$77,13,0),IF(F99=2,VLOOKUP(D99,'Plan Estu Especialidades'!$B$4:$AF$77,8,0),IF(F99=1,VLOOKUP(D99,'Plan Estu Especialidades'!$B$4:$AF$77,8,0)*L99,0)))","v":0},{"$f":"IF(F99=3,VLOOKUP(D99,'Plan Estu Especialidades'!$B$4:$AF$77,14,0),IF(F99=2,VLOOKUP(D99,'Plan Estu Especialidades'!$B$4:$AF$77,9,0),IF(F99=1,VLOOKUP(D99,'Plan Estu Especialidades'!$B$4:$AF$77,9,0)*L99,0)))","v":0},{"$f":"IF(F99=3,VLOOKUP(D99,'Plan Estu Especialidades'!$B$4:$AF$77,15,0),IF(F99=2,VLOOKUP(D99,'Plan Estu Especialidades'!$B$4:$AF$77,10,0),IF(F99=1,VLOOKUP(D99,'Plan Estu Especialidades'!$B$4:$AF$77,10,0)*L99,0)))","v":0},{"$f":"IF(G99=4,VLOOKUP(D99,'Plan Estu Especialidades'!$B$4:$AF$77,27,0),IF(G99=3,VLOOKUP(D99,'Plan Estu Especialidades'!$B$4:$AF$77,22,0),IF(G99=2,VLOOKUP(D99,'Plan Estu Especialidades'!$B$4:$AF$77,17,0),IF(G99=1,VLOOKUP(D99,'Plan Estu Especialidades'!$B$4:$AF$77,17,0)*N99,0))))","v":0},{"$f":"IF(G99=4,VLOOKUP(D99,'Plan Estu Especialidades'!$B$4:$AF$77,28,0),IF(G99=3,VLOOKUP(D99,'Plan Estu Especialidades'!$B$4:$AF$77,23,0),IF(G99=2,VLOOKUP(D99,'Plan Estu Especialidades'!$B$4:$AF$77,18,0),IF(G99=1,VLOOKUP(D99,'Plan Estu Especialidades'!$B$4:$AF$77,18,0)*N99,0))))","v":0},{"$f":"IF(G99=4,VLOOKUP(D99,'Plan Estu Especialidades'!$B$4:$AF$77,29,0),IF(G99=3,VLOOKUP(D99,'Plan Estu Especialidades'!$B$4:$AF$77,24,0),IF(G99=2,VLOOKUP(D99,'Plan Estu Especialidades'!$B$4:$AF$77,19,0),IF(G99=1,VLOOKUP(D99,'Plan Estu Especialidades'!$B$4:$AF$77,19,0)*N99,0))))","v":0},{"$f":"IF(G99=4,VLOOKUP(D99,'Plan Estu Especialidades'!$B$4:$AF$77,30,0),IF(G99=3,VLOOKUP(D99,'Plan Estu Especialidades'!$B$4:$AF$77,25,0),IF(G99=2,VLOOKUP(D99,'Plan Estu Especialidades'!$B$4:$AF$77,20,0),IF(G99=1,VLOOKUP(D99,'Plan Estu Especialidades'!$B$4:$AF$77,20,0)*N99,0))))","v":0},0,0,null,null,null,null,null,0,0,0,null,null,null,null,0,0,0,null,{"$f":"IF(SUM(J99,L99,N99)=0,\"S/V\",VLOOKUP(D99,'Plan Estu Especialidades'!$B$4:$AG$77,32,0))","v":"S/V"},0,0,null,null,null,null,null,null,0,0,0]
[{"$f":"+IF(B100=0,0,SUM($B$62:B100))","v":0},0,91,15,0,0,0,"Ciberseguridad","_15",null,null,null,null,null,null,{"$f":"IF(E100=2,VLOOKUP(D100,'Plan Estu Especialidades'!$B$4:$AF$77,3,0),IF(E100=1,VLOOKUP(D100,'Plan Estu Especialidades'!$B$4:$AF$77,3,0)*J100,0))","v":0},{"$f":"IF(E100=2,VLOOKUP(D100,'Plan Estu Especialidades'!$B$4:$AF$77,4,0),IF(E100=1,VLOOKUP(D100,'Plan Estu Especialidades'!$B$4:$AF$77,4,0)*J100,0))","v":0},{"$f":"IF(E100=2,VLOOKUP(D100,'Plan Estu Especialidades'!$B$4:$AF$77,5,0),IF(E100=1,VLOOKUP(D100,'Plan Estu Especialidades'!$B$4:$AF$77,5,0)*J100,0))","v":0},{"$f":"IF(F100=3,VLOOKUP(D100,'Plan Estu Especialidades'!$B$4:$AF$77,12,0),IF(F100=2,VLOOKUP(D100,'Plan Estu Especialidades'!$B$4:$AF$77,7,0),IF(F100=1,VLOOKUP(D100,'Plan Estu Especialidades'!$B$4:$AF$77,7,0)*L100,0)))","v":0},{"$f":"IF(F100=3,VLOOKUP(D100,'Plan Estu Especialidades'!$B$4:$AF$77,13,0),IF(F100=2,VLOOKUP(D100,'Plan Estu Especialidades'!$B$4:$AF$77,8,0),IF(F100=1,VLOOKUP(D100,'Plan Estu Especialidades'!$B$4:$AF$77,8,0)*L100,0)))","v":0},{"$f":"IF(F100=3,VLOOKUP(D100,'Plan Estu Especialidades'!$B$4:$AF$77,14,0),IF(F100=2,VLOOKUP(D100,'Plan Estu Especialidades'!$B$4:$AF$77,9,0),IF(F100=1,VLOOKUP(D100,'Plan Estu Especialidades'!$B$4:$AF$77,9,0)*L100,0)))","v":0},{"$f":"IF(F100=3,VLOOKUP(D100,'Plan Estu Especialidades'!$B$4:$AF$77,15,0),IF(F100=2,VLOOKUP(D100,'Plan Estu Especialidades'!$B$4:$AF$77,10,0),IF(F100=1,VLOOKUP(D100,'Plan Estu Especialidades'!$B$4:$AF$77,10,0)*L100,0)))","v":0},{"$f":"IF(G100=4,VLOOKUP(D100,'Plan Estu Especialidades'!$B$4:$AF$77,27,0),IF(G100=3,VLOOKUP(D100,'Plan Estu Especialidades'!$B$4:$AF$77,22,0),IF(G100=2,VLOOKUP(D100,'Plan Estu Especialidades'!$B$4:$AF$77,17,0),IF(G100=1,VLOOKUP(D100,'Plan Estu Especialidades'!$B$4:$AF$77,17,0)*N100,0))))","v":0},{"$f":"IF(G100=4,VLOOKUP(D100,'Plan Estu Especialidades'!$B$4:$AF$77,28,0),IF(G100=3,VLOOKUP(D100,'Plan Estu Especialidades'!$B$4:$AF$77,23,0),IF(G100=2,VLOOKUP(D100,'Plan Estu Especialidades'!$B$4:$AF$77,18,0),IF(G100=1,VLOOKUP(D100,'Plan Estu Especialidades'!$B$4:$AF$77,18,0)*N100,0))))","v":0},{"$f":"IF(G100=4,VLOOKUP(D100,'Plan Estu Especialidades'!$B$4:$AF$77,29,0),IF(G100=3,VLOOKUP(D100,'Plan Estu Especialidades'!$B$4:$AF$77,24,0),IF(G100=2,VLOOKUP(D100,'Plan Estu Especialidades'!$B$4:$AF$77,19,0),IF(G100=1,VLOOKUP(D100,'Plan Estu Especialidades'!$B$4:$AF$77,19,0)*N100,0))))","v":0},{"$f":"IF(G100=4,VLOOKUP(D100,'Plan Estu Especialidades'!$B$4:$AF$77,30,0),IF(G100=3,VLOOKUP(D100,'Plan Estu Especialidades'!$B$4:$AF$77,25,0),IF(G100=2,VLOOKUP(D100,'Plan Estu Especialidades'!$B$4:$AF$77,20,0),IF(G100=1,VLOOKUP(D100,'Plan Estu Especialidades'!$B$4:$AF$77,20,0)*N100,0))))","v":0},0,0,null,null,null,null,null,0,0,0,null,null,null,null,0,0,0,null,{"$f":"IF(SUM(J100,L100,N100)=0,\"S/V\",VLOOKUP(D100,'Plan Estu Especialidades'!$B$4:$AG$77,32,0))","v":"S/V"},0,0,null,null,null,null,null,null,0,0,0]
[{"$f":"+IF(B101=0,0,SUM($B$62:B101))","v":0},0,91,16,0,0,0,"Computer networking","_16",null,null,null,null,null,null,{"$f":"IF(E101=2,VLOOKUP(D101,'Plan Estu Especialidades'!$B$4:$AF$77,3,0),IF(E101=1,VLOOKUP(D101,'Plan Estu Especialidades'!$B$4:$AF$77,3,0)*J101,0))","v":0},{"$f":"IF(E101=2,VLOOKUP(D101,'Plan Estu Especialidades'!$B$4:$AF$77,4,0),IF(E101=1,VLOOKUP(D101,'Plan Estu Especialidades'!$B$4:$AF$77,4,0)*J101,0))","v":0},{"$f":"IF(E101=2,VLOOKUP(D101,'Plan Estu Especialidades'!$B$4:$AF$77,5,0),IF(E101=1,VLOOKUP(D101,'Plan Estu Especialidades'!$B$4:$AF$77,5,0)*J101,0))","v":0},{"$f":"IF(F101=3,VLOOKUP(D101,'Plan Estu Especialidades'!$B$4:$AF$77,12,0),IF(F101=2,VLOOKUP(D101,'Plan Estu Especialidades'!$B$4:$AF$77,7,0),IF(F101=1,VLOOKUP(D101,'Plan Estu Especialidades'!$B$4:$AF$77,7,0)*L101,0)))","v":0},{"$f":"IF(F101=3,VLOOKUP(D101,'Plan Estu Especialidades'!$B$4:$AF$77,13,0),IF(F101=2,VLOOKUP(D101,'Plan Estu Especialidades'!$B$4:$AF$77,8,0),IF(F101=1,VLOOKUP(D101,'Plan Estu Especialidades'!$B$4:$AF$77,8,0)*L101,0)))","v":0},{"$f":"IF(F101=3,VLOOKUP(D101,'Plan Estu Especialidades'!$B$4:$AF$77,14,0),IF(F101=2,VLOOKUP(D101,'Plan Estu Especialidades'!$B$4:$AF$77,9,0),IF(F101=1,VLOOKUP(D101,'Plan Estu Especialidades'!$B$4:$AF$77,9,0)*L101,0)))","v":0},{"$f":"IF(F101=3,VLOOKUP(D101,'Plan Estu Especialidades'!$B$4:$AF$77,15,0),IF(F101=2,VLOOKUP(D101,'Plan Estu Especialidades'!$B$4:$AF$77,10,0),IF(F101=1,VLOOKUP(D101,'Plan Estu Especialidades'!$B$4:$AF$77,10,0)*L101,0)))","v":0},{"$f":"IF(G101=4,VLOOKUP(D101,'Plan Estu Especialidades'!$B$4:$AF$77,27,0),IF(G101=3,VLOOKUP(D101,'Plan Estu Especialidades'!$B$4:$AF$77,22,0),IF(G101=2,VLOOKUP(D101,'Plan Estu Especialidades'!$B$4:$AF$77,17,0),IF(G101=1,VLOOKUP(D101,'Plan Estu Especialidades'!$B$4:$AF$77,17,0)*N101,0))))","v":0},{"$f":"IF(G101=4,VLOOKUP(D101,'Plan Estu Especialidades'!$B$4:$AF$77,28,0),IF(G101=3,VLOOKUP(D101,'Plan Estu Especialidades'!$B$4:$AF$77,23,0),IF(G101=2,VLOOKUP(D101,'Plan Estu Especialidades'!$B$4:$AF$77,18,0),IF(G101=1,VLOOKUP(D101,'Plan Estu Especialidades'!$B$4:$AF$77,18,0)*N101,0))))","v":0},{"$f":"IF(G101=4,VLOOKUP(D101,'Plan Estu Especialidades'!$B$4:$AF$77,29,0),IF(G101=3,VLOOKUP(D101,'Plan Estu Especialidades'!$B$4:$AF$77,24,0),IF(G101=2,VLOOKUP(D101,'Plan Estu Especialidades'!$B$4:$AF$77,19,0),IF(G101=1,VLOOKUP(D101,'Plan Estu Especialidades'!$B$4:$AF$77,19,0)*N101,0))))","v":0},{"$f":"IF(G101=4,VLOOKUP(D101,'Plan Estu Especialidades'!$B$4:$AF$77,30,0),IF(G101=3,VLOOKUP(D101,'Plan Estu Especialidades'!$B$4:$AF$77,25,0),IF(G101=2,VLOOKUP(D101,'Plan Estu Especialidades'!$B$4:$AF$77,20,0),IF(G101=1,VLOOKUP(D101,'Plan Estu Especialidades'!$B$4:$AF$77,20,0)*N101,0))))","v":0},0,0,null,null,null,null,null,0,0,0,null,null,null,null,0,0,0,null,{"$f":"IF(SUM(J101,L101,N101)=0,\"S/V\",VLOOKUP(D101,'Plan Estu Especialidades'!$B$4:$AG$77,32,0))","v":"S/V"},0,0,null,null,null,null,null,null,0,0,0]
[{"$f":"+IF(B102=0,0,SUM($B$62:B102))","v":0},0,91,17,0,0,0,"Computer Science in Software Development","_17",null,null,null,null,null,null,{"$f":"IF(E102=2,VLOOKUP(D102,'Plan Estu Especialidades'!$B$4:$AF$77,3,0),IF(E102=1,VLOOKUP(D102,'Plan Estu Especialidades'!$B$4:$AF$77,3,0)*J102,0))","v":0},{"$f":"IF(E102=2,VLOOKUP(D102,'Plan Estu Especialidades'!$B$4:$AF$77,4,0),IF(E102=1,VLOOKUP(D102,'Plan Estu Especialidades'!$B$4:$AF$77,4,0)*J102,0))","v":0},{"$f":"IF(E102=2,VLOOKUP(D102,'Plan Estu Especialidades'!$B$4:$AF$77,5,0),IF(E102=1,VLOOKUP(D102,'Plan Estu Especialidades'!$B$4:$AF$77,5,0)*J102,0))","v":0},{"$f":"IF(F102=3,VLOOKUP(D102,'Plan Estu Especialidades'!$B$4:$AF$77,12,0),IF(F102=2,VLOOKUP(D102,'Plan Estu Especialidades'!$B$4:$AF$77,7,0),IF(F102=1,VLOOKUP(D102,'Plan Estu Especialidades'!$B$4:$AF$77,7,0)*L102,0)))","v":0},{"$f":"IF(F102=3,VLOOKUP(D102,'Plan Estu Especialidades'!$B$4:$AF$77,13,0),IF(F102=2,VLOOKUP(D102,'Plan Estu Especialidades'!$B$4:$AF$77,8,0),IF(F102=1,VLOOKUP(D102,'Plan Estu Especialidades'!$B$4:$AF$77,8,0)*L102,0)))","v":0},{"$f":"IF(F102=3,VLOOKUP(D102,'Plan Estu Especialidades'!$B$4:$AF$77,14,0),IF(F102=2,VLOOKUP(D102,'Plan Estu Especialidades'!$B$4:$AF$77,9,0),IF(F102=1,VLOOKUP(D102,'Plan Estu Especialidades'!$B$4:$AF$77,9,0)*L102,0)))","v":0},{"$f":"IF(F102=3,VLOOKUP(D102,'Plan Estu Especialidades'!$B$4:$AF$77,15,0),IF(F102=2,VLOOKUP(D102,'Plan Estu Especialidades'!$B$4:$AF$77,10,0),IF(F102=1,VLOOKUP(D102,'Plan Estu Especialidades'!$B$4:$AF$77,10,0)*L102,0)))","v":0},{"$f":"IF(G102=4,VLOOKUP(D102,'Plan Estu Especialidades'!$B$4:$AF$77,27,0),IF(G102=3,VLOOKUP(D102,'Plan Estu Especialidades'!$B$4:$AF$77,22,0),IF(G102=2,VLOOKUP(D102,'Plan Estu Especialidades'!$B$4:$AF$77,17,0),IF(G102=1,VLOOKUP(D102,'Plan Estu Especialidades'!$B$4:$AF$77,17,0)*N102,0))))","v":0},{"$f":"IF(G102=4,VLOOKUP(D102,'Plan Estu Especialidades'!$B$4:$AF$77,28,0),IF(G102=3,VLOOKUP(D102,'Plan Estu Especialidades'!$B$4:$AF$77,23,0),IF(G102=2,VLOOKUP(D102,'Plan Estu Especialidades'!$B$4:$AF$77,18,0),IF(G102=1,VLOOKUP(D102,'Plan Estu Especialidades'!$B$4:$AF$77,18,0)*N102,0))))","v":0},{"$f":"IF(G102=4,VLOOKUP(D102,'Plan Estu Especialidades'!$B$4:$AF$77,29,0),IF(G102=3,VLOOKUP(D102,'Plan Estu Especialidades'!$B$4:$AF$77,24,0),IF(G102=2,VLOOKUP(D102,'Plan Estu Especialidades'!$B$4:$AF$77,19,0),IF(G102=1,VLOOKUP(D102,'Plan Estu Especialidades'!$B$4:$AF$77,19,0)*N102,0))))","v":0},{"$f":"IF(G102=4,VLOOKUP(D102,'Plan Estu Especialidades'!$B$4:$AF$77,30,0),IF(G102=3,VLOOKUP(D102,'Plan Estu Especialidades'!$B$4:$AF$77,25,0),IF(G102=2,VLOOKUP(D102,'Plan Estu Especialidades'!$B$4:$AF$77,20,0),IF(G102=1,VLOOKUP(D102,'Plan Estu Especialidades'!$B$4:$AF$77,20,0)*N102,0))))","v":0},0,0,null,null,null,null,null,0,0,0,null,null,null,null,0,0,0,null,{"$f":"IF(SUM(J102,L102,N102)=0,\"S/V\",VLOOKUP(D102,'Plan Estu Especialidades'!$B$4:$AG$77,32,0))","v":"S/V"},0,0,null,null,null,null,null,null,0,0,0]
[{"$f":"+IF(B103=0,0,SUM($B$62:B103))","v":0},0,91,18,0,0,0,"Configuración y Soporte de Redes de Comunicación y Sistemas Operativos","_18",null,null,null,null,null,null,{"$f":"IF(E103=2,VLOOKUP(D103,'Plan Estu Especialidades'!$B$4:$AF$77,3,0),IF(E103=1,VLOOKUP(D103,'Plan Estu Especialidades'!$B$4:$AF$77,3,0)*J103,0))","v":0},{"$f":"IF(E103=2,VLOOKUP(D103,'Plan Estu Especialidades'!$B$4:$AF$77,4,0),IF(E103=1,VLOOKUP(D103,'Plan Estu Especialidades'!$B$4:$AF$77,4,0)*J103,0))","v":0},{"$f":"IF(E103=2,VLOOKUP(D103,'Plan Estu Especialidades'!$B$4:$AF$77,5,0),IF(E103=1,VLOOKUP(D103,'Plan Estu Especialidades'!$B$4:$AF$77,5,0)*J103,0))","v":0},{"$f":"IF(F103=3,VLOOKUP(D103,'Plan Estu Especialidades'!$B$4:$AF$77,12,0),IF(F103=2,VLOOKUP(D103,'Plan Estu Especialidades'!$B$4:$AF$77,7,0),IF(F103=1,VLOOKUP(D103,'Plan Estu Especialidades'!$B$4:$AF$77,7,0)*L103,0)))","v":0},{"$f":"IF(F103=3,VLOOKUP(D103,'Plan Estu Especialidades'!$B$4:$AF$77,13,0),IF(F103=2,VLOOKUP(D103,'Plan Estu Especialidades'!$B$4:$AF$77,8,0),IF(F103=1,VLOOKUP(D103,'Plan Estu Especialidades'!$B$4:$AF$77,8,0)*L103,0)))","v":0},{"$f":"IF(F103=3,VLOOKUP(D103,'Plan Estu Especialidades'!$B$4:$AF$77,14,0),IF(F103=2,VLOOKUP(D103,'Plan Estu Especialidades'!$B$4:$AF$77,9,0),IF(F103=1,VLOOKUP(D103,'Plan Estu Especialidades'!$B$4:$AF$77,9,0)*L103,0)))","v":0},{"$f":"IF(F103=3,VLOOKUP(D103,'Plan Estu Especialidades'!$B$4:$AF$77,15,0),IF(F103=2,VLOOKUP(D103,'Plan Estu Especialidades'!$B$4:$AF$77,10,0),IF(F103=1,VLOOKUP(D103,'Plan Estu Especialidades'!$B$4:$AF$77,10,0)*L103,0)))","v":0},{"$f":"IF(G103=4,VLOOKUP(D103,'Plan Estu Especialidades'!$B$4:$AF$77,27,0),IF(G103=3,VLOOKUP(D103,'Plan Estu Especialidades'!$B$4:$AF$77,22,0),IF(G103=2,VLOOKUP(D103,'Plan Estu Especialidades'!$B$4:$AF$77,17,0),IF(G103=1,VLOOKUP(D103,'Plan Estu Especialidades'!$B$4:$AF$77,17,0)*N103,0))))","v":0},{"$f":"IF(G103=4,VLOOKUP(D103,'Plan Estu Especialidades'!$B$4:$AF$77,28,0),IF(G103=3,VLOOKUP(D103,'Plan Estu Especialidades'!$B$4:$AF$77,23,0),IF(G103=2,VLOOKUP(D103,'Plan Estu Especialidades'!$B$4:$AF$77,18,0),IF(G103=1,VLOOKUP(D103,'Plan Estu Especialidades'!$B$4:$AF$77,18,0)*N103,0))))","v":0},{"$f":"IF(G103=4,VLOOKUP(D103,'Plan Estu Especialidades'!$B$4:$AF$77,29,0),IF(G103=3,VLOOKUP(D103,'Plan Estu Especialidades'!$B$4:$AF$77,24,0),IF(G103=2,VLOOKUP(D103,'Plan Estu Especialidades'!$B$4:$AF$77,19,0),IF(G103=1,VLOOKUP(D103,'Plan Estu Especialidades'!$B$4:$AF$77,19,0)*N103,0))))","v":0},{"$f":"IF(G103=4,VLOOKUP(D103,'Plan Estu Especialidades'!$B$4:$AF$77,30,0),IF(G103=3,VLOOKUP(D103,'Plan Estu Especialidades'!$B$4:$AF$77,25,0),IF(G103=2,VLOOKUP(D103,'Plan Estu Especialidades'!$B$4:$AF$77,20,0),IF(G103=1,VLOOKUP(D103,'Plan Estu Especialidades'!$B$4:$AF$77,20,0)*N103,0))))","v":0},0,0,null,null,null,null,null,0,0,0,null,null,null,null,0,0,0,null,{"$f":"IF(SUM(J103,L103,N103)=0,\"S/V\",VLOOKUP(D103,'Plan Estu Especialidades'!$B$4:$AG$77,32,0))","v":"S/V"},0,0,null,null,null,null,null,null,0,0,0]
[{"$f":"+IF(B104=0,0,SUM($B$62:B104))","v":0},0,91,19,0,0,0,"Construcción Civil","_19",null,null,null,null,null,null,{"$f":"IF(E104=2,VLOOKUP(D104,'Plan Estu Especialidades'!$B$4:$AF$77,3,0),IF(E104=1,VLOOKUP(D104,'Plan Estu Especialidades'!$B$4:$AF$77,3,0)*J104,0))","v":0},{"$f":"IF(E104=2,VLOOKUP(D104,'Plan Estu Especialidades'!$B$4:$AF$77,4,0),IF(E104=1,VLOOKUP(D104,'Plan Estu Especialidades'!$B$4:$AF$77,4,0)*J104,0))","v":0},{"$f":"IF(E104=2,VLOOKUP(D104,'Plan Estu Especialidades'!$B$4:$AF$77,5,0),IF(E104=1,VLOOKUP(D104,'Plan Estu Especialidades'!$B$4:$AF$77,5,0)*J104,0))","v":0},{"$f":"IF(F104=3,VLOOKUP(D104,'Plan Estu Especialidades'!$B$4:$AF$77,12,0),IF(F104=2,VLOOKUP(D104,'Plan Estu Especialidades'!$B$4:$AF$77,7,0),IF(F104=1,VLOOKUP(D104,'Plan Estu Especialidades'!$B$4:$AF$77,7,0)*L104,0)))","v":0},{"$f":"IF(F104=3,VLOOKUP(D104,'Plan Estu Especialidades'!$B$4:$AF$77,13,0),IF(F104=2,VLOOKUP(D104,'Plan Estu Especialidades'!$B$4:$AF$77,8,0),IF(F104=1,VLOOKUP(D104,'Plan Estu Especialidades'!$B$4:$AF$77,8,0)*L104,0)))","v":0},{"$f":"IF(F104=3,VLOOKUP(D104,'Plan Estu Especialidades'!$B$4:$AF$77,14,0),IF(F104=2,VLOOKUP(D104,'Plan Estu Especialidades'!$B$4:$AF$77,9,0),IF(F104=1,VLOOKUP(D104,'Plan Estu Especialidades'!$B$4:$AF$77,9,0)*L104,0)))","v":0},{"$f":"IF(F104=3,VLOOKUP(D104,'Plan Estu Especialidades'!$B$4:$AF$77,15,0),IF(F104=2,VLOOKUP(D104,'Plan Estu Especialidades'!$B$4:$AF$77,10,0),IF(F104=1,VLOOKUP(D104,'Plan Estu Especialidades'!$B$4:$AF$77,10,0)*L104,0)))","v":0},{"$f":"IF(G104=4,VLOOKUP(D104,'Plan Estu Especialidades'!$B$4:$AF$77,27,0),IF(G104=3,VLOOKUP(D104,'Plan Estu Especialidades'!$B$4:$AF$77,22,0),IF(G104=2,VLOOKUP(D104,'Plan Estu Especialidades'!$B$4:$AF$77,17,0),IF(G104=1,VLOOKUP(D104,'Plan Estu Especialidades'!$B$4:$AF$77,17,0)*N104,0))))","v":0},{"$f":"IF(G104=4,VLOOKUP(D104,'Plan Estu Especialidades'!$B$4:$AF$77,28,0),IF(G104=3,VLOOKUP(D104,'Plan Estu Especialidades'!$B$4:$AF$77,23,0),IF(G104=2,VLOOKUP(D104,'Plan Estu Especialidades'!$B$4:$AF$77,18,0),IF(G104=1,VLOOKUP(D104,'Plan Estu Especialidades'!$B$4:$AF$77,18,0)*N104,0))))","v":0},{"$f":"IF(G104=4,VLOOKUP(D104,'Plan Estu Especialidades'!$B$4:$AF$77,29,0),IF(G104=3,VLOOKUP(D104,'Plan Estu Especialidades'!$B$4:$AF$77,24,0),IF(G104=2,VLOOKUP(D104,'Plan Estu Especialidades'!$B$4:$AF$77,19,0),IF(G104=1,VLOOKUP(D104,'Plan Estu Especialidades'!$B$4:$AF$77,19,0)*N104,0))))","v":0},{"$f":"IF(G104=4,VLOOKUP(D104,'Plan Estu Especialidades'!$B$4:$AF$77,30,0),IF(G104=3,VLOOKUP(D104,'Plan Estu Especialidades'!$B$4:$AF$77,25,0),IF(G104=2,VLOOKUP(D104,'Plan Estu Especialidades'!$B$4:$AF$77,20,0),IF(G104=1,VLOOKUP(D104,'Plan Estu Especialidades'!$B$4:$AF$77,20,0)*N104,0))))","v":0},0,0,null,null,null,null,null,0,0,0,null,null,null,null,0,0,0,null,{"$f":"IF(SUM(J104,L104,N104)=0,\"S/V\",VLOOKUP(D104,'Plan Estu Especialidades'!$B$4:$AG$77,32,0))","v":"S/V"},0,0,null,null,null,null,null,null,0,0,0]
[{"$f":"+IF(B105=0,0,SUM($B$62:B105))","v":0},0,91,20,0,0,0,"Contabilidad","_20",null,null,null,null,null,null,{"$f":"IF(E105=2,VLOOKUP(D105,'Plan Estu Especialidades'!$B$4:$AF$77,3,0),IF(E105=1,VLOOKUP(D105,'Plan Estu Especialidades'!$B$4:$AF$77,3,0)*J105,0))","v":0},{"$f":"IF(E105=2,VLOOKUP(D105,'Plan Estu Especialidades'!$B$4:$AF$77,4,0),IF(E105=1,VLOOKUP(D105,'Plan Estu Especialidades'!$B$4:$AF$77,4,0)*J105,0))","v":0},{"$f":"IF(E105=2,VLOOKUP(D105,'Plan Estu Especialidades'!$B$4:$AF$77,5,0),IF(E105=1,VLOOKUP(D105,'Plan Estu Especialidades'!$B$4:$AF$77,5,0)*J105,0))","v":0},{"$f":"IF(F105=3,VLOOKUP(D105,'Plan Estu Especialidades'!$B$4:$AF$77,12,0),IF(F105=2,VLOOKUP(D105,'Plan Estu Especialidades'!$B$4:$AF$77,7,0),IF(F105=1,VLOOKUP(D105,'Plan Estu Especialidades'!$B$4:$AF$77,7,0)*L105,0)))","v":0},{"$f":"IF(F105=3,VLOOKUP(D105,'Plan Estu Especialidades'!$B$4:$AF$77,13,0),IF(F105=2,VLOOKUP(D105,'Plan Estu Especialidades'!$B$4:$AF$77,8,0),IF(F105=1,VLOOKUP(D105,'Plan Estu Especialidades'!$B$4:$AF$77,8,0)*L105,0)))","v":0},{"$f":"IF(F105=3,VLOOKUP(D105,'Plan Estu Especialidades'!$B$4:$AF$77,14,0),IF(F105=2,VLOOKUP(D105,'Plan Estu Especialidades'!$B$4:$AF$77,9,0),IF(F105=1,VLOOKUP(D105,'Plan Estu Especialidades'!$B$4:$AF$77,9,0)*L105,0)))","v":0},{"$f":"IF(F105=3,VLOOKUP(D105,'Plan Estu Especialidades'!$B$4:$AF$77,15,0),IF(F105=2,VLOOKUP(D105,'Plan Estu Especialidades'!$B$4:$AF$77,10,0),IF(F105=1,VLOOKUP(D105,'Plan Estu Especialidades'!$B$4:$AF$77,10,0)*L105,0)))","v":0},{"$f":"IF(G105=4,VLOOKUP(D105,'Plan Estu Especialidades'!$B$4:$AF$77,27,0),IF(G105=3,VLOOKUP(D105,'Plan Estu Especialidades'!$B$4:$AF$77,22,0),IF(G105=2,VLOOKUP(D105,'Plan Estu Especialidades'!$B$4:$AF$77,17,0),IF(G105=1,VLOOKUP(D105,'Plan Estu Especialidades'!$B$4:$AF$77,17,0)*N105,0))))","v":0},{"$f":"IF(G105=4,VLOOKUP(D105,'Plan Estu Especialidades'!$B$4:$AF$77,28,0),IF(G105=3,VLOOKUP(D105,'Plan Estu Especialidades'!$B$4:$AF$77,23,0),IF(G105=2,VLOOKUP(D105,'Plan Estu Especialidades'!$B$4:$AF$77,18,0),IF(G105=1,VLOOKUP(D105,'Plan Estu Especialidades'!$B$4:$AF$77,18,0)*N105,0))))","v":0},{"$f":"IF(G105=4,VLOOKUP(D105,'Plan Estu Especialidades'!$B$4:$AF$77,29,0),IF(G105=3,VLOOKUP(D105,'Plan Estu Especialidades'!$B$4:$AF$77,24,0),IF(G105=2,VLOOKUP(D105,'Plan Estu Especialidades'!$B$4:$AF$77,19,0),IF(G105=1,VLOOKUP(D105,'Plan Estu Especialidades'!$B$4:$AF$77,19,0)*N105,0))))","v":0},{"$f":"IF(G105=4,VLOOKUP(D105,'Plan Estu Especialidades'!$B$4:$AF$77,30,0),IF(G105=3,VLOOKUP(D105,'Plan Estu Especialidades'!$B$4:$AF$77,25,0),IF(G105=2,VLOOKUP(D105,'Plan Estu Especialidades'!$B$4:$AF$77,20,0),IF(G105=1,VLOOKUP(D105,'Plan Estu Especialidades'!$B$4:$AF$77,20,0)*N105,0))))","v":0},0,0,null,null,null,null,null,0,0,0,null,null,null,null,0,0,0,null,{"$f":"IF(SUM(J105,L105,N105)=0,\"S/V\",VLOOKUP(D105,'Plan Estu Especialidades'!$B$4:$AG$77,32,0))","v":"S/V"},0,0,null,null,null,null,null,null,0,0,0]
[{"$f":"+IF(B106=0,0,SUM($B$62:B106))","v":0},0,91,21,0,0,0,"Contabilidad y Auditoria","_21",null,null,null,null,null,null,{"$f":"IF(E106=2,VLOOKUP(D106,'Plan Estu Especialidades'!$B$4:$AF$77,3,0),IF(E106=1,VLOOKUP(D106,'Plan Estu Especialidades'!$B$4:$AF$77,3,0)*J106,0))","v":0},{"$f":"IF(E106=2,VLOOKUP(D106,'Plan Estu Especialidades'!$B$4:$AF$77,4,0),IF(E106=1,VLOOKUP(D106,'Plan Estu Especialidades'!$B$4:$AF$77,4,0)*J106,0))","v":0},{"$f":"IF(E106=2,VLOOKUP(D106,'Plan Estu Especialidades'!$B$4:$AF$77,5,0),IF(E106=1,VLOOKUP(D106,'Plan Estu Especialidades'!$B$4:$AF$77,5,0)*J106,0))","v":0},{"$f":"IF(F106=3,VLOOKUP(D106,'Plan Estu Especialidades'!$B$4:$AF$77,12,0),IF(F106=2,VLOOKUP(D106,'Plan Estu Especialidades'!$B$4:$AF$77,7,0),IF(F106=1,VLOOKUP(D106,'Plan Estu Especialidades'!$B$4:$AF$77,7,0)*L106,0)))","v":0},{"$f":"IF(F106=3,VLOOKUP(D106,'Plan Estu Especialidades'!$B$4:$AF$77,13,0),IF(F106=2,VLOOKUP(D106,'Plan Estu Especialidades'!$B$4:$AF$77,8,0),IF(F106=1,VLOOKUP(D106,'Plan Estu Especialidades'!$B$4:$AF$77,8,0)*L106,0)))","v":0},{"$f":"IF(F106=3,VLOOKUP(D106,'Plan Estu Especialidades'!$B$4:$AF$77,14,0),IF(F106=2,VLOOKUP(D106,'Plan Estu Especialidades'!$B$4:$AF$77,9,0),IF(F106=1,VLOOKUP(D106,'Plan Estu Especialidades'!$B$4:$AF$77,9,0)*L106,0)))","v":0},{"$f":"IF(F106=3,VLOOKUP(D106,'Plan Estu Especialidades'!$B$4:$AF$77,15,0),IF(F106=2,VLOOKUP(D106,'Plan Estu Especialidades'!$B$4:$AF$77,10,0),IF(F106=1,VLOOKUP(D106,'Plan Estu Especialidades'!$B$4:$AF$77,10,0)*L106,0)))","v":0},{"$f":"IF(G106=4,VLOOKUP(D106,'Plan Estu Especialidades'!$B$4:$AF$77,27,0),IF(G106=3,VLOOKUP(D106,'Plan Estu Especialidades'!$B$4:$AF$77,22,0),IF(G106=2,VLOOKUP(D106,'Plan Estu Especialidades'!$B$4:$AF$77,17,0),IF(G106=1,VLOOKUP(D106,'Plan Estu Especialidades'!$B$4:$AF$77,17,0)*N106,0))))","v":0},{"$f":"IF(G106=4,VLOOKUP(D106,'Plan Estu Especialidades'!$B$4:$AF$77,28,0),IF(G106=3,VLOOKUP(D106,'Plan Estu Especialidades'!$B$4:$AF$77,23,0),IF(G106=2,VLOOKUP(D106,'Plan Estu Especialidades'!$B$4:$AF$77,18,0),IF(G106=1,VLOOKUP(D106,'Plan Estu Especialidades'!$B$4:$AF$77,18,0)*N106,0))))","v":0},{"$f":"IF(G106=4,VLOOKUP(D106,'Plan Estu Especialidades'!$B$4:$AF$77,29,0),IF(G106=3,VLOOKUP(D106,'Plan Estu Especialidades'!$B$4:$AF$77,24,0),IF(G106=2,VLOOKUP(D106,'Plan Estu Especialidades'!$B$4:$AF$77,19,0),IF(G106=1,VLOOKUP(D106,'Plan Estu Especialidades'!$B$4:$AF$77,19,0)*N106,0))))","v":0},{"$f":"IF(G106=4,VLOOKUP(D106,'Plan Estu Especialidades'!$B$4:$AF$77,30,0),IF(G106=3,VLOOKUP(D106,'Plan Estu Especialidades'!$B$4:$AF$77,25,0),IF(G106=2,VLOOKUP(D106,'Plan Estu Especialidades'!$B$4:$AF$77,20,0),IF(G106=1,VLOOKUP(D106,'Plan Estu Especialidades'!$B$4:$AF$77,20,0)*N106,0))))","v":0},0,0,null,null,null,null,null,0,0,0,null,null,null,null,{"$f":"+J106","v":0},0,0,null,{"$f":"IF(SUM(J106,L106,N106)=0,\"S/V\",VLOOKUP(D106,'Plan Estu Especialidades'!$B$4:$AG$77,32,0))","v":"S/V"},0,0,null,null,null,null,null,null,{"$f":"+IF(AH106=0,0,AH106/J106)","v":0},0,0]
[{"$f":"+IF(B107=0,0,SUM($B$62:B107))","v":0},0,91,22,0,0,0,"Contabilidad y Control Interno","_22",null,null,null,null,null,null,{"$f":"IF(E107=2,VLOOKUP(D107,'Plan Estu Especialidades'!$B$4:$AF$77,3,0),IF(E107=1,VLOOKUP(D107,'Plan Estu Especialidades'!$B$4:$AF$77,3,0)*J107,0))","v":0},{"$f":"IF(E107=2,VLOOKUP(D107,'Plan Estu Especialidades'!$B$4:$AF$77,4,0),IF(E107=1,VLOOKUP(D107,'Plan Estu Especialidades'!$B$4:$AF$77,4,0)*J107,0))","v":0},{"$f":"IF(E107=2,VLOOKUP(D107,'Plan Estu Especialidades'!$B$4:$AF$77,5,0),IF(E107=1,VLOOKUP(D107,'Plan Estu Especialidades'!$B$4:$AF$77,5,0)*J107,0))","v":0},{"$f":"IF(F107=3,VLOOKUP(D107,'Plan Estu Especialidades'!$B$4:$AF$77,12,0),IF(F107=2,VLOOKUP(D107,'Plan Estu Especialidades'!$B$4:$AF$77,7,0),IF(F107=1,VLOOKUP(D107,'Plan Estu Especialidades'!$B$4:$AF$77,7,0)*L107,0)))","v":0},{"$f":"IF(F107=3,VLOOKUP(D107,'Plan Estu Especialidades'!$B$4:$AF$77,13,0),IF(F107=2,VLOOKUP(D107,'Plan Estu Especialidades'!$B$4:$AF$77,8,0),IF(F107=1,VLOOKUP(D107,'Plan Estu Especialidades'!$B$4:$AF$77,8,0)*L107,0)))","v":0},{"$f":"IF(F107=3,VLOOKUP(D107,'Plan Estu Especialidades'!$B$4:$AF$77,14,0),IF(F107=2,VLOOKUP(D107,'Plan Estu Especialidades'!$B$4:$AF$77,9,0),IF(F107=1,VLOOKUP(D107,'Plan Estu Especialidades'!$B$4:$AF$77,9,0)*L107,0)))","v":0},{"$f":"IF(F107=3,VLOOKUP(D107,'Plan Estu Especialidades'!$B$4:$AF$77,15,0),IF(F107=2,VLOOKUP(D107,'Plan Estu Especialidades'!$B$4:$AF$77,10,0),IF(F107=1,VLOOKUP(D107,'Plan Estu Especialidades'!$B$4:$AF$77,10,0)*L107,0)))","v":0},{"$f":"IF(G107=4,VLOOKUP(D107,'Plan Estu Especialidades'!$B$4:$AF$77,27,0),IF(G107=3,VLOOKUP(D107,'Plan Estu Especialidades'!$B$4:$AF$77,22,0),IF(G107=2,VLOOKUP(D107,'Plan Estu Especialidades'!$B$4:$AF$77,17,0),IF(G107=1,VLOOKUP(D107,'Plan Estu Especialidades'!$B$4:$AF$77,17,0)*N107,0))))","v":0},{"$f":"IF(G107=4,VLOOKUP(D107,'Plan Estu Especialidades'!$B$4:$AF$77,28,0),IF(G107=3,VLOOKUP(D107,'Plan Estu Especialidades'!$B$4:$AF$77,23,0),IF(G107=2,VLOOKUP(D107,'Plan Estu Especialidades'!$B$4:$AF$77,18,0),IF(G107=1,VLOOKUP(D107,'Plan Estu Especialidades'!$B$4:$AF$77,18,0)*N107,0))))","v":0},{"$f":"IF(G107=4,VLOOKUP(D107,'Plan Estu Especialidades'!$B$4:$AF$77,29,0),IF(G107=3,VLOOKUP(D107,'Plan Estu Especialidades'!$B$4:$AF$77,24,0),IF(G107=2,VLOOKUP(D107,'Plan Estu Especialidades'!$B$4:$AF$77,19,0),IF(G107=1,VLOOKUP(D107,'Plan Estu Especialidades'!$B$4:$AF$77,19,0)*N107,0))))","v":0},{"$f":"IF(G107=4,VLOOKUP(D107,'Plan Estu Especialidades'!$B$4:$AF$77,30,0),IF(G107=3,VLOOKUP(D107,'Plan Estu Especialidades'!$B$4:$AF$77,25,0),IF(G107=2,VLOOKUP(D107,'Plan Estu Especialidades'!$B$4:$AF$77,20,0),IF(G107=1,VLOOKUP(D107,'Plan Estu Especialidades'!$B$4:$AF$77,20,0)*N107,0))))","v":0},0,0,null,null,null,null,null,0,0,0,null,null,null,null,{"$f":"+J107","v":0},0,0,null,{"$f":"IF(SUM(J107,L107,N107)=0,\"S/V\",VLOOKUP(D107,'Plan Estu Especialidades'!$B$4:$AG$77,32,0))","v":"S/V"},0,0,null,null,null,null,null,null,{"$f":"+IF(AH107=0,0,AH107/J107)","v":0},0,0]
[{"$f":"+IF(B108=0,0,SUM($B$62:B108))","v":0},0,91,23,0,0,0,"Contabilidad y Costos","_23",null,null,null,null,null,null,{"$f":"IF(E108=2,VLOOKUP(D108,'Plan Estu Especialidades'!$B$4:$AF$77,3,0),IF(E108=1,VLOOKUP(D108,'Plan Estu Especialidades'!$B$4:$AF$77,3,0)*J108,0))","v":0},{"$f":"IF(E108=2,VLOOKUP(D108,'Plan Estu Especialidades'!$B$4:$AF$77,4,0),IF(E108=1,VLOOKUP(D108,'Plan Estu Especialidades'!$B$4:$AF$77,4,0)*J108,0))","v":0},{"$f":"IF(E108=2,VLOOKUP(D108,'Plan Estu Especialidades'!$B$4:$AF$77,5,0),IF(E108=1,VLOOKUP(D108,'Plan Estu Especialidades'!$B$4:$AF$77,5,0)*J108,0))","v":0},{"$f":"IF(F108=3,VLOOKUP(D108,'Plan Estu Especialidades'!$B$4:$AF$77,12,0),IF(F108=2,VLOOKUP(D108,'Plan Estu Especialidades'!$B$4:$AF$77,7,0),IF(F108=1,VLOOKUP(D108,'Plan Estu Especialidades'!$B$4:$AF$77,7,0)*L108,0)))","v":0},{"$f":"IF(F108=3,VLOOKUP(D108,'Plan Estu Especialidades'!$B$4:$AF$77,13,0),IF(F108=2,VLOOKUP(D108,'Plan Estu Especialidades'!$B$4:$AF$77,8,0),IF(F108=1,VLOOKUP(D108,'Plan Estu Especialidades'!$B$4:$AF$77,8,0)*L108,0)))","v":0},{"$f":"IF(F108=3,VLOOKUP(D108,'Plan Estu Especialidades'!$B$4:$AF$77,14,0),IF(F108=2,VLOOKUP(D108,'Plan Estu Especialidades'!$B$4:$AF$77,9,0),IF(F108=1,VLOOKUP(D108,'Plan Estu Especialidades'!$B$4:$AF$77,9,0)*L108,0)))","v":0},{"$f":"IF(F108=3,VLOOKUP(D108,'Plan Estu Especialidades'!$B$4:$AF$77,15,0),IF(F108=2,VLOOKUP(D108,'Plan Estu Especialidades'!$B$4:$AF$77,10,0),IF(F108=1,VLOOKUP(D108,'Plan Estu Especialidades'!$B$4:$AF$77,10,0)*L108,0)))","v":0},{"$f":"IF(G108=4,VLOOKUP(D108,'Plan Estu Especialidades'!$B$4:$AF$77,27,0),IF(G108=3,VLOOKUP(D108,'Plan Estu Especialidades'!$B$4:$AF$77,22,0),IF(G108=2,VLOOKUP(D108,'Plan Estu Especialidades'!$B$4:$AF$77,17,0),IF(G108=1,VLOOKUP(D108,'Plan Estu Especialidades'!$B$4:$AF$77,17,0)*N108,0))))","v":0},{"$f":"IF(G108=4,VLOOKUP(D108,'Plan Estu Especialidades'!$B$4:$AF$77,28,0),IF(G108=3,VLOOKUP(D108,'Plan Estu Especialidades'!$B$4:$AF$77,23,0),IF(G108=2,VLOOKUP(D108,'Plan Estu Especialidades'!$B$4:$AF$77,18,0),IF(G108=1,VLOOKUP(D108,'Plan Estu Especialidades'!$B$4:$AF$77,18,0)*N108,0))))","v":0},{"$f":"IF(G108=4,VLOOKUP(D108,'Plan Estu Especialidades'!$B$4:$AF$77,29,0),IF(G108=3,VLOOKUP(D108,'Plan Estu Especialidades'!$B$4:$AF$77,24,0),IF(G108=2,VLOOKUP(D108,'Plan Estu Especialidades'!$B$4:$AF$77,19,0),IF(G108=1,VLOOKUP(D108,'Plan Estu Especialidades'!$B$4:$AF$77,19,0)*N108,0))))","v":0},{"$f":"IF(G108=4,VLOOKUP(D108,'Plan Estu Especialidades'!$B$4:$AF$77,30,0),IF(G108=3,VLOOKUP(D108,'Plan Estu Especialidades'!$B$4:$AF$77,25,0),IF(G108=2,VLOOKUP(D108,'Plan Estu Especialidades'!$B$4:$AF$77,20,0),IF(G108=1,VLOOKUP(D108,'Plan Estu Especialidades'!$B$4:$AF$77,20,0)*N108,0))))","v":0},0,0,null,null,null,null,null,0,0,0,null,null,null,null,0,0,0,null,{"$f":"IF(SUM(J108,L108,N108)=0,\"S/V\",VLOOKUP(D108,'Plan Estu Especialidades'!$B$4:$AG$77,32,0))","v":"S/V"},0,0,null,null,null,null,null,null,0,0,0]
[{"$f":"+IF(B109=0,0,SUM($B$62:B109))","v":0},0,91,24,0,0,0,"Contabilidad y Finanzas","_24",null,null,null,null,null,null,{"$f":"IF(E109=2,VLOOKUP(D109,'Plan Estu Especialidades'!$B$4:$AF$77,3,0),IF(E109=1,VLOOKUP(D109,'Plan Estu Especialidades'!$B$4:$AF$77,3,0)*J109,0))","v":0},{"$f":"IF(E109=2,VLOOKUP(D109,'Plan Estu Especialidades'!$B$4:$AF$77,4,0),IF(E109=1,VLOOKUP(D109,'Plan Estu Especialidades'!$B$4:$AF$77,4,0)*J109,0))","v":0},{"$f":"IF(E109=2,VLOOKUP(D109,'Plan Estu Especialidades'!$B$4:$AF$77,5,0),IF(E109=1,VLOOKUP(D109,'Plan Estu Especialidades'!$B$4:$AF$77,5,0)*J109,0))","v":0},{"$f":"IF(F109=3,VLOOKUP(D109,'Plan Estu Especialidades'!$B$4:$AF$77,12,0),IF(F109=2,VLOOKUP(D109,'Plan Estu Especialidades'!$B$4:$AF$77,7,0),IF(F109=1,VLOOKUP(D109,'Plan Estu Especialidades'!$B$4:$AF$77,7,0)*L109,0)))","v":0},{"$f":"IF(F109=3,VLOOKUP(D109,'Plan Estu Especialidades'!$B$4:$AF$77,13,0),IF(F109=2,VLOOKUP(D109,'Plan Estu Especialidades'!$B$4:$AF$77,8,0),IF(F109=1,VLOOKUP(D109,'Plan Estu Especialidades'!$B$4:$AF$77,8,0)*L109,0)))","v":0},{"$f":"IF(F109=3,VLOOKUP(D109,'Plan Estu Especialidades'!$B$4:$AF$77,14,0),IF(F109=2,VLOOKUP(D109,'Plan Estu Especialidades'!$B$4:$AF$77,9,0),IF(F109=1,VLOOKUP(D109,'Plan Estu Especialidades'!$B$4:$AF$77,9,0)*L109,0)))","v":0},{"$f":"IF(F109=3,VLOOKUP(D109,'Plan Estu Especialidades'!$B$4:$AF$77,15,0),IF(F109=2,VLOOKUP(D109,'Plan Estu Especialidades'!$B$4:$AF$77,10,0),IF(F109=1,VLOOKUP(D109,'Plan Estu Especialidades'!$B$4:$AF$77,10,0)*L109,0)))","v":0},{"$f":"IF(G109=4,VLOOKUP(D109,'Plan Estu Especialidades'!$B$4:$AF$77,27,0),IF(G109=3,VLOOKUP(D109,'Plan Estu Especialidades'!$B$4:$AF$77,22,0),IF(G109=2,VLOOKUP(D109,'Plan Estu Especialidades'!$B$4:$AF$77,17,0),IF(G109=1,VLOOKUP(D109,'Plan Estu Especialidades'!$B$4:$AF$77,17,0)*N109,0))))","v":0},{"$f":"IF(G109=4,VLOOKUP(D109,'Plan Estu Especialidades'!$B$4:$AF$77,28,0),IF(G109=3,VLOOKUP(D109,'Plan Estu Especialidades'!$B$4:$AF$77,23,0),IF(G109=2,VLOOKUP(D109,'Plan Estu Especialidades'!$B$4:$AF$77,18,0),IF(G109=1,VLOOKUP(D109,'Plan Estu Especialidades'!$B$4:$AF$77,18,0)*N109,0))))","v":0},{"$f":"IF(G109=4,VLOOKUP(D109,'Plan Estu Especialidades'!$B$4:$AF$77,29,0),IF(G109=3,VLOOKUP(D109,'Plan Estu Especialidades'!$B$4:$AF$77,24,0),IF(G109=2,VLOOKUP(D109,'Plan Estu Especialidades'!$B$4:$AF$77,19,0),IF(G109=1,VLOOKUP(D109,'Plan Estu Especialidades'!$B$4:$AF$77,19,0)*N109,0))))","v":0},{"$f":"IF(G109=4,VLOOKUP(D109,'Plan Estu Especialidades'!$B$4:$AF$77,30,0),IF(G109=3,VLOOKUP(D109,'Plan Estu Especialidades'!$B$4:$AF$77,25,0),IF(G109=2,VLOOKUP(D109,'Plan Estu Especialidades'!$B$4:$AF$77,20,0),IF(G109=1,VLOOKUP(D109,'Plan Estu Especialidades'!$B$4:$AF$77,20,0)*N109,0))))","v":0},0,0,null,null,null,null,null,0,0,0,null,null,null,null,0,0,0,null,{"$f":"IF(SUM(J109,L109,N109)=0,\"S/V\",VLOOKUP(D109,'Plan Estu Especialidades'!$B$4:$AG$77,32,0))","v":"S/V"},0,0,null,null,null,null,null,null,0,0,0]
[{"$f":"+IF(B110=0,0,SUM($B$62:B110))","v":0},0,91,25,0,0,0,"Desarrollo Web","_25",null,null,null,null,null,null,{"$f":"IF(E110=2,VLOOKUP(D110,'Plan Estu Especialidades'!$B$4:$AF$77,3,0),IF(E110=1,VLOOKUP(D110,'Plan Estu Especialidades'!$B$4:$AF$77,3,0)*J110,0))","v":0},{"$f":"IF(E110=2,VLOOKUP(D110,'Plan Estu Especialidades'!$B$4:$AF$77,4,0),IF(E110=1,VLOOKUP(D110,'Plan Estu Especialidades'!$B$4:$AF$77,4,0)*J110,0))","v":0},{"$f":"IF(E110=2,VLOOKUP(D110,'Plan Estu Especialidades'!$B$4:$AF$77,5,0),IF(E110=1,VLOOKUP(D110,'Plan Estu Especialidades'!$B$4:$AF$77,5,0)*J110,0))","v":0},{"$f":"IF(F110=3,VLOOKUP(D110,'Plan Estu Especialidades'!$B$4:$AF$77,12,0),IF(F110=2,VLOOKUP(D110,'Plan Estu Especialidades'!$B$4:$AF$77,7,0),IF(F110=1,VLOOKUP(D110,'Plan Estu Especialidades'!$B$4:$AF$77,7,0)*L110,0)))","v":0},{"$f":"IF(F110=3,VLOOKUP(D110,'Plan Estu Especialidades'!$B$4:$AF$77,13,0),IF(F110=2,VLOOKUP(D110,'Plan Estu Especialidades'!$B$4:$AF$77,8,0),IF(F110=1,VLOOKUP(D110,'Plan Estu Especialidades'!$B$4:$AF$77,8,0)*L110,0)))","v":0},{"$f":"IF(F110=3,VLOOKUP(D110,'Plan Estu Especialidades'!$B$4:$AF$77,14,0),IF(F110=2,VLOOKUP(D110,'Plan Estu Especialidades'!$B$4:$AF$77,9,0),IF(F110=1,VLOOKUP(D110,'Plan Estu Especialidades'!$B$4:$AF$77,9,0)*L110,0)))","v":0},{"$f":"IF(F110=3,VLOOKUP(D110,'Plan Estu Especialidades'!$B$4:$AF$77,15,0),IF(F110=2,VLOOKUP(D110,'Plan Estu Especialidades'!$B$4:$AF$77,10,0),IF(F110=1,VLOOKUP(D110,'Plan Estu Especialidades'!$B$4:$AF$77,10,0)*L110,0)))","v":0},{"$f":"IF(G110=4,VLOOKUP(D110,'Plan Estu Especialidades'!$B$4:$AF$77,27,0),IF(G110=3,VLOOKUP(D110,'Plan Estu Especialidades'!$B$4:$AF$77,22,0),IF(G110=2,VLOOKUP(D110,'Plan Estu Especialidades'!$B$4:$AF$77,17,0),IF(G110=1,VLOOKUP(D110,'Plan Estu Especialidades'!$B$4:$AF$77,17,0)*N110,0))))","v":0},{"$f":"IF(G110=4,VLOOKUP(D110,'Plan Estu Especialidades'!$B$4:$AF$77,28,0),IF(G110=3,VLOOKUP(D110,'Plan Estu Especialidades'!$B$4:$AF$77,23,0),IF(G110=2,VLOOKUP(D110,'Plan Estu Especialidades'!$B$4:$AF$77,18,0),IF(G110=1,VLOOKUP(D110,'Plan Estu Especialidades'!$B$4:$AF$77,18,0)*N110,0))))","v":0},{"$f":"IF(G110=4,VLOOKUP(D110,'Plan Estu Especialidades'!$B$4:$AF$77,29,0),IF(G110=3,VLOOKUP(D110,'Plan Estu Especialidades'!$B$4:$AF$77,24,0),IF(G110=2,VLOOKUP(D110,'Plan Estu Especialidades'!$B$4:$AF$77,19,0),IF(G110=1,VLOOKUP(D110,'Plan Estu Especialidades'!$B$4:$AF$77,19,0)*N110,0))))","v":0},{"$f":"IF(G110=4,VLOOKUP(D110,'Plan Estu Especialidades'!$B$4:$AF$77,30,0),IF(G110=3,VLOOKUP(D110,'Plan Estu Especialidades'!$B$4:$AF$77,25,0),IF(G110=2,VLOOKUP(D110,'Plan Estu Especialidades'!$B$4:$AF$77,20,0),IF(G110=1,VLOOKUP(D110,'Plan Estu Especialidades'!$B$4:$AF$77,20,0)*N110,0))))","v":0},0,0,null,null,null,null,null,0,0,0,null,null,null,null,0,0,0,null,{"$f":"IF(SUM(J110,L110,N110)=0,\"S/V\",VLOOKUP(D110,'Plan Estu Especialidades'!$B$4:$AG$77,32,0))","v":"S/V"},0,0,null,null,null,null,null,null,0,0,0]
[{"$f":"+IF(B111=0,0,SUM($B$62:B111))","v":0},0,91,26,0,0,0,"Dibujo Arquitectónico","_26",null,null,null,null,null,null,{"$f":"IF(E111=2,VLOOKUP(D111,'Plan Estu Especialidades'!$B$4:$AF$77,3,0),IF(E111=1,VLOOKUP(D111,'Plan Estu Especialidades'!$B$4:$AF$77,3,0)*J111,0))","v":0},{"$f":"IF(E111=2,VLOOKUP(D111,'Plan Estu Especialidades'!$B$4:$AF$77,4,0),IF(E111=1,VLOOKUP(D111,'Plan Estu Especialidades'!$B$4:$AF$77,4,0)*J111,0))","v":0},{"$f":"IF(E111=2,VLOOKUP(D111,'Plan Estu Especialidades'!$B$4:$AF$77,5,0),IF(E111=1,VLOOKUP(D111,'Plan Estu Especialidades'!$B$4:$AF$77,5,0)*J111,0))","v":0},{"$f":"IF(F111=3,VLOOKUP(D111,'Plan Estu Especialidades'!$B$4:$AF$77,12,0),IF(F111=2,VLOOKUP(D111,'Plan Estu Especialidades'!$B$4:$AF$77,7,0),IF(F111=1,VLOOKUP(D111,'Plan Estu Especialidades'!$B$4:$AF$77,7,0)*L111,0)))","v":0},{"$f":"IF(F111=3,VLOOKUP(D111,'Plan Estu Especialidades'!$B$4:$AF$77,13,0),IF(F111=2,VLOOKUP(D111,'Plan Estu Especialidades'!$B$4:$AF$77,8,0),IF(F111=1,VLOOKUP(D111,'Plan Estu Especialidades'!$B$4:$AF$77,8,0)*L111,0)))","v":0},{"$f":"IF(F111=3,VLOOKUP(D111,'Plan Estu Especialidades'!$B$4:$AF$77,14,0),IF(F111=2,VLOOKUP(D111,'Plan Estu Especialidades'!$B$4:$AF$77,9,0),IF(F111=1,VLOOKUP(D111,'Plan Estu Especialidades'!$B$4:$AF$77,9,0)*L111,0)))","v":0},{"$f":"IF(F111=3,VLOOKUP(D111,'Plan Estu Especialidades'!$B$4:$AF$77,15,0),IF(F111=2,VLOOKUP(D111,'Plan Estu Especialidades'!$B$4:$AF$77,10,0),IF(F111=1,VLOOKUP(D111,'Plan Estu Especialidades'!$B$4:$AF$77,10,0)*L111,0)))","v":0},{"$f":"IF(G111=4,VLOOKUP(D111,'Plan Estu Especialidades'!$B$4:$AF$77,27,0),IF(G111=3,VLOOKUP(D111,'Plan Estu Especialidades'!$B$4:$AF$77,22,0),IF(G111=2,VLOOKUP(D111,'Plan Estu Especialidades'!$B$4:$AF$77,17,0),IF(G111=1,VLOOKUP(D111,'Plan Estu Especialidades'!$B$4:$AF$77,17,0)*N111,0))))","v":0},{"$f":"IF(G111=4,VLOOKUP(D111,'Plan Estu Especialidades'!$B$4:$AF$77,28,0),IF(G111=3,VLOOKUP(D111,'Plan Estu Especialidades'!$B$4:$AF$77,23,0),IF(G111=2,VLOOKUP(D111,'Plan Estu Especialidades'!$B$4:$AF$77,18,0),IF(G111=1,VLOOKUP(D111,'Plan Estu Especialidades'!$B$4:$AF$77,18,0)*N111,0))))","v":0},{"$f":"IF(G111=4,VLOOKUP(D111,'Plan Estu Especialidades'!$B$4:$AF$77,29,0),IF(G111=3,VLOOKUP(D111,'Plan Estu Especialidades'!$B$4:$AF$77,24,0),IF(G111=2,VLOOKUP(D111,'Plan Estu Especialidades'!$B$4:$AF$77,19,0),IF(G111=1,VLOOKUP(D111,'Plan Estu Especialidades'!$B$4:$AF$77,19,0)*N111,0))))","v":0},{"$f":"IF(G111=4,VLOOKUP(D111,'Plan Estu Especialidades'!$B$4:$AF$77,30,0),IF(G111=3,VLOOKUP(D111,'Plan Estu Especialidades'!$B$4:$AF$77,25,0),IF(G111=2,VLOOKUP(D111,'Plan Estu Especialidades'!$B$4:$AF$77,20,0),IF(G111=1,VLOOKUP(D111,'Plan Estu Especialidades'!$B$4:$AF$77,20,0)*N111,0))))","v":0},0,0,null,null,null,null,null,0,0,0,null,null,null,null,0,0,0,null,{"$f":"IF(SUM(J111,L111,N111)=0,\"S/V\",VLOOKUP(D111,'Plan Estu Especialidades'!$B$4:$AG$77,32,0))","v":"S/V"},0,0,null,null,null,null,null,null,0,0,0]
[{"$f":"+IF(B112=0,0,SUM($B$62:B112))","v":0},0,91,27,0,0,0,"Dibujo Técnico","_27",null,null,null,null,null,null,{"$f":"IF(E112=2,VLOOKUP(D112,'Plan Estu Especialidades'!$B$4:$AF$77,3,0),IF(E112=1,VLOOKUP(D112,'Plan Estu Especialidades'!$B$4:$AF$77,3,0)*J112,0))","v":0},{"$f":"IF(E112=2,VLOOKUP(D112,'Plan Estu Especialidades'!$B$4:$AF$77,4,0),IF(E112=1,VLOOKUP(D112,'Plan Estu Especialidades'!$B$4:$AF$77,4,0)*J112,0))","v":0},{"$f":"IF(E112=2,VLOOKUP(D112,'Plan Estu Especialidades'!$B$4:$AF$77,5,0),IF(E112=1,VLOOKUP(D112,'Plan Estu Especialidades'!$B$4:$AF$77,5,0)*J112,0))","v":0},{"$f":"IF(F112=3,VLOOKUP(D112,'Plan Estu Especialidades'!$B$4:$AF$77,12,0),IF(F112=2,VLOOKUP(D112,'Plan Estu Especialidades'!$B$4:$AF$77,7,0),IF(F112=1,VLOOKUP(D112,'Plan Estu Especialidades'!$B$4:$AF$77,7,0)*L112,0)))","v":0},{"$f":"IF(F112=3,VLOOKUP(D112,'Plan Estu Especialidades'!$B$4:$AF$77,13,0),IF(F112=2,VLOOKUP(D112,'Plan Estu Especialidades'!$B$4:$AF$77,8,0),IF(F112=1,VLOOKUP(D112,'Plan Estu Especialidades'!$B$4:$AF$77,8,0)*L112,0)))","v":0},{"$f":"IF(F112=3,VLOOKUP(D112,'Plan Estu Especialidades'!$B$4:$AF$77,14,0),IF(F112=2,VLOOKUP(D112,'Plan Estu Especialidades'!$B$4:$AF$77,9,0),IF(F112=1,VLOOKUP(D112,'Plan Estu Especialidades'!$B$4:$AF$77,9,0)*L112,0)))","v":0},{"$f":"IF(F112=3,VLOOKUP(D112,'Plan Estu Especialidades'!$B$4:$AF$77,15,0),IF(F112=2,VLOOKUP(D112,'Plan Estu Especialidades'!$B$4:$AF$77,10,0),IF(F112=1,VLOOKUP(D112,'Plan Estu Especialidades'!$B$4:$AF$77,10,0)*L112,0)))","v":0},{"$f":"IF(G112=4,VLOOKUP(D112,'Plan Estu Especialidades'!$B$4:$AF$77,27,0),IF(G112=3,VLOOKUP(D112,'Plan Estu Especialidades'!$B$4:$AF$77,22,0),IF(G112=2,VLOOKUP(D112,'Plan Estu Especialidades'!$B$4:$AF$77,17,0),IF(G112=1,VLOOKUP(D112,'Plan Estu Especialidades'!$B$4:$AF$77,17,0)*N112,0))))","v":0},{"$f":"IF(G112=4,VLOOKUP(D112,'Plan Estu Especialidades'!$B$4:$AF$77,28,0),IF(G112=3,VLOOKUP(D112,'Plan Estu Especialidades'!$B$4:$AF$77,23,0),IF(G112=2,VLOOKUP(D112,'Plan Estu Especialidades'!$B$4:$AF$77,18,0),IF(G112=1,VLOOKUP(D112,'Plan Estu Especialidades'!$B$4:$AF$77,18,0)*N112,0))))","v":0},{"$f":"IF(G112=4,VLOOKUP(D112,'Plan Estu Especialidades'!$B$4:$AF$77,29,0),IF(G112=3,VLOOKUP(D112,'Plan Estu Especialidades'!$B$4:$AF$77,24,0),IF(G112=2,VLOOKUP(D112,'Plan Estu Especialidades'!$B$4:$AF$77,19,0),IF(G112=1,VLOOKUP(D112,'Plan Estu Especialidades'!$B$4:$AF$77,19,0)*N112,0))))","v":0},{"$f":"IF(G112=4,VLOOKUP(D112,'Plan Estu Especialidades'!$B$4:$AF$77,30,0),IF(G112=3,VLOOKUP(D112,'Plan Estu Especialidades'!$B$4:$AF$77,25,0),IF(G112=2,VLOOKUP(D112,'Plan Estu Especialidades'!$B$4:$AF$77,20,0),IF(G112=1,VLOOKUP(D112,'Plan Estu Especialidades'!$B$4:$AF$77,20,0)*N112,0))))","v":0},0,0,null,null,null,null,null,0,0,0,null,null,null,null,0,0,0,null,{"$f":"IF(SUM(J112,L112,N112)=0,\"S/V\",VLOOKUP(D112,'Plan Estu Especialidades'!$B$4:$AG$77,32,0))","v":"S/V"},0,0,null,null,null,null,null,null,0,0,0]
[{"$f":"+IF(B113=0,0,SUM($B$62:B113))","v":0},{"$f":"+IF(AA113>0,1,0)","v":0},91,28,0,0,0,"Dibujo y Modelado para Edificaciones","_28",null,null,null,null,null,null,{"$f":"IF(E113=2,VLOOKUP(D113,'Plan Estu Especialidades'!$B$4:$AF$77,3,0),IF(E113=1,VLOOKUP(D113,'Plan Estu Especialidades'!$B$4:$AF$77,3,0)*J113,0))","v":0},{"$f":"IF(E113=2,VLOOKUP(D113,'Plan Estu Especialidades'!$B$4:$AF$77,4,0),IF(E113=1,VLOOKUP(D113,'Plan Estu Especialidades'!$B$4:$AF$77,4,0)*J113,0))","v":0},{"$f":"IF(E113=2,VLOOKUP(D113,'Plan Estu Especialidades'!$B$4:$AF$77,5,0),IF(E113=1,VLOOKUP(D113,'Plan Estu Especialidades'!$B$4:$AF$77,5,0)*J113,0))","v":0},{"$f":"IF(F113=3,VLOOKUP(D113,'Plan Estu Especialidades'!$B$4:$AF$77,12,0),IF(F113=2,VLOOKUP(D113,'Plan Estu Especialidades'!$B$4:$AF$77,7,0),IF(F113=1,VLOOKUP(D113,'Plan Estu Especialidades'!$B$4:$AF$77,7,0)*L113,0)))","v":0},{"$f":"IF(F113=3,VLOOKUP(D113,'Plan Estu Especialidades'!$B$4:$AF$77,13,0),IF(F113=2,VLOOKUP(D113,'Plan Estu Especialidades'!$B$4:$AF$77,8,0),IF(F113=1,VLOOKUP(D113,'Plan Estu Especialidades'!$B$4:$AF$77,8,0)*L113,0)))","v":0},{"$f":"IF(F113=3,VLOOKUP(D113,'Plan Estu Especialidades'!$B$4:$AF$77,14,0),IF(F113=2,VLOOKUP(D113,'Plan Estu Especialidades'!$B$4:$AF$77,9,0),IF(F113=1,VLOOKUP(D113,'Plan Estu Especialidades'!$B$4:$AF$77,9,0)*L113,0)))","v":0},{"$f":"IF(F113=3,VLOOKUP(D113,'Plan Estu Especialidades'!$B$4:$AF$77,15,0),IF(F113=2,VLOOKUP(D113,'Plan Estu Especialidades'!$B$4:$AF$77,10,0),IF(F113=1,VLOOKUP(D113,'Plan Estu Especialidades'!$B$4:$AF$77,10,0)*L113,0)))","v":0},{"$f":"IF(G113=4,VLOOKUP(D113,'Plan Estu Especialidades'!$B$4:$AF$77,27,0),IF(G113=3,VLOOKUP(D113,'Plan Estu Especialidades'!$B$4:$AF$77,22,0),IF(G113=2,VLOOKUP(D113,'Plan Estu Especialidades'!$B$4:$AF$77,17,0),IF(G113=1,VLOOKUP(D113,'Plan Estu Especialidades'!$B$4:$AF$77,17,0)*N113,0))))","v":0},{"$f":"IF(G113=4,VLOOKUP(D113,'Plan Estu Especialidades'!$B$4:$AF$77,28,0),IF(G113=3,VLOOKUP(D113,'Plan Estu Especialidades'!$B$4:$AF$77,23,0),IF(G113=2,VLOOKUP(D113,'Plan Estu Especialidades'!$B$4:$AF$77,18,0),IF(G113=1,VLOOKUP(D113,'Plan Estu Especialidades'!$B$4:$AF$77,18,0)*N113,0))))","v":0},{"$f":"IF(G113=4,VLOOKUP(D113,'Plan Estu Especialidades'!$B$4:$AF$77,29,0),IF(G113=3,VLOOKUP(D113,'Plan Estu Especialidades'!$B$4:$AF$77,24,0),IF(G113=2,VLOOKUP(D113,'Plan Estu Especialidades'!$B$4:$AF$77,19,0),IF(G113=1,VLOOKUP(D113,'Plan Estu Especialidades'!$B$4:$AF$77,19,0)*N113,0))))","v":0},{"$f":"IF(G113=4,VLOOKUP(D113,'Plan Estu Especialidades'!$B$4:$AF$77,30,0),IF(G113=3,VLOOKUP(D113,'Plan Estu Especialidades'!$B$4:$AF$77,25,0),IF(G113=2,VLOOKUP(D113,'Plan Estu Especialidades'!$B$4:$AF$77,20,0),IF(G113=1,VLOOKUP(D113,'Plan Estu Especialidades'!$B$4:$AF$77,20,0)*N113,0))))","v":0},0,0,null,null,null,null,null,0,0,0,null,null,null,null,0,0,0,null,{"$f":"IF(SUM(J113,L113,N113)=0,\"S/V\",VLOOKUP(D113,'Plan Estu Especialidades'!$B$4:$AG$77,32,0))","v":"S/V"},0,0,null,null,null,null,null,null,0,0,0]
[{"$f":"+IF(B114=0,0,SUM($B$62:B114))","v":0},0,91,29,0,0,0,"Diseño Gráfico","_29",null,null,null,null,null,null,{"$f":"IF(E114=2,VLOOKUP(D114,'Plan Estu Especialidades'!$B$4:$AF$77,3,0),IF(E114=1,VLOOKUP(D114,'Plan Estu Especialidades'!$B$4:$AF$77,3,0)*J114,0))","v":0},{"$f":"IF(E114=2,VLOOKUP(D114,'Plan Estu Especialidades'!$B$4:$AF$77,4,0),IF(E114=1,VLOOKUP(D114,'Plan Estu Especialidades'!$B$4:$AF$77,4,0)*J114,0))","v":0},{"$f":"IF(E114=2,VLOOKUP(D114,'Plan Estu Especialidades'!$B$4:$AF$77,5,0),IF(E114=1,VLOOKUP(D114,'Plan Estu Especialidades'!$B$4:$AF$77,5,0)*J114,0))","v":0},{"$f":"IF(F114=3,VLOOKUP(D114,'Plan Estu Especialidades'!$B$4:$AF$77,12,0),IF(F114=2,VLOOKUP(D114,'Plan Estu Especialidades'!$B$4:$AF$77,7,0),IF(F114=1,VLOOKUP(D114,'Plan Estu Especialidades'!$B$4:$AF$77,7,0)*L114,0)))","v":0},{"$f":"IF(F114=3,VLOOKUP(D114,'Plan Estu Especialidades'!$B$4:$AF$77,13,0),IF(F114=2,VLOOKUP(D114,'Plan Estu Especialidades'!$B$4:$AF$77,8,0),IF(F114=1,VLOOKUP(D114,'Plan Estu Especialidades'!$B$4:$AF$77,8,0)*L114,0)))","v":0},{"$f":"IF(F114=3,VLOOKUP(D114,'Plan Estu Especialidades'!$B$4:$AF$77,14,0),IF(F114=2,VLOOKUP(D114,'Plan Estu Especialidades'!$B$4:$AF$77,9,0),IF(F114=1,VLOOKUP(D114,'Plan Estu Especialidades'!$B$4:$AF$77,9,0)*L114,0)))","v":0},{"$f":"IF(F114=3,VLOOKUP(D114,'Plan Estu Especialidades'!$B$4:$AF$77,15,0),IF(F114=2,VLOOKUP(D114,'Plan Estu Especialidades'!$B$4:$AF$77,10,0),IF(F114=1,VLOOKUP(D114,'Plan Estu Especialidades'!$B$4:$AF$77,10,0)*L114,0)))","v":0},{"$f":"IF(G114=4,VLOOKUP(D114,'Plan Estu Especialidades'!$B$4:$AF$77,27,0),IF(G114=3,VLOOKUP(D114,'Plan Estu Especialidades'!$B$4:$AF$77,22,0),IF(G114=2,VLOOKUP(D114,'Plan Estu Especialidades'!$B$4:$AF$77,17,0),IF(G114=1,VLOOKUP(D114,'Plan Estu Especialidades'!$B$4:$AF$77,17,0)*N114,0))))","v":0},{"$f":"IF(G114=4,VLOOKUP(D114,'Plan Estu Especialidades'!$B$4:$AF$77,28,0),IF(G114=3,VLOOKUP(D114,'Plan Estu Especialidades'!$B$4:$AF$77,23,0),IF(G114=2,VLOOKUP(D114,'Plan Estu Especialidades'!$B$4:$AF$77,18,0),IF(G114=1,VLOOKUP(D114,'Plan Estu Especialidades'!$B$4:$AF$77,18,0)*N114,0))))","v":0},{"$f":"IF(G114=4,VLOOKUP(D114,'Plan Estu Especialidades'!$B$4:$AF$77,29,0),IF(G114=3,VLOOKUP(D114,'Plan Estu Especialidades'!$B$4:$AF$77,24,0),IF(G114=2,VLOOKUP(D114,'Plan Estu Especialidades'!$B$4:$AF$77,19,0),IF(G114=1,VLOOKUP(D114,'Plan Estu Especialidades'!$B$4:$AF$77,19,0)*N114,0))))","v":0},{"$f":"IF(G114=4,VLOOKUP(D114,'Plan Estu Especialidades'!$B$4:$AF$77,30,0),IF(G114=3,VLOOKUP(D114,'Plan Estu Especialidades'!$B$4:$AF$77,25,0),IF(G114=2,VLOOKUP(D114,'Plan Estu Especialidades'!$B$4:$AF$77,20,0),IF(G114=1,VLOOKUP(D114,'Plan Estu Especialidades'!$B$4:$AF$77,20,0)*N114,0))))","v":0},0,0,null,null,null,null,null,0,0,0,null,null,null,null,0,0,0,null,{"$f":"IF(SUM(J114,L114,N114)=0,\"S/V\",VLOOKUP(D114,'Plan Estu Especialidades'!$B$4:$AG$77,32,0))","v":"S/V"},0,0,null,null,null,null,null,null,0,0,0]
[{"$f":"+IF(B115=0,0,SUM($B$62:B115))","v":0},0,91,30,0,0,0,"Diseño Publicitario","_30",null,null,null,null,null,null,{"$f":"IF(E115=2,VLOOKUP(D115,'Plan Estu Especialidades'!$B$4:$AF$77,3,0),IF(E115=1,VLOOKUP(D115,'Plan Estu Especialidades'!$B$4:$AF$77,3,0)*J115,0))","v":0},{"$f":"IF(E115=2,VLOOKUP(D115,'Plan Estu Especialidades'!$B$4:$AF$77,4,0),IF(E115=1,VLOOKUP(D115,'Plan Estu Especialidades'!$B$4:$AF$77,4,0)*J115,0))","v":0},{"$f":"IF(E115=2,VLOOKUP(D115,'Plan Estu Especialidades'!$B$4:$AF$77,5,0),IF(E115=1,VLOOKUP(D115,'Plan Estu Especialidades'!$B$4:$AF$77,5,0)*J115,0))","v":0},{"$f":"IF(F115=3,VLOOKUP(D115,'Plan Estu Especialidades'!$B$4:$AF$77,12,0),IF(F115=2,VLOOKUP(D115,'Plan Estu Especialidades'!$B$4:$AF$77,7,0),IF(F115=1,VLOOKUP(D115,'Plan Estu Especialidades'!$B$4:$AF$77,7,0)*L115,0)))","v":0},{"$f":"IF(F115=3,VLOOKUP(D115,'Plan Estu Especialidades'!$B$4:$AF$77,13,0),IF(F115=2,VLOOKUP(D115,'Plan Estu Especialidades'!$B$4:$AF$77,8,0),IF(F115=1,VLOOKUP(D115,'Plan Estu Especialidades'!$B$4:$AF$77,8,0)*L115,0)))","v":0},{"$f":"IF(F115=3,VLOOKUP(D115,'Plan Estu Especialidades'!$B$4:$AF$77,14,0),IF(F115=2,VLOOKUP(D115,'Plan Estu Especialidades'!$B$4:$AF$77,9,0),IF(F115=1,VLOOKUP(D115,'Plan Estu Especialidades'!$B$4:$AF$77,9,0)*L115,0)))","v":0},{"$f":"IF(F115=3,VLOOKUP(D115,'Plan Estu Especialidades'!$B$4:$AF$77,15,0),IF(F115=2,VLOOKUP(D115,'Plan Estu Especialidades'!$B$4:$AF$77,10,0),IF(F115=1,VLOOKUP(D115,'Plan Estu Especialidades'!$B$4:$AF$77,10,0)*L115,0)))","v":0},{"$f":"IF(G115=4,VLOOKUP(D115,'Plan Estu Especialidades'!$B$4:$AF$77,27,0),IF(G115=3,VLOOKUP(D115,'Plan Estu Especialidades'!$B$4:$AF$77,22,0),IF(G115=2,VLOOKUP(D115,'Plan Estu Especialidades'!$B$4:$AF$77,17,0),IF(G115=1,VLOOKUP(D115,'Plan Estu Especialidades'!$B$4:$AF$77,17,0)*N115,0))))","v":0},{"$f":"IF(G115=4,VLOOKUP(D115,'Plan Estu Especialidades'!$B$4:$AF$77,28,0),IF(G115=3,VLOOKUP(D115,'Plan Estu Especialidades'!$B$4:$AF$77,23,0),IF(G115=2,VLOOKUP(D115,'Plan Estu Especialidades'!$B$4:$AF$77,18,0),IF(G115=1,VLOOKUP(D115,'Plan Estu Especialidades'!$B$4:$AF$77,18,0)*N115,0))))","v":0},{"$f":"IF(G115=4,VLOOKUP(D115,'Plan Estu Especialidades'!$B$4:$AF$77,29,0),IF(G115=3,VLOOKUP(D115,'Plan Estu Especialidades'!$B$4:$AF$77,24,0),IF(G115=2,VLOOKUP(D115,'Plan Estu Especialidades'!$B$4:$AF$77,19,0),IF(G115=1,VLOOKUP(D115,'Plan Estu Especialidades'!$B$4:$AF$77,19,0)*N115,0))))","v":0},{"$f":"IF(G115=4,VLOOKUP(D115,'Plan Estu Especialidades'!$B$4:$AF$77,30,0),IF(G115=3,VLOOKUP(D115,'Plan Estu Especialidades'!$B$4:$AF$77,25,0),IF(G115=2,VLOOKUP(D115,'Plan Estu Especialidades'!$B$4:$AF$77,20,0),IF(G115=1,VLOOKUP(D115,'Plan Estu Especialidades'!$B$4:$AF$77,20,0)*N115,0))))","v":0},0,0,null,null,null,null,null,0,0,0,null,null,null,null,0,0,0,null,{"$f":"IF(SUM(J115,L115,N115)=0,\"S/V\",VLOOKUP(D115,'Plan Estu Especialidades'!$B$4:$AG$77,32,0))","v":"S/V"},0,0,null,null,null,null,null,null,0,0,0]
[{"$f":"+IF(B116=0,0,SUM($B$62:B116))","v":0},0,91,31,0,0,0,"Diseño y Confección de la moda","_31",null,null,null,null,null,null,{"$f":"IF(E116=2,VLOOKUP(D116,'Plan Estu Especialidades'!$B$4:$AF$77,3,0),IF(E116=1,VLOOKUP(D116,'Plan Estu Especialidades'!$B$4:$AF$77,3,0)*J116,0))","v":0},{"$f":"IF(E116=2,VLOOKUP(D116,'Plan Estu Especialidades'!$B$4:$AF$77,4,0),IF(E116=1,VLOOKUP(D116,'Plan Estu Especialidades'!$B$4:$AF$77,4,0)*J116,0))","v":0},{"$f":"IF(E116=2,VLOOKUP(D116,'Plan Estu Especialidades'!$B$4:$AF$77,5,0),IF(E116=1,VLOOKUP(D116,'Plan Estu Especialidades'!$B$4:$AF$77,5,0)*J116,0))","v":0},{"$f":"IF(F116=3,VLOOKUP(D116,'Plan Estu Especialidades'!$B$4:$AF$77,12,0),IF(F116=2,VLOOKUP(D116,'Plan Estu Especialidades'!$B$4:$AF$77,7,0),IF(F116=1,VLOOKUP(D116,'Plan Estu Especialidades'!$B$4:$AF$77,7,0)*L116,0)))","v":0},{"$f":"IF(F116=3,VLOOKUP(D116,'Plan Estu Especialidades'!$B$4:$AF$77,13,0),IF(F116=2,VLOOKUP(D116,'Plan Estu Especialidades'!$B$4:$AF$77,8,0),IF(F116=1,VLOOKUP(D116,'Plan Estu Especialidades'!$B$4:$AF$77,8,0)*L116,0)))","v":0},{"$f":"IF(F116=3,VLOOKUP(D116,'Plan Estu Especialidades'!$B$4:$AF$77,14,0),IF(F116=2,VLOOKUP(D116,'Plan Estu Especialidades'!$B$4:$AF$77,9,0),IF(F116=1,VLOOKUP(D116,'Plan Estu Especialidades'!$B$4:$AF$77,9,0)*L116,0)))","v":0},{"$f":"IF(F116=3,VLOOKUP(D116,'Plan Estu Especialidades'!$B$4:$AF$77,15,0),IF(F116=2,VLOOKUP(D116,'Plan Estu Especialidades'!$B$4:$AF$77,10,0),IF(F116=1,VLOOKUP(D116,'Plan Estu Especialidades'!$B$4:$AF$77,10,0)*L116,0)))","v":0},{"$f":"IF(G116=4,VLOOKUP(D116,'Plan Estu Especialidades'!$B$4:$AF$77,27,0),IF(G116=3,VLOOKUP(D116,'Plan Estu Especialidades'!$B$4:$AF$77,22,0),IF(G116=2,VLOOKUP(D116,'Plan Estu Especialidades'!$B$4:$AF$77,17,0),IF(G116=1,VLOOKUP(D116,'Plan Estu Especialidades'!$B$4:$AF$77,17,0)*N116,0))))","v":0},{"$f":"IF(G116=4,VLOOKUP(D116,'Plan Estu Especialidades'!$B$4:$AF$77,28,0),IF(G116=3,VLOOKUP(D116,'Plan Estu Especialidades'!$B$4:$AF$77,23,0),IF(G116=2,VLOOKUP(D116,'Plan Estu Especialidades'!$B$4:$AF$77,18,0),IF(G116=1,VLOOKUP(D116,'Plan Estu Especialidades'!$B$4:$AF$77,18,0)*N116,0))))","v":0},{"$f":"IF(G116=4,VLOOKUP(D116,'Plan Estu Especialidades'!$B$4:$AF$77,29,0),IF(G116=3,VLOOKUP(D116,'Plan Estu Especialidades'!$B$4:$AF$77,24,0),IF(G116=2,VLOOKUP(D116,'Plan Estu Especialidades'!$B$4:$AF$77,19,0),IF(G116=1,VLOOKUP(D116,'Plan Estu Especialidades'!$B$4:$AF$77,19,0)*N116,0))))","v":0},{"$f":"IF(G116=4,VLOOKUP(D116,'Plan Estu Especialidades'!$B$4:$AF$77,30,0),IF(G116=3,VLOOKUP(D116,'Plan Estu Especialidades'!$B$4:$AF$77,25,0),IF(G116=2,VLOOKUP(D116,'Plan Estu Especialidades'!$B$4:$AF$77,20,0),IF(G116=1,VLOOKUP(D116,'Plan Estu Especialidades'!$B$4:$AF$77,20,0)*N116,0))))","v":0},0,0,null,null,null,null,null,0,0,0,null,null,null,null,0,0,0,null,{"$f":"IF(SUM(J116,L116,N116)=0,\"S/V\",VLOOKUP(D116,'Plan Estu Especialidades'!$B$4:$AG$77,32,0))","v":"S/V"},0,0,null,null,null,null,null,null,0,0,0]
[{"$f":"+IF(B117=0,0,SUM($B$62:B117))","v":0},0,91,32,0,0,0,"Diseño y Construcción Muebles y Estructuras","_32",null,null,null,null,null,null,{"$f":"IF(E117=2,VLOOKUP(D117,'Plan Estu Especialidades'!$B$4:$AF$77,3,0),IF(E117=1,VLOOKUP(D117,'Plan Estu Especialidades'!$B$4:$AF$77,3,0)*J117,0))","v":0},{"$f":"IF(E117=2,VLOOKUP(D117,'Plan Estu Especialidades'!$B$4:$AF$77,4,0),IF(E117=1,VLOOKUP(D117,'Plan Estu Especialidades'!$B$4:$AF$77,4,0)*J117,0))","v":0},{"$f":"IF(E117=2,VLOOKUP(D117,'Plan Estu Especialidades'!$B$4:$AF$77,5,0),IF(E117=1,VLOOKUP(D117,'Plan Estu Especialidades'!$B$4:$AF$77,5,0)*J117,0))","v":0},{"$f":"IF(F117=3,VLOOKUP(D117,'Plan Estu Especialidades'!$B$4:$AF$77,12,0),IF(F117=2,VLOOKUP(D117,'Plan Estu Especialidades'!$B$4:$AF$77,7,0),IF(F117=1,VLOOKUP(D117,'Plan Estu Especialidades'!$B$4:$AF$77,7,0)*L117,0)))","v":0},{"$f":"IF(F117=3,VLOOKUP(D117,'Plan Estu Especialidades'!$B$4:$AF$77,13,0),IF(F117=2,VLOOKUP(D117,'Plan Estu Especialidades'!$B$4:$AF$77,8,0),IF(F117=1,VLOOKUP(D117,'Plan Estu Especialidades'!$B$4:$AF$77,8,0)*L117,0)))","v":0},{"$f":"IF(F117=3,VLOOKUP(D117,'Plan Estu Especialidades'!$B$4:$AF$77,14,0),IF(F117=2,VLOOKUP(D117,'Plan Estu Especialidades'!$B$4:$AF$77,9,0),IF(F117=1,VLOOKUP(D117,'Plan Estu Especialidades'!$B$4:$AF$77,9,0)*L117,0)))","v":0},{"$f":"IF(F117=3,VLOOKUP(D117,'Plan Estu Especialidades'!$B$4:$AF$77,15,0),IF(F117=2,VLOOKUP(D117,'Plan Estu Especialidades'!$B$4:$AF$77,10,0),IF(F117=1,VLOOKUP(D117,'Plan Estu Especialidades'!$B$4:$AF$77,10,0)*L117,0)))","v":0},{"$f":"IF(G117=4,VLOOKUP(D117,'Plan Estu Especialidades'!$B$4:$AF$77,27,0),IF(G117=3,VLOOKUP(D117,'Plan Estu Especialidades'!$B$4:$AF$77,22,0),IF(G117=2,VLOOKUP(D117,'Plan Estu Especialidades'!$B$4:$AF$77,17,0),IF(G117=1,VLOOKUP(D117,'Plan Estu Especialidades'!$B$4:$AF$77,17,0)*N117,0))))","v":0},{"$f":"IF(G117=4,VLOOKUP(D117,'Plan Estu Especialidades'!$B$4:$AF$77,28,0),IF(G117=3,VLOOKUP(D117,'Plan Estu Especialidades'!$B$4:$AF$77,23,0),IF(G117=2,VLOOKUP(D117,'Plan Estu Especialidades'!$B$4:$AF$77,18,0),IF(G117=1,VLOOKUP(D117,'Plan Estu Especialidades'!$B$4:$AF$77,18,0)*N117,0))))","v":0},{"$f":"IF(G117=4,VLOOKUP(D117,'Plan Estu Especialidades'!$B$4:$AF$77,29,0),IF(G117=3,VLOOKUP(D117,'Plan Estu Especialidades'!$B$4:$AF$77,24,0),IF(G117=2,VLOOKUP(D117,'Plan Estu Especialidades'!$B$4:$AF$77,19,0),IF(G117=1,VLOOKUP(D117,'Plan Estu Especialidades'!$B$4:$AF$77,19,0)*N117,0))))","v":0},{"$f":"IF(G117=4,VLOOKUP(D117,'Plan Estu Especialidades'!$B$4:$AF$77,30,0),IF(G117=3,VLOOKUP(D117,'Plan Estu Especialidades'!$B$4:$AF$77,25,0),IF(G117=2,VLOOKUP(D117,'Plan Estu Especialidades'!$B$4:$AF$77,20,0),IF(G117=1,VLOOKUP(D117,'Plan Estu Especialidades'!$B$4:$AF$77,20,0)*N117,0))))","v":0},0,0,null,null,null,null,null,0,0,0,null,null,null,null,0,0,0,null,{"$f":"IF(SUM(J117,L117,N117)=0,\"S/V\",VLOOKUP(D117,'Plan Estu Especialidades'!$B$4:$AG$77,32,0))","v":"S/V"},0,0,null,null,null,null,null,null,0,0,0]
[{"$f":"+IF(B118=0,0,SUM($B$62:B118))","v":0},0,91,33,0,0,0,"Diseño y Desarrollo Digital","_33",null,null,null,null,null,null,{"$f":"IF(E118=2,VLOOKUP(D118,'Plan Estu Especialidades'!$B$4:$AF$77,3,0),IF(E118=1,VLOOKUP(D118,'Plan Estu Especialidades'!$B$4:$AF$77,3,0)*J118,0))","v":0},{"$f":"IF(E118=2,VLOOKUP(D118,'Plan Estu Especialidades'!$B$4:$AF$77,4,0),IF(E118=1,VLOOKUP(D118,'Plan Estu Especialidades'!$B$4:$AF$77,4,0)*J118,0))","v":0},{"$f":"IF(E118=2,VLOOKUP(D118,'Plan Estu Especialidades'!$B$4:$AF$77,5,0),IF(E118=1,VLOOKUP(D118,'Plan Estu Especialidades'!$B$4:$AF$77,5,0)*J118,0))","v":0},{"$f":"IF(F118=3,VLOOKUP(D118,'Plan Estu Especialidades'!$B$4:$AF$77,12,0),IF(F118=2,VLOOKUP(D118,'Plan Estu Especialidades'!$B$4:$AF$77,7,0),IF(F118=1,VLOOKUP(D118,'Plan Estu Especialidades'!$B$4:$AF$77,7,0)*L118,0)))","v":0},{"$f":"IF(F118=3,VLOOKUP(D118,'Plan Estu Especialidades'!$B$4:$AF$77,13,0),IF(F118=2,VLOOKUP(D118,'Plan Estu Especialidades'!$B$4:$AF$77,8,0),IF(F118=1,VLOOKUP(D118,'Plan Estu Especialidades'!$B$4:$AF$77,8,0)*L118,0)))","v":0},{"$f":"IF(F118=3,VLOOKUP(D118,'Plan Estu Especialidades'!$B$4:$AF$77,14,0),IF(F118=2,VLOOKUP(D118,'Plan Estu Especialidades'!$B$4:$AF$77,9,0),IF(F118=1,VLOOKUP(D118,'Plan Estu Especialidades'!$B$4:$AF$77,9,0)*L118,0)))","v":0},{"$f":"IF(F118=3,VLOOKUP(D118,'Plan Estu Especialidades'!$B$4:$AF$77,15,0),IF(F118=2,VLOOKUP(D118,'Plan Estu Especialidades'!$B$4:$AF$77,10,0),IF(F118=1,VLOOKUP(D118,'Plan Estu Especialidades'!$B$4:$AF$77,10,0)*L118,0)))","v":0},{"$f":"IF(G118=4,VLOOKUP(D118,'Plan Estu Especialidades'!$B$4:$AF$77,27,0),IF(G118=3,VLOOKUP(D118,'Plan Estu Especialidades'!$B$4:$AF$77,22,0),IF(G118=2,VLOOKUP(D118,'Plan Estu Especialidades'!$B$4:$AF$77,17,0),IF(G118=1,VLOOKUP(D118,'Plan Estu Especialidades'!$B$4:$AF$77,17,0)*N118,0))))","v":0},{"$f":"IF(G118=4,VLOOKUP(D118,'Plan Estu Especialidades'!$B$4:$AF$77,28,0),IF(G118=3,VLOOKUP(D118,'Plan Estu Especialidades'!$B$4:$AF$77,23,0),IF(G118=2,VLOOKUP(D118,'Plan Estu Especialidades'!$B$4:$AF$77,18,0),IF(G118=1,VLOOKUP(D118,'Plan Estu Especialidades'!$B$4:$AF$77,18,0)*N118,0))))","v":0},{"$f":"IF(G118=4,VLOOKUP(D118,'Plan Estu Especialidades'!$B$4:$AF$77,29,0),IF(G118=3,VLOOKUP(D118,'Plan Estu Especialidades'!$B$4:$AF$77,24,0),IF(G118=2,VLOOKUP(D118,'Plan Estu Especialidades'!$B$4:$AF$77,19,0),IF(G118=1,VLOOKUP(D118,'Plan Estu Especialidades'!$B$4:$AF$77,19,0)*N118,0))))","v":0},{"$f":"IF(G118=4,VLOOKUP(D118,'Plan Estu Especialidades'!$B$4:$AF$77,30,0),IF(G118=3,VLOOKUP(D118,'Plan Estu Especialidades'!$B$4:$AF$77,25,0),IF(G118=2,VLOOKUP(D118,'Plan Estu Especialidades'!$B$4:$AF$77,20,0),IF(G118=1,VLOOKUP(D118,'Plan Estu Especialidades'!$B$4:$AF$77,20,0)*N118,0))))","v":0},0,0,null,null,null,null,null,0,0,0,null,null,null,null,0,0,0,null,{"$f":"IF(SUM(J118,L118,N118)=0,\"S/V\",VLOOKUP(D118,'Plan Estu Especialidades'!$B$4:$AG$77,32,0))","v":"S/V"},0,0,null,null,null,null,null,null,0,0,0]
[{"$f":"+IF(B119=0,0,SUM($B$62:B119))","v":0},{"$f":"+IF(AA119>0,1,0)","v":0},91,34,0,0,0,"Ecoturismo","_34",null,null,null,null,null,null,{"$f":"IF(E119=2,VLOOKUP(D119,'Plan Estu Especialidades'!$B$4:$AF$77,3,0),IF(E119=1,VLOOKUP(D119,'Plan Estu Especialidades'!$B$4:$AF$77,3,0)*J119,0))","v":0},{"$f":"IF(E119=2,VLOOKUP(D119,'Plan Estu Especialidades'!$B$4:$AF$77,4,0),IF(E119=1,VLOOKUP(D119,'Plan Estu Especialidades'!$B$4:$AF$77,4,0)*J119,0))","v":0},{"$f":"IF(E119=2,VLOOKUP(D119,'Plan Estu Especialidades'!$B$4:$AF$77,5,0),IF(E119=1,VLOOKUP(D119,'Plan Estu Especialidades'!$B$4:$AF$77,5,0)*J119,0))","v":0},{"$f":"IF(F119=3,VLOOKUP(D119,'Plan Estu Especialidades'!$B$4:$AF$77,12,0),IF(F119=2,VLOOKUP(D119,'Plan Estu Especialidades'!$B$4:$AF$77,7,0),IF(F119=1,VLOOKUP(D119,'Plan Estu Especialidades'!$B$4:$AF$77,7,0)*L119,0)))","v":0},{"$f":"IF(F119=3,VLOOKUP(D119,'Plan Estu Especialidades'!$B$4:$AF$77,13,0),IF(F119=2,VLOOKUP(D119,'Plan Estu Especialidades'!$B$4:$AF$77,8,0),IF(F119=1,VLOOKUP(D119,'Plan Estu Especialidades'!$B$4:$AF$77,8,0)*L119,0)))","v":0},{"$f":"IF(F119=3,VLOOKUP(D119,'Plan Estu Especialidades'!$B$4:$AF$77,14,0),IF(F119=2,VLOOKUP(D119,'Plan Estu Especialidades'!$B$4:$AF$77,9,0),IF(F119=1,VLOOKUP(D119,'Plan Estu Especialidades'!$B$4:$AF$77,9,0)*L119,0)))","v":0},{"$f":"IF(F119=3,VLOOKUP(D119,'Plan Estu Especialidades'!$B$4:$AF$77,15,0),IF(F119=2,VLOOKUP(D119,'Plan Estu Especialidades'!$B$4:$AF$77,10,0),IF(F119=1,VLOOKUP(D119,'Plan Estu Especialidades'!$B$4:$AF$77,10,0)*L119,0)))","v":0},{"$f":"IF(G119=4,VLOOKUP(D119,'Plan Estu Especialidades'!$B$4:$AF$77,27,0),IF(G119=3,VLOOKUP(D119,'Plan Estu Especialidades'!$B$4:$AF$77,22,0),IF(G119=2,VLOOKUP(D119,'Plan Estu Especialidades'!$B$4:$AF$77,17,0),IF(G119=1,VLOOKUP(D119,'Plan Estu Especialidades'!$B$4:$AF$77,17,0)*N119,0))))","v":0},{"$f":"IF(G119=4,VLOOKUP(D119,'Plan Estu Especialidades'!$B$4:$AF$77,28,0),IF(G119=3,VLOOKUP(D119,'Plan Estu Especialidades'!$B$4:$AF$77,23,0),IF(G119=2,VLOOKUP(D119,'Plan Estu Especialidades'!$B$4:$AF$77,18,0),IF(G119=1,VLOOKUP(D119,'Plan Estu Especialidades'!$B$4:$AF$77,18,0)*N119,0))))","v":0},{"$f":"IF(G119=4,VLOOKUP(D119,'Plan Estu Especialidades'!$B$4:$AF$77,29,0),IF(G119=3,VLOOKUP(D119,'Plan Estu Especialidades'!$B$4:$AF$77,24,0),IF(G119=2,VLOOKUP(D119,'Plan Estu Especialidades'!$B$4:$AF$77,19,0),IF(G119=1,VLOOKUP(D119,'Plan Estu Especialidades'!$B$4:$AF$77,19,0)*N119,0))))","v":0},{"$f":"IF(G119=4,VLOOKUP(D119,'Plan Estu Especialidades'!$B$4:$AF$77,30,0),IF(G119=3,VLOOKUP(D119,'Plan Estu Especialidades'!$B$4:$AF$77,25,0),IF(G119=2,VLOOKUP(D119,'Plan Estu Especialidades'!$B$4:$AF$77,20,0),IF(G119=1,VLOOKUP(D119,'Plan Estu Especialidades'!$B$4:$AF$77,20,0)*N119,0))))","v":0},0,0,null,null,null,null,null,0,0,0,null,null,null,null,0,0,0,null,{"$f":"IF(SUM(J119,L119,N119)=0,\"S/V\",VLOOKUP(D119,'Plan Estu Especialidades'!$B$4:$AG$77,32,0))","v":"S/V"},0,0,null,null,null,null,null,null,0,0,0]
[{"$f":"+IF(B120=0,0,SUM($B$62:B120))","v":0},0,91,35,0,0,0,"Ejecutivo Comercial y Servicio al Cliente","_35",null,null,null,null,null,null,{"$f":"IF(E120=2,VLOOKUP(D120,'Plan Estu Especialidades'!$B$4:$AF$77,3,0),IF(E120=1,VLOOKUP(D120,'Plan Estu Especialidades'!$B$4:$AF$77,3,0)*J120,0))","v":0},{"$f":"IF(E120=2,VLOOKUP(D120,'Plan Estu Especialidades'!$B$4:$AF$77,4,0),IF(E120=1,VLOOKUP(D120,'Plan Estu Especialidades'!$B$4:$AF$77,4,0)*J120,0))","v":0},{"$f":"IF(E120=2,VLOOKUP(D120,'Plan Estu Especialidades'!$B$4:$AF$77,5,0),IF(E120=1,VLOOKUP(D120,'Plan Estu Especialidades'!$B$4:$AF$77,5,0)*J120,0))","v":0},{"$f":"IF(F120=3,VLOOKUP(D120,'Plan Estu Especialidades'!$B$4:$AF$77,12,0),IF(F120=2,VLOOKUP(D120,'Plan Estu Especialidades'!$B$4:$AF$77,7,0),IF(F120=1,VLOOKUP(D120,'Plan Estu Especialidades'!$B$4:$AF$77,7,0)*L120,0)))","v":0},{"$f":"IF(F120=3,VLOOKUP(D120,'Plan Estu Especialidades'!$B$4:$AF$77,13,0),IF(F120=2,VLOOKUP(D120,'Plan Estu Especialidades'!$B$4:$AF$77,8,0),IF(F120=1,VLOOKUP(D120,'Plan Estu Especialidades'!$B$4:$AF$77,8,0)*L120,0)))","v":0},{"$f":"IF(F120=3,VLOOKUP(D120,'Plan Estu Especialidades'!$B$4:$AF$77,14,0),IF(F120=2,VLOOKUP(D120,'Plan Estu Especialidades'!$B$4:$AF$77,9,0),IF(F120=1,VLOOKUP(D120,'Plan Estu Especialidades'!$B$4:$AF$77,9,0)*L120,0)))","v":0},{"$f":"IF(F120=3,VLOOKUP(D120,'Plan Estu Especialidades'!$B$4:$AF$77,15,0),IF(F120=2,VLOOKUP(D120,'Plan Estu Especialidades'!$B$4:$AF$77,10,0),IF(F120=1,VLOOKUP(D120,'Plan Estu Especialidades'!$B$4:$AF$77,10,0)*L120,0)))","v":0},{"$f":"IF(G120=4,VLOOKUP(D120,'Plan Estu Especialidades'!$B$4:$AF$77,27,0),IF(G120=3,VLOOKUP(D120,'Plan Estu Especialidades'!$B$4:$AF$77,22,0),IF(G120=2,VLOOKUP(D120,'Plan Estu Especialidades'!$B$4:$AF$77,17,0),IF(G120=1,VLOOKUP(D120,'Plan Estu Especialidades'!$B$4:$AF$77,17,0)*N120,0))))","v":0},{"$f":"IF(G120=4,VLOOKUP(D120,'Plan Estu Especialidades'!$B$4:$AF$77,28,0),IF(G120=3,VLOOKUP(D120,'Plan Estu Especialidades'!$B$4:$AF$77,23,0),IF(G120=2,VLOOKUP(D120,'Plan Estu Especialidades'!$B$4:$AF$77,18,0),IF(G120=1,VLOOKUP(D120,'Plan Estu Especialidades'!$B$4:$AF$77,18,0)*N120,0))))","v":0},{"$f":"IF(G120=4,VLOOKUP(D120,'Plan Estu Especialidades'!$B$4:$AF$77,29,0),IF(G120=3,VLOOKUP(D120,'Plan Estu Especialidades'!$B$4:$AF$77,24,0),IF(G120=2,VLOOKUP(D120,'Plan Estu Especialidades'!$B$4:$AF$77,19,0),IF(G120=1,VLOOKUP(D120,'Plan Estu Especialidades'!$B$4:$AF$77,19,0)*N120,0))))","v":0},{"$f":"IF(G120=4,VLOOKUP(D120,'Plan Estu Especialidades'!$B$4:$AF$77,30,0),IF(G120=3,VLOOKUP(D120,'Plan Estu Especialidades'!$B$4:$AF$77,25,0),IF(G120=2,VLOOKUP(D120,'Plan Estu Especialidades'!$B$4:$AF$77,20,0),IF(G120=1,VLOOKUP(D120,'Plan Estu Especialidades'!$B$4:$AF$77,20,0)*N120,0))))","v":0},0,0,null,null,null,null,null,0,0,0,null,null,null,null,0,0,0,null,{"$f":"IF(SUM(J120,L120,N120)=0,\"S/V\",VLOOKUP(D120,'Plan Estu Especialidades'!$B$4:$AG$77,32,0))","v":"S/V"},0,0,null,null,null,null,null,null,0,0,0]
[{"$f":"+IF(B121=0,0,SUM($B$62:B121))","v":0},0,91,36,0,0,0,"Ejecutivo para Centros de Servicio","_36",null,null,null,null,null,null,{"$f":"IF(E121=2,VLOOKUP(D121,'Plan Estu Especialidades'!$B$4:$AF$77,3,0),IF(E121=1,VLOOKUP(D121,'Plan Estu Especialidades'!$B$4:$AF$77,3,0)*J121,0))","v":0},{"$f":"IF(E121=2,VLOOKUP(D121,'Plan Estu Especialidades'!$B$4:$AF$77,4,0),IF(E121=1,VLOOKUP(D121,'Plan Estu Especialidades'!$B$4:$AF$77,4,0)*J121,0))","v":0},{"$f":"IF(E121=2,VLOOKUP(D121,'Plan Estu Especialidades'!$B$4:$AF$77,5,0),IF(E121=1,VLOOKUP(D121,'Plan Estu Especialidades'!$B$4:$AF$77,5,0)*J121,0))","v":0},{"$f":"IF(F121=3,VLOOKUP(D121,'Plan Estu Especialidades'!$B$4:$AF$77,12,0),IF(F121=2,VLOOKUP(D121,'Plan Estu Especialidades'!$B$4:$AF$77,7,0),IF(F121=1,VLOOKUP(D121,'Plan Estu Especialidades'!$B$4:$AF$77,7,0)*L121,0)))","v":0},{"$f":"IF(F121=3,VLOOKUP(D121,'Plan Estu Especialidades'!$B$4:$AF$77,13,0),IF(F121=2,VLOOKUP(D121,'Plan Estu Especialidades'!$B$4:$AF$77,8,0),IF(F121=1,VLOOKUP(D121,'Plan Estu Especialidades'!$B$4:$AF$77,8,0)*L121,0)))","v":0},{"$f":"IF(F121=3,VLOOKUP(D121,'Plan Estu Especialidades'!$B$4:$AF$77,14,0),IF(F121=2,VLOOKUP(D121,'Plan Estu Especialidades'!$B$4:$AF$77,9,0),IF(F121=1,VLOOKUP(D121,'Plan Estu Especialidades'!$B$4:$AF$77,9,0)*L121,0)))","v":0},{"$f":"IF(F121=3,VLOOKUP(D121,'Plan Estu Especialidades'!$B$4:$AF$77,15,0),IF(F121=2,VLOOKUP(D121,'Plan Estu Especialidades'!$B$4:$AF$77,10,0),IF(F121=1,VLOOKUP(D121,'Plan Estu Especialidades'!$B$4:$AF$77,10,0)*L121,0)))","v":0},{"$f":"IF(G121=4,VLOOKUP(D121,'Plan Estu Especialidades'!$B$4:$AF$77,27,0),IF(G121=3,VLOOKUP(D121,'Plan Estu Especialidades'!$B$4:$AF$77,22,0),IF(G121=2,VLOOKUP(D121,'Plan Estu Especialidades'!$B$4:$AF$77,17,0),IF(G121=1,VLOOKUP(D121,'Plan Estu Especialidades'!$B$4:$AF$77,17,0)*N121,0))))","v":0},{"$f":"IF(G121=4,VLOOKUP(D121,'Plan Estu Especialidades'!$B$4:$AF$77,28,0),IF(G121=3,VLOOKUP(D121,'Plan Estu Especialidades'!$B$4:$AF$77,23,0),IF(G121=2,VLOOKUP(D121,'Plan Estu Especialidades'!$B$4:$AF$77,18,0),IF(G121=1,VLOOKUP(D121,'Plan Estu Especialidades'!$B$4:$AF$77,18,0)*N121,0))))","v":0},{"$f":"IF(G121=4,VLOOKUP(D121,'Plan Estu Especialidades'!$B$4:$AF$77,29,0),IF(G121=3,VLOOKUP(D121,'Plan Estu Especialidades'!$B$4:$AF$77,24,0),IF(G121=2,VLOOKUP(D121,'Plan Estu Especialidades'!$B$4:$AF$77,19,0),IF(G121=1,VLOOKUP(D121,'Plan Estu Especialidades'!$B$4:$AF$77,19,0)*N121,0))))","v":0},{"$f":"IF(G121=4,VLOOKUP(D121,'Plan Estu Especialidades'!$B$4:$AF$77,30,0),IF(G121=3,VLOOKUP(D121,'Plan Estu Especialidades'!$B$4:$AF$77,25,0),IF(G121=2,VLOOKUP(D121,'Plan Estu Especialidades'!$B$4:$AF$77,20,0),IF(G121=1,VLOOKUP(D121,'Plan Estu Especialidades'!$B$4:$AF$77,20,0)*N121,0))))","v":0},0,0,null,null,null,null,null,0,0,0,null,null,null,null,0,0,0,null,{"$f":"IF(SUM(J121,L121,N121)=0,\"S/V\",VLOOKUP(D121,'Plan Estu Especialidades'!$B$4:$AG$77,32,0))","v":"S/V"},0,0,null,null,null,null,null,null,0,0,0]
[{"$f":"+IF(B122=0,0,SUM($B$62:B122))","v":0},0,91,37,0,0,0,"Electromecánica","_37",null,null,null,null,null,null,{"$f":"IF(E122=2,VLOOKUP(D122,'Plan Estu Especialidades'!$B$4:$AF$77,3,0),IF(E122=1,VLOOKUP(D122,'Plan Estu Especialidades'!$B$4:$AF$77,3,0)*J122,0))","v":0},{"$f":"IF(E122=2,VLOOKUP(D122,'Plan Estu Especialidades'!$B$4:$AF$77,4,0),IF(E122=1,VLOOKUP(D122,'Plan Estu Especialidades'!$B$4:$AF$77,4,0)*J122,0))","v":0},{"$f":"IF(E122=2,VLOOKUP(D122,'Plan Estu Especialidades'!$B$4:$AF$77,5,0),IF(E122=1,VLOOKUP(D122,'Plan Estu Especialidades'!$B$4:$AF$77,5,0)*J122,0))","v":0},{"$f":"IF(F122=3,VLOOKUP(D122,'Plan Estu Especialidades'!$B$4:$AF$77,12,0),IF(F122=2,VLOOKUP(D122,'Plan Estu Especialidades'!$B$4:$AF$77,7,0),IF(F122=1,VLOOKUP(D122,'Plan Estu Especialidades'!$B$4:$AF$77,7,0)*L122,0)))","v":0},{"$f":"IF(F122=3,VLOOKUP(D122,'Plan Estu Especialidades'!$B$4:$AF$77,13,0),IF(F122=2,VLOOKUP(D122,'Plan Estu Especialidades'!$B$4:$AF$77,8,0),IF(F122=1,VLOOKUP(D122,'Plan Estu Especialidades'!$B$4:$AF$77,8,0)*L122,0)))","v":0},{"$f":"IF(F122=3,VLOOKUP(D122,'Plan Estu Especialidades'!$B$4:$AF$77,14,0),IF(F122=2,VLOOKUP(D122,'Plan Estu Especialidades'!$B$4:$AF$77,9,0),IF(F122=1,VLOOKUP(D122,'Plan Estu Especialidades'!$B$4:$AF$77,9,0)*L122,0)))","v":0},{"$f":"IF(F122=3,VLOOKUP(D122,'Plan Estu Especialidades'!$B$4:$AF$77,15,0),IF(F122=2,VLOOKUP(D122,'Plan Estu Especialidades'!$B$4:$AF$77,10,0),IF(F122=1,VLOOKUP(D122,'Plan Estu Especialidades'!$B$4:$AF$77,10,0)*L122,0)))","v":0},{"$f":"IF(G122=4,VLOOKUP(D122,'Plan Estu Especialidades'!$B$4:$AF$77,27,0),IF(G122=3,VLOOKUP(D122,'Plan Estu Especialidades'!$B$4:$AF$77,22,0),IF(G122=2,VLOOKUP(D122,'Plan Estu Especialidades'!$B$4:$AF$77,17,0),IF(G122=1,VLOOKUP(D122,'Plan Estu Especialidades'!$B$4:$AF$77,17,0)*N122,0))))","v":0},{"$f":"IF(G122=4,VLOOKUP(D122,'Plan Estu Especialidades'!$B$4:$AF$77,28,0),IF(G122=3,VLOOKUP(D122,'Plan Estu Especialidades'!$B$4:$AF$77,23,0),IF(G122=2,VLOOKUP(D122,'Plan Estu Especialidades'!$B$4:$AF$77,18,0),IF(G122=1,VLOOKUP(D122,'Plan Estu Especialidades'!$B$4:$AF$77,18,0)*N122,0))))","v":0},{"$f":"IF(G122=4,VLOOKUP(D122,'Plan Estu Especialidades'!$B$4:$AF$77,29,0),IF(G122=3,VLOOKUP(D122,'Plan Estu Especialidades'!$B$4:$AF$77,24,0),IF(G122=2,VLOOKUP(D122,'Plan Estu Especialidades'!$B$4:$AF$77,19,0),IF(G122=1,VLOOKUP(D122,'Plan Estu Especialidades'!$B$4:$AF$77,19,0)*N122,0))))","v":0},{"$f":"IF(G122=4,VLOOKUP(D122,'Plan Estu Especialidades'!$B$4:$AF$77,30,0),IF(G122=3,VLOOKUP(D122,'Plan Estu Especialidades'!$B$4:$AF$77,25,0),IF(G122=2,VLOOKUP(D122,'Plan Estu Especialidades'!$B$4:$AF$77,20,0),IF(G122=1,VLOOKUP(D122,'Plan Estu Especialidades'!$B$4:$AF$77,20,0)*N122,0))))","v":0},0,0,null,null,null,null,null,0,0,0,null,null,null,null,0,0,0,null,{"$f":"IF(SUM(J122,L122,N122)=0,\"S/V\",VLOOKUP(D122,'Plan Estu Especialidades'!$B$4:$AG$77,32,0))","v":"S/V"},0,0,null,null,null,null,null,null,0,0,0]
[{"$f":"+IF(B123=0,0,SUM($B$62:B123))","v":0},0,91,38,0,0,0,"Electrónica en Mantenimiento y Eq. Cómputo","_38",null,null,null,null,null,null,{"$f":"IF(E123=2,VLOOKUP(D123,'Plan Estu Especialidades'!$B$4:$AF$77,3,0),IF(E123=1,VLOOKUP(D123,'Plan Estu Especialidades'!$B$4:$AF$77,3,0)*J123,0))","v":0},{"$f":"IF(E123=2,VLOOKUP(D123,'Plan Estu Especialidades'!$B$4:$AF$77,4,0),IF(E123=1,VLOOKUP(D123,'Plan Estu Especialidades'!$B$4:$AF$77,4,0)*J123,0))","v":0},{"$f":"IF(E123=2,VLOOKUP(D123,'Plan Estu Especialidades'!$B$4:$AF$77,5,0),IF(E123=1,VLOOKUP(D123,'Plan Estu Especialidades'!$B$4:$AF$77,5,0)*J123,0))","v":0},{"$f":"IF(F123=3,VLOOKUP(D123,'Plan Estu Especialidades'!$B$4:$AF$77,12,0),IF(F123=2,VLOOKUP(D123,'Plan Estu Especialidades'!$B$4:$AF$77,7,0),IF(F123=1,VLOOKUP(D123,'Plan Estu Especialidades'!$B$4:$AF$77,7,0)*L123,0)))","v":0},{"$f":"IF(F123=3,VLOOKUP(D123,'Plan Estu Especialidades'!$B$4:$AF$77,13,0),IF(F123=2,VLOOKUP(D123,'Plan Estu Especialidades'!$B$4:$AF$77,8,0),IF(F123=1,VLOOKUP(D123,'Plan Estu Especialidades'!$B$4:$AF$77,8,0)*L123,0)))","v":0},{"$f":"IF(F123=3,VLOOKUP(D123,'Plan Estu Especialidades'!$B$4:$AF$77,14,0),IF(F123=2,VLOOKUP(D123,'Plan Estu Especialidades'!$B$4:$AF$77,9,0),IF(F123=1,VLOOKUP(D123,'Plan Estu Especialidades'!$B$4:$AF$77,9,0)*L123,0)))","v":0},{"$f":"IF(F123=3,VLOOKUP(D123,'Plan Estu Especialidades'!$B$4:$AF$77,15,0),IF(F123=2,VLOOKUP(D123,'Plan Estu Especialidades'!$B$4:$AF$77,10,0),IF(F123=1,VLOOKUP(D123,'Plan Estu Especialidades'!$B$4:$AF$77,10,0)*L123,0)))","v":0},{"$f":"IF(G123=4,VLOOKUP(D123,'Plan Estu Especialidades'!$B$4:$AF$77,27,0),IF(G123=3,VLOOKUP(D123,'Plan Estu Especialidades'!$B$4:$AF$77,22,0),IF(G123=2,VLOOKUP(D123,'Plan Estu Especialidades'!$B$4:$AF$77,17,0),IF(G123=1,VLOOKUP(D123,'Plan Estu Especialidades'!$B$4:$AF$77,17,0)*N123,0))))","v":0},{"$f":"IF(G123=4,VLOOKUP(D123,'Plan Estu Especialidades'!$B$4:$AF$77,28,0),IF(G123=3,VLOOKUP(D123,'Plan Estu Especialidades'!$B$4:$AF$77,23,0),IF(G123=2,VLOOKUP(D123,'Plan Estu Especialidades'!$B$4:$AF$77,18,0),IF(G123=1,VLOOKUP(D123,'Plan Estu Especialidades'!$B$4:$AF$77,18,0)*N123,0))))","v":0},{"$f":"IF(G123=4,VLOOKUP(D123,'Plan Estu Especialidades'!$B$4:$AF$77,29,0),IF(G123=3,VLOOKUP(D123,'Plan Estu Especialidades'!$B$4:$AF$77,24,0),IF(G123=2,VLOOKUP(D123,'Plan Estu Especialidades'!$B$4:$AF$77,19,0),IF(G123=1,VLOOKUP(D123,'Plan Estu Especialidades'!$B$4:$AF$77,19,0)*N123,0))))","v":0},{"$f":"IF(G123=4,VLOOKUP(D123,'Plan Estu Especialidades'!$B$4:$AF$77,30,0),IF(G123=3,VLOOKUP(D123,'Plan Estu Especialidades'!$B$4:$AF$77,25,0),IF(G123=2,VLOOKUP(D123,'Plan Estu Especialidades'!$B$4:$AF$77,20,0),IF(G123=1,VLOOKUP(D123,'Plan Estu Especialidades'!$B$4:$AF$77,20,0)*N123,0))))","v":0},0,0,null,null,null,null,null,0,0,0,null,null,null,null,0,0,0,null,{"$f":"IF(SUM(J123,L123,N123)=0,\"S/V\",VLOOKUP(D123,'Plan Estu Especialidades'!$B$4:$AG$77,32,0))","v":"S/V"},0,0,null,null,null,null,null,null,0,0,0]
[{"$f":"+IF(B124=0,0,SUM($B$62:B124))","v":0},0,91,39,0,0,0,"Electrónica en Telecomunicaciones","_39",null,null,null,null,null,null,{"$f":"IF(E124=2,VLOOKUP(D124,'Plan Estu Especialidades'!$B$4:$AF$77,3,0),IF(E124=1,VLOOKUP(D124,'Plan Estu Especialidades'!$B$4:$AF$77,3,0)*J124,0))","v":0},{"$f":"IF(E124=2,VLOOKUP(D124,'Plan Estu Especialidades'!$B$4:$AF$77,4,0),IF(E124=1,VLOOKUP(D124,'Plan Estu Especialidades'!$B$4:$AF$77,4,0)*J124,0))","v":0},{"$f":"IF(E124=2,VLOOKUP(D124,'Plan Estu Especialidades'!$B$4:$AF$77,5,0),IF(E124=1,VLOOKUP(D124,'Plan Estu Especialidades'!$B$4:$AF$77,5,0)*J124,0))","v":0},{"$f":"IF(F124=3,VLOOKUP(D124,'Plan Estu Especialidades'!$B$4:$AF$77,12,0),IF(F124=2,VLOOKUP(D124,'Plan Estu Especialidades'!$B$4:$AF$77,7,0),IF(F124=1,VLOOKUP(D124,'Plan Estu Especialidades'!$B$4:$AF$77,7,0)*L124,0)))","v":0},{"$f":"IF(F124=3,VLOOKUP(D124,'Plan Estu Especialidades'!$B$4:$AF$77,13,0),IF(F124=2,VLOOKUP(D124,'Plan Estu Especialidades'!$B$4:$AF$77,8,0),IF(F124=1,VLOOKUP(D124,'Plan Estu Especialidades'!$B$4:$AF$77,8,0)*L124,0)))","v":0},{"$f":"IF(F124=3,VLOOKUP(D124,'Plan Estu Especialidades'!$B$4:$AF$77,14,0),IF(F124=2,VLOOKUP(D124,'Plan Estu Especialidades'!$B$4:$AF$77,9,0),IF(F124=1,VLOOKUP(D124,'Plan Estu Especialidades'!$B$4:$AF$77,9,0)*L124,0)))","v":0},{"$f":"IF(F124=3,VLOOKUP(D124,'Plan Estu Especialidades'!$B$4:$AF$77,15,0),IF(F124=2,VLOOKUP(D124,'Plan Estu Especialidades'!$B$4:$AF$77,10,0),IF(F124=1,VLOOKUP(D124,'Plan Estu Especialidades'!$B$4:$AF$77,10,0)*L124,0)))","v":0},{"$f":"IF(G124=4,VLOOKUP(D124,'Plan Estu Especialidades'!$B$4:$AF$77,27,0),IF(G124=3,VLOOKUP(D124,'Plan Estu Especialidades'!$B$4:$AF$77,22,0),IF(G124=2,VLOOKUP(D124,'Plan Estu Especialidades'!$B$4:$AF$77,17,0),IF(G124=1,VLOOKUP(D124,'Plan Estu Especialidades'!$B$4:$AF$77,17,0)*N124,0))))","v":0},{"$f":"IF(G124=4,VLOOKUP(D124,'Plan Estu Especialidades'!$B$4:$AF$77,28,0),IF(G124=3,VLOOKUP(D124,'Plan Estu Especialidades'!$B$4:$AF$77,23,0),IF(G124=2,VLOOKUP(D124,'Plan Estu Especialidades'!$B$4:$AF$77,18,0),IF(G124=1,VLOOKUP(D124,'Plan Estu Especialidades'!$B$4:$AF$77,18,0)*N124,0))))","v":0},{"$f":"IF(G124=4,VLOOKUP(D124,'Plan Estu Especialidades'!$B$4:$AF$77,29,0),IF(G124=3,VLOOKUP(D124,'Plan Estu Especialidades'!$B$4:$AF$77,24,0),IF(G124=2,VLOOKUP(D124,'Plan Estu Especialidades'!$B$4:$AF$77,19,0),IF(G124=1,VLOOKUP(D124,'Plan Estu Especialidades'!$B$4:$AF$77,19,0)*N124,0))))","v":0},{"$f":"IF(G124=4,VLOOKUP(D124,'Plan Estu Especialidades'!$B$4:$AF$77,30,0),IF(G124=3,VLOOKUP(D124,'Plan Estu Especialidades'!$B$4:$AF$77,25,0),IF(G124=2,VLOOKUP(D124,'Plan Estu Especialidades'!$B$4:$AF$77,20,0),IF(G124=1,VLOOKUP(D124,'Plan Estu Especialidades'!$B$4:$AF$77,20,0)*N124,0))))","v":0},0,0,null,null,null,null,null,0,0,0,null,null,null,null,0,0,0,null,{"$f":"IF(SUM(J124,L124,N124)=0,\"S/V\",VLOOKUP(D124,'Plan Estu Especialidades'!$B$4:$AG$77,32,0))","v":"S/V"},0,0,null,null,null,null,null,null,0,0,0]
[{"$f":"+IF(B125=0,0,SUM($B$62:B125))","v":0},0,91,40,0,0,0,"Electrónica Industrial","_40",null,null,null,null,null,null,{"$f":"IF(E125=2,VLOOKUP(D125,'Plan Estu Especialidades'!$B$4:$AF$77,3,0),IF(E125=1,VLOOKUP(D125,'Plan Estu Especialidades'!$B$4:$AF$77,3,0)*J125,0))","v":0},{"$f":"IF(E125=2,VLOOKUP(D125,'Plan Estu Especialidades'!$B$4:$AF$77,4,0),IF(E125=1,VLOOKUP(D125,'Plan Estu Especialidades'!$B$4:$AF$77,4,0)*J125,0))","v":0},{"$f":"IF(E125=2,VLOOKUP(D125,'Plan Estu Especialidades'!$B$4:$AF$77,5,0),IF(E125=1,VLOOKUP(D125,'Plan Estu Especialidades'!$B$4:$AF$77,5,0)*J125,0))","v":0},{"$f":"IF(F125=3,VLOOKUP(D125,'Plan Estu Especialidades'!$B$4:$AF$77,12,0),IF(F125=2,VLOOKUP(D125,'Plan Estu Especialidades'!$B$4:$AF$77,7,0),IF(F125=1,VLOOKUP(D125,'Plan Estu Especialidades'!$B$4:$AF$77,7,0)*L125,0)))","v":0},{"$f":"IF(F125=3,VLOOKUP(D125,'Plan Estu Especialidades'!$B$4:$AF$77,13,0),IF(F125=2,VLOOKUP(D125,'Plan Estu Especialidades'!$B$4:$AF$77,8,0),IF(F125=1,VLOOKUP(D125,'Plan Estu Especialidades'!$B$4:$AF$77,8,0)*L125,0)))","v":0},{"$f":"IF(F125=3,VLOOKUP(D125,'Plan Estu Especialidades'!$B$4:$AF$77,14,0),IF(F125=2,VLOOKUP(D125,'Plan Estu Especialidades'!$B$4:$AF$77,9,0),IF(F125=1,VLOOKUP(D125,'Plan Estu Especialidades'!$B$4:$AF$77,9,0)*L125,0)))","v":0},{"$f":"IF(F125=3,VLOOKUP(D125,'Plan Estu Especialidades'!$B$4:$AF$77,15,0),IF(F125=2,VLOOKUP(D125,'Plan Estu Especialidades'!$B$4:$AF$77,10,0),IF(F125=1,VLOOKUP(D125,'Plan Estu Especialidades'!$B$4:$AF$77,10,0)*L125,0)))","v":0},{"$f":"IF(G125=4,VLOOKUP(D125,'Plan Estu Especialidades'!$B$4:$AF$77,27,0),IF(G125=3,VLOOKUP(D125,'Plan Estu Especialidades'!$B$4:$AF$77,22,0),IF(G125=2,VLOOKUP(D125,'Plan Estu Especialidades'!$B$4:$AF$77,17,0),IF(G125=1,VLOOKUP(D125,'Plan Estu Especialidades'!$B$4:$AF$77,17,0)*N125,0))))","v":0},{"$f":"IF(G125=4,VLOOKUP(D125,'Plan Estu Especialidades'!$B$4:$AF$77,28,0),IF(G125=3,VLOOKUP(D125,'Plan Estu Especialidades'!$B$4:$AF$77,23,0),IF(G125=2,VLOOKUP(D125,'Plan Estu Especialidades'!$B$4:$AF$77,18,0),IF(G125=1,VLOOKUP(D125,'Plan Estu Especialidades'!$B$4:$AF$77,18,0)*N125,0))))","v":0},{"$f":"IF(G125=4,VLOOKUP(D125,'Plan Estu Especialidades'!$B$4:$AF$77,29,0),IF(G125=3,VLOOKUP(D125,'Plan Estu Especialidades'!$B$4:$AF$77,24,0),IF(G125=2,VLOOKUP(D125,'Plan Estu Especialidades'!$B$4:$AF$77,19,0),IF(G125=1,VLOOKUP(D125,'Plan Estu Especialidades'!$B$4:$AF$77,19,0)*N125,0))))","v":0},{"$f":"IF(G125=4,VLOOKUP(D125,'Plan Estu Especialidades'!$B$4:$AF$77,30,0),IF(G125=3,VLOOKUP(D125,'Plan Estu Especialidades'!$B$4:$AF$77,25,0),IF(G125=2,VLOOKUP(D125,'Plan Estu Especialidades'!$B$4:$AF$77,20,0),IF(G125=1,VLOOKUP(D125,'Plan Estu Especialidades'!$B$4:$AF$77,20,0)*N125,0))))","v":0},0,0,null,null,null,null,null,0,0,0,null,null,null,null,0,0,0,null,{"$f":"IF(SUM(J125,L125,N125)=0,\"S/V\",VLOOKUP(D125,'Plan Estu Especialidades'!$B$4:$AG$77,32,0))","v":"S/V"},0,0,null,null,null,null,null,null,0,0,0]
[{"$f":"+IF(B126=0,0,SUM($B$62:B126))","v":0},0,91,41,0,0,0,"Electrotecnia","_41",null,null,null,null,null,null,{"$f":"IF(E126=2,VLOOKUP(D126,'Plan Estu Especialidades'!$B$4:$AF$77,3,0),IF(E126=1,VLOOKUP(D126,'Plan Estu Especialidades'!$B$4:$AF$77,3,0)*J126,0))","v":0},{"$f":"IF(E126=2,VLOOKUP(D126,'Plan Estu Especialidades'!$B$4:$AF$77,4,0),IF(E126=1,VLOOKUP(D126,'Plan Estu Especialidades'!$B$4:$AF$77,4,0)*J126,0))","v":0},{"$f":"IF(E126=2,VLOOKUP(D126,'Plan Estu Especialidades'!$B$4:$AF$77,5,0),IF(E126=1,VLOOKUP(D126,'Plan Estu Especialidades'!$B$4:$AF$77,5,0)*J126,0))","v":0},{"$f":"IF(F126=3,VLOOKUP(D126,'Plan Estu Especialidades'!$B$4:$AF$77,12,0),IF(F126=2,VLOOKUP(D126,'Plan Estu Especialidades'!$B$4:$AF$77,7,0),IF(F126=1,VLOOKUP(D126,'Plan Estu Especialidades'!$B$4:$AF$77,7,0)*L126,0)))","v":0},{"$f":"IF(F126=3,VLOOKUP(D126,'Plan Estu Especialidades'!$B$4:$AF$77,13,0),IF(F126=2,VLOOKUP(D126,'Plan Estu Especialidades'!$B$4:$AF$77,8,0),IF(F126=1,VLOOKUP(D126,'Plan Estu Especialidades'!$B$4:$AF$77,8,0)*L126,0)))","v":0},{"$f":"IF(F126=3,VLOOKUP(D126,'Plan Estu Especialidades'!$B$4:$AF$77,14,0),IF(F126=2,VLOOKUP(D126,'Plan Estu Especialidades'!$B$4:$AF$77,9,0),IF(F126=1,VLOOKUP(D126,'Plan Estu Especialidades'!$B$4:$AF$77,9,0)*L126,0)))","v":0},{"$f":"IF(F126=3,VLOOKUP(D126,'Plan Estu Especialidades'!$B$4:$AF$77,15,0),IF(F126=2,VLOOKUP(D126,'Plan Estu Especialidades'!$B$4:$AF$77,10,0),IF(F126=1,VLOOKUP(D126,'Plan Estu Especialidades'!$B$4:$AF$77,10,0)*L126,0)))","v":0},{"$f":"IF(G126=4,VLOOKUP(D126,'Plan Estu Especialidades'!$B$4:$AF$77,27,0),IF(G126=3,VLOOKUP(D126,'Plan Estu Especialidades'!$B$4:$AF$77,22,0),IF(G126=2,VLOOKUP(D126,'Plan Estu Especialidades'!$B$4:$AF$77,17,0),IF(G126=1,VLOOKUP(D126,'Plan Estu Especialidades'!$B$4:$AF$77,17,0)*N126,0))))","v":0},{"$f":"IF(G126=4,VLOOKUP(D126,'Plan Estu Especialidades'!$B$4:$AF$77,28,0),IF(G126=3,VLOOKUP(D126,'Plan Estu Especialidades'!$B$4:$AF$77,23,0),IF(G126=2,VLOOKUP(D126,'Plan Estu Especialidades'!$B$4:$AF$77,18,0),IF(G126=1,VLOOKUP(D126,'Plan Estu Especialidades'!$B$4:$AF$77,18,0)*N126,0))))","v":0},{"$f":"IF(G126=4,VLOOKUP(D126,'Plan Estu Especialidades'!$B$4:$AF$77,29,0),IF(G126=3,VLOOKUP(D126,'Plan Estu Especialidades'!$B$4:$AF$77,24,0),IF(G126=2,VLOOKUP(D126,'Plan Estu Especialidades'!$B$4:$AF$77,19,0),IF(G126=1,VLOOKUP(D126,'Plan Estu Especialidades'!$B$4:$AF$77,19,0)*N126,0))))","v":0},{"$f":"IF(G126=4,VLOOKUP(D126,'Plan Estu Especialidades'!$B$4:$AF$77,30,0),IF(G126=3,VLOOKUP(D126,'Plan Estu Especialidades'!$B$4:$AF$77,25,0),IF(G126=2,VLOOKUP(D126,'Plan Estu Especialidades'!$B$4:$AF$77,20,0),IF(G126=1,VLOOKUP(D126,'Plan Estu Especialidades'!$B$4:$AF$77,20,0)*N126,0))))","v":0},0,0,null,null,null,null,null,0,0,0,null,null,null,null,0,0,0,null,{"$f":"IF(SUM(J126,L126,N126)=0,\"S/V\",VLOOKUP(D126,'Plan Estu Especialidades'!$B$4:$AG$77,32,0))","v":"S/V"},0,0,null,null,null,null,null,null,0,0,0]
[{"$f":"+IF(B127=0,0,SUM($B$62:B127))","v":0},0,91,42,0,0,0,"Executive Service Center","_42",null,null,null,null,null,null,{"$f":"IF(E127=2,VLOOKUP(D127,'Plan Estu Especialidades'!$B$4:$AF$77,3,0),IF(E127=1,VLOOKUP(D127,'Plan Estu Especialidades'!$B$4:$AF$77,3,0)*J127,0))","v":0},{"$f":"IF(E127=2,VLOOKUP(D127,'Plan Estu Especialidades'!$B$4:$AF$77,4,0),IF(E127=1,VLOOKUP(D127,'Plan Estu Especialidades'!$B$4:$AF$77,4,0)*J127,0))","v":0},{"$f":"IF(E127=2,VLOOKUP(D127,'Plan Estu Especialidades'!$B$4:$AF$77,5,0),IF(E127=1,VLOOKUP(D127,'Plan Estu Especialidades'!$B$4:$AF$77,5,0)*J127,0))","v":0},{"$f":"IF(F127=3,VLOOKUP(D127,'Plan Estu Especialidades'!$B$4:$AF$77,12,0),IF(F127=2,VLOOKUP(D127,'Plan Estu Especialidades'!$B$4:$AF$77,7,0),IF(F127=1,VLOOKUP(D127,'Plan Estu Especialidades'!$B$4:$AF$77,7,0)*L127,0)))","v":0},{"$f":"IF(F127=3,VLOOKUP(D127,'Plan Estu Especialidades'!$B$4:$AF$77,13,0),IF(F127=2,VLOOKUP(D127,'Plan Estu Especialidades'!$B$4:$AF$77,8,0),IF(F127=1,VLOOKUP(D127,'Plan Estu Especialidades'!$B$4:$AF$77,8,0)*L127,0)))","v":0},{"$f":"IF(F127=3,VLOOKUP(D127,'Plan Estu Especialidades'!$B$4:$AF$77,14,0),IF(F127=2,VLOOKUP(D127,'Plan Estu Especialidades'!$B$4:$AF$77,9,0),IF(F127=1,VLOOKUP(D127,'Plan Estu Especialidades'!$B$4:$AF$77,9,0)*L127,0)))","v":0},{"$f":"IF(F127=3,VLOOKUP(D127,'Plan Estu Especialidades'!$B$4:$AF$77,15,0),IF(F127=2,VLOOKUP(D127,'Plan Estu Especialidades'!$B$4:$AF$77,10,0),IF(F127=1,VLOOKUP(D127,'Plan Estu Especialidades'!$B$4:$AF$77,10,0)*L127,0)))","v":0},{"$f":"IF(G127=4,VLOOKUP(D127,'Plan Estu Especialidades'!$B$4:$AF$77,27,0),IF(G127=3,VLOOKUP(D127,'Plan Estu Especialidades'!$B$4:$AF$77,22,0),IF(G127=2,VLOOKUP(D127,'Plan Estu Especialidades'!$B$4:$AF$77,17,0),IF(G127=1,VLOOKUP(D127,'Plan Estu Especialidades'!$B$4:$AF$77,17,0)*N127,0))))","v":0},{"$f":"IF(G127=4,VLOOKUP(D127,'Plan Estu Especialidades'!$B$4:$AF$77,28,0),IF(G127=3,VLOOKUP(D127,'Plan Estu Especialidades'!$B$4:$AF$77,23,0),IF(G127=2,VLOOKUP(D127,'Plan Estu Especialidades'!$B$4:$AF$77,18,0),IF(G127=1,VLOOKUP(D127,'Plan Estu Especialidades'!$B$4:$AF$77,18,0)*N127,0))))","v":0},{"$f":"IF(G127=4,VLOOKUP(D127,'Plan Estu Especialidades'!$B$4:$AF$77,29,0),IF(G127=3,VLOOKUP(D127,'Plan Estu Especialidades'!$B$4:$AF$77,24,0),IF(G127=2,VLOOKUP(D127,'Plan Estu Especialidades'!$B$4:$AF$77,19,0),IF(G127=1,VLOOKUP(D127,'Plan Estu Especialidades'!$B$4:$AF$77,19,0)*N127,0))))","v":0},{"$f":"IF(G127=4,VLOOKUP(D127,'Plan Estu Especialidades'!$B$4:$AF$77,30,0),IF(G127=3,VLOOKUP(D127,'Plan Estu Especialidades'!$B$4:$AF$77,25,0),IF(G127=2,VLOOKUP(D127,'Plan Estu Especialidades'!$B$4:$AF$77,20,0),IF(G127=1,VLOOKUP(D127,'Plan Estu Especialidades'!$B$4:$AF$77,20,0)*N127,0))))","v":0},0,0,null,null,null,null,null,0,0,0,null,null,null,null,0,0,0,null,{"$f":"IF(SUM(J127,L127,N127)=0,\"S/V\",VLOOKUP(D127,'Plan Estu Especialidades'!$B$4:$AG$77,32,0))","v":"S/V"},0,0,null,null,null,null,null,null,0,0,0]
[{"$f":"+IF(B128=0,0,SUM($B$62:B128))","v":0},0,91,43,0,0,0,"Impresión Offset","_43",null,null,null,null,null,null,{"$f":"IF(E128=2,VLOOKUP(D128,'Plan Estu Especialidades'!$B$4:$AF$77,3,0),IF(E128=1,VLOOKUP(D128,'Plan Estu Especialidades'!$B$4:$AF$77,3,0)*J128,0))","v":0},{"$f":"IF(E128=2,VLOOKUP(D128,'Plan Estu Especialidades'!$B$4:$AF$77,4,0),IF(E128=1,VLOOKUP(D128,'Plan Estu Especialidades'!$B$4:$AF$77,4,0)*J128,0))","v":0},{"$f":"IF(E128=2,VLOOKUP(D128,'Plan Estu Especialidades'!$B$4:$AF$77,5,0),IF(E128=1,VLOOKUP(D128,'Plan Estu Especialidades'!$B$4:$AF$77,5,0)*J128,0))","v":0},{"$f":"IF(F128=3,VLOOKUP(D128,'Plan Estu Especialidades'!$B$4:$AF$77,12,0),IF(F128=2,VLOOKUP(D128,'Plan Estu Especialidades'!$B$4:$AF$77,7,0),IF(F128=1,VLOOKUP(D128,'Plan Estu Especialidades'!$B$4:$AF$77,7,0)*L128,0)))","v":0},{"$f":"IF(F128=3,VLOOKUP(D128,'Plan Estu Especialidades'!$B$4:$AF$77,13,0),IF(F128=2,VLOOKUP(D128,'Plan Estu Especialidades'!$B$4:$AF$77,8,0),IF(F128=1,VLOOKUP(D128,'Plan Estu Especialidades'!$B$4:$AF$77,8,0)*L128,0)))","v":0},{"$f":"IF(F128=3,VLOOKUP(D128,'Plan Estu Especialidades'!$B$4:$AF$77,14,0),IF(F128=2,VLOOKUP(D128,'Plan Estu Especialidades'!$B$4:$AF$77,9,0),IF(F128=1,VLOOKUP(D128,'Plan Estu Especialidades'!$B$4:$AF$77,9,0)*L128,0)))","v":0},{"$f":"IF(F128=3,VLOOKUP(D128,'Plan Estu Especialidades'!$B$4:$AF$77,15,0),IF(F128=2,VLOOKUP(D128,'Plan Estu Especialidades'!$B$4:$AF$77,10,0),IF(F128=1,VLOOKUP(D128,'Plan Estu Especialidades'!$B$4:$AF$77,10,0)*L128,0)))","v":0},{"$f":"IF(G128=4,VLOOKUP(D128,'Plan Estu Especialidades'!$B$4:$AF$77,27,0),IF(G128=3,VLOOKUP(D128,'Plan Estu Especialidades'!$B$4:$AF$77,22,0),IF(G128=2,VLOOKUP(D128,'Plan Estu Especialidades'!$B$4:$AF$77,17,0),IF(G128=1,VLOOKUP(D128,'Plan Estu Especialidades'!$B$4:$AF$77,17,0)*N128,0))))","v":0},{"$f":"IF(G128=4,VLOOKUP(D128,'Plan Estu Especialidades'!$B$4:$AF$77,28,0),IF(G128=3,VLOOKUP(D128,'Plan Estu Especialidades'!$B$4:$AF$77,23,0),IF(G128=2,VLOOKUP(D128,'Plan Estu Especialidades'!$B$4:$AF$77,18,0),IF(G128=1,VLOOKUP(D128,'Plan Estu Especialidades'!$B$4:$AF$77,18,0)*N128,0))))","v":0},{"$f":"IF(G128=4,VLOOKUP(D128,'Plan Estu Especialidades'!$B$4:$AF$77,29,0),IF(G128=3,VLOOKUP(D128,'Plan Estu Especialidades'!$B$4:$AF$77,24,0),IF(G128=2,VLOOKUP(D128,'Plan Estu Especialidades'!$B$4:$AF$77,19,0),IF(G128=1,VLOOKUP(D128,'Plan Estu Especialidades'!$B$4:$AF$77,19,0)*N128,0))))","v":0},{"$f":"IF(G128=4,VLOOKUP(D128,'Plan Estu Especialidades'!$B$4:$AF$77,30,0),IF(G128=3,VLOOKUP(D128,'Plan Estu Especialidades'!$B$4:$AF$77,25,0),IF(G128=2,VLOOKUP(D128,'Plan Estu Especialidades'!$B$4:$AF$77,20,0),IF(G128=1,VLOOKUP(D128,'Plan Estu Especialidades'!$B$4:$AF$77,20,0)*N128,0))))","v":0},0,0,null,null,null,null,null,0,0,0,null,null,null,null,0,0,0,null,{"$f":"IF(SUM(J128,L128,N128)=0,\"S/V\",VLOOKUP(D128,'Plan Estu Especialidades'!$B$4:$AG$77,32,0))","v":"S/V"},0,0,null,null,null,null,null,null,0,0,0]
[{"$f":"+IF(B129=0,0,SUM($B$62:B129))","v":0},0,91,44,0,0,0,"Informática Empresarial","_44",null,null,null,null,null,null,{"$f":"IF(E129=2,VLOOKUP(D129,'Plan Estu Especialidades'!$B$4:$AF$77,3,0),IF(E129=1,VLOOKUP(D129,'Plan Estu Especialidades'!$B$4:$AF$77,3,0)*J129,0))","v":0},{"$f":"IF(E129=2,VLOOKUP(D129,'Plan Estu Especialidades'!$B$4:$AF$77,4,0),IF(E129=1,VLOOKUP(D129,'Plan Estu Especialidades'!$B$4:$AF$77,4,0)*J129,0))","v":0},{"$f":"IF(E129=2,VLOOKUP(D129,'Plan Estu Especialidades'!$B$4:$AF$77,5,0),IF(E129=1,VLOOKUP(D129,'Plan Estu Especialidades'!$B$4:$AF$77,5,0)*J129,0))","v":0},{"$f":"IF(F129=3,VLOOKUP(D129,'Plan Estu Especialidades'!$B$4:$AF$77,12,0),IF(F129=2,VLOOKUP(D129,'Plan Estu Especialidades'!$B$4:$AF$77,7,0),IF(F129=1,VLOOKUP(D129,'Plan Estu Especialidades'!$B$4:$AF$77,7,0)*L129,0)))","v":0},{"$f":"IF(F129=3,VLOOKUP(D129,'Plan Estu Especialidades'!$B$4:$AF$77,13,0),IF(F129=2,VLOOKUP(D129,'Plan Estu Especialidades'!$B$4:$AF$77,8,0),IF(F129=1,VLOOKUP(D129,'Plan Estu Especialidades'!$B$4:$AF$77,8,0)*L129,0)))","v":0},{"$f":"IF(F129=3,VLOOKUP(D129,'Plan Estu Especialidades'!$B$4:$AF$77,14,0),IF(F129=2,VLOOKUP(D129,'Plan Estu Especialidades'!$B$4:$AF$77,9,0),IF(F129=1,VLOOKUP(D129,'Plan Estu Especialidades'!$B$4:$AF$77,9,0)*L129,0)))","v":0},{"$f":"IF(F129=3,VLOOKUP(D129,'Plan Estu Especialidades'!$B$4:$AF$77,15,0),IF(F129=2,VLOOKUP(D129,'Plan Estu Especialidades'!$B$4:$AF$77,10,0),IF(F129=1,VLOOKUP(D129,'Plan Estu Especialidades'!$B$4:$AF$77,10,0)*L129,0)))","v":0},{"$f":"IF(G129=4,VLOOKUP(D129,'Plan Estu Especialidades'!$B$4:$AF$77,27,0),IF(G129=3,VLOOKUP(D129,'Plan Estu Especialidades'!$B$4:$AF$77,22,0),IF(G129=2,VLOOKUP(D129,'Plan Estu Especialidades'!$B$4:$AF$77,17,0),IF(G129=1,VLOOKUP(D129,'Plan Estu Especialidades'!$B$4:$AF$77,17,0)*N129,0))))","v":0},{"$f":"IF(G129=4,VLOOKUP(D129,'Plan Estu Especialidades'!$B$4:$AF$77,28,0),IF(G129=3,VLOOKUP(D129,'Plan Estu Especialidades'!$B$4:$AF$77,23,0),IF(G129=2,VLOOKUP(D129,'Plan Estu Especialidades'!$B$4:$AF$77,18,0),IF(G129=1,VLOOKUP(D129,'Plan Estu Especialidades'!$B$4:$AF$77,18,0)*N129,0))))","v":0},{"$f":"IF(G129=4,VLOOKUP(D129,'Plan Estu Especialidades'!$B$4:$AF$77,29,0),IF(G129=3,VLOOKUP(D129,'Plan Estu Especialidades'!$B$4:$AF$77,24,0),IF(G129=2,VLOOKUP(D129,'Plan Estu Especialidades'!$B$4:$AF$77,19,0),IF(G129=1,VLOOKUP(D129,'Plan Estu Especialidades'!$B$4:$AF$77,19,0)*N129,0))))","v":0},{"$f":"IF(G129=4,VLOOKUP(D129,'Plan Estu Especialidades'!$B$4:$AF$77,30,0),IF(G129=3,VLOOKUP(D129,'Plan Estu Especialidades'!$B$4:$AF$77,25,0),IF(G129=2,VLOOKUP(D129,'Plan Estu Especialidades'!$B$4:$AF$77,20,0),IF(G129=1,VLOOKUP(D129,'Plan Estu Especialidades'!$B$4:$AF$77,20,0)*N129,0))))","v":0},0,0,null,null,null,null,null,0,0,0,null,null,null,null,0,0,0,null,{"$f":"IF(SUM(J129,L129,N129)=0,\"S/V\",VLOOKUP(D129,'Plan Estu Especialidades'!$B$4:$AG$77,32,0))","v":"S/V"},0,0,null,null,null,null,null,null,0,0,0]
[{"$f":"+IF(B130=0,0,SUM($B$62:B130))","v":0},0,91,45,0,0,0,"Informática en desarrollo de software","_45",null,null,null,null,null,null,{"$f":"IF(E130=2,VLOOKUP(D130,'Plan Estu Especialidades'!$B$4:$AF$77,3,0),IF(E130=1,VLOOKUP(D130,'Plan Estu Especialidades'!$B$4:$AF$77,3,0)*J130,0))","v":0},{"$f":"IF(E130=2,VLOOKUP(D130,'Plan Estu Especialidades'!$B$4:$AF$77,4,0),IF(E130=1,VLOOKUP(D130,'Plan Estu Especialidades'!$B$4:$AF$77,4,0)*J130,0))","v":0},{"$f":"IF(E130=2,VLOOKUP(D130,'Plan Estu Especialidades'!$B$4:$AF$77,5,0),IF(E130=1,VLOOKUP(D130,'Plan Estu Especialidades'!$B$4:$AF$77,5,0)*J130,0))","v":0},{"$f":"IF(F130=3,VLOOKUP(D130,'Plan Estu Especialidades'!$B$4:$AF$77,12,0),IF(F130=2,VLOOKUP(D130,'Plan Estu Especialidades'!$B$4:$AF$77,7,0),IF(F130=1,VLOOKUP(D130,'Plan Estu Especialidades'!$B$4:$AF$77,7,0)*L130,0)))","v":0},{"$f":"IF(F130=3,VLOOKUP(D130,'Plan Estu Especialidades'!$B$4:$AF$77,13,0),IF(F130=2,VLOOKUP(D130,'Plan Estu Especialidades'!$B$4:$AF$77,8,0),IF(F130=1,VLOOKUP(D130,'Plan Estu Especialidades'!$B$4:$AF$77,8,0)*L130,0)))","v":0},{"$f":"IF(F130=3,VLOOKUP(D130,'Plan Estu Especialidades'!$B$4:$AF$77,14,0),IF(F130=2,VLOOKUP(D130,'Plan Estu Especialidades'!$B$4:$AF$77,9,0),IF(F130=1,VLOOKUP(D130,'Plan Estu Especialidades'!$B$4:$AF$77,9,0)*L130,0)))","v":0},{"$f":"IF(F130=3,VLOOKUP(D130,'Plan Estu Especialidades'!$B$4:$AF$77,15,0),IF(F130=2,VLOOKUP(D130,'Plan Estu Especialidades'!$B$4:$AF$77,10,0),IF(F130=1,VLOOKUP(D130,'Plan Estu Especialidades'!$B$4:$AF$77,10,0)*L130,0)))","v":0},{"$f":"IF(G130=4,VLOOKUP(D130,'Plan Estu Especialidades'!$B$4:$AF$77,27,0),IF(G130=3,VLOOKUP(D130,'Plan Estu Especialidades'!$B$4:$AF$77,22,0),IF(G130=2,VLOOKUP(D130,'Plan Estu Especialidades'!$B$4:$AF$77,17,0),IF(G130=1,VLOOKUP(D130,'Plan Estu Especialidades'!$B$4:$AF$77,17,0)*N130,0))))","v":0},{"$f":"IF(G130=4,VLOOKUP(D130,'Plan Estu Especialidades'!$B$4:$AF$77,28,0),IF(G130=3,VLOOKUP(D130,'Plan Estu Especialidades'!$B$4:$AF$77,23,0),IF(G130=2,VLOOKUP(D130,'Plan Estu Especialidades'!$B$4:$AF$77,18,0),IF(G130=1,VLOOKUP(D130,'Plan Estu Especialidades'!$B$4:$AF$77,18,0)*N130,0))))","v":0},{"$f":"IF(G130=4,VLOOKUP(D130,'Plan Estu Especialidades'!$B$4:$AF$77,29,0),IF(G130=3,VLOOKUP(D130,'Plan Estu Especialidades'!$B$4:$AF$77,24,0),IF(G130=2,VLOOKUP(D130,'Plan Estu Especialidades'!$B$4:$AF$77,19,0),IF(G130=1,VLOOKUP(D130,'Plan Estu Especialidades'!$B$4:$AF$77,19,0)*N130,0))))","v":0},{"$f":"IF(G130=4,VLOOKUP(D130,'Plan Estu Especialidades'!$B$4:$AF$77,30,0),IF(G130=3,VLOOKUP(D130,'Plan Estu Especialidades'!$B$4:$AF$77,25,0),IF(G130=2,VLOOKUP(D130,'Plan Estu Especialidades'!$B$4:$AF$77,20,0),IF(G130=1,VLOOKUP(D130,'Plan Estu Especialidades'!$B$4:$AF$77,20,0)*N130,0))))","v":0},0,0,null,null,null,null,null,0,0,0,null,null,null,null,0,0,0,null,{"$f":"IF(SUM(J130,L130,N130)=0,\"S/V\",VLOOKUP(D130,'Plan Estu Especialidades'!$B$4:$AG$77,32,0))","v":"S/V"},0,0,null,null,null,null,null,null,0,0,0]
[{"$f":"+IF(B131=0,0,SUM($B$62:B131))","v":0},0,91,46,0,0,0,"Informática en Redes","_46",null,null,null,null,null,null,{"$f":"IF(E131=2,VLOOKUP(D131,'Plan Estu Especialidades'!$B$4:$AF$77,3,0),IF(E131=1,VLOOKUP(D131,'Plan Estu Especialidades'!$B$4:$AF$77,3,0)*J131,0))","v":0},{"$f":"IF(E131=2,VLOOKUP(D131,'Plan Estu Especialidades'!$B$4:$AF$77,4,0),IF(E131=1,VLOOKUP(D131,'Plan Estu Especialidades'!$B$4:$AF$77,4,0)*J131,0))","v":0},{"$f":"IF(E131=2,VLOOKUP(D131,'Plan Estu Especialidades'!$B$4:$AF$77,5,0),IF(E131=1,VLOOKUP(D131,'Plan Estu Especialidades'!$B$4:$AF$77,5,0)*J131,0))","v":0},{"$f":"IF(F131=3,VLOOKUP(D131,'Plan Estu Especialidades'!$B$4:$AF$77,12,0),IF(F131=2,VLOOKUP(D131,'Plan Estu Especialidades'!$B$4:$AF$77,7,0),IF(F131=1,VLOOKUP(D131,'Plan Estu Especialidades'!$B$4:$AF$77,7,0)*L131,0)))","v":0},{"$f":"IF(F131=3,VLOOKUP(D131,'Plan Estu Especialidades'!$B$4:$AF$77,13,0),IF(F131=2,VLOOKUP(D131,'Plan Estu Especialidades'!$B$4:$AF$77,8,0),IF(F131=1,VLOOKUP(D131,'Plan Estu Especialidades'!$B$4:$AF$77,8,0)*L131,0)))","v":0},{"$f":"IF(F131=3,VLOOKUP(D131,'Plan Estu Especialidades'!$B$4:$AF$77,14,0),IF(F131=2,VLOOKUP(D131,'Plan Estu Especialidades'!$B$4:$AF$77,9,0),IF(F131=1,VLOOKUP(D131,'Plan Estu Especialidades'!$B$4:$AF$77,9,0)*L131,0)))","v":0},{"$f":"IF(F131=3,VLOOKUP(D131,'Plan Estu Especialidades'!$B$4:$AF$77,15,0),IF(F131=2,VLOOKUP(D131,'Plan Estu Especialidades'!$B$4:$AF$77,10,0),IF(F131=1,VLOOKUP(D131,'Plan Estu Especialidades'!$B$4:$AF$77,10,0)*L131,0)))","v":0},{"$f":"IF(G131=4,VLOOKUP(D131,'Plan Estu Especialidades'!$B$4:$AF$77,27,0),IF(G131=3,VLOOKUP(D131,'Plan Estu Especialidades'!$B$4:$AF$77,22,0),IF(G131=2,VLOOKUP(D131,'Plan Estu Especialidades'!$B$4:$AF$77,17,0),IF(G131=1,VLOOKUP(D131,'Plan Estu Especialidades'!$B$4:$AF$77,17,0)*N131,0))))","v":0},{"$f":"IF(G131=4,VLOOKUP(D131,'Plan Estu Especialidades'!$B$4:$AF$77,28,0),IF(G131=3,VLOOKUP(D131,'Plan Estu Especialidades'!$B$4:$AF$77,23,0),IF(G131=2,VLOOKUP(D131,'Plan Estu Especialidades'!$B$4:$AF$77,18,0),IF(G131=1,VLOOKUP(D131,'Plan Estu Especialidades'!$B$4:$AF$77,18,0)*N131,0))))","v":0},{"$f":"IF(G131=4,VLOOKUP(D131,'Plan Estu Especialidades'!$B$4:$AF$77,29,0),IF(G131=3,VLOOKUP(D131,'Plan Estu Especialidades'!$B$4:$AF$77,24,0),IF(G131=2,VLOOKUP(D131,'Plan Estu Especialidades'!$B$4:$AF$77,19,0),IF(G131=1,VLOOKUP(D131,'Plan Estu Especialidades'!$B$4:$AF$77,19,0)*N131,0))))","v":0},{"$f":"IF(G131=4,VLOOKUP(D131,'Plan Estu Especialidades'!$B$4:$AF$77,30,0),IF(G131=3,VLOOKUP(D131,'Plan Estu Especialidades'!$B$4:$AF$77,25,0),IF(G131=2,VLOOKUP(D131,'Plan Estu Especialidades'!$B$4:$AF$77,20,0),IF(G131=1,VLOOKUP(D131,'Plan Estu Especialidades'!$B$4:$AF$77,20,0)*N131,0))))","v":0},0,0,null,null,null,null,null,0,0,0,null,null,null,null,0,0,0,null,{"$f":"IF(SUM(J131,L131,N131)=0,\"S/V\",VLOOKUP(D131,'Plan Estu Especialidades'!$B$4:$AG$77,32,0))","v":"S/V"},0,0,null,null,null,null,null,null,0,0,0]
[{"$f":"+IF(B132=0,0,SUM($B$62:B132))","v":0},0,91,47,0,0,0,"Informática en soporte","_47",null,null,null,null,null,null,{"$f":"IF(E132=2,VLOOKUP(D132,'Plan Estu Especialidades'!$B$4:$AF$77,3,0),IF(E132=1,VLOOKUP(D132,'Plan Estu Especialidades'!$B$4:$AF$77,3,0)*J132,0))","v":0},{"$f":"IF(E132=2,VLOOKUP(D132,'Plan Estu Especialidades'!$B$4:$AF$77,4,0),IF(E132=1,VLOOKUP(D132,'Plan Estu Especialidades'!$B$4:$AF$77,4,0)*J132,0))","v":0},{"$f":"IF(E132=2,VLOOKUP(D132,'Plan Estu Especialidades'!$B$4:$AF$77,5,0),IF(E132=1,VLOOKUP(D132,'Plan Estu Especialidades'!$B$4:$AF$77,5,0)*J132,0))","v":0},{"$f":"IF(F132=3,VLOOKUP(D132,'Plan Estu Especialidades'!$B$4:$AF$77,12,0),IF(F132=2,VLOOKUP(D132,'Plan Estu Especialidades'!$B$4:$AF$77,7,0),IF(F132=1,VLOOKUP(D132,'Plan Estu Especialidades'!$B$4:$AF$77,7,0)*L132,0)))","v":0},{"$f":"IF(F132=3,VLOOKUP(D132,'Plan Estu Especialidades'!$B$4:$AF$77,13,0),IF(F132=2,VLOOKUP(D132,'Plan Estu Especialidades'!$B$4:$AF$77,8,0),IF(F132=1,VLOOKUP(D132,'Plan Estu Especialidades'!$B$4:$AF$77,8,0)*L132,0)))","v":0},{"$f":"IF(F132=3,VLOOKUP(D132,'Plan Estu Especialidades'!$B$4:$AF$77,14,0),IF(F132=2,VLOOKUP(D132,'Plan Estu Especialidades'!$B$4:$AF$77,9,0),IF(F132=1,VLOOKUP(D132,'Plan Estu Especialidades'!$B$4:$AF$77,9,0)*L132,0)))","v":0},{"$f":"IF(F132=3,VLOOKUP(D132,'Plan Estu Especialidades'!$B$4:$AF$77,15,0),IF(F132=2,VLOOKUP(D132,'Plan Estu Especialidades'!$B$4:$AF$77,10,0),IF(F132=1,VLOOKUP(D132,'Plan Estu Especialidades'!$B$4:$AF$77,10,0)*L132,0)))","v":0},{"$f":"IF(G132=4,VLOOKUP(D132,'Plan Estu Especialidades'!$B$4:$AF$77,27,0),IF(G132=3,VLOOKUP(D132,'Plan Estu Especialidades'!$B$4:$AF$77,22,0),IF(G132=2,VLOOKUP(D132,'Plan Estu Especialidades'!$B$4:$AF$77,17,0),IF(G132=1,VLOOKUP(D132,'Plan Estu Especialidades'!$B$4:$AF$77,17,0)*N132,0))))","v":0},{"$f":"IF(G132=4,VLOOKUP(D132,'Plan Estu Especialidades'!$B$4:$AF$77,28,0),IF(G132=3,VLOOKUP(D132,'Plan Estu Especialidades'!$B$4:$AF$77,23,0),IF(G132=2,VLOOKUP(D132,'Plan Estu Especialidades'!$B$4:$AF$77,18,0),IF(G132=1,VLOOKUP(D132,'Plan Estu Especialidades'!$B$4:$AF$77,18,0)*N132,0))))","v":0},{"$f":"IF(G132=4,VLOOKUP(D132,'Plan Estu Especialidades'!$B$4:$AF$77,29,0),IF(G132=3,VLOOKUP(D132,'Plan Estu Especialidades'!$B$4:$AF$77,24,0),IF(G132=2,VLOOKUP(D132,'Plan Estu Especialidades'!$B$4:$AF$77,19,0),IF(G132=1,VLOOKUP(D132,'Plan Estu Especialidades'!$B$4:$AF$77,19,0)*N132,0))))","v":0},{"$f":"IF(G132=4,VLOOKUP(D132,'Plan Estu Especialidades'!$B$4:$AF$77,30,0),IF(G132=3,VLOOKUP(D132,'Plan Estu Especialidades'!$B$4:$AF$77,25,0),IF(G132=2,VLOOKUP(D132,'Plan Estu Especialidades'!$B$4:$AF$77,20,0),IF(G132=1,VLOOKUP(D132,'Plan Estu Especialidades'!$B$4:$AF$77,20,0)*N132,0))))","v":0},0,0,null,null,null,null,null,0,0,0,null,null,null,null,0,0,0,null,{"$f":"IF(SUM(J132,L132,N132)=0,\"S/V\",VLOOKUP(D132,'Plan Estu Especialidades'!$B$4:$AG$77,32,0))","v":"S/V"},0,0,null,null,null,null,null,null,0,0,0]
[{"$f":"+IF(B133=0,0,SUM($B$62:B133))","v":0},0,91,48,0,0,0,"Information technology support","_48",null,null,null,null,null,null,{"$f":"IF(E133=2,VLOOKUP(D133,'Plan Estu Especialidades'!$B$4:$AF$77,3,0),IF(E133=1,VLOOKUP(D133,'Plan Estu Especialidades'!$B$4:$AF$77,3,0)*J133,0))","v":0},{"$f":"IF(E133=2,VLOOKUP(D133,'Plan Estu Especialidades'!$B$4:$AF$77,4,0),IF(E133=1,VLOOKUP(D133,'Plan Estu Especialidades'!$B$4:$AF$77,4,0)*J133,0))","v":0},{"$f":"IF(E133=2,VLOOKUP(D133,'Plan Estu Especialidades'!$B$4:$AF$77,5,0),IF(E133=1,VLOOKUP(D133,'Plan Estu Especialidades'!$B$4:$AF$77,5,0)*J133,0))","v":0},{"$f":"IF(F133=3,VLOOKUP(D133,'Plan Estu Especialidades'!$B$4:$AF$77,12,0),IF(F133=2,VLOOKUP(D133,'Plan Estu Especialidades'!$B$4:$AF$77,7,0),IF(F133=1,VLOOKUP(D133,'Plan Estu Especialidades'!$B$4:$AF$77,7,0)*L133,0)))","v":0},{"$f":"IF(F133=3,VLOOKUP(D133,'Plan Estu Especialidades'!$B$4:$AF$77,13,0),IF(F133=2,VLOOKUP(D133,'Plan Estu Especialidades'!$B$4:$AF$77,8,0),IF(F133=1,VLOOKUP(D133,'Plan Estu Especialidades'!$B$4:$AF$77,8,0)*L133,0)))","v":0},{"$f":"IF(F133=3,VLOOKUP(D133,'Plan Estu Especialidades'!$B$4:$AF$77,14,0),IF(F133=2,VLOOKUP(D133,'Plan Estu Especialidades'!$B$4:$AF$77,9,0),IF(F133=1,VLOOKUP(D133,'Plan Estu Especialidades'!$B$4:$AF$77,9,0)*L133,0)))","v":0},{"$f":"IF(F133=3,VLOOKUP(D133,'Plan Estu Especialidades'!$B$4:$AF$77,15,0),IF(F133=2,VLOOKUP(D133,'Plan Estu Especialidades'!$B$4:$AF$77,10,0),IF(F133=1,VLOOKUP(D133,'Plan Estu Especialidades'!$B$4:$AF$77,10,0)*L133,0)))","v":0},{"$f":"IF(G133=4,VLOOKUP(D133,'Plan Estu Especialidades'!$B$4:$AF$77,27,0),IF(G133=3,VLOOKUP(D133,'Plan Estu Especialidades'!$B$4:$AF$77,22,0),IF(G133=2,VLOOKUP(D133,'Plan Estu Especialidades'!$B$4:$AF$77,17,0),IF(G133=1,VLOOKUP(D133,'Plan Estu Especialidades'!$B$4:$AF$77,17,0)*N133,0))))","v":0},{"$f":"IF(G133=4,VLOOKUP(D133,'Plan Estu Especialidades'!$B$4:$AF$77,28,0),IF(G133=3,VLOOKUP(D133,'Plan Estu Especialidades'!$B$4:$AF$77,23,0),IF(G133=2,VLOOKUP(D133,'Plan Estu Especialidades'!$B$4:$AF$77,18,0),IF(G133=1,VLOOKUP(D133,'Plan Estu Especialidades'!$B$4:$AF$77,18,0)*N133,0))))","v":0},{"$f":"IF(G133=4,VLOOKUP(D133,'Plan Estu Especialidades'!$B$4:$AF$77,29,0),IF(G133=3,VLOOKUP(D133,'Plan Estu Especialidades'!$B$4:$AF$77,24,0),IF(G133=2,VLOOKUP(D133,'Plan Estu Especialidades'!$B$4:$AF$77,19,0),IF(G133=1,VLOOKUP(D133,'Plan Estu Especialidades'!$B$4:$AF$77,19,0)*N133,0))))","v":0},{"$f":"IF(G133=4,VLOOKUP(D133,'Plan Estu Especialidades'!$B$4:$AF$77,30,0),IF(G133=3,VLOOKUP(D133,'Plan Estu Especialidades'!$B$4:$AF$77,25,0),IF(G133=2,VLOOKUP(D133,'Plan Estu Especialidades'!$B$4:$AF$77,20,0),IF(G133=1,VLOOKUP(D133,'Plan Estu Especialidades'!$B$4:$AF$77,20,0)*N133,0))))","v":0},0,0,null,null,null,null,null,0,0,0,null,null,null,null,0,0,0,null,{"$f":"IF(SUM(J133,L133,N133)=0,\"S/V\",VLOOKUP(D133,'Plan Estu Especialidades'!$B$4:$AG$77,32,0))","v":"S/V"},0,0,null,null,null,null,null,null,0,0,0]
[{"$f":"+IF(B134=0,0,SUM($B$62:B134))","v":0},0,91,49,0,0,0,"Mantenimiento Industrial","_49",null,null,null,null,null,null,{"$f":"IF(E134=2,VLOOKUP(D134,'Plan Estu Especialidades'!$B$4:$AF$77,3,0),IF(E134=1,VLOOKUP(D134,'Plan Estu Especialidades'!$B$4:$AF$77,3,0)*J134,0))","v":0},{"$f":"IF(E134=2,VLOOKUP(D134,'Plan Estu Especialidades'!$B$4:$AF$77,4,0),IF(E134=1,VLOOKUP(D134,'Plan Estu Especialidades'!$B$4:$AF$77,4,0)*J134,0))","v":0},{"$f":"IF(E134=2,VLOOKUP(D134,'Plan Estu Especialidades'!$B$4:$AF$77,5,0),IF(E134=1,VLOOKUP(D134,'Plan Estu Especialidades'!$B$4:$AF$77,5,0)*J134,0))","v":0},{"$f":"IF(F134=3,VLOOKUP(D134,'Plan Estu Especialidades'!$B$4:$AF$77,12,0),IF(F134=2,VLOOKUP(D134,'Plan Estu Especialidades'!$B$4:$AF$77,7,0),IF(F134=1,VLOOKUP(D134,'Plan Estu Especialidades'!$B$4:$AF$77,7,0)*L134,0)))","v":0},{"$f":"IF(F134=3,VLOOKUP(D134,'Plan Estu Especialidades'!$B$4:$AF$77,13,0),IF(F134=2,VLOOKUP(D134,'Plan Estu Especialidades'!$B$4:$AF$77,8,0),IF(F134=1,VLOOKUP(D134,'Plan Estu Especialidades'!$B$4:$AF$77,8,0)*L134,0)))","v":0},{"$f":"IF(F134=3,VLOOKUP(D134,'Plan Estu Especialidades'!$B$4:$AF$77,14,0),IF(F134=2,VLOOKUP(D134,'Plan Estu Especialidades'!$B$4:$AF$77,9,0),IF(F134=1,VLOOKUP(D134,'Plan Estu Especialidades'!$B$4:$AF$77,9,0)*L134,0)))","v":0},{"$f":"IF(F134=3,VLOOKUP(D134,'Plan Estu Especialidades'!$B$4:$AF$77,15,0),IF(F134=2,VLOOKUP(D134,'Plan Estu Especialidades'!$B$4:$AF$77,10,0),IF(F134=1,VLOOKUP(D134,'Plan Estu Especialidades'!$B$4:$AF$77,10,0)*L134,0)))","v":0},{"$f":"IF(G134=4,VLOOKUP(D134,'Plan Estu Especialidades'!$B$4:$AF$77,27,0),IF(G134=3,VLOOKUP(D134,'Plan Estu Especialidades'!$B$4:$AF$77,22,0),IF(G134=2,VLOOKUP(D134,'Plan Estu Especialidades'!$B$4:$AF$77,17,0),IF(G134=1,VLOOKUP(D134,'Plan Estu Especialidades'!$B$4:$AF$77,17,0)*N134,0))))","v":0},{"$f":"IF(G134=4,VLOOKUP(D134,'Plan Estu Especialidades'!$B$4:$AF$77,28,0),IF(G134=3,VLOOKUP(D134,'Plan Estu Especialidades'!$B$4:$AF$77,23,0),IF(G134=2,VLOOKUP(D134,'Plan Estu Especialidades'!$B$4:$AF$77,18,0),IF(G134=1,VLOOKUP(D134,'Plan Estu Especialidades'!$B$4:$AF$77,18,0)*N134,0))))","v":0},{"$f":"IF(G134=4,VLOOKUP(D134,'Plan Estu Especialidades'!$B$4:$AF$77,29,0),IF(G134=3,VLOOKUP(D134,'Plan Estu Especialidades'!$B$4:$AF$77,24,0),IF(G134=2,VLOOKUP(D134,'Plan Estu Especialidades'!$B$4:$AF$77,19,0),IF(G134=1,VLOOKUP(D134,'Plan Estu Especialidades'!$B$4:$AF$77,19,0)*N134,0))))","v":0},{"$f":"IF(G134=4,VLOOKUP(D134,'Plan Estu Especialidades'!$B$4:$AF$77,30,0),IF(G134=3,VLOOKUP(D134,'Plan Estu Especialidades'!$B$4:$AF$77,25,0),IF(G134=2,VLOOKUP(D134,'Plan Estu Especialidades'!$B$4:$AF$77,20,0),IF(G134=1,VLOOKUP(D134,'Plan Estu Especialidades'!$B$4:$AF$77,20,0)*N134,0))))","v":0},0,0,null,null,null,null,null,0,0,0,null,null,null,null,0,0,0,null,{"$f":"IF(SUM(J134,L134,N134)=0,\"S/V\",VLOOKUP(D134,'Plan Estu Especialidades'!$B$4:$AG$77,32,0))","v":"S/V"},0,0,null,null,null,null,null,null,0,0,0]
[{"$f":"+IF(B135=0,0,SUM($B$62:B135))","v":0},0,91,50,0,0,0,"Mecánica de Precisión","_50",null,null,null,null,null,null,{"$f":"IF(E135=2,VLOOKUP(D135,'Plan Estu Especialidades'!$B$4:$AF$77,3,0),IF(E135=1,VLOOKUP(D135,'Plan Estu Especialidades'!$B$4:$AF$77,3,0)*J135,0))","v":0},{"$f":"IF(E135=2,VLOOKUP(D135,'Plan Estu Especialidades'!$B$4:$AF$77,4,0),IF(E135=1,VLOOKUP(D135,'Plan Estu Especialidades'!$B$4:$AF$77,4,0)*J135,0))","v":0},{"$f":"IF(E135=2,VLOOKUP(D135,'Plan Estu Especialidades'!$B$4:$AF$77,5,0),IF(E135=1,VLOOKUP(D135,'Plan Estu Especialidades'!$B$4:$AF$77,5,0)*J135,0))","v":0},{"$f":"IF(F135=3,VLOOKUP(D135,'Plan Estu Especialidades'!$B$4:$AF$77,12,0),IF(F135=2,VLOOKUP(D135,'Plan Estu Especialidades'!$B$4:$AF$77,7,0),IF(F135=1,VLOOKUP(D135,'Plan Estu Especialidades'!$B$4:$AF$77,7,0)*L135,0)))","v":0},{"$f":"IF(F135=3,VLOOKUP(D135,'Plan Estu Especialidades'!$B$4:$AF$77,13,0),IF(F135=2,VLOOKUP(D135,'Plan Estu Especialidades'!$B$4:$AF$77,8,0),IF(F135=1,VLOOKUP(D135,'Plan Estu Especialidades'!$B$4:$AF$77,8,0)*L135,0)))","v":0},{"$f":"IF(F135=3,VLOOKUP(D135,'Plan Estu Especialidades'!$B$4:$AF$77,14,0),IF(F135=2,VLOOKUP(D135,'Plan Estu Especialidades'!$B$4:$AF$77,9,0),IF(F135=1,VLOOKUP(D135,'Plan Estu Especialidades'!$B$4:$AF$77,9,0)*L135,0)))","v":0},{"$f":"IF(F135=3,VLOOKUP(D135,'Plan Estu Especialidades'!$B$4:$AF$77,15,0),IF(F135=2,VLOOKUP(D135,'Plan Estu Especialidades'!$B$4:$AF$77,10,0),IF(F135=1,VLOOKUP(D135,'Plan Estu Especialidades'!$B$4:$AF$77,10,0)*L135,0)))","v":0},{"$f":"IF(G135=4,VLOOKUP(D135,'Plan Estu Especialidades'!$B$4:$AF$77,27,0),IF(G135=3,VLOOKUP(D135,'Plan Estu Especialidades'!$B$4:$AF$77,22,0),IF(G135=2,VLOOKUP(D135,'Plan Estu Especialidades'!$B$4:$AF$77,17,0),IF(G135=1,VLOOKUP(D135,'Plan Estu Especialidades'!$B$4:$AF$77,17,0)*N135,0))))","v":0},{"$f":"IF(G135=4,VLOOKUP(D135,'Plan Estu Especialidades'!$B$4:$AF$77,28,0),IF(G135=3,VLOOKUP(D135,'Plan Estu Especialidades'!$B$4:$AF$77,23,0),IF(G135=2,VLOOKUP(D135,'Plan Estu Especialidades'!$B$4:$AF$77,18,0),IF(G135=1,VLOOKUP(D135,'Plan Estu Especialidades'!$B$4:$AF$77,18,0)*N135,0))))","v":0},{"$f":"IF(G135=4,VLOOKUP(D135,'Plan Estu Especialidades'!$B$4:$AF$77,29,0),IF(G135=3,VLOOKUP(D135,'Plan Estu Especialidades'!$B$4:$AF$77,24,0),IF(G135=2,VLOOKUP(D135,'Plan Estu Especialidades'!$B$4:$AF$77,19,0),IF(G135=1,VLOOKUP(D135,'Plan Estu Especialidades'!$B$4:$AF$77,19,0)*N135,0))))","v":0},{"$f":"IF(G135=4,VLOOKUP(D135,'Plan Estu Especialidades'!$B$4:$AF$77,30,0),IF(G135=3,VLOOKUP(D135,'Plan Estu Especialidades'!$B$4:$AF$77,25,0),IF(G135=2,VLOOKUP(D135,'Plan Estu Especialidades'!$B$4:$AF$77,20,0),IF(G135=1,VLOOKUP(D135,'Plan Estu Especialidades'!$B$4:$AF$77,20,0)*N135,0))))","v":0},0,0,null,null,null,null,null,0,0,0,null,null,null,null,0,0,0,null,{"$f":"IF(SUM(J135,L135,N135)=0,\"S/V\",VLOOKUP(D135,'Plan Estu Especialidades'!$B$4:$AG$77,32,0))","v":"S/V"},0,0,null,null,null,null,null,null,0,0,0]
[{"$f":"+IF(B136=0,0,SUM($B$62:B136))","v":0},0,91,51,0,0,0,"Mecánica General","_51",null,null,null,null,null,null,{"$f":"IF(E136=2,VLOOKUP(D136,'Plan Estu Especialidades'!$B$4:$AF$77,3,0),IF(E136=1,VLOOKUP(D136,'Plan Estu Especialidades'!$B$4:$AF$77,3,0)*J136,0))","v":0},{"$f":"IF(E136=2,VLOOKUP(D136,'Plan Estu Especialidades'!$B$4:$AF$77,4,0),IF(E136=1,VLOOKUP(D136,'Plan Estu Especialidades'!$B$4:$AF$77,4,0)*J136,0))","v":0},{"$f":"IF(E136=2,VLOOKUP(D136,'Plan Estu Especialidades'!$B$4:$AF$77,5,0),IF(E136=1,VLOOKUP(D136,'Plan Estu Especialidades'!$B$4:$AF$77,5,0)*J136,0))","v":0},{"$f":"IF(F136=3,VLOOKUP(D136,'Plan Estu Especialidades'!$B$4:$AF$77,12,0),IF(F136=2,VLOOKUP(D136,'Plan Estu Especialidades'!$B$4:$AF$77,7,0),IF(F136=1,VLOOKUP(D136,'Plan Estu Especialidades'!$B$4:$AF$77,7,0)*L136,0)))","v":0},{"$f":"IF(F136=3,VLOOKUP(D136,'Plan Estu Especialidades'!$B$4:$AF$77,13,0),IF(F136=2,VLOOKUP(D136,'Plan Estu Especialidades'!$B$4:$AF$77,8,0),IF(F136=1,VLOOKUP(D136,'Plan Estu Especialidades'!$B$4:$AF$77,8,0)*L136,0)))","v":0},{"$f":"IF(F136=3,VLOOKUP(D136,'Plan Estu Especialidades'!$B$4:$AF$77,14,0),IF(F136=2,VLOOKUP(D136,'Plan Estu Especialidades'!$B$4:$AF$77,9,0),IF(F136=1,VLOOKUP(D136,'Plan Estu Especialidades'!$B$4:$AF$77,9,0)*L136,0)))","v":0},{"$f":"IF(F136=3,VLOOKUP(D136,'Plan Estu Especialidades'!$B$4:$AF$77,15,0),IF(F136=2,VLOOKUP(D136,'Plan Estu Especialidades'!$B$4:$AF$77,10,0),IF(F136=1,VLOOKUP(D136,'Plan Estu Especialidades'!$B$4:$AF$77,10,0)*L136,0)))","v":0},{"$f":"IF(G136=4,VLOOKUP(D136,'Plan Estu Especialidades'!$B$4:$AF$77,27,0),IF(G136=3,VLOOKUP(D136,'Plan Estu Especialidades'!$B$4:$AF$77,22,0),IF(G136=2,VLOOKUP(D136,'Plan Estu Especialidades'!$B$4:$AF$77,17,0),IF(G136=1,VLOOKUP(D136,'Plan Estu Especialidades'!$B$4:$AF$77,17,0)*N136,0))))","v":0},{"$f":"IF(G136=4,VLOOKUP(D136,'Plan Estu Especialidades'!$B$4:$AF$77,28,0),IF(G136=3,VLOOKUP(D136,'Plan Estu Especialidades'!$B$4:$AF$77,23,0),IF(G136=2,VLOOKUP(D136,'Plan Estu Especialidades'!$B$4:$AF$77,18,0),IF(G136=1,VLOOKUP(D136,'Plan Estu Especialidades'!$B$4:$AF$77,18,0)*N136,0))))","v":0},{"$f":"IF(G136=4,VLOOKUP(D136,'Plan Estu Especialidades'!$B$4:$AF$77,29,0),IF(G136=3,VLOOKUP(D136,'Plan Estu Especialidades'!$B$4:$AF$77,24,0),IF(G136=2,VLOOKUP(D136,'Plan Estu Especialidades'!$B$4:$AF$77,19,0),IF(G136=1,VLOOKUP(D136,'Plan Estu Especialidades'!$B$4:$AF$77,19,0)*N136,0))))","v":0},{"$f":"IF(G136=4,VLOOKUP(D136,'Plan Estu Especialidades'!$B$4:$AF$77,30,0),IF(G136=3,VLOOKUP(D136,'Plan Estu Especialidades'!$B$4:$AF$77,25,0),IF(G136=2,VLOOKUP(D136,'Plan Estu Especialidades'!$B$4:$AF$77,20,0),IF(G136=1,VLOOKUP(D136,'Plan Estu Especialidades'!$B$4:$AF$77,20,0)*N136,0))))","v":0},0,0,null,null,null,null,null,0,0,0,null,null,null,null,0,0,0,null,{"$f":"IF(SUM(J136,L136,N136)=0,\"S/V\",VLOOKUP(D136,'Plan Estu Especialidades'!$B$4:$AG$77,32,0))","v":"S/V"},0,0,null,null,null,null,null,null,0,0,0]
[{"$f":"+IF(B137=0,0,SUM($B$62:B137))","v":0},0,91,52,0,0,0,"Mecánica Naval","_52",null,null,null,null,null,null,{"$f":"IF(E137=2,VLOOKUP(D137,'Plan Estu Especialidades'!$B$4:$AF$77,3,0),IF(E137=1,VLOOKUP(D137,'Plan Estu Especialidades'!$B$4:$AF$77,3,0)*J137,0))","v":0},{"$f":"IF(E137=2,VLOOKUP(D137,'Plan Estu Especialidades'!$B$4:$AF$77,4,0),IF(E137=1,VLOOKUP(D137,'Plan Estu Especialidades'!$B$4:$AF$77,4,0)*J137,0))","v":0},{"$f":"IF(E137=2,VLOOKUP(D137,'Plan Estu Especialidades'!$B$4:$AF$77,5,0),IF(E137=1,VLOOKUP(D137,'Plan Estu Especialidades'!$B$4:$AF$77,5,0)*J137,0))","v":0},{"$f":"IF(F137=3,VLOOKUP(D137,'Plan Estu Especialidades'!$B$4:$AF$77,12,0),IF(F137=2,VLOOKUP(D137,'Plan Estu Especialidades'!$B$4:$AF$77,7,0),IF(F137=1,VLOOKUP(D137,'Plan Estu Especialidades'!$B$4:$AF$77,7,0)*L137,0)))","v":0},{"$f":"IF(F137=3,VLOOKUP(D137,'Plan Estu Especialidades'!$B$4:$AF$77,13,0),IF(F137=2,VLOOKUP(D137,'Plan Estu Especialidades'!$B$4:$AF$77,8,0),IF(F137=1,VLOOKUP(D137,'Plan Estu Especialidades'!$B$4:$AF$77,8,0)*L137,0)))","v":0},{"$f":"IF(F137=3,VLOOKUP(D137,'Plan Estu Especialidades'!$B$4:$AF$77,14,0),IF(F137=2,VLOOKUP(D137,'Plan Estu Especialidades'!$B$4:$AF$77,9,0),IF(F137=1,VLOOKUP(D137,'Plan Estu Especialidades'!$B$4:$AF$77,9,0)*L137,0)))","v":0},{"$f":"IF(F137=3,VLOOKUP(D137,'Plan Estu Especialidades'!$B$4:$AF$77,15,0),IF(F137=2,VLOOKUP(D137,'Plan Estu Especialidades'!$B$4:$AF$77,10,0),IF(F137=1,VLOOKUP(D137,'Plan Estu Especialidades'!$B$4:$AF$77,10,0)*L137,0)))","v":0},{"$f":"IF(G137=4,VLOOKUP(D137,'Plan Estu Especialidades'!$B$4:$AF$77,27,0),IF(G137=3,VLOOKUP(D137,'Plan Estu Especialidades'!$B$4:$AF$77,22,0),IF(G137=2,VLOOKUP(D137,'Plan Estu Especialidades'!$B$4:$AF$77,17,0),IF(G137=1,VLOOKUP(D137,'Plan Estu Especialidades'!$B$4:$AF$77,17,0)*N137,0))))","v":0},{"$f":"IF(G137=4,VLOOKUP(D137,'Plan Estu Especialidades'!$B$4:$AF$77,28,0),IF(G137=3,VLOOKUP(D137,'Plan Estu Especialidades'!$B$4:$AF$77,23,0),IF(G137=2,VLOOKUP(D137,'Plan Estu Especialidades'!$B$4:$AF$77,18,0),IF(G137=1,VLOOKUP(D137,'Plan Estu Especialidades'!$B$4:$AF$77,18,0)*N137,0))))","v":0},{"$f":"IF(G137=4,VLOOKUP(D137,'Plan Estu Especialidades'!$B$4:$AF$77,29,0),IF(G137=3,VLOOKUP(D137,'Plan Estu Especialidades'!$B$4:$AF$77,24,0),IF(G137=2,VLOOKUP(D137,'Plan Estu Especialidades'!$B$4:$AF$77,19,0),IF(G137=1,VLOOKUP(D137,'Plan Estu Especialidades'!$B$4:$AF$77,19,0)*N137,0))))","v":0},{"$f":"IF(G137=4,VLOOKUP(D137,'Plan Estu Especialidades'!$B$4:$AF$77,30,0),IF(G137=3,VLOOKUP(D137,'Plan Estu Especialidades'!$B$4:$AF$77,25,0),IF(G137=2,VLOOKUP(D137,'Plan Estu Especialidades'!$B$4:$AF$77,20,0),IF(G137=1,VLOOKUP(D137,'Plan Estu Especialidades'!$B$4:$AF$77,20,0)*N137,0))))","v":0},0,0,null,null,null,null,null,0,0,0,null,null,null,null,{"$f":"+J137","v":0},0,0,null,{"$f":"IF(SUM(J137,L137,N137)=0,\"S/V\",VLOOKUP(D137,'Plan Estu Especialidades'!$B$4:$AG$77,32,0))","v":"S/V"},0,0,null,null,null,null,null,null,0,0,0]
[{"$f":"+IF(B138=0,0,SUM($B$62:B138))","v":0},0,91,53,0,0,0,"Mercadeo","_53",null,null,null,null,null,null,{"$f":"IF(E138=2,VLOOKUP(D138,'Plan Estu Especialidades'!$B$4:$AF$77,3,0),IF(E138=1,VLOOKUP(D138,'Plan Estu Especialidades'!$B$4:$AF$77,3,0)*J138,0))","v":0},{"$f":"IF(E138=2,VLOOKUP(D138,'Plan Estu Especialidades'!$B$4:$AF$77,4,0),IF(E138=1,VLOOKUP(D138,'Plan Estu Especialidades'!$B$4:$AF$77,4,0)*J138,0))","v":0},{"$f":"IF(E138=2,VLOOKUP(D138,'Plan Estu Especialidades'!$B$4:$AF$77,5,0),IF(E138=1,VLOOKUP(D138,'Plan Estu Especialidades'!$B$4:$AF$77,5,0)*J138,0))","v":0},{"$f":"IF(F138=3,VLOOKUP(D138,'Plan Estu Especialidades'!$B$4:$AF$77,12,0),IF(F138=2,VLOOKUP(D138,'Plan Estu Especialidades'!$B$4:$AF$77,7,0),IF(F138=1,VLOOKUP(D138,'Plan Estu Especialidades'!$B$4:$AF$77,7,0)*L138,0)))","v":0},{"$f":"IF(F138=3,VLOOKUP(D138,'Plan Estu Especialidades'!$B$4:$AF$77,13,0),IF(F138=2,VLOOKUP(D138,'Plan Estu Especialidades'!$B$4:$AF$77,8,0),IF(F138=1,VLOOKUP(D138,'Plan Estu Especialidades'!$B$4:$AF$77,8,0)*L138,0)))","v":0},{"$f":"IF(F138=3,VLOOKUP(D138,'Plan Estu Especialidades'!$B$4:$AF$77,14,0),IF(F138=2,VLOOKUP(D138,'Plan Estu Especialidades'!$B$4:$AF$77,9,0),IF(F138=1,VLOOKUP(D138,'Plan Estu Especialidades'!$B$4:$AF$77,9,0)*L138,0)))","v":0},{"$f":"IF(F138=3,VLOOKUP(D138,'Plan Estu Especialidades'!$B$4:$AF$77,15,0),IF(F138=2,VLOOKUP(D138,'Plan Estu Especialidades'!$B$4:$AF$77,10,0),IF(F138=1,VLOOKUP(D138,'Plan Estu Especialidades'!$B$4:$AF$77,10,0)*L138,0)))","v":0},{"$f":"IF(G138=4,VLOOKUP(D138,'Plan Estu Especialidades'!$B$4:$AF$77,27,0),IF(G138=3,VLOOKUP(D138,'Plan Estu Especialidades'!$B$4:$AF$77,22,0),IF(G138=2,VLOOKUP(D138,'Plan Estu Especialidades'!$B$4:$AF$77,17,0),IF(G138=1,VLOOKUP(D138,'Plan Estu Especialidades'!$B$4:$AF$77,17,0)*N138,0))))","v":0},{"$f":"IF(G138=4,VLOOKUP(D138,'Plan Estu Especialidades'!$B$4:$AF$77,28,0),IF(G138=3,VLOOKUP(D138,'Plan Estu Especialidades'!$B$4:$AF$77,23,0),IF(G138=2,VLOOKUP(D138,'Plan Estu Especialidades'!$B$4:$AF$77,18,0),IF(G138=1,VLOOKUP(D138,'Plan Estu Especialidades'!$B$4:$AF$77,18,0)*N138,0))))","v":0},{"$f":"IF(G138=4,VLOOKUP(D138,'Plan Estu Especialidades'!$B$4:$AF$77,29,0),IF(G138=3,VLOOKUP(D138,'Plan Estu Especialidades'!$B$4:$AF$77,24,0),IF(G138=2,VLOOKUP(D138,'Plan Estu Especialidades'!$B$4:$AF$77,19,0),IF(G138=1,VLOOKUP(D138,'Plan Estu Especialidades'!$B$4:$AF$77,19,0)*N138,0))))","v":0},{"$f":"IF(G138=4,VLOOKUP(D138,'Plan Estu Especialidades'!$B$4:$AF$77,30,0),IF(G138=3,VLOOKUP(D138,'Plan Estu Especialidades'!$B$4:$AF$77,25,0),IF(G138=2,VLOOKUP(D138,'Plan Estu Especialidades'!$B$4:$AF$77,20,0),IF(G138=1,VLOOKUP(D138,'Plan Estu Especialidades'!$B$4:$AF$77,20,0)*N138,0))))","v":0},0,0,null,null,null,null,null,0,0,0,null,null,null,null,0,0,0,null,{"$f":"IF(SUM(J138,L138,N138)=0,\"S/V\",VLOOKUP(D138,'Plan Estu Especialidades'!$B$4:$AG$77,32,0))","v":"S/V"},0,0,null,null,null,null,null,null,0,0,0]
[{"$f":"+IF(B139=0,0,SUM($B$62:B139))","v":0},0,91,54,0,0,0,"Operación de Empresas de Alojamiento","_54",null,null,null,null,null,null,{"$f":"IF(E139=2,VLOOKUP(D139,'Plan Estu Especialidades'!$B$4:$AF$77,3,0),IF(E139=1,VLOOKUP(D139,'Plan Estu Especialidades'!$B$4:$AF$77,3,0)*J139,0))","v":0},{"$f":"IF(E139=2,VLOOKUP(D139,'Plan Estu Especialidades'!$B$4:$AF$77,4,0),IF(E139=1,VLOOKUP(D139,'Plan Estu Especialidades'!$B$4:$AF$77,4,0)*J139,0))","v":0},{"$f":"IF(E139=2,VLOOKUP(D139,'Plan Estu Especialidades'!$B$4:$AF$77,5,0),IF(E139=1,VLOOKUP(D139,'Plan Estu Especialidades'!$B$4:$AF$77,5,0)*J139,0))","v":0},{"$f":"IF(F139=3,VLOOKUP(D139,'Plan Estu Especialidades'!$B$4:$AF$77,12,0),IF(F139=2,VLOOKUP(D139,'Plan Estu Especialidades'!$B$4:$AF$77,7,0),IF(F139=1,VLOOKUP(D139,'Plan Estu Especialidades'!$B$4:$AF$77,7,0)*L139,0)))","v":0},{"$f":"IF(F139=3,VLOOKUP(D139,'Plan Estu Especialidades'!$B$4:$AF$77,13,0),IF(F139=2,VLOOKUP(D139,'Plan Estu Especialidades'!$B$4:$AF$77,8,0),IF(F139=1,VLOOKUP(D139,'Plan Estu Especialidades'!$B$4:$AF$77,8,0)*L139,0)))","v":0},{"$f":"IF(F139=3,VLOOKUP(D139,'Plan Estu Especialidades'!$B$4:$AF$77,14,0),IF(F139=2,VLOOKUP(D139,'Plan Estu Especialidades'!$B$4:$AF$77,9,0),IF(F139=1,VLOOKUP(D139,'Plan Estu Especialidades'!$B$4:$AF$77,9,0)*L139,0)))","v":0},{"$f":"IF(F139=3,VLOOKUP(D139,'Plan Estu Especialidades'!$B$4:$AF$77,15,0),IF(F139=2,VLOOKUP(D139,'Plan Estu Especialidades'!$B$4:$AF$77,10,0),IF(F139=1,VLOOKUP(D139,'Plan Estu Especialidades'!$B$4:$AF$77,10,0)*L139,0)))","v":0},{"$f":"IF(G139=4,VLOOKUP(D139,'Plan Estu Especialidades'!$B$4:$AF$77,27,0),IF(G139=3,VLOOKUP(D139,'Plan Estu Especialidades'!$B$4:$AF$77,22,0),IF(G139=2,VLOOKUP(D139,'Plan Estu Especialidades'!$B$4:$AF$77,17,0),IF(G139=1,VLOOKUP(D139,'Plan Estu Especialidades'!$B$4:$AF$77,17,0)*N139,0))))","v":0},{"$f":"IF(G139=4,VLOOKUP(D139,'Plan Estu Especialidades'!$B$4:$AF$77,28,0),IF(G139=3,VLOOKUP(D139,'Plan Estu Especialidades'!$B$4:$AF$77,23,0),IF(G139=2,VLOOKUP(D139,'Plan Estu Especialidades'!$B$4:$AF$77,18,0),IF(G139=1,VLOOKUP(D139,'Plan Estu Especialidades'!$B$4:$AF$77,18,0)*N139,0))))","v":0},{"$f":"IF(G139=4,VLOOKUP(D139,'Plan Estu Especialidades'!$B$4:$AF$77,29,0),IF(G139=3,VLOOKUP(D139,'Plan Estu Especialidades'!$B$4:$AF$77,24,0),IF(G139=2,VLOOKUP(D139,'Plan Estu Especialidades'!$B$4:$AF$77,19,0),IF(G139=1,VLOOKUP(D139,'Plan Estu Especialidades'!$B$4:$AF$77,19,0)*N139,0))))","v":0},{"$f":"IF(G139=4,VLOOKUP(D139,'Plan Estu Especialidades'!$B$4:$AF$77,30,0),IF(G139=3,VLOOKUP(D139,'Plan Estu Especialidades'!$B$4:$AF$77,25,0),IF(G139=2,VLOOKUP(D139,'Plan Estu Especialidades'!$B$4:$AF$77,20,0),IF(G139=1,VLOOKUP(D139,'Plan Estu Especialidades'!$B$4:$AF$77,20,0)*N139,0))))","v":0},0,0,null,null,null,null,null,0,0,0,null,null,null,null,0,0,0,null,{"$f":"IF(SUM(J139,L139,N139)=0,\"S/V\",VLOOKUP(D139,'Plan Estu Especialidades'!$B$4:$AG$77,32,0))","v":"S/V"},0,0,null,null,null,null,null,null,0,0,0]
[{"$f":"+IF(B140=0,0,SUM($B$62:B140))","v":0},{"$f":"+IF(AA140>0,1,0)","v":0},91,55,{"$f":"IF(K140>29,1,IF(K140>14,2,0))","v":0},{"$f":"IF(M140>20,1,IF(M140>8,2,IF(M140>0,3,0)))","v":0},{"$f":"IF(O140>20,1,IF(O140>7,2,IF(O140>5,3,IF(O140>0,4,0))))","v":0},"Producción Agrícola y Pecuaria",{"$f":"+$U$3&\"_\"&D140","v":"_55"},null,null,null,null,null,null,{"$f":"IF(E140=2,VLOOKUP(D140,'Plan Estu Especialidades'!$B$4:$AF$77,3,0),IF(E140=1,VLOOKUP(D140,'Plan Estu Especialidades'!$B$4:$AF$77,3,0)*J140,0))","v":0},{"$f":"IF(E140=2,VLOOKUP(D140,'Plan Estu Especialidades'!$B$4:$AF$77,4,0),IF(E140=1,VLOOKUP(D140,'Plan Estu Especialidades'!$B$4:$AF$77,4,0)*J140,0))","v":0},{"$f":"IF(E140=2,VLOOKUP(D140,'Plan Estu Especialidades'!$B$4:$AF$77,5,0),IF(E140=1,VLOOKUP(D140,'Plan Estu Especialidades'!$B$4:$AF$77,5,0)*J140,0))","v":0},{"$f":"IF(F140=3,VLOOKUP(D140,'Plan Estu Especialidades'!$B$4:$AF$77,12,0),IF(F140=2,VLOOKUP(D140,'Plan Estu Especialidades'!$B$4:$AF$77,7,0),IF(F140=1,VLOOKUP(D140,'Plan Estu Especialidades'!$B$4:$AF$77,7,0)*L140,0)))","v":0},{"$f":"IF(F140=3,VLOOKUP(D140,'Plan Estu Especialidades'!$B$4:$AF$77,13,0),IF(F140=2,VLOOKUP(D140,'Plan Estu Especialidades'!$B$4:$AF$77,8,0),IF(F140=1,VLOOKUP(D140,'Plan Estu Especialidades'!$B$4:$AF$77,8,0)*L140,0)))","v":0},{"$f":"IF(F140=3,VLOOKUP(D140,'Plan Estu Especialidades'!$B$4:$AF$77,14,0),IF(F140=2,VLOOKUP(D140,'Plan Estu Especialidades'!$B$4:$AF$77,9,0),IF(F140=1,VLOOKUP(D140,'Plan Estu Especialidades'!$B$4:$AF$77,9,0)*L140,0)))","v":0},{"$f":"IF(F140=3,VLOOKUP(D140,'Plan Estu Especialidades'!$B$4:$AF$77,15,0),IF(F140=2,VLOOKUP(D140,'Plan Estu Especialidades'!$B$4:$AF$77,10,0),IF(F140=1,VLOOKUP(D140,'Plan Estu Especialidades'!$B$4:$AF$77,10,0)*L140,0)))","v":0},{"$f":"IF(G140=4,VLOOKUP(D140,'Plan Estu Especialidades'!$B$4:$AF$77,27,0),IF(G140=3,VLOOKUP(D140,'Plan Estu Especialidades'!$B$4:$AF$77,22,0),IF(G140=2,VLOOKUP(D140,'Plan Estu Especialidades'!$B$4:$AF$77,17,0),IF(G140=1,VLOOKUP(D140,'Plan Estu Especialidades'!$B$4:$AF$77,17,0)*N140,0))))","v":0},{"$f":"IF(G140=4,VLOOKUP(D140,'Plan Estu Especialidades'!$B$4:$AF$77,28,0),IF(G140=3,VLOOKUP(D140,'Plan Estu Especialidades'!$B$4:$AF$77,23,0),IF(G140=2,VLOOKUP(D140,'Plan Estu Especialidades'!$B$4:$AF$77,18,0),IF(G140=1,VLOOKUP(D140,'Plan Estu Especialidades'!$B$4:$AF$77,18,0)*N140,0))))","v":0},{"$f":"IF(G140=4,VLOOKUP(D140,'Plan Estu Especialidades'!$B$4:$AF$77,29,0),IF(G140=3,VLOOKUP(D140,'Plan Estu Especialidades'!$B$4:$AF$77,24,0),IF(G140=2,VLOOKUP(D140,'Plan Estu Especialidades'!$B$4:$AF$77,19,0),IF(G140=1,VLOOKUP(D140,'Plan Estu Especialidades'!$B$4:$AF$77,19,0)*N140,0))))","v":0},{"$f":"IF(G140=4,VLOOKUP(D140,'Plan Estu Especialidades'!$B$4:$AF$77,30,0),IF(G140=3,VLOOKUP(D140,'Plan Estu Especialidades'!$B$4:$AF$77,25,0),IF(G140=2,VLOOKUP(D140,'Plan Estu Especialidades'!$B$4:$AF$77,20,0),IF(G140=1,VLOOKUP(D140,'Plan Estu Especialidades'!$B$4:$AF$77,20,0)*N140,0))))","v":0},{"$f":"SUM(P140:R140,S140:U140,W140:Y140)","v":0},{"$f":"+AT140+AU140","v":0},null,null,null,null,null,{"$f":"SUM(P140:R140)","v":0},{"$f":"SUM(S140:U140)","v":0},{"$f":"SUM(W140:Y140)","v":0},null,null,null,null,{"$f":"+J140","v":0},{"$f":"+L140","v":0},{"$f":"+N140","v":0},null,{"$f":"IF(SUM(J140,L140,N140)=0,\"S/V\",VLOOKUP(D140,'Plan Estu Especialidades'!$B$4:$AG$77,32,0))","v":"S/V"},{"$f":"IF(AND(AS140<2,$AT$85>$AU$85),V140+Z140,IF($AT$85=$AU$85,V140+Z140,0))","v":0},{"$f":"+IF(AND($AU$85>$AT$85,AS140=2),V140+Z140,IF(AND($AU$85>$AT$85,AS140=0),V140+Z140,0))","v":0},null,null,null,null,null,null,{"$f":"+IF(AH140=0,0,AH140/J140)","v":0},{"$f":"+IF(AI140=0,0,AI140/L140)","v":0},{"$f":"+IF(AJ140=0,0,AJ140/N140)","v":0}]
[{"$f":"+IF(B141=0,0,SUM($B$62:B141))","v":0},0,91,56,0,0,0,"Productividad y Calidad","_56",null,null,null,null,null,null,{"$f":"IF(E141=2,VLOOKUP(D141,'Plan Estu Especialidades'!$B$4:$AF$77,3,0),IF(E141=1,VLOOKUP(D141,'Plan Estu Especialidades'!$B$4:$AF$77,3,0)*J141,0))","v":0},{"$f":"IF(E141=2,VLOOKUP(D141,'Plan Estu Especialidades'!$B$4:$AF$77,4,0),IF(E141=1,VLOOKUP(D141,'Plan Estu Especialidades'!$B$4:$AF$77,4,0)*J141,0))","v":0},{"$f":"IF(E141=2,VLOOKUP(D141,'Plan Estu Especialidades'!$B$4:$AF$77,5,0),IF(E141=1,VLOOKUP(D141,'Plan Estu Especialidades'!$B$4:$AF$77,5,0)*J141,0))","v":0},{"$f":"IF(F141=3,VLOOKUP(D141,'Plan Estu Especialidades'!$B$4:$AF$77,12,0),IF(F141=2,VLOOKUP(D141,'Plan Estu Especialidades'!$B$4:$AF$77,7,0),IF(F141=1,VLOOKUP(D141,'Plan Estu Especialidades'!$B$4:$AF$77,7,0)*L141,0)))","v":0},{"$f":"IF(F141=3,VLOOKUP(D141,'Plan Estu Especialidades'!$B$4:$AF$77,13,0),IF(F141=2,VLOOKUP(D141,'Plan Estu Especialidades'!$B$4:$AF$77,8,0),IF(F141=1,VLOOKUP(D141,'Plan Estu Especialidades'!$B$4:$AF$77,8,0)*L141,0)))","v":0},{"$f":"IF(F141=3,VLOOKUP(D141,'Plan Estu Especialidades'!$B$4:$AF$77,14,0),IF(F141=2,VLOOKUP(D141,'Plan Estu Especialidades'!$B$4:$AF$77,9,0),IF(F141=1,VLOOKUP(D141,'Plan Estu Especialidades'!$B$4:$AF$77,9,0)*L141,0)))","v":0},{"$f":"IF(F141=3,VLOOKUP(D141,'Plan Estu Especialidades'!$B$4:$AF$77,15,0),IF(F141=2,VLOOKUP(D141,'Plan Estu Especialidades'!$B$4:$AF$77,10,0),IF(F141=1,VLOOKUP(D141,'Plan Estu Especialidades'!$B$4:$AF$77,10,0)*L141,0)))","v":0},{"$f":"IF(G141=4,VLOOKUP(D141,'Plan Estu Especialidades'!$B$4:$AF$77,27,0),IF(G141=3,VLOOKUP(D141,'Plan Estu Especialidades'!$B$4:$AF$77,22,0),IF(G141=2,VLOOKUP(D141,'Plan Estu Especialidades'!$B$4:$AF$77,17,0),IF(G141=1,VLOOKUP(D141,'Plan Estu Especialidades'!$B$4:$AF$77,17,0)*N141,0))))","v":0},{"$f":"IF(G141=4,VLOOKUP(D141,'Plan Estu Especialidades'!$B$4:$AF$77,28,0),IF(G141=3,VLOOKUP(D141,'Plan Estu Especialidades'!$B$4:$AF$77,23,0),IF(G141=2,VLOOKUP(D141,'Plan Estu Especialidades'!$B$4:$AF$77,18,0),IF(G141=1,VLOOKUP(D141,'Plan Estu Especialidades'!$B$4:$AF$77,18,0)*N141,0))))","v":0},{"$f":"IF(G141=4,VLOOKUP(D141,'Plan Estu Especialidades'!$B$4:$AF$77,29,0),IF(G141=3,VLOOKUP(D141,'Plan Estu Especialidades'!$B$4:$AF$77,24,0),IF(G141=2,VLOOKUP(D141,'Plan Estu Especialidades'!$B$4:$AF$77,19,0),IF(G141=1,VLOOKUP(D141,'Plan Estu Especialidades'!$B$4:$AF$77,19,0)*N141,0))))","v":0},{"$f":"IF(G141=4,VLOOKUP(D141,'Plan Estu Especialidades'!$B$4:$AF$77,30,0),IF(G141=3,VLOOKUP(D141,'Plan Estu Especialidades'!$B$4:$AF$77,25,0),IF(G141=2,VLOOKUP(D141,'Plan Estu Especialidades'!$B$4:$AF$77,20,0),IF(G141=1,VLOOKUP(D141,'Plan Estu Especialidades'!$B$4:$AF$77,20,0)*N141,0))))","v":0},0,0,null,null,null,null,null,0,0,0,null,null,null,null,0,0,0,null,{"$f":"IF(SUM(J141,L141,N141)=0,\"S/V\",VLOOKUP(D141,'Plan Estu Especialidades'!$B$4:$AG$77,32,0))","v":"S/V"},0,0,null,null,null,null,null,null,0,0,0]
[{"$f":"+IF(B142=0,0,SUM($B$62:B142))","v":0},0,91,57,0,0,0,"Productivity and Quality","_57",null,null,null,null,null,null,{"$f":"IF(E142=2,VLOOKUP(D142,'Plan Estu Especialidades'!$B$4:$AF$77,3,0),IF(E142=1,VLOOKUP(D142,'Plan Estu Especialidades'!$B$4:$AF$77,3,0)*J142,0))","v":0},{"$f":"IF(E142=2,VLOOKUP(D142,'Plan Estu Especialidades'!$B$4:$AF$77,4,0),IF(E142=1,VLOOKUP(D142,'Plan Estu Especialidades'!$B$4:$AF$77,4,0)*J142,0))","v":0},{"$f":"IF(E142=2,VLOOKUP(D142,'Plan Estu Especialidades'!$B$4:$AF$77,5,0),IF(E142=1,VLOOKUP(D142,'Plan Estu Especialidades'!$B$4:$AF$77,5,0)*J142,0))","v":0},{"$f":"IF(F142=3,VLOOKUP(D142,'Plan Estu Especialidades'!$B$4:$AF$77,12,0),IF(F142=2,VLOOKUP(D142,'Plan Estu Especialidades'!$B$4:$AF$77,7,0),IF(F142=1,VLOOKUP(D142,'Plan Estu Especialidades'!$B$4:$AF$77,7,0)*L142,0)))","v":0},{"$f":"IF(F142=3,VLOOKUP(D142,'Plan Estu Especialidades'!$B$4:$AF$77,13,0),IF(F142=2,VLOOKUP(D142,'Plan Estu Especialidades'!$B$4:$AF$77,8,0),IF(F142=1,VLOOKUP(D142,'Plan Estu Especialidades'!$B$4:$AF$77,8,0)*L142,0)))","v":0},{"$f":"IF(F142=3,VLOOKUP(D142,'Plan Estu Especialidades'!$B$4:$AF$77,14,0),IF(F142=2,VLOOKUP(D142,'Plan Estu Especialidades'!$B$4:$AF$77,9,0),IF(F142=1,VLOOKUP(D142,'Plan Estu Especialidades'!$B$4:$AF$77,9,0)*L142,0)))","v":0},{"$f":"IF(F142=3,VLOOKUP(D142,'Plan Estu Especialidades'!$B$4:$AF$77,15,0),IF(F142=2,VLOOKUP(D142,'Plan Estu Especialidades'!$B$4:$AF$77,10,0),IF(F142=1,VLOOKUP(D142,'Plan Estu Especialidades'!$B$4:$AF$77,10,0)*L142,0)))","v":0},{"$f":"IF(G142=4,VLOOKUP(D142,'Plan Estu Especialidades'!$B$4:$AF$77,27,0),IF(G142=3,VLOOKUP(D142,'Plan Estu Especialidades'!$B$4:$AF$77,22,0),IF(G142=2,VLOOKUP(D142,'Plan Estu Especialidades'!$B$4:$AF$77,17,0),IF(G142=1,VLOOKUP(D142,'Plan Estu Especialidades'!$B$4:$AF$77,17,0)*N142,0))))","v":0},{"$f":"IF(G142=4,VLOOKUP(D142,'Plan Estu Especialidades'!$B$4:$AF$77,28,0),IF(G142=3,VLOOKUP(D142,'Plan Estu Especialidades'!$B$4:$AF$77,23,0),IF(G142=2,VLOOKUP(D142,'Plan Estu Especialidades'!$B$4:$AF$77,18,0),IF(G142=1,VLOOKUP(D142,'Plan Estu Especialidades'!$B$4:$AF$77,18,0)*N142,0))))","v":0},{"$f":"IF(G142=4,VLOOKUP(D142,'Plan Estu Especialidades'!$B$4:$AF$77,29,0),IF(G142=3,VLOOKUP(D142,'Plan Estu Especialidades'!$B$4:$AF$77,24,0),IF(G142=2,VLOOKUP(D142,'Plan Estu Especialidades'!$B$4:$AF$77,19,0),IF(G142=1,VLOOKUP(D142,'Plan Estu Especialidades'!$B$4:$AF$77,19,0)*N142,0))))","v":0},{"$f":"IF(G142=4,VLOOKUP(D142,'Plan Estu Especialidades'!$B$4:$AF$77,30,0),IF(G142=3,VLOOKUP(D142,'Plan Estu Especialidades'!$B$4:$AF$77,25,0),IF(G142=2,VLOOKUP(D142,'Plan Estu Especialidades'!$B$4:$AF$77,20,0),IF(G142=1,VLOOKUP(D142,'Plan Estu Especialidades'!$B$4:$AF$77,20,0)*N142,0))))","v":0},0,0,null,null,null,null,null,0,0,0,null,null,null,null,0,0,0,null,{"$f":"IF(SUM(J142,L142,N142)=0,\"S/V\",VLOOKUP(D142,'Plan Estu Especialidades'!$B$4:$AG$77,32,0))","v":"S/V"},0,0,null,null,null,null,null,null,0,0,0]
[{"$f":"+IF(B143=0,0,SUM($B$62:B143))","v":0},0,91,58,0,0,0,"Refrigeración y Aire Acondicionado","_58",null,null,null,null,null,null,{"$f":"IF(E143=2,VLOOKUP(D143,'Plan Estu Especialidades'!$B$4:$AF$77,3,0),IF(E143=1,VLOOKUP(D143,'Plan Estu Especialidades'!$B$4:$AF$77,3,0)*J143,0))","v":0},{"$f":"IF(E143=2,VLOOKUP(D143,'Plan Estu Especialidades'!$B$4:$AF$77,4,0),IF(E143=1,VLOOKUP(D143,'Plan Estu Especialidades'!$B$4:$AF$77,4,0)*J143,0))","v":0},{"$f":"IF(E143=2,VLOOKUP(D143,'Plan Estu Especialidades'!$B$4:$AF$77,5,0),IF(E143=1,VLOOKUP(D143,'Plan Estu Especialidades'!$B$4:$AF$77,5,0)*J143,0))","v":0},{"$f":"IF(F143=3,VLOOKUP(D143,'Plan Estu Especialidades'!$B$4:$AF$77,12,0),IF(F143=2,VLOOKUP(D143,'Plan Estu Especialidades'!$B$4:$AF$77,7,0),IF(F143=1,VLOOKUP(D143,'Plan Estu Especialidades'!$B$4:$AF$77,7,0)*L143,0)))","v":0},{"$f":"IF(F143=3,VLOOKUP(D143,'Plan Estu Especialidades'!$B$4:$AF$77,13,0),IF(F143=2,VLOOKUP(D143,'Plan Estu Especialidades'!$B$4:$AF$77,8,0),IF(F143=1,VLOOKUP(D143,'Plan Estu Especialidades'!$B$4:$AF$77,8,0)*L143,0)))","v":0},{"$f":"IF(F143=3,VLOOKUP(D143,'Plan Estu Especialidades'!$B$4:$AF$77,14,0),IF(F143=2,VLOOKUP(D143,'Plan Estu Especialidades'!$B$4:$AF$77,9,0),IF(F143=1,VLOOKUP(D143,'Plan Estu Especialidades'!$B$4:$AF$77,9,0)*L143,0)))","v":0},{"$f":"IF(F143=3,VLOOKUP(D143,'Plan Estu Especialidades'!$B$4:$AF$77,15,0),IF(F143=2,VLOOKUP(D143,'Plan Estu Especialidades'!$B$4:$AF$77,10,0),IF(F143=1,VLOOKUP(D143,'Plan Estu Especialidades'!$B$4:$AF$77,10,0)*L143,0)))","v":0},{"$f":"IF(G143=4,VLOOKUP(D143,'Plan Estu Especialidades'!$B$4:$AF$77,27,0),IF(G143=3,VLOOKUP(D143,'Plan Estu Especialidades'!$B$4:$AF$77,22,0),IF(G143=2,VLOOKUP(D143,'Plan Estu Especialidades'!$B$4:$AF$77,17,0),IF(G143=1,VLOOKUP(D143,'Plan Estu Especialidades'!$B$4:$AF$77,17,0)*N143,0))))","v":0},{"$f":"IF(G143=4,VLOOKUP(D143,'Plan Estu Especialidades'!$B$4:$AF$77,28,0),IF(G143=3,VLOOKUP(D143,'Plan Estu Especialidades'!$B$4:$AF$77,23,0),IF(G143=2,VLOOKUP(D143,'Plan Estu Especialidades'!$B$4:$AF$77,18,0),IF(G143=1,VLOOKUP(D143,'Plan Estu Especialidades'!$B$4:$AF$77,18,0)*N143,0))))","v":0},{"$f":"IF(G143=4,VLOOKUP(D143,'Plan Estu Especialidades'!$B$4:$AF$77,29,0),IF(G143=3,VLOOKUP(D143,'Plan Estu Especialidades'!$B$4:$AF$77,24,0),IF(G143=2,VLOOKUP(D143,'Plan Estu Especialidades'!$B$4:$AF$77,19,0),IF(G143=1,VLOOKUP(D143,'Plan Estu Especialidades'!$B$4:$AF$77,19,0)*N143,0))))","v":0},{"$f":"IF(G143=4,VLOOKUP(D143,'Plan Estu Especialidades'!$B$4:$AF$77,30,0),IF(G143=3,VLOOKUP(D143,'Plan Estu Especialidades'!$B$4:$AF$77,25,0),IF(G143=2,VLOOKUP(D143,'Plan Estu Especialidades'!$B$4:$AF$77,20,0),IF(G143=1,VLOOKUP(D143,'Plan Estu Especialidades'!$B$4:$AF$77,20,0)*N143,0))))","v":0},0,0,null,null,null,null,null,0,0,0,null,null,null,null,0,0,0,null,{"$f":"IF(SUM(J143,L143,N143)=0,\"S/V\",VLOOKUP(D143,'Plan Estu Especialidades'!$B$4:$AG$77,32,0))","v":"S/V"},0,0,null,null,null,null,null,null,0,0,0]
[{"$f":"+IF(B144=0,0,SUM($B$62:B144))","v":0},0,91,59,0,0,0,"Reparación de los Sistemas de Vehículos Livianos","_59",null,null,null,null,null,null,{"$f":"IF(E144=2,VLOOKUP(D144,'Plan Estu Especialidades'!$B$4:$AF$77,3,0),IF(E144=1,VLOOKUP(D144,'Plan Estu Especialidades'!$B$4:$AF$77,3,0)*J144,0))","v":0},{"$f":"IF(E144=2,VLOOKUP(D144,'Plan Estu Especialidades'!$B$4:$AF$77,4,0),IF(E144=1,VLOOKUP(D144,'Plan Estu Especialidades'!$B$4:$AF$77,4,0)*J144,0))","v":0},{"$f":"IF(E144=2,VLOOKUP(D144,'Plan Estu Especialidades'!$B$4:$AF$77,5,0),IF(E144=1,VLOOKUP(D144,'Plan Estu Especialidades'!$B$4:$AF$77,5,0)*J144,0))","v":0},{"$f":"IF(F144=3,VLOOKUP(D144,'Plan Estu Especialidades'!$B$4:$AF$77,12,0),IF(F144=2,VLOOKUP(D144,'Plan Estu Especialidades'!$B$4:$AF$77,7,0),IF(F144=1,VLOOKUP(D144,'Plan Estu Especialidades'!$B$4:$AF$77,7,0)*L144,0)))","v":0},{"$f":"IF(F144=3,VLOOKUP(D144,'Plan Estu Especialidades'!$B$4:$AF$77,13,0),IF(F144=2,VLOOKUP(D144,'Plan Estu Especialidades'!$B$4:$AF$77,8,0),IF(F144=1,VLOOKUP(D144,'Plan Estu Especialidades'!$B$4:$AF$77,8,0)*L144,0)))","v":0},{"$f":"IF(F144=3,VLOOKUP(D144,'Plan Estu Especialidades'!$B$4:$AF$77,14,0),IF(F144=2,VLOOKUP(D144,'Plan Estu Especialidades'!$B$4:$AF$77,9,0),IF(F144=1,VLOOKUP(D144,'Plan Estu Especialidades'!$B$4:$AF$77,9,0)*L144,0)))","v":0},{"$f":"IF(F144=3,VLOOKUP(D144,'Plan Estu Especialidades'!$B$4:$AF$77,15,0),IF(F144=2,VLOOKUP(D144,'Plan Estu Especialidades'!$B$4:$AF$77,10,0),IF(F144=1,VLOOKUP(D144,'Plan Estu Especialidades'!$B$4:$AF$77,10,0)*L144,0)))","v":0},{"$f":"IF(G144=4,VLOOKUP(D144,'Plan Estu Especialidades'!$B$4:$AF$77,27,0),IF(G144=3,VLOOKUP(D144,'Plan Estu Especialidades'!$B$4:$AF$77,22,0),IF(G144=2,VLOOKUP(D144,'Plan Estu Especialidades'!$B$4:$AF$77,17,0),IF(G144=1,VLOOKUP(D144,'Plan Estu Especialidades'!$B$4:$AF$77,17,0)*N144,0))))","v":0},{"$f":"IF(G144=4,VLOOKUP(D144,'Plan Estu Especialidades'!$B$4:$AF$77,28,0),IF(G144=3,VLOOKUP(D144,'Plan Estu Especialidades'!$B$4:$AF$77,23,0),IF(G144=2,VLOOKUP(D144,'Plan Estu Especialidades'!$B$4:$AF$77,18,0),IF(G144=1,VLOOKUP(D144,'Plan Estu Especialidades'!$B$4:$AF$77,18,0)*N144,0))))","v":0},{"$f":"IF(G144=4,VLOOKUP(D144,'Plan Estu Especialidades'!$B$4:$AF$77,29,0),IF(G144=3,VLOOKUP(D144,'Plan Estu Especialidades'!$B$4:$AF$77,24,0),IF(G144=2,VLOOKUP(D144,'Plan Estu Especialidades'!$B$4:$AF$77,19,0),IF(G144=1,VLOOKUP(D144,'Plan Estu Especialidades'!$B$4:$AF$77,19,0)*N144,0))))","v":0},{"$f":"IF(G144=4,VLOOKUP(D144,'Plan Estu Especialidades'!$B$4:$AF$77,30,0),IF(G144=3,VLOOKUP(D144,'Plan Estu Especialidades'!$B$4:$AF$77,25,0),IF(G144=2,VLOOKUP(D144,'Plan Estu Especialidades'!$B$4:$AF$77,20,0),IF(G144=1,VLOOKUP(D144,'Plan Estu Especialidades'!$B$4:$AF$77,20,0)*N144,0))))","v":0},0,0,null,null,null,null,null,0,0,0,null,null,null,null,0,0,0,null,{"$f":"IF(SUM(J144,L144,N144)=0,\"S/V\",VLOOKUP(D144,'Plan Estu Especialidades'!$B$4:$AG$77,32,0))","v":"S/V"},0,0,null,null,null,null,null,null,0,0,0]
[{"$f":"+IF(B145=0,0,SUM($B$62:B145))","v":0},0,91,60,0,0,0,"Riego y Drenaje","_60",null,null,null,null,null,null,{"$f":"IF(E145=2,VLOOKUP(D145,'Plan Estu Especialidades'!$B$4:$AF$77,3,0),IF(E145=1,VLOOKUP(D145,'Plan Estu Especialidades'!$B$4:$AF$77,3,0)*J145,0))","v":0},{"$f":"IF(E145=2,VLOOKUP(D145,'Plan Estu Especialidades'!$B$4:$AF$77,4,0),IF(E145=1,VLOOKUP(D145,'Plan Estu Especialidades'!$B$4:$AF$77,4,0)*J145,0))","v":0},{"$f":"IF(E145=2,VLOOKUP(D145,'Plan Estu Especialidades'!$B$4:$AF$77,5,0),IF(E145=1,VLOOKUP(D145,'Plan Estu Especialidades'!$B$4:$AF$77,5,0)*J145,0))","v":0},{"$f":"IF(F145=3,VLOOKUP(D145,'Plan Estu Especialidades'!$B$4:$AF$77,12,0),IF(F145=2,VLOOKUP(D145,'Plan Estu Especialidades'!$B$4:$AF$77,7,0),IF(F145=1,VLOOKUP(D145,'Plan Estu Especialidades'!$B$4:$AF$77,7,0)*L145,0)))","v":0},{"$f":"IF(F145=3,VLOOKUP(D145,'Plan Estu Especialidades'!$B$4:$AF$77,13,0),IF(F145=2,VLOOKUP(D145,'Plan Estu Especialidades'!$B$4:$AF$77,8,0),IF(F145=1,VLOOKUP(D145,'Plan Estu Especialidades'!$B$4:$AF$77,8,0)*L145,0)))","v":0},{"$f":"IF(F145=3,VLOOKUP(D145,'Plan Estu Especialidades'!$B$4:$AF$77,14,0),IF(F145=2,VLOOKUP(D145,'Plan Estu Especialidades'!$B$4:$AF$77,9,0),IF(F145=1,VLOOKUP(D145,'Plan Estu Especialidades'!$B$4:$AF$77,9,0)*L145,0)))","v":0},{"$f":"IF(F145=3,VLOOKUP(D145,'Plan Estu Especialidades'!$B$4:$AF$77,15,0),IF(F145=2,VLOOKUP(D145,'Plan Estu Especialidades'!$B$4:$AF$77,10,0),IF(F145=1,VLOOKUP(D145,'Plan Estu Especialidades'!$B$4:$AF$77,10,0)*L145,0)))","v":0},{"$f":"IF(G145=4,VLOOKUP(D145,'Plan Estu Especialidades'!$B$4:$AF$77,27,0),IF(G145=3,VLOOKUP(D145,'Plan Estu Especialidades'!$B$4:$AF$77,22,0),IF(G145=2,VLOOKUP(D145,'Plan Estu Especialidades'!$B$4:$AF$77,17,0),IF(G145=1,VLOOKUP(D145,'Plan Estu Especialidades'!$B$4:$AF$77,17,0)*N145,0))))","v":0},{"$f":"IF(G145=4,VLOOKUP(D145,'Plan Estu Especialidades'!$B$4:$AF$77,28,0),IF(G145=3,VLOOKUP(D145,'Plan Estu Especialidades'!$B$4:$AF$77,23,0),IF(G145=2,VLOOKUP(D145,'Plan Estu Especialidades'!$B$4:$AF$77,18,0),IF(G145=1,VLOOKUP(D145,'Plan Estu Especialidades'!$B$4:$AF$77,18,0)*N145,0))))","v":0},{"$f":"IF(G145=4,VLOOKUP(D145,'Plan Estu Especialidades'!$B$4:$AF$77,29,0),IF(G145=3,VLOOKUP(D145,'Plan Estu Especialidades'!$B$4:$AF$77,24,0),IF(G145=2,VLOOKUP(D145,'Plan Estu Especialidades'!$B$4:$AF$77,19,0),IF(G145=1,VLOOKUP(D145,'Plan Estu Especialidades'!$B$4:$AF$77,19,0)*N145,0))))","v":0},{"$f":"IF(G145=4,VLOOKUP(D145,'Plan Estu Especialidades'!$B$4:$AF$77,30,0),IF(G145=3,VLOOKUP(D145,'Plan Estu Especialidades'!$B$4:$AF$77,25,0),IF(G145=2,VLOOKUP(D145,'Plan Estu Especialidades'!$B$4:$AF$77,20,0),IF(G145=1,VLOOKUP(D145,'Plan Estu Especialidades'!$B$4:$AF$77,20,0)*N145,0))))","v":0},0,0,null,null,null,null,null,0,0,0,null,null,null,null,0,0,0,null,{"$f":"IF(SUM(J145,L145,N145)=0,\"S/V\",VLOOKUP(D145,'Plan Estu Especialidades'!$B$4:$AG$77,32,0))","v":"S/V"},0,0,null,null,null,null,null,null,0,0,0]
[{"$f":"+IF(B146=0,0,SUM($B$62:B146))","v":0},{"$f":"+IF(AA146>0,1,0)","v":0},91,61,{"$f":"IF(K146>29,1,IF(K146>14,2,0))","v":0},{"$f":"IF(M146>20,1,IF(M146>8,2,IF(M146>0,3,0)))","v":0},{"$f":"IF(O146>20,1,IF(O146>7,2,IF(O146>5,3,IF(O146>0,4,0))))","v":0},"Salud Ocupacional",{"$f":"+$U$3&\"_\"&D146","v":"_61"},null,null,null,null,null,null,{"$f":"IF(E146=2,VLOOKUP(D146,'Plan Estu Especialidades'!$B$4:$AF$77,3,0),IF(E146=1,VLOOKUP(D146,'Plan Estu Especialidades'!$B$4:$AF$77,3,0)*J146,0))","v":0},{"$f":"IF(E146=2,VLOOKUP(D146,'Plan Estu Especialidades'!$B$4:$AF$77,4,0),IF(E146=1,VLOOKUP(D146,'Plan Estu Especialidades'!$B$4:$AF$77,4,0)*J146,0))","v":0},{"$f":"IF(E146=2,VLOOKUP(D146,'Plan Estu Especialidades'!$B$4:$AF$77,5,0),IF(E146=1,VLOOKUP(D146,'Plan Estu Especialidades'!$B$4:$AF$77,5,0)*J146,0))","v":0},{"$f":"IF(F146=3,VLOOKUP(D146,'Plan Estu Especialidades'!$B$4:$AF$77,12,0),IF(F146=2,VLOOKUP(D146,'Plan Estu Especialidades'!$B$4:$AF$77,7,0),IF(F146=1,VLOOKUP(D146,'Plan Estu Especialidades'!$B$4:$AF$77,7,0)*L146,0)))","v":0},{"$f":"IF(F146=3,VLOOKUP(D146,'Plan Estu Especialidades'!$B$4:$AF$77,13,0),IF(F146=2,VLOOKUP(D146,'Plan Estu Especialidades'!$B$4:$AF$77,8,0),IF(F146=1,VLOOKUP(D146,'Plan Estu Especialidades'!$B$4:$AF$77,8,0)*L146,0)))","v":0},{"$f":"IF(F146=3,VLOOKUP(D146,'Plan Estu Especialidades'!$B$4:$AF$77,14,0),IF(F146=2,VLOOKUP(D146,'Plan Estu Especialidades'!$B$4:$AF$77,9,0),IF(F146=1,VLOOKUP(D146,'Plan Estu Especialidades'!$B$4:$AF$77,9,0)*L146,0)))","v":0},{"$f":"IF(F146=3,VLOOKUP(D146,'Plan Estu Especialidades'!$B$4:$AF$77,15,0),IF(F146=2,VLOOKUP(D146,'Plan Estu Especialidades'!$B$4:$AF$77,10,0),IF(F146=1,VLOOKUP(D146,'Plan Estu Especialidades'!$B$4:$AF$77,10,0)*L146,0)))","v":0},{"$f":"IF(G146=4,VLOOKUP(D146,'Plan Estu Especialidades'!$B$4:$AF$77,27,0),IF(G146=3,VLOOKUP(D146,'Plan Estu Especialidades'!$B$4:$AF$77,22,0),IF(G146=2,VLOOKUP(D146,'Plan Estu Especialidades'!$B$4:$AF$77,17,0),IF(G146=1,VLOOKUP(D146,'Plan Estu Especialidades'!$B$4:$AF$77,17,0)*N146,0))))","v":0},{"$f":"IF(G146=4,VLOOKUP(D146,'Plan Estu Especialidades'!$B$4:$AF$77,28,0),IF(G146=3,VLOOKUP(D146,'Plan Estu Especialidades'!$B$4:$AF$77,23,0),IF(G146=2,VLOOKUP(D146,'Plan Estu Especialidades'!$B$4:$AF$77,18,0),IF(G146=1,VLOOKUP(D146,'Plan Estu Especialidades'!$B$4:$AF$77,18,0)*N146,0))))","v":0},{"$f":"IF(G146=4,VLOOKUP(D146,'Plan Estu Especialidades'!$B$4:$AF$77,29,0),IF(G146=3,VLOOKUP(D146,'Plan Estu Especialidades'!$B$4:$AF$77,24,0),IF(G146=2,VLOOKUP(D146,'Plan Estu Especialidades'!$B$4:$AF$77,19,0),IF(G146=1,VLOOKUP(D146,'Plan Estu Especialidades'!$B$4:$AF$77,19,0)*N146,0))))","v":0},{"$f":"IF(G146=4,VLOOKUP(D146,'Plan Estu Especialidades'!$B$4:$AF$77,30,0),IF(G146=3,VLOOKUP(D146,'Plan Estu Especialidades'!$B$4:$AF$77,25,0),IF(G146=2,VLOOKUP(D146,'Plan Estu Especialidades'!$B$4:$AF$77,20,0),IF(G146=1,VLOOKUP(D146,'Plan Estu Especialidades'!$B$4:$AF$77,20,0)*N146,0))))","v":0},{"$f":"SUM(P146:R146,S146:U146,W146:Y146)","v":0},{"$f":"+AT146+AU146","v":0},null,null,null,null,null,{"$f":"SUM(P146:R146)","v":0},{"$f":"SUM(S146:U146)","v":0},{"$f":"SUM(W146:Y146)","v":0},null,null,null,null,{"$f":"+J146","v":0},{"$f":"+L146","v":0},{"$f":"+N146","v":0},null,{"$f":"IF(SUM(J146,L146,N146)=0,\"S/V\",VLOOKUP(D146,'Plan Estu Especialidades'!$B$4:$AG$77,32,0))","v":"S/V"},{"$f":"IF(AND(AS146<2,$AT$85>$AU$85),V146+Z146,IF($AT$85=$AU$85,V146+Z146,0))","v":0},{"$f":"+IF(AND($AU$85>$AT$85,AS146=2),V146+Z146,IF(AND($AU$85>$AT$85,AS146=0),V146+Z146,0))","v":0},null,null,null,null,null,null,{"$f":"+IF(AH146=0,0,AH146/J146)","v":0},{"$f":"+IF(AI146=0,0,AI146/L146)","v":0},{"$f":"+IF(AJ146=0,0,AJ146/N146)","v":0}]
[{"$f":"+IF(B147=0,0,SUM($B$62:B147))","v":0},0,91,62,0,0,0,"Secretariado Ejecutivo","_62",null,null,null,null,null,null,{"$f":"IF(E147=2,VLOOKUP(D147,'Plan Estu Especialidades'!$B$4:$AF$77,3,0),IF(E147=1,VLOOKUP(D147,'Plan Estu Especialidades'!$B$4:$AF$77,3,0)*J147,0))","v":0},{"$f":"IF(E147=2,VLOOKUP(D147,'Plan Estu Especialidades'!$B$4:$AF$77,4,0),IF(E147=1,VLOOKUP(D147,'Plan Estu Especialidades'!$B$4:$AF$77,4,0)*J147,0))","v":0},{"$f":"IF(E147=2,VLOOKUP(D147,'Plan Estu Especialidades'!$B$4:$AF$77,5,0),IF(E147=1,VLOOKUP(D147,'Plan Estu Especialidades'!$B$4:$AF$77,5,0)*J147,0))","v":0},{"$f":"IF(F147=3,VLOOKUP(D147,'Plan Estu Especialidades'!$B$4:$AF$77,12,0),IF(F147=2,VLOOKUP(D147,'Plan Estu Especialidades'!$B$4:$AF$77,7,0),IF(F147=1,VLOOKUP(D147,'Plan Estu Especialidades'!$B$4:$AF$77,7,0)*L147,0)))","v":0},{"$f":"IF(F147=3,VLOOKUP(D147,'Plan Estu Especialidades'!$B$4:$AF$77,13,0),IF(F147=2,VLOOKUP(D147,'Plan Estu Especialidades'!$B$4:$AF$77,8,0),IF(F147=1,VLOOKUP(D147,'Plan Estu Especialidades'!$B$4:$AF$77,8,0)*L147,0)))","v":0},{"$f":"IF(F147=3,VLOOKUP(D147,'Plan Estu Especialidades'!$B$4:$AF$77,14,0),IF(F147=2,VLOOKUP(D147,'Plan Estu Especialidades'!$B$4:$AF$77,9,0),IF(F147=1,VLOOKUP(D147,'Plan Estu Especialidades'!$B$4:$AF$77,9,0)*L147,0)))","v":0},{"$f":"IF(F147=3,VLOOKUP(D147,'Plan Estu Especialidades'!$B$4:$AF$77,15,0),IF(F147=2,VLOOKUP(D147,'Plan Estu Especialidades'!$B$4:$AF$77,10,0),IF(F147=1,VLOOKUP(D147,'Plan Estu Especialidades'!$B$4:$AF$77,10,0)*L147,0)))","v":0},{"$f":"IF(G147=4,VLOOKUP(D147,'Plan Estu Especialidades'!$B$4:$AF$77,27,0),IF(G147=3,VLOOKUP(D147,'Plan Estu Especialidades'!$B$4:$AF$77,22,0),IF(G147=2,VLOOKUP(D147,'Plan Estu Especialidades'!$B$4:$AF$77,17,0),IF(G147=1,VLOOKUP(D147,'Plan Estu Especialidades'!$B$4:$AF$77,17,0)*N147,0))))","v":0},{"$f":"IF(G147=4,VLOOKUP(D147,'Plan Estu Especialidades'!$B$4:$AF$77,28,0),IF(G147=3,VLOOKUP(D147,'Plan Estu Especialidades'!$B$4:$AF$77,23,0),IF(G147=2,VLOOKUP(D147,'Plan Estu Especialidades'!$B$4:$AF$77,18,0),IF(G147=1,VLOOKUP(D147,'Plan Estu Especialidades'!$B$4:$AF$77,18,0)*N147,0))))","v":0},{"$f":"IF(G147=4,VLOOKUP(D147,'Plan Estu Especialidades'!$B$4:$AF$77,29,0),IF(G147=3,VLOOKUP(D147,'Plan Estu Especialidades'!$B$4:$AF$77,24,0),IF(G147=2,VLOOKUP(D147,'Plan Estu Especialidades'!$B$4:$AF$77,19,0),IF(G147=1,VLOOKUP(D147,'Plan Estu Especialidades'!$B$4:$AF$77,19,0)*N147,0))))","v":0},{"$f":"IF(G147=4,VLOOKUP(D147,'Plan Estu Especialidades'!$B$4:$AF$77,30,0),IF(G147=3,VLOOKUP(D147,'Plan Estu Especialidades'!$B$4:$AF$77,25,0),IF(G147=2,VLOOKUP(D147,'Plan Estu Especialidades'!$B$4:$AF$77,20,0),IF(G147=1,VLOOKUP(D147,'Plan Estu Especialidades'!$B$4:$AF$77,20,0)*N147,0))))","v":0},0,0,null,null,null,null,null,0,0,0,null,null,null,null,0,0,0,null,{"$f":"IF(SUM(J147,L147,N147)=0,\"S/V\",VLOOKUP(D147,'Plan Estu Especialidades'!$B$4:$AG$77,32,0))","v":"S/V"},0,0,null,null,null,null,null,null,0,0,0]
[{"$f":"+IF(B148=0,0,SUM($B$62:B148))","v":0},0,91,63,0,0,0,"Turismo Costero","_63",null,null,null,null,null,null,{"$f":"IF(E148=2,VLOOKUP(D148,'Plan Estu Especialidades'!$B$4:$AF$77,3,0),IF(E148=1,VLOOKUP(D148,'Plan Estu Especialidades'!$B$4:$AF$77,3,0)*J148,0))","v":0},{"$f":"IF(E148=2,VLOOKUP(D148,'Plan Estu Especialidades'!$B$4:$AF$77,4,0),IF(E148=1,VLOOKUP(D148,'Plan Estu Especialidades'!$B$4:$AF$77,4,0)*J148,0))","v":0},{"$f":"IF(E148=2,VLOOKUP(D148,'Plan Estu Especialidades'!$B$4:$AF$77,5,0),IF(E148=1,VLOOKUP(D148,'Plan Estu Especialidades'!$B$4:$AF$77,5,0)*J148,0))","v":0},{"$f":"IF(F148=3,VLOOKUP(D148,'Plan Estu Especialidades'!$B$4:$AF$77,12,0),IF(F148=2,VLOOKUP(D148,'Plan Estu Especialidades'!$B$4:$AF$77,7,0),IF(F148=1,VLOOKUP(D148,'Plan Estu Especialidades'!$B$4:$AF$77,7,0)*L148,0)))","v":0},{"$f":"IF(F148=3,VLOOKUP(D148,'Plan Estu Especialidades'!$B$4:$AF$77,13,0),IF(F148=2,VLOOKUP(D148,'Plan Estu Especialidades'!$B$4:$AF$77,8,0),IF(F148=1,VLOOKUP(D148,'Plan Estu Especialidades'!$B$4:$AF$77,8,0)*L148,0)))","v":0},{"$f":"IF(F148=3,VLOOKUP(D148,'Plan Estu Especialidades'!$B$4:$AF$77,14,0),IF(F148=2,VLOOKUP(D148,'Plan Estu Especialidades'!$B$4:$AF$77,9,0),IF(F148=1,VLOOKUP(D148,'Plan Estu Especialidades'!$B$4:$AF$77,9,0)*L148,0)))","v":0},{"$f":"IF(F148=3,VLOOKUP(D148,'Plan Estu Especialidades'!$B$4:$AF$77,15,0),IF(F148=2,VLOOKUP(D148,'Plan Estu Especialidades'!$B$4:$AF$77,10,0),IF(F148=1,VLOOKUP(D148,'Plan Estu Especialidades'!$B$4:$AF$77,10,0)*L148,0)))","v":0},{"$f":"IF(G148=4,VLOOKUP(D148,'Plan Estu Especialidades'!$B$4:$AF$77,27,0),IF(G148=3,VLOOKUP(D148,'Plan Estu Especialidades'!$B$4:$AF$77,22,0),IF(G148=2,VLOOKUP(D148,'Plan Estu Especialidades'!$B$4:$AF$77,17,0),IF(G148=1,VLOOKUP(D148,'Plan Estu Especialidades'!$B$4:$AF$77,17,0)*N148,0))))","v":0},{"$f":"IF(G148=4,VLOOKUP(D148,'Plan Estu Especialidades'!$B$4:$AF$77,28,0),IF(G148=3,VLOOKUP(D148,'Plan Estu Especialidades'!$B$4:$AF$77,23,0),IF(G148=2,VLOOKUP(D148,'Plan Estu Especialidades'!$B$4:$AF$77,18,0),IF(G148=1,VLOOKUP(D148,'Plan Estu Especialidades'!$B$4:$AF$77,18,0)*N148,0))))","v":0},{"$f":"IF(G148=4,VLOOKUP(D148,'Plan Estu Especialidades'!$B$4:$AF$77,29,0),IF(G148=3,VLOOKUP(D148,'Plan Estu Especialidades'!$B$4:$AF$77,24,0),IF(G148=2,VLOOKUP(D148,'Plan Estu Especialidades'!$B$4:$AF$77,19,0),IF(G148=1,VLOOKUP(D148,'Plan Estu Especialidades'!$B$4:$AF$77,19,0)*N148,0))))","v":0},{"$f":"IF(G148=4,VLOOKUP(D148,'Plan Estu Especialidades'!$B$4:$AF$77,30,0),IF(G148=3,VLOOKUP(D148,'Plan Estu Especialidades'!$B$4:$AF$77,25,0),IF(G148=2,VLOOKUP(D148,'Plan Estu Especialidades'!$B$4:$AF$77,20,0),IF(G148=1,VLOOKUP(D148,'Plan Estu Especialidades'!$B$4:$AF$77,20,0)*N148,0))))","v":0},0,0,null,null,null,null,null,0,0,0,null,null,null,null,0,0,0,null,{"$f":"IF(SUM(J148,L148,N148)=0,\"S/V\",VLOOKUP(D148,'Plan Estu Especialidades'!$B$4:$AG$77,32,0))","v":"S/V"},0,0,null,null,null,null,null,null,0,0,0]
[{"$f":"+IF(B149=0,0,SUM($B$62:B149))","v":0},0,91,64,0,0,0,"Turismo Ecológico","_64",null,null,null,null,null,null,{"$f":"IF(E149=2,VLOOKUP(D149,'Plan Estu Especialidades'!$B$4:$AF$77,3,0),IF(E149=1,VLOOKUP(D149,'Plan Estu Especialidades'!$B$4:$AF$77,3,0)*J149,0))","v":0},{"$f":"IF(E149=2,VLOOKUP(D149,'Plan Estu Especialidades'!$B$4:$AF$77,4,0),IF(E149=1,VLOOKUP(D149,'Plan Estu Especialidades'!$B$4:$AF$77,4,0)*J149,0))","v":0},{"$f":"IF(E149=2,VLOOKUP(D149,'Plan Estu Especialidades'!$B$4:$AF$77,5,0),IF(E149=1,VLOOKUP(D149,'Plan Estu Especialidades'!$B$4:$AF$77,5,0)*J149,0))","v":0},{"$f":"IF(F149=3,VLOOKUP(D149,'Plan Estu Especialidades'!$B$4:$AF$77,12,0),IF(F149=2,VLOOKUP(D149,'Plan Estu Especialidades'!$B$4:$AF$77,7,0),IF(F149=1,VLOOKUP(D149,'Plan Estu Especialidades'!$B$4:$AF$77,7,0)*L149,0)))","v":0},{"$f":"IF(F149=3,VLOOKUP(D149,'Plan Estu Especialidades'!$B$4:$AF$77,13,0),IF(F149=2,VLOOKUP(D149,'Plan Estu Especialidades'!$B$4:$AF$77,8,0),IF(F149=1,VLOOKUP(D149,'Plan Estu Especialidades'!$B$4:$AF$77,8,0)*L149,0)))","v":0},{"$f":"IF(F149=3,VLOOKUP(D149,'Plan Estu Especialidades'!$B$4:$AF$77,14,0),IF(F149=2,VLOOKUP(D149,'Plan Estu Especialidades'!$B$4:$AF$77,9,0),IF(F149=1,VLOOKUP(D149,'Plan Estu Especialidades'!$B$4:$AF$77,9,0)*L149,0)))","v":0},{"$f":"IF(F149=3,VLOOKUP(D149,'Plan Estu Especialidades'!$B$4:$AF$77,15,0),IF(F149=2,VLOOKUP(D149,'Plan Estu Especialidades'!$B$4:$AF$77,10,0),IF(F149=1,VLOOKUP(D149,'Plan Estu Especialidades'!$B$4:$AF$77,10,0)*L149,0)))","v":0},{"$f":"IF(G149=4,VLOOKUP(D149,'Plan Estu Especialidades'!$B$4:$AF$77,27,0),IF(G149=3,VLOOKUP(D149,'Plan Estu Especialidades'!$B$4:$AF$77,22,0),IF(G149=2,VLOOKUP(D149,'Plan Estu Especialidades'!$B$4:$AF$77,17,0),IF(G149=1,VLOOKUP(D149,'Plan Estu Especialidades'!$B$4:$AF$77,17,0)*N149,0))))","v":0},{"$f":"IF(G149=4,VLOOKUP(D149,'Plan Estu Especialidades'!$B$4:$AF$77,28,0),IF(G149=3,VLOOKUP(D149,'Plan Estu Especialidades'!$B$4:$AF$77,23,0),IF(G149=2,VLOOKUP(D149,'Plan Estu Especialidades'!$B$4:$AF$77,18,0),IF(G149=1,VLOOKUP(D149,'Plan Estu Especialidades'!$B$4:$AF$77,18,0)*N149,0))))","v":0},{"$f":"IF(G149=4,VLOOKUP(D149,'Plan Estu Especialidades'!$B$4:$AF$77,29,0),IF(G149=3,VLOOKUP(D149,'Plan Estu Especialidades'!$B$4:$AF$77,24,0),IF(G149=2,VLOOKUP(D149,'Plan Estu Especialidades'!$B$4:$AF$77,19,0),IF(G149=1,VLOOKUP(D149,'Plan Estu Especialidades'!$B$4:$AF$77,19,0)*N149,0))))","v":0},{"$f":"IF(G149=4,VLOOKUP(D149,'Plan Estu Especialidades'!$B$4:$AF$77,30,0),IF(G149=3,VLOOKUP(D149,'Plan Estu Especialidades'!$B$4:$AF$77,25,0),IF(G149=2,VLOOKUP(D149,'Plan Estu Especialidades'!$B$4:$AF$77,20,0),IF(G149=1,VLOOKUP(D149,'Plan Estu Especialidades'!$B$4:$AF$77,20,0)*N149,0))))","v":0},0,0,null,null,null,null,null,0,0,0,null,null,null,null,0,0,0,null,{"$f":"IF(SUM(J149,L149,N149)=0,\"S/V\",VLOOKUP(D149,'Plan Estu Especialidades'!$B$4:$AG$77,32,0))","v":"S/V"},0,0,null,null,null,null,null,null,0,0,0]
[{"$f":"+IF(B150=0,0,SUM($B$62:B150))","v":0},0,91,65,0,0,0,"Turismo en Alimentos y Bebidas","_65",null,null,null,null,null,null,{"$f":"IF(E150=2,VLOOKUP(D150,'Plan Estu Especialidades'!$B$4:$AF$77,3,0),IF(E150=1,VLOOKUP(D150,'Plan Estu Especialidades'!$B$4:$AF$77,3,0)*J150,0))","v":0},{"$f":"IF(E150=2,VLOOKUP(D150,'Plan Estu Especialidades'!$B$4:$AF$77,4,0),IF(E150=1,VLOOKUP(D150,'Plan Estu Especialidades'!$B$4:$AF$77,4,0)*J150,0))","v":0},{"$f":"IF(E150=2,VLOOKUP(D150,'Plan Estu Especialidades'!$B$4:$AF$77,5,0),IF(E150=1,VLOOKUP(D150,'Plan Estu Especialidades'!$B$4:$AF$77,5,0)*J150,0))","v":0},{"$f":"IF(F150=3,VLOOKUP(D150,'Plan Estu Especialidades'!$B$4:$AF$77,12,0),IF(F150=2,VLOOKUP(D150,'Plan Estu Especialidades'!$B$4:$AF$77,7,0),IF(F150=1,VLOOKUP(D150,'Plan Estu Especialidades'!$B$4:$AF$77,7,0)*L150,0)))","v":0},{"$f":"IF(F150=3,VLOOKUP(D150,'Plan Estu Especialidades'!$B$4:$AF$77,13,0),IF(F150=2,VLOOKUP(D150,'Plan Estu Especialidades'!$B$4:$AF$77,8,0),IF(F150=1,VLOOKUP(D150,'Plan Estu Especialidades'!$B$4:$AF$77,8,0)*L150,0)))","v":0},{"$f":"IF(F150=3,VLOOKUP(D150,'Plan Estu Especialidades'!$B$4:$AF$77,14,0),IF(F150=2,VLOOKUP(D150,'Plan Estu Especialidades'!$B$4:$AF$77,9,0),IF(F150=1,VLOOKUP(D150,'Plan Estu Especialidades'!$B$4:$AF$77,9,0)*L150,0)))","v":0},{"$f":"IF(F150=3,VLOOKUP(D150,'Plan Estu Especialidades'!$B$4:$AF$77,15,0),IF(F150=2,VLOOKUP(D150,'Plan Estu Especialidades'!$B$4:$AF$77,10,0),IF(F150=1,VLOOKUP(D150,'Plan Estu Especialidades'!$B$4:$AF$77,10,0)*L150,0)))","v":0},{"$f":"IF(G150=4,VLOOKUP(D150,'Plan Estu Especialidades'!$B$4:$AF$77,27,0),IF(G150=3,VLOOKUP(D150,'Plan Estu Especialidades'!$B$4:$AF$77,22,0),IF(G150=2,VLOOKUP(D150,'Plan Estu Especialidades'!$B$4:$AF$77,17,0),IF(G150=1,VLOOKUP(D150,'Plan Estu Especialidades'!$B$4:$AF$77,17,0)*N150,0))))","v":0},{"$f":"IF(G150=4,VLOOKUP(D150,'Plan Estu Especialidades'!$B$4:$AF$77,28,0),IF(G150=3,VLOOKUP(D150,'Plan Estu Especialidades'!$B$4:$AF$77,23,0),IF(G150=2,VLOOKUP(D150,'Plan Estu Especialidades'!$B$4:$AF$77,18,0),IF(G150=1,VLOOKUP(D150,'Plan Estu Especialidades'!$B$4:$AF$77,18,0)*N150,0))))","v":0},{"$f":"IF(G150=4,VLOOKUP(D150,'Plan Estu Especialidades'!$B$4:$AF$77,29,0),IF(G150=3,VLOOKUP(D150,'Plan Estu Especialidades'!$B$4:$AF$77,24,0),IF(G150=2,VLOOKUP(D150,'Plan Estu Especialidades'!$B$4:$AF$77,19,0),IF(G150=1,VLOOKUP(D150,'Plan Estu Especialidades'!$B$4:$AF$77,19,0)*N150,0))))","v":0},{"$f":"IF(G150=4,VLOOKUP(D150,'Plan Estu Especialidades'!$B$4:$AF$77,30,0),IF(G150=3,VLOOKUP(D150,'Plan Estu Especialidades'!$B$4:$AF$77,25,0),IF(G150=2,VLOOKUP(D150,'Plan Estu Especialidades'!$B$4:$AF$77,20,0),IF(G150=1,VLOOKUP(D150,'Plan Estu Especialidades'!$B$4:$AF$77,20,0)*N150,0))))","v":0},0,0,null,null,null,null,null,0,0,0,null,null,null,null,0,0,0,null,{"$f":"IF(SUM(J150,L150,N150)=0,\"S/V\",VLOOKUP(D150,'Plan Estu Especialidades'!$B$4:$AG$77,32,0))","v":"S/V"},0,0,null,null,null,null,null,null,0,0,0]
[{"$f":"+IF(B151=0,0,SUM($B$62:B151))","v":0},0,91,66,0,0,0,"Turismo en Hotelería y Eventos Especial","_66",null,null,null,null,null,null,{"$f":"IF(E151=2,VLOOKUP(D151,'Plan Estu Especialidades'!$B$4:$AF$77,3,0),IF(E151=1,VLOOKUP(D151,'Plan Estu Especialidades'!$B$4:$AF$77,3,0)*J151,0))","v":0},{"$f":"IF(E151=2,VLOOKUP(D151,'Plan Estu Especialidades'!$B$4:$AF$77,4,0),IF(E151=1,VLOOKUP(D151,'Plan Estu Especialidades'!$B$4:$AF$77,4,0)*J151,0))","v":0},{"$f":"IF(E151=2,VLOOKUP(D151,'Plan Estu Especialidades'!$B$4:$AF$77,5,0),IF(E151=1,VLOOKUP(D151,'Plan Estu Especialidades'!$B$4:$AF$77,5,0)*J151,0))","v":0},{"$f":"IF(F151=3,VLOOKUP(D151,'Plan Estu Especialidades'!$B$4:$AF$77,12,0),IF(F151=2,VLOOKUP(D151,'Plan Estu Especialidades'!$B$4:$AF$77,7,0),IF(F151=1,VLOOKUP(D151,'Plan Estu Especialidades'!$B$4:$AF$77,7,0)*L151,0)))","v":0},{"$f":"IF(F151=3,VLOOKUP(D151,'Plan Estu Especialidades'!$B$4:$AF$77,13,0),IF(F151=2,VLOOKUP(D151,'Plan Estu Especialidades'!$B$4:$AF$77,8,0),IF(F151=1,VLOOKUP(D151,'Plan Estu Especialidades'!$B$4:$AF$77,8,0)*L151,0)))","v":0},{"$f":"IF(F151=3,VLOOKUP(D151,'Plan Estu Especialidades'!$B$4:$AF$77,14,0),IF(F151=2,VLOOKUP(D151,'Plan Estu Especialidades'!$B$4:$AF$77,9,0),IF(F151=1,VLOOKUP(D151,'Plan Estu Especialidades'!$B$4:$AF$77,9,0)*L151,0)))","v":0},{"$f":"IF(F151=3,VLOOKUP(D151,'Plan Estu Especialidades'!$B$4:$AF$77,15,0),IF(F151=2,VLOOKUP(D151,'Plan Estu Especialidades'!$B$4:$AF$77,10,0),IF(F151=1,VLOOKUP(D151,'Plan Estu Especialidades'!$B$4:$AF$77,10,0)*L151,0)))","v":0},{"$f":"IF(G151=4,VLOOKUP(D151,'Plan Estu Especialidades'!$B$4:$AF$77,27,0),IF(G151=3,VLOOKUP(D151,'Plan Estu Especialidades'!$B$4:$AF$77,22,0),IF(G151=2,VLOOKUP(D151,'Plan Estu Especialidades'!$B$4:$AF$77,17,0),IF(G151=1,VLOOKUP(D151,'Plan Estu Especialidades'!$B$4:$AF$77,17,0)*N151,0))))","v":0},{"$f":"IF(G151=4,VLOOKUP(D151,'Plan Estu Especialidades'!$B$4:$AF$77,28,0),IF(G151=3,VLOOKUP(D151,'Plan Estu Especialidades'!$B$4:$AF$77,23,0),IF(G151=2,VLOOKUP(D151,'Plan Estu Especialidades'!$B$4:$AF$77,18,0),IF(G151=1,VLOOKUP(D151,'Plan Estu Especialidades'!$B$4:$AF$77,18,0)*N151,0))))","v":0},{"$f":"IF(G151=4,VLOOKUP(D151,'Plan Estu Especialidades'!$B$4:$AF$77,29,0),IF(G151=3,VLOOKUP(D151,'Plan Estu Especialidades'!$B$4:$AF$77,24,0),IF(G151=2,VLOOKUP(D151,'Plan Estu Especialidades'!$B$4:$AF$77,19,0),IF(G151=1,VLOOKUP(D151,'Plan Estu Especialidades'!$B$4:$AF$77,19,0)*N151,0))))","v":0},{"$f":"IF(G151=4,VLOOKUP(D151,'Plan Estu Especialidades'!$B$4:$AF$77,30,0),IF(G151=3,VLOOKUP(D151,'Plan Estu Especialidades'!$B$4:$AF$77,25,0),IF(G151=2,VLOOKUP(D151,'Plan Estu Especialidades'!$B$4:$AF$77,20,0),IF(G151=1,VLOOKUP(D151,'Plan Estu Especialidades'!$B$4:$AF$77,20,0)*N151,0))))","v":0},0,0,null,null,null,null,null,0,0,0,null,null,null,null,0,0,0,null,{"$f":"IF(SUM(J151,L151,N151)=0,\"S/V\",VLOOKUP(D151,'Plan Estu Especialidades'!$B$4:$AG$77,32,0))","v":"S/V"},0,0,null,null,null,null,null,null,0,0,0]
[{"$f":"+IF(B152=0,0,SUM($B$62:B152))","v":0},0,91,67,0,0,0,"Turismo Rural","_67",null,null,null,null,null,null,{"$f":"IF(E152=2,VLOOKUP(D152,'Plan Estu Especialidades'!$B$4:$AF$77,3,0),IF(E152=1,VLOOKUP(D152,'Plan Estu Especialidades'!$B$4:$AF$77,3,0)*J152,0))","v":0},{"$f":"IF(E152=2,VLOOKUP(D152,'Plan Estu Especialidades'!$B$4:$AF$77,4,0),IF(E152=1,VLOOKUP(D152,'Plan Estu Especialidades'!$B$4:$AF$77,4,0)*J152,0))","v":0},{"$f":"IF(E152=2,VLOOKUP(D152,'Plan Estu Especialidades'!$B$4:$AF$77,5,0),IF(E152=1,VLOOKUP(D152,'Plan Estu Especialidades'!$B$4:$AF$77,5,0)*J152,0))","v":0},{"$f":"IF(F152=3,VLOOKUP(D152,'Plan Estu Especialidades'!$B$4:$AF$77,12,0),IF(F152=2,VLOOKUP(D152,'Plan Estu Especialidades'!$B$4:$AF$77,7,0),IF(F152=1,VLOOKUP(D152,'Plan Estu Especialidades'!$B$4:$AF$77,7,0)*L152,0)))","v":0},{"$f":"IF(F152=3,VLOOKUP(D152,'Plan Estu Especialidades'!$B$4:$AF$77,13,0),IF(F152=2,VLOOKUP(D152,'Plan Estu Especialidades'!$B$4:$AF$77,8,0),IF(F152=1,VLOOKUP(D152,'Plan Estu Especialidades'!$B$4:$AF$77,8,0)*L152,0)))","v":0},{"$f":"IF(F152=3,VLOOKUP(D152,'Plan Estu Especialidades'!$B$4:$AF$77,14,0),IF(F152=2,VLOOKUP(D152,'Plan Estu Especialidades'!$B$4:$AF$77,9,0),IF(F152=1,VLOOKUP(D152,'Plan Estu Especialidades'!$B$4:$AF$77,9,0)*L152,0)))","v":0},{"$f":"IF(F152=3,VLOOKUP(D152,'Plan Estu Especialidades'!$B$4:$AF$77,15,0),IF(F152=2,VLOOKUP(D152,'Plan Estu Especialidades'!$B$4:$AF$77,10,0),IF(F152=1,VLOOKUP(D152,'Plan Estu Especialidades'!$B$4:$AF$77,10,0)*L152,0)))","v":0},{"$f":"IF(G152=4,VLOOKUP(D152,'Plan Estu Especialidades'!$B$4:$AF$77,27,0),IF(G152=3,VLOOKUP(D152,'Plan Estu Especialidades'!$B$4:$AF$77,22,0),IF(G152=2,VLOOKUP(D152,'Plan Estu Especialidades'!$B$4:$AF$77,17,0),IF(G152=1,VLOOKUP(D152,'Plan Estu Especialidades'!$B$4:$AF$77,17,0)*N152,0))))","v":0},{"$f":"IF(G152=4,VLOOKUP(D152,'Plan Estu Especialidades'!$B$4:$AF$77,28,0),IF(G152=3,VLOOKUP(D152,'Plan Estu Especialidades'!$B$4:$AF$77,23,0),IF(G152=2,VLOOKUP(D152,'Plan Estu Especialidades'!$B$4:$AF$77,18,0),IF(G152=1,VLOOKUP(D152,'Plan Estu Especialidades'!$B$4:$AF$77,18,0)*N152,0))))","v":0},{"$f":"IF(G152=4,VLOOKUP(D152,'Plan Estu Especialidades'!$B$4:$AF$77,29,0),IF(G152=3,VLOOKUP(D152,'Plan Estu Especialidades'!$B$4:$AF$77,24,0),IF(G152=2,VLOOKUP(D152,'Plan Estu Especialidades'!$B$4:$AF$77,19,0),IF(G152=1,VLOOKUP(D152,'Plan Estu Especialidades'!$B$4:$AF$77,19,0)*N152,0))))","v":0},{"$f":"IF(G152=4,VLOOKUP(D152,'Plan Estu Especialidades'!$B$4:$AF$77,30,0),IF(G152=3,VLOOKUP(D152,'Plan Estu Especialidades'!$B$4:$AF$77,25,0),IF(G152=2,VLOOKUP(D152,'Plan Estu Especialidades'!$B$4:$AF$77,20,0),IF(G152=1,VLOOKUP(D152,'Plan Estu Especialidades'!$B$4:$AF$77,20,0)*N152,0))))","v":0},0,0,null,null,null,null,null,0,0,0,null,null,null,null,0,0,0,null,{"$f":"IF(SUM(J152,L152,N152)=0,\"S/V\",VLOOKUP(D152,'Plan Estu Especialidades'!$B$4:$AG$77,32,0))","v":"S/V"},0,0,null,null,null,null,null,null,0,0,0]
[{"$f":"+IF(B153=0,0,SUM($B$62:B153))","v":0},0,91,68,0,0,0,"Gestión de la Producción ","_68",null,null,null,null,null,null,{"$f":"IF(E153=2,VLOOKUP(D153,'Plan Estu Especialidades'!$B$4:$AF$77,3,0),IF(E153=1,VLOOKUP(D153,'Plan Estu Especialidades'!$B$4:$AF$77,3,0)*J153,0))","v":0},{"$f":"IF(E153=2,VLOOKUP(D153,'Plan Estu Especialidades'!$B$4:$AF$77,4,0),IF(E153=1,VLOOKUP(D153,'Plan Estu Especialidades'!$B$4:$AF$77,4,0)*J153,0))","v":0},{"$f":"IF(E153=2,VLOOKUP(D153,'Plan Estu Especialidades'!$B$4:$AF$77,5,0),IF(E153=1,VLOOKUP(D153,'Plan Estu Especialidades'!$B$4:$AF$77,5,0)*J153,0))","v":0},{"$f":"IF(F153=3,VLOOKUP(D153,'Plan Estu Especialidades'!$B$4:$AF$77,12,0),IF(F153=2,VLOOKUP(D153,'Plan Estu Especialidades'!$B$4:$AF$77,7,0),IF(F153=1,VLOOKUP(D153,'Plan Estu Especialidades'!$B$4:$AF$77,7,0)*L153,0)))","v":0},{"$f":"IF(F153=3,VLOOKUP(D153,'Plan Estu Especialidades'!$B$4:$AF$77,13,0),IF(F153=2,VLOOKUP(D153,'Plan Estu Especialidades'!$B$4:$AF$77,8,0),IF(F153=1,VLOOKUP(D153,'Plan Estu Especialidades'!$B$4:$AF$77,8,0)*L153,0)))","v":0},{"$f":"IF(F153=3,VLOOKUP(D153,'Plan Estu Especialidades'!$B$4:$AF$77,14,0),IF(F153=2,VLOOKUP(D153,'Plan Estu Especialidades'!$B$4:$AF$77,9,0),IF(F153=1,VLOOKUP(D153,'Plan Estu Especialidades'!$B$4:$AF$77,9,0)*L153,0)))","v":0},{"$f":"IF(F153=3,VLOOKUP(D153,'Plan Estu Especialidades'!$B$4:$AF$77,15,0),IF(F153=2,VLOOKUP(D153,'Plan Estu Especialidades'!$B$4:$AF$77,10,0),IF(F153=1,VLOOKUP(D153,'Plan Estu Especialidades'!$B$4:$AF$77,10,0)*L153,0)))","v":0},{"$f":"IF(G153=4,VLOOKUP(D153,'Plan Estu Especialidades'!$B$4:$AF$77,27,0),IF(G153=3,VLOOKUP(D153,'Plan Estu Especialidades'!$B$4:$AF$77,22,0),IF(G153=2,VLOOKUP(D153,'Plan Estu Especialidades'!$B$4:$AF$77,17,0),IF(G153=1,VLOOKUP(D153,'Plan Estu Especialidades'!$B$4:$AF$77,17,0)*N153,0))))","v":0},{"$f":"IF(G153=4,VLOOKUP(D153,'Plan Estu Especialidades'!$B$4:$AF$77,28,0),IF(G153=3,VLOOKUP(D153,'Plan Estu Especialidades'!$B$4:$AF$77,23,0),IF(G153=2,VLOOKUP(D153,'Plan Estu Especialidades'!$B$4:$AF$77,18,0),IF(G153=1,VLOOKUP(D153,'Plan Estu Especialidades'!$B$4:$AF$77,18,0)*N153,0))))","v":0},{"$f":"IF(G153=4,VLOOKUP(D153,'Plan Estu Especialidades'!$B$4:$AF$77,29,0),IF(G153=3,VLOOKUP(D153,'Plan Estu Especialidades'!$B$4:$AF$77,24,0),IF(G153=2,VLOOKUP(D153,'Plan Estu Especialidades'!$B$4:$AF$77,19,0),IF(G153=1,VLOOKUP(D153,'Plan Estu Especialidades'!$B$4:$AF$77,19,0)*N153,0))))","v":0},{"$f":"IF(G153=4,VLOOKUP(D153,'Plan Estu Especialidades'!$B$4:$AF$77,30,0),IF(G153=3,VLOOKUP(D153,'Plan Estu Especialidades'!$B$4:$AF$77,25,0),IF(G153=2,VLOOKUP(D153,'Plan Estu Especialidades'!$B$4:$AF$77,20,0),IF(G153=1,VLOOKUP(D153,'Plan Estu Especialidades'!$B$4:$AF$77,20,0)*N153,0))))","v":0},0,0,null,null,null,null,null,0,0,0,null,null,null,null,0,0,0,null,{"$f":"IF(SUM(J153,L153,N153)=0,\"S/V\",VLOOKUP(D153,'Plan Estu Especialidades'!$B$4:$AG$77,32,0))","v":"S/V"},0,0,null,null,null,null,null,null,0,0,0]
[{"$f":"+IF(B154=0,0,SUM($B$62:B154))","v":0},0,91,69,0,0,0,"Instalación y mantenimiento de sistemas eléctricos Indutriales ","_69",null,null,null,null,null,null,{"$f":"IF(E154=2,VLOOKUP(D154,'Plan Estu Especialidades'!$B$4:$AF$77,3,0),IF(E154=1,VLOOKUP(D154,'Plan Estu Especialidades'!$B$4:$AF$77,3,0)*J154,0))","v":0},{"$f":"IF(E154=2,VLOOKUP(D154,'Plan Estu Especialidades'!$B$4:$AF$77,4,0),IF(E154=1,VLOOKUP(D154,'Plan Estu Especialidades'!$B$4:$AF$77,4,0)*J154,0))","v":0},{"$f":"IF(E154=2,VLOOKUP(D154,'Plan Estu Especialidades'!$B$4:$AF$77,5,0),IF(E154=1,VLOOKUP(D154,'Plan Estu Especialidades'!$B$4:$AF$77,5,0)*J154,0))","v":0},{"$f":"IF(F154=3,VLOOKUP(D154,'Plan Estu Especialidades'!$B$4:$AF$77,12,0),IF(F154=2,VLOOKUP(D154,'Plan Estu Especialidades'!$B$4:$AF$77,7,0),IF(F154=1,VLOOKUP(D154,'Plan Estu Especialidades'!$B$4:$AF$77,7,0)*L154,0)))","v":0},{"$f":"IF(F154=3,VLOOKUP(D154,'Plan Estu Especialidades'!$B$4:$AF$77,13,0),IF(F154=2,VLOOKUP(D154,'Plan Estu Especialidades'!$B$4:$AF$77,8,0),IF(F154=1,VLOOKUP(D154,'Plan Estu Especialidades'!$B$4:$AF$77,8,0)*L154,0)))","v":0},{"$f":"IF(F154=3,VLOOKUP(D154,'Plan Estu Especialidades'!$B$4:$AF$77,14,0),IF(F154=2,VLOOKUP(D154,'Plan Estu Especialidades'!$B$4:$AF$77,9,0),IF(F154=1,VLOOKUP(D154,'Plan Estu Especialidades'!$B$4:$AF$77,9,0)*L154,0)))","v":0},{"$f":"IF(F154=3,VLOOKUP(D154,'Plan Estu Especialidades'!$B$4:$AF$77,15,0),IF(F154=2,VLOOKUP(D154,'Plan Estu Especialidades'!$B$4:$AF$77,10,0),IF(F154=1,VLOOKUP(D154,'Plan Estu Especialidades'!$B$4:$AF$77,10,0)*L154,0)))","v":0},{"$f":"IF(G154=4,VLOOKUP(D154,'Plan Estu Especialidades'!$B$4:$AF$77,27,0),IF(G154=3,VLOOKUP(D154,'Plan Estu Especialidades'!$B$4:$AF$77,22,0),IF(G154=2,VLOOKUP(D154,'Plan Estu Especialidades'!$B$4:$AF$77,17,0),IF(G154=1,VLOOKUP(D154,'Plan Estu Especialidades'!$B$4:$AF$77,17,0)*N154,0))))","v":0},{"$f":"IF(G154=4,VLOOKUP(D154,'Plan Estu Especialidades'!$B$4:$AF$77,28,0),IF(G154=3,VLOOKUP(D154,'Plan Estu Especialidades'!$B$4:$AF$77,23,0),IF(G154=2,VLOOKUP(D154,'Plan Estu Especialidades'!$B$4:$AF$77,18,0),IF(G154=1,VLOOKUP(D154,'Plan Estu Especialidades'!$B$4:$AF$77,18,0)*N154,0))))","v":0},{"$f":"IF(G154=4,VLOOKUP(D154,'Plan Estu Especialidades'!$B$4:$AF$77,29,0),IF(G154=3,VLOOKUP(D154,'Plan Estu Especialidades'!$B$4:$AF$77,24,0),IF(G154=2,VLOOKUP(D154,'Plan Estu Especialidades'!$B$4:$AF$77,19,0),IF(G154=1,VLOOKUP(D154,'Plan Estu Especialidades'!$B$4:$AF$77,19,0)*N154,0))))","v":0},{"$f":"IF(G154=4,VLOOKUP(D154,'Plan Estu Especialidades'!$B$4:$AF$77,30,0),IF(G154=3,VLOOKUP(D154,'Plan Estu Especialidades'!$B$4:$AF$77,25,0),IF(G154=2,VLOOKUP(D154,'Plan Estu Especialidades'!$B$4:$AF$77,20,0),IF(G154=1,VLOOKUP(D154,'Plan Estu Especialidades'!$B$4:$AF$77,20,0)*N154,0))))","v":0},0,0,null,null,null,null,null,0,0,0,null,null,null,null,0,0,0,null,{"$f":"IF(SUM(J154,L154,N154)=0,\"S/V\",VLOOKUP(D154,'Plan Estu Especialidades'!$B$4:$AG$77,32,0))","v":"S/V"},0,0,null,null,null,null,null,null,0,0,0]
[{"$f":"+IF(B155=0,0,SUM($B$62:B155))","v":0},0,91,70,0,0,0,"Inteligencia Artificial","_70",null,null,null,null,null,null,{"$f":"IF(E155=2,VLOOKUP(D155,'Plan Estu Especialidades'!$B$4:$AF$77,3,0),IF(E155=1,VLOOKUP(D155,'Plan Estu Especialidades'!$B$4:$AF$77,3,0)*J155,0))","v":0},{"$f":"IF(E155=2,VLOOKUP(D155,'Plan Estu Especialidades'!$B$4:$AF$77,4,0),IF(E155=1,VLOOKUP(D155,'Plan Estu Especialidades'!$B$4:$AF$77,4,0)*J155,0))","v":0},{"$f":"IF(E155=2,VLOOKUP(D155,'Plan Estu Especialidades'!$B$4:$AF$77,5,0),IF(E155=1,VLOOKUP(D155,'Plan Estu Especialidades'!$B$4:$AF$77,5,0)*J155,0))","v":0},{"$f":"IF(F155=3,VLOOKUP(D155,'Plan Estu Especialidades'!$B$4:$AF$77,12,0),IF(F155=2,VLOOKUP(D155,'Plan Estu Especialidades'!$B$4:$AF$77,7,0),IF(F155=1,VLOOKUP(D155,'Plan Estu Especialidades'!$B$4:$AF$77,7,0)*L155,0)))","v":0},{"$f":"IF(F155=3,VLOOKUP(D155,'Plan Estu Especialidades'!$B$4:$AF$77,13,0),IF(F155=2,VLOOKUP(D155,'Plan Estu Especialidades'!$B$4:$AF$77,8,0),IF(F155=1,VLOOKUP(D155,'Plan Estu Especialidades'!$B$4:$AF$77,8,0)*L155,0)))","v":0},{"$f":"IF(F155=3,VLOOKUP(D155,'Plan Estu Especialidades'!$B$4:$AF$77,14,0),IF(F155=2,VLOOKUP(D155,'Plan Estu Especialidades'!$B$4:$AF$77,9,0),IF(F155=1,VLOOKUP(D155,'Plan Estu Especialidades'!$B$4:$AF$77,9,0)*L155,0)))","v":0},{"$f":"IF(F155=3,VLOOKUP(D155,'Plan Estu Especialidades'!$B$4:$AF$77,15,0),IF(F155=2,VLOOKUP(D155,'Plan Estu Especialidades'!$B$4:$AF$77,10,0),IF(F155=1,VLOOKUP(D155,'Plan Estu Especialidades'!$B$4:$AF$77,10,0)*L155,0)))","v":0},{"$f":"IF(G155=4,VLOOKUP(D155,'Plan Estu Especialidades'!$B$4:$AF$77,27,0),IF(G155=3,VLOOKUP(D155,'Plan Estu Especialidades'!$B$4:$AF$77,22,0),IF(G155=2,VLOOKUP(D155,'Plan Estu Especialidades'!$B$4:$AF$77,17,0),IF(G155=1,VLOOKUP(D155,'Plan Estu Especialidades'!$B$4:$AF$77,17,0)*N155,0))))","v":0},{"$f":"IF(G155=4,VLOOKUP(D155,'Plan Estu Especialidades'!$B$4:$AF$77,28,0),IF(G155=3,VLOOKUP(D155,'Plan Estu Especialidades'!$B$4:$AF$77,23,0),IF(G155=2,VLOOKUP(D155,'Plan Estu Especialidades'!$B$4:$AF$77,18,0),IF(G155=1,VLOOKUP(D155,'Plan Estu Especialidades'!$B$4:$AF$77,18,0)*N155,0))))","v":0},{"$f":"IF(G155=4,VLOOKUP(D155,'Plan Estu Especialidades'!$B$4:$AF$77,29,0),IF(G155=3,VLOOKUP(D155,'Plan Estu Especialidades'!$B$4:$AF$77,24,0),IF(G155=2,VLOOKUP(D155,'Plan Estu Especialidades'!$B$4:$AF$77,19,0),IF(G155=1,VLOOKUP(D155,'Plan Estu Especialidades'!$B$4:$AF$77,19,0)*N155,0))))","v":0},{"$f":"IF(G155=4,VLOOKUP(D155,'Plan Estu Especialidades'!$B$4:$AF$77,30,0),IF(G155=3,VLOOKUP(D155,'Plan Estu Especialidades'!$B$4:$AF$77,25,0),IF(G155=2,VLOOKUP(D155,'Plan Estu Especialidades'!$B$4:$AF$77,20,0),IF(G155=1,VLOOKUP(D155,'Plan Estu Especialidades'!$B$4:$AF$77,20,0)*N155,0))))","v":0},0,0,null,null,null,null,null,0,0,0,null,null,null,null,0,0,0,null,{"$f":"IF(SUM(J155,L155,N155)=0,\"S/V\",VLOOKUP(D155,'Plan Estu Especialidades'!$B$4:$AG$77,32,0))","v":"S/V"},0,0,null,null,null,null,null,null,0,0,0]
[{"$f":"+IF(B156=0,0,SUM($B$62:B156))","v":0},0,91,71,0,0,0,"Organización de operaciones y servicios de alimentos y bebidas","_71",null,null,null,null,null,null,{"$f":"IF(E156=2,VLOOKUP(D156,'Plan Estu Especialidades'!$B$4:$AF$77,3,0),IF(E156=1,VLOOKUP(D156,'Plan Estu Especialidades'!$B$4:$AF$77,3,0)*J156,0))","v":0},{"$f":"IF(E156=2,VLOOKUP(D156,'Plan Estu Especialidades'!$B$4:$AF$77,4,0),IF(E156=1,VLOOKUP(D156,'Plan Estu Especialidades'!$B$4:$AF$77,4,0)*J156,0))","v":0},{"$f":"IF(E156=2,VLOOKUP(D156,'Plan Estu Especialidades'!$B$4:$AF$77,5,0),IF(E156=1,VLOOKUP(D156,'Plan Estu Especialidades'!$B$4:$AF$77,5,0)*J156,0))","v":0},{"$f":"IF(F156=3,VLOOKUP(D156,'Plan Estu Especialidades'!$B$4:$AF$77,12,0),IF(F156=2,VLOOKUP(D156,'Plan Estu Especialidades'!$B$4:$AF$77,7,0),IF(F156=1,VLOOKUP(D156,'Plan Estu Especialidades'!$B$4:$AF$77,7,0)*L156,0)))","v":0},{"$f":"IF(F156=3,VLOOKUP(D156,'Plan Estu Especialidades'!$B$4:$AF$77,13,0),IF(F156=2,VLOOKUP(D156,'Plan Estu Especialidades'!$B$4:$AF$77,8,0),IF(F156=1,VLOOKUP(D156,'Plan Estu Especialidades'!$B$4:$AF$77,8,0)*L156,0)))","v":0},{"$f":"IF(F156=3,VLOOKUP(D156,'Plan Estu Especialidades'!$B$4:$AF$77,14,0),IF(F156=2,VLOOKUP(D156,'Plan Estu Especialidades'!$B$4:$AF$77,9,0),IF(F156=1,VLOOKUP(D156,'Plan Estu Especialidades'!$B$4:$AF$77,9,0)*L156,0)))","v":0},{"$f":"IF(F156=3,VLOOKUP(D156,'Plan Estu Especialidades'!$B$4:$AF$77,15,0),IF(F156=2,VLOOKUP(D156,'Plan Estu Especialidades'!$B$4:$AF$77,10,0),IF(F156=1,VLOOKUP(D156,'Plan Estu Especialidades'!$B$4:$AF$77,10,0)*L156,0)))","v":0},{"$f":"IF(G156=4,VLOOKUP(D156,'Plan Estu Especialidades'!$B$4:$AF$77,27,0),IF(G156=3,VLOOKUP(D156,'Plan Estu Especialidades'!$B$4:$AF$77,22,0),IF(G156=2,VLOOKUP(D156,'Plan Estu Especialidades'!$B$4:$AF$77,17,0),IF(G156=1,VLOOKUP(D156,'Plan Estu Especialidades'!$B$4:$AF$77,17,0)*N156,0))))","v":0},{"$f":"IF(G156=4,VLOOKUP(D156,'Plan Estu Especialidades'!$B$4:$AF$77,28,0),IF(G156=3,VLOOKUP(D156,'Plan Estu Especialidades'!$B$4:$AF$77,23,0),IF(G156=2,VLOOKUP(D156,'Plan Estu Especialidades'!$B$4:$AF$77,18,0),IF(G156=1,VLOOKUP(D156,'Plan Estu Especialidades'!$B$4:$AF$77,18,0)*N156,0))))","v":0},{"$f":"IF(G156=4,VLOOKUP(D156,'Plan Estu Especialidades'!$B$4:$AF$77,29,0),IF(G156=3,VLOOKUP(D156,'Plan Estu Especialidades'!$B$4:$AF$77,24,0),IF(G156=2,VLOOKUP(D156,'Plan Estu Especialidades'!$B$4:$AF$77,19,0),IF(G156=1,VLOOKUP(D156,'Plan Estu Especialidades'!$B$4:$AF$77,19,0)*N156,0))))","v":0},{"$f":"IF(G156=4,VLOOKUP(D156,'Plan Estu Especialidades'!$B$4:$AF$77,30,0),IF(G156=3,VLOOKUP(D156,'Plan Estu Especialidades'!$B$4:$AF$77,25,0),IF(G156=2,VLOOKUP(D156,'Plan Estu Especialidades'!$B$4:$AF$77,20,0),IF(G156=1,VLOOKUP(D156,'Plan Estu Especialidades'!$B$4:$AF$77,20,0)*N156,0))))","v":0},0,0,null,null,null,null,null,0,0,0,null,null,null,null,0,0,0,null,{"$f":"IF(SUM(J156,L156,N156)=0,\"S/V\",VLOOKUP(D156,'Plan Estu Especialidades'!$B$4:$AG$77,32,0))","v":"S/V"},0,0,null,null,null,null,null,null,0,0,0]
[{"$f":"+IF(B157=0,0,SUM($B$62:B157))","v":0},0,91,72,0,0,0,"Desarrollo de aplicaciones móviles","_72",null,null,null,null,null,null,{"$f":"IF(E157=2,VLOOKUP(D157,'Plan Estu Especialidades'!$B$4:$AF$77,3,0),IF(E157=1,VLOOKUP(D157,'Plan Estu Especialidades'!$B$4:$AF$77,3,0)*J157,0))","v":0},{"$f":"IF(E157=2,VLOOKUP(D157,'Plan Estu Especialidades'!$B$4:$AF$77,4,0),IF(E157=1,VLOOKUP(D157,'Plan Estu Especialidades'!$B$4:$AF$77,4,0)*J157,0))","v":0},{"$f":"IF(E157=2,VLOOKUP(D157,'Plan Estu Especialidades'!$B$4:$AF$77,5,0),IF(E157=1,VLOOKUP(D157,'Plan Estu Especialidades'!$B$4:$AF$77,5,0)*J157,0))","v":0},{"$f":"IF(F157=3,VLOOKUP(D157,'Plan Estu Especialidades'!$B$4:$AF$77,12,0),IF(F157=2,VLOOKUP(D157,'Plan Estu Especialidades'!$B$4:$AF$77,7,0),IF(F157=1,VLOOKUP(D157,'Plan Estu Especialidades'!$B$4:$AF$77,7,0)*L157,0)))","v":0},{"$f":"IF(F157=3,VLOOKUP(D157,'Plan Estu Especialidades'!$B$4:$AF$77,13,0),IF(F157=2,VLOOKUP(D157,'Plan Estu Especialidades'!$B$4:$AF$77,8,0),IF(F157=1,VLOOKUP(D157,'Plan Estu Especialidades'!$B$4:$AF$77,8,0)*L157,0)))","v":0},{"$f":"IF(F157=3,VLOOKUP(D157,'Plan Estu Especialidades'!$B$4:$AF$77,14,0),IF(F157=2,VLOOKUP(D157,'Plan Estu Especialidades'!$B$4:$AF$77,9,0),IF(F157=1,VLOOKUP(D157,'Plan Estu Especialidades'!$B$4:$AF$77,9,0)*L157,0)))","v":0},{"$f":"IF(F157=3,VLOOKUP(D157,'Plan Estu Especialidades'!$B$4:$AF$77,15,0),IF(F157=2,VLOOKUP(D157,'Plan Estu Especialidades'!$B$4:$AF$77,10,0),IF(F157=1,VLOOKUP(D157,'Plan Estu Especialidades'!$B$4:$AF$77,10,0)*L157,0)))","v":0},{"$f":"IF(G157=4,VLOOKUP(D157,'Plan Estu Especialidades'!$B$4:$AF$77,27,0),IF(G157=3,VLOOKUP(D157,'Plan Estu Especialidades'!$B$4:$AF$77,22,0),IF(G157=2,VLOOKUP(D157,'Plan Estu Especialidades'!$B$4:$AF$77,17,0),IF(G157=1,VLOOKUP(D157,'Plan Estu Especialidades'!$B$4:$AF$77,17,0)*N157,0))))","v":0},{"$f":"IF(G157=4,VLOOKUP(D157,'Plan Estu Especialidades'!$B$4:$AF$77,28,0),IF(G157=3,VLOOKUP(D157,'Plan Estu Especialidades'!$B$4:$AF$77,23,0),IF(G157=2,VLOOKUP(D157,'Plan Estu Especialidades'!$B$4:$AF$77,18,0),IF(G157=1,VLOOKUP(D157,'Plan Estu Especialidades'!$B$4:$AF$77,18,0)*N157,0))))","v":0},{"$f":"IF(G157=4,VLOOKUP(D157,'Plan Estu Especialidades'!$B$4:$AF$77,29,0),IF(G157=3,VLOOKUP(D157,'Plan Estu Especialidades'!$B$4:$AF$77,24,0),IF(G157=2,VLOOKUP(D157,'Plan Estu Especialidades'!$B$4:$AF$77,19,0),IF(G157=1,VLOOKUP(D157,'Plan Estu Especialidades'!$B$4:$AF$77,19,0)*N157,0))))","v":0},{"$f":"IF(G157=4,VLOOKUP(D157,'Plan Estu Especialidades'!$B$4:$AF$77,30,0),IF(G157=3,VLOOKUP(D157,'Plan Estu Especialidades'!$B$4:$AF$77,25,0),IF(G157=2,VLOOKUP(D157,'Plan Estu Especialidades'!$B$4:$AF$77,20,0),IF(G157=1,VLOOKUP(D157,'Plan Estu Especialidades'!$B$4:$AF$77,20,0)*N157,0))))","v":0},0,0,null,null,null,null,null,0,0,0,null,null,null,null,0,0,0,null,{"$f":"IF(SUM(J157,L157,N157)=0,\"S/V\",VLOOKUP(D157,'Plan Estu Especialidades'!$B$4:$AG$77,32,0))","v":"S/V"},0,0,null,null,null,null,null,null,0,0,0]
[{"$f":"+IF(B158=0,0,SUM($B$62:B158))","v":0},0,91,73,0,0,0,"Gerencia y producción en cocina ","_73",null,null,null,null,null,null,{"$f":"IF(E158=2,VLOOKUP(D158,'Plan Estu Especialidades'!$B$4:$AF$77,3,0),IF(E158=1,VLOOKUP(D158,'Plan Estu Especialidades'!$B$4:$AF$77,3,0)*J158,0))","v":0},{"$f":"IF(E158=2,VLOOKUP(D158,'Plan Estu Especialidades'!$B$4:$AF$77,4,0),IF(E158=1,VLOOKUP(D158,'Plan Estu Especialidades'!$B$4:$AF$77,4,0)*J158,0))","v":0},{"$f":"IF(E158=2,VLOOKUP(D158,'Plan Estu Especialidades'!$B$4:$AF$77,5,0),IF(E158=1,VLOOKUP(D158,'Plan Estu Especialidades'!$B$4:$AF$77,5,0)*J158,0))","v":0},{"$f":"IF(F158=3,VLOOKUP(D158,'Plan Estu Especialidades'!$B$4:$AF$77,12,0),IF(F158=2,VLOOKUP(D158,'Plan Estu Especialidades'!$B$4:$AF$77,7,0),IF(F158=1,VLOOKUP(D158,'Plan Estu Especialidades'!$B$4:$AF$77,7,0)*L158,0)))","v":0},{"$f":"IF(F158=3,VLOOKUP(D158,'Plan Estu Especialidades'!$B$4:$AF$77,13,0),IF(F158=2,VLOOKUP(D158,'Plan Estu Especialidades'!$B$4:$AF$77,8,0),IF(F158=1,VLOOKUP(D158,'Plan Estu Especialidades'!$B$4:$AF$77,8,0)*L158,0)))","v":0},{"$f":"IF(F158=3,VLOOKUP(D158,'Plan Estu Especialidades'!$B$4:$AF$77,14,0),IF(F158=2,VLOOKUP(D158,'Plan Estu Especialidades'!$B$4:$AF$77,9,0),IF(F158=1,VLOOKUP(D158,'Plan Estu Especialidades'!$B$4:$AF$77,9,0)*L158,0)))","v":0},{"$f":"IF(F158=3,VLOOKUP(D158,'Plan Estu Especialidades'!$B$4:$AF$77,15,0),IF(F158=2,VLOOKUP(D158,'Plan Estu Especialidades'!$B$4:$AF$77,10,0),IF(F158=1,VLOOKUP(D158,'Plan Estu Especialidades'!$B$4:$AF$77,10,0)*L158,0)))","v":0},{"$f":"IF(G158=4,VLOOKUP(D158,'Plan Estu Especialidades'!$B$4:$AF$77,27,0),IF(G158=3,VLOOKUP(D158,'Plan Estu Especialidades'!$B$4:$AF$77,22,0),IF(G158=2,VLOOKUP(D158,'Plan Estu Especialidades'!$B$4:$AF$77,17,0),IF(G158=1,VLOOKUP(D158,'Plan Estu Especialidades'!$B$4:$AF$77,17,0)*N158,0))))","v":0},{"$f":"IF(G158=4,VLOOKUP(D158,'Plan Estu Especialidades'!$B$4:$AF$77,28,0),IF(G158=3,VLOOKUP(D158,'Plan Estu Especialidades'!$B$4:$AF$77,23,0),IF(G158=2,VLOOKUP(D158,'Plan Estu Especialidades'!$B$4:$AF$77,18,0),IF(G158=1,VLOOKUP(D158,'Plan Estu Especialidades'!$B$4:$AF$77,18,0)*N158,0))))","v":0},{"$f":"IF(G158=4,VLOOKUP(D158,'Plan Estu Especialidades'!$B$4:$AF$77,29,0),IF(G158=3,VLOOKUP(D158,'Plan Estu Especialidades'!$B$4:$AF$77,24,0),IF(G158=2,VLOOKUP(D158,'Plan Estu Especialidades'!$B$4:$AF$77,19,0),IF(G158=1,VLOOKUP(D158,'Plan Estu Especialidades'!$B$4:$AF$77,19,0)*N158,0))))","v":0},{"$f":"IF(G158=4,VLOOKUP(D158,'Plan Estu Especialidades'!$B$4:$AF$77,30,0),IF(G158=3,VLOOKUP(D158,'Plan Estu Especialidades'!$B$4:$AF$77,25,0),IF(G158=2,VLOOKUP(D158,'Plan Estu Especialidades'!$B$4:$AF$77,20,0),IF(G158=1,VLOOKUP(D158,'Plan Estu Especialidades'!$B$4:$AF$77,20,0)*N158,0))))","v":0},0,0,null,null,null,null,null,0,0,0,null,null,null,null,0,0,0,null,{"$f":"IF(SUM(J158,L158,N158)=0,\"S/V\",VLOOKUP(D158,'Plan Estu Especialidades'!$B$4:$AG$77,32,0))","v":"S/V"},0,0,null,null,null,null,null,null,0,0,0]
[{"$f":"+IF(B159=0,0,SUM($B$62:B159))","v":0},{"$f":"+IF(AA159>0,1,0)","v":0},91,74,{"$f":"IF(K159>29,1,IF(K159>14,2,0))","v":0},{"$f":"IF(M159>20,1,IF(M159>8,2,IF(M159>0,3,0)))","v":0},0,"Gestión de la calidad","_74",null,null,null,null,null,null,{"$f":"IF(E159=2,VLOOKUP(D159,'Plan Estu Especialidades'!$B$4:$AF$77,3,0),IF(E159=1,VLOOKUP(D159,'Plan Estu Especialidades'!$B$4:$AF$77,3,0)*J159,0))","v":0},{"$f":"IF(E159=2,VLOOKUP(D159,'Plan Estu Especialidades'!$B$4:$AF$77,4,0),IF(E159=1,VLOOKUP(D159,'Plan Estu Especialidades'!$B$4:$AF$77,4,0)*J159,0))","v":0},{"$f":"IF(E159=2,VLOOKUP(D159,'Plan Estu Especialidades'!$B$4:$AF$77,5,0),IF(E159=1,VLOOKUP(D159,'Plan Estu Especialidades'!$B$4:$AF$77,5,0)*J159,0))","v":0},{"$f":"IF(F159=3,VLOOKUP(D159,'Plan Estu Especialidades'!$B$4:$AF$77,12,0),IF(F159=2,VLOOKUP(D159,'Plan Estu Especialidades'!$B$4:$AF$77,7,0),IF(F159=1,VLOOKUP(D159,'Plan Estu Especialidades'!$B$4:$AF$77,7,0)*L159,0)))","v":0},{"$f":"IF(F159=3,VLOOKUP(D159,'Plan Estu Especialidades'!$B$4:$AF$77,13,0),IF(F159=2,VLOOKUP(D159,'Plan Estu Especialidades'!$B$4:$AF$77,8,0),IF(F159=1,VLOOKUP(D159,'Plan Estu Especialidades'!$B$4:$AF$77,8,0)*L159,0)))","v":0},{"$f":"IF(F159=3,VLOOKUP(D159,'Plan Estu Especialidades'!$B$4:$AF$77,14,0),IF(F159=2,VLOOKUP(D159,'Plan Estu Especialidades'!$B$4:$AF$77,9,0),IF(F159=1,VLOOKUP(D159,'Plan Estu Especialidades'!$B$4:$AF$77,9,0)*L159,0)))","v":0},{"$f":"IF(F159=3,VLOOKUP(D159,'Plan Estu Especialidades'!$B$4:$AF$77,15,0),IF(F159=2,VLOOKUP(D159,'Plan Estu Especialidades'!$B$4:$AF$77,10,0),IF(F159=1,VLOOKUP(D159,'Plan Estu Especialidades'!$B$4:$AF$77,10,0)*L159,0)))","v":0},{"$f":"IF(G159=4,VLOOKUP(D159,'Plan Estu Especialidades'!$B$4:$AF$77,27,0),IF(G159=3,VLOOKUP(D159,'Plan Estu Especialidades'!$B$4:$AF$77,22,0),IF(G159=2,VLOOKUP(D159,'Plan Estu Especialidades'!$B$4:$AF$77,17,0),IF(G159=1,VLOOKUP(D159,'Plan Estu Especialidades'!$B$4:$AF$77,17,0)*N159,0))))","v":0},{"$f":"IF(G159=4,VLOOKUP(D159,'Plan Estu Especialidades'!$B$4:$AF$77,28,0),IF(G159=3,VLOOKUP(D159,'Plan Estu Especialidades'!$B$4:$AF$77,23,0),IF(G159=2,VLOOKUP(D159,'Plan Estu Especialidades'!$B$4:$AF$77,18,0),IF(G159=1,VLOOKUP(D159,'Plan Estu Especialidades'!$B$4:$AF$77,18,0)*N159,0))))","v":0},{"$f":"IF(G159=4,VLOOKUP(D159,'Plan Estu Especialidades'!$B$4:$AF$77,29,0),IF(G159=3,VLOOKUP(D159,'Plan Estu Especialidades'!$B$4:$AF$77,24,0),IF(G159=2,VLOOKUP(D159,'Plan Estu Especialidades'!$B$4:$AF$77,19,0),IF(G159=1,VLOOKUP(D159,'Plan Estu Especialidades'!$B$4:$AF$77,19,0)*N159,0))))","v":0},{"$f":"IF(G159=4,VLOOKUP(D159,'Plan Estu Especialidades'!$B$4:$AF$77,30,0),IF(G159=3,VLOOKUP(D159,'Plan Estu Especialidades'!$B$4:$AF$77,25,0),IF(G159=2,VLOOKUP(D159,'Plan Estu Especialidades'!$B$4:$AF$77,20,0),IF(G159=1,VLOOKUP(D159,'Plan Estu Especialidades'!$B$4:$AF$77,20,0)*N159,0))))","v":0},{"$f":"SUM(P159:R159,S159:U159,W159:Y159)","v":0}]
[9999,null,91,null,null,null,null,"Total de lecciones por nivel",null,{"$f":"SUM(J86:J159)","v":0},{"$f":"SUM(K86:K159)","v":0},{"$f":"SUM(L86:L159)","v":0},{"$f":"SUM(M86:M159)","v":0},0,0,{"$f":"SUM(P86:P159)","v":0},{"$f":"SUM(Q86:Q159)","v":0},{"$f":"SUM(R86:R159)","v":0},{"$f":"SUM(S86:S159)","v":0},{"$f":"SUM(T86:T159)","v":0},{"$f":"SUM(U86:U159)","v":0},{"$f":"SUM(V86:V159)","v":0},{"$f":"SUM(W86:W159)","v":0},{"$f":"SUM(X86:X159)","v":0},{"$f":"SUM(Y86:Y159)","v":0},{"$f":"SUM(Z86:Z159)","v":0},"DI"]
[9999,null,null,null,null,null,null,null,null,null,null,null,null,null,{"$f":"IF(O160=Información!I35,\"\",\"MATRICULA DIFERENTE A LA REPORTADA EN INFORMACION\")","v":""},null,null,null,null,null,null,null,null,null,null,null,"DI"]
[9999,null,null,null,null,null,null,null,null,null,null,null,{"$f":"IF(M160=Información!H35,\"\",\"MATRICULA DIFERENTE A LA REPORTADA EN INFORMACION\")","v":""},null,null,null,null,null,null,null,null,null,null,null,null,null,"DI"]
[9999,null,null,null,null,null,null,null,null,null,{"$f":"IF(K160=Información!G35,\"\",\"MATRICULA DIFERENTE A LA REPORTADA EN INFORMACION\")","v":""},null,null,null,null,null,null,null,null,null,null,null,null,null,null,null,"DI"]
[9999,null,92,null,null,null,null,"ESPECIALIDADES TECNICAS NOCTURNA",null,null,null,null,null,null,null,null,null,null,null,null,null,null,null,null,null,null,null,"NOC"]
[9999,null,92,null,null,null,null,"DESCRIPCION\nESPECIALIDADES TECNICAS","Matrícula",null,null,null,null,null,null,"10°",null,null,"11º",null,null,null,"12º",null,null,null,"Total Nocturna","Total Labora"]
[9999,null,92,null,null,null,null,null,null,"GRUPOS","10º","GRUPOS","11º","GRUPOS","12º","ESPEC","INGLES","DIB. TEC / INFORM","ESPEC","INGLES","DIB. TEC / INFORM","LABORA","ESPEC","INGLES","DIB. TEC / INFORM","LABORA",null,null,null,null,null,null,null,null,null,null,null,"7°","8°","9°","10°","11°","12°",null,"Labor@",{"$f":"SUMIF($AS167:$AS240,0,$V167:$V240)+SUMIF($AS167:$AS240,1,$V167:$V240)+SUMIF($AS167:$AS240,0,$Z167:$Z240)+SUMIF($AS167:$AS240,1,$Z167:$Z240)","v":0},{"$f":"SUMIF($AS167:$AS240,0,$V167:$V240)+SUMIF($AS167:$AS240,2,$V167:$V240)+SUMIF($AS167:$AS240,0,$Z167:$Z240)+SUMIF($AS167:$AS240,2,$Z167:$Z240)","v":0},null,null,null,"7°","8°","9°","10°","11°","12°"]
[{"$f":"+IF(B167=0,0,SUM($B$62:B167))","v":0},{"$f":"+IF(AA167>0,1,0)","v":0},92,1,{"$f":"IF(K167>29,1,IF(K167>14,2,0))","v":0},{"$f":"IF(M167>20,1,IF(M167>8,2,IF(M167>0,3,0)))","v":0},{"$f":"IF(O167>20,1,IF(O167>7,2,IF(O167>5,3,IF(O167>0,4,0))))","v":0},"Accounting - Sec.Nocturna",{"$f":"+$U$3&\"_\"&D167","v":"_1"},null,null,null,null,null,null,{"$f":"IF(E167=2,VLOOKUP(D167,'Plan Estu Especialidades'!$B$4:$AF$77,3,0),IF(E167=1,VLOOKUP(D167,'Plan Estu Especialidades'!$B$4:$AF$77,3,0)*J167,0))","v":0},{"$f":"IF(E167=2,VLOOKUP(D167,'Plan Estu Especialidades'!$B$4:$AF$77,4,0),IF(E167=1,VLOOKUP(D167,'Plan Estu Especialidades'!$B$4:$AF$77,4,0)*J167,0))","v":0},{"$f":"IF(E167=2,VLOOKUP(D167,'Plan Estu Especialidades'!$B$4:$AF$77,5,0),IF(E167=1,VLOOKUP(D167,'Plan Estu Especialidades'!$B$4:$AF$77,5,0)*J167,0))","v":0},{"$f":"IF(F167=3,VLOOKUP(D167,'Plan Estu Especialidades'!$B$4:$AF$77,12,0),IF(F167=2,VLOOKUP(D167,'Plan Estu Especialidades'!$B$4:$AF$77,7,0),IF(F167=1,VLOOKUP(D167,'Plan Estu Especialidades'!$B$4:$AF$77,7,0)*L167,0)))","v":0},{"$f":"IF(F167=3,VLOOKUP(D167,'Plan Estu Especialidades'!$B$4:$AF$77,13,0),IF(F167=2,VLOOKUP(D167,'Plan Estu Especialidades'!$B$4:$AF$77,8,0),IF(F167=1,VLOOKUP(D167,'Plan Estu Especialidades'!$B$4:$AF$77,8,0)*L167,0)))","v":0},{"$f":"IF(F167=3,VLOOKUP(D167,'Plan Estu Especialidades'!$B$4:$AF$77,14,0),IF(F167=2,VLOOKUP(D167,'Plan Estu Especialidades'!$B$4:$AF$77,9,0),IF(F167=1,VLOOKUP(D167,'Plan Estu Especialidades'!$B$4:$AF$77,9,0)*L167,0)))","v":0},{"$f":"IF(F167=3,VLOOKUP(D167,'Plan Estu Especialidades'!$B$4:$AF$77,15,0),IF(F167=2,VLOOKUP(D167,'Plan Estu Especialidades'!$B$4:$AF$77,10,0),IF(F167=1,VLOOKUP(D167,'Plan Estu Especialidades'!$B$4:$AF$77,10,0)*L167,0)))","v":0},{"$f":"IF(G167=4,VLOOKUP(D167,'Plan Estu Especialidades'!$B$4:$AF$77,27,0),IF(G167=3,VLOOKUP(D167,'Plan Estu Especialidades'!$B$4:$AF$77,22,0),IF(G167=2,VLOOKUP(D167,'Plan Estu Especialidades'!$B$4:$AF$77,17,0),IF(G167=1,VLOOKUP(D167,'Plan Estu Especialidades'!$B$4:$AF$77,17,0)*N167,0))))","v":0},{"$f":"IF(G167=4,VLOOKUP(D167,'Plan Estu Especialidades'!$B$4:$AF$77,28,0),IF(G167=3,VLOOKUP(D167,'Plan Estu Especialidades'!$B$4:$AF$77,23,0),IF(G167=2,VLOOKUP(D167,'Plan Estu Especialidades'!$B$4:$AF$77,18,0),IF(G167=1,VLOOKUP(D167,'Plan Estu Especialidades'!$B$4:$AF$77,18,0)*N167,0))))","v":0},{"$f":"IF(G167=4,VLOOKUP(D167,'Plan Estu Especialidades'!$B$4:$AF$77,29,0),IF(G167=3,VLOOKUP(D167,'Plan Estu Especialidades'!$B$4:$AF$77,24,0),IF(G167=2,VLOOKUP(D167,'Plan Estu Especialidades'!$B$4:$AF$77,19,0),IF(G167=1,VLOOKUP(D167,'Plan Estu Especialidades'!$B$4:$AF$77,19,0)*N167,0))))","v":0},{"$f":"IF(G167=4,VLOOKUP(D167,'Plan Estu Especialidades'!$B$4:$AF$77,30,0),IF(G167=3,VLOOKUP(D167,'Plan Estu Especialidades'!$B$4:$AF$77,25,0),IF(G167=2,VLOOKUP(D167,'Plan Estu Especialidades'!$B$4:$AF$77,20,0),IF(G167=1,VLOOKUP(D167,'Plan Estu Especialidades'!$B$4:$AF$77,20,0)*N167,0))))","v":0},{"$f":"SUM(P167:R167,S167:U167,W167:Y167)","v":0},{"$f":"+AT167+AU167","v":0},null,null,null,null,null,{"$f":"SUM(P167:R167)","v":0},{"$f":"SUM(S167:U167)","v":0},{"$f":"SUM(W167:Y167)","v":0},null,null,null,null,{"$f":"+J167","v":0},{"$f":"+L167","v":0},{"$f":"+N167","v":0},null,{"$f":"IF(SUM(J167,L167,N167)=0,\"S/V\",VLOOKUP(D167,'Plan Estu Especialidades'!$B$4:$AG$77,32,0))","v":"S/V"},{"$f":"IF(AND(AS167<2,$AT$166>$AU$166),V167+Z167,IF($AT$166=$AU$166,V167+Z167,0))","v":0},{"$f":"+IF(AND($AU$166>$AT$166,AS167=2),V167+Z167,IF(AND($AU$166>$AT$166,AS167=0),V167+Z167,0))","v":0},null,null,null,null,null,null,{"$f":"+IF(AH167=0,0,AH167/J167)","v":0},{"$f":"+IF(AI167=0,0,AI167/L167)","v":0},{"$f":"+IF(AJ167=0,0,AJ167/N167)","v":0}]
[{"$f":"+IF(B168=0,0,SUM($B$62:B168))","v":0},0,92,2,0,0,0,"Administración y Operación Aduanera - Sec.Nocturna",{"$f":"+$U$3&\"_\"&D168","v":"_2"},null,null,null,null,null,null,{"$f":"IF(E168=2,VLOOKUP(D168,'Plan Estu Especialidades'!$B$4:$AF$77,3,0),IF(E168=1,VLOOKUP(D168,'Plan Estu Especialidades'!$B$4:$AF$77,3,0)*J168,0))","v":0},{"$f":"IF(E168=2,VLOOKUP(D168,'Plan Estu Especialidades'!$B$4:$AF$77,4,0),IF(E168=1,VLOOKUP(D168,'Plan Estu Especialidades'!$B$4:$AF$77,4,0)*J168,0))","v":0},{"$f":"IF(E168=2,VLOOKUP(D168,'Plan Estu Especialidades'!$B$4:$AF$77,5,0),IF(E168=1,VLOOKUP(D168,'Plan Estu Especialidades'!$B$4:$AF$77,5,0)*J168,0))","v":0},{"$f":"IF(F168=3,VLOOKUP(D168,'Plan Estu Especialidades'!$B$4:$AF$77,12,0),IF(F168=2,VLOOKUP(D168,'Plan Estu Especialidades'!$B$4:$AF$77,7,0),IF(F168=1,VLOOKUP(D168,'Plan Estu Especialidades'!$B$4:$AF$77,7,0)*L168,0)))","v":0},{"$f":"IF(F168=3,VLOOKUP(D168,'Plan Estu Especialidades'!$B$4:$AF$77,13,0),IF(F168=2,VLOOKUP(D168,'Plan Estu Especialidades'!$B$4:$AF$77,8,0),IF(F168=1,VLOOKUP(D168,'Plan Estu Especialidades'!$B$4:$AF$77,8,0)*L168,0)))","v":0},{"$f":"IF(F168=3,VLOOKUP(D168,'Plan Estu Especialidades'!$B$4:$AF$77,14,0),IF(F168=2,VLOOKUP(D168,'Plan Estu Especialidades'!$B$4:$AF$77,9,0),IF(F168=1,VLOOKUP(D168,'Plan Estu Especialidades'!$B$4:$AF$77,9,0)*L168,0)))","v":0},{"$f":"IF(F168=3,VLOOKUP(D168,'Plan Estu Especialidades'!$B$4:$AF$77,15,0),IF(F168=2,VLOOKUP(D168,'Plan Estu Especialidades'!$B$4:$AF$77,10,0),IF(F168=1,VLOOKUP(D168,'Plan Estu Especialidades'!$B$4:$AF$77,10,0)*L168,0)))","v":0},{"$f":"IF(G168=4,VLOOKUP(D168,'Plan Estu Especialidades'!$B$4:$AF$77,27,0),IF(G168=3,VLOOKUP(D168,'Plan Estu Especialidades'!$B$4:$AF$77,22,0),IF(G168=2,VLOOKUP(D168,'Plan Estu Especialidades'!$B$4:$AF$77,17,0),IF(G168=1,VLOOKUP(D168,'Plan Estu Especialidades'!$B$4:$AF$77,17,0)*N168,0))))","v":0},{"$f":"IF(G168=4,VLOOKUP(D168,'Plan Estu Especialidades'!$B$4:$AF$77,28,0),IF(G168=3,VLOOKUP(D168,'Plan Estu Especialidades'!$B$4:$AF$77,23,0),IF(G168=2,VLOOKUP(D168,'Plan Estu Especialidades'!$B$4:$AF$77,18,0),IF(G168=1,VLOOKUP(D168,'Plan Estu Especialidades'!$B$4:$AF$77,18,0)*N168,0))))","v":0},{"$f":"IF(G168=4,VLOOKUP(D168,'Plan Estu Especialidades'!$B$4:$AF$77,29,0),IF(G168=3,VLOOKUP(D168,'Plan Estu Especialidades'!$B$4:$AF$77,24,0),IF(G168=2,VLOOKUP(D168,'Plan Estu Especialidades'!$B$4:$AF$77,19,0),IF(G168=1,VLOOKUP(D168,'Plan Estu Especialidades'!$B$4:$AF$77,19,0)*N168,0))))","v":0},{"$f":"IF(G168=4,VLOOKUP(D168,'Plan Estu Especialidades'!$B$4:$AF$77,30,0),IF(G168=3,VLOOKUP(D168,'Plan Estu Especialidades'!$B$4:$AF$77,25,0),IF(G168=2,VLOOKUP(D168,'Plan Estu Especialidades'!$B$4:$AF$77,20,0),IF(G168=1,VLOOKUP(D168,'Plan Estu Especialidades'!$B$4:$AF$77,20,0)*N168,0))))","v":0},0,{"$f":"+AT168+AU168","v":0},null,null,null,null,null,{"$f":"SUM(P168:R168)","v":0},0,0,null,null,null,null,{"$f":"+J168","v":0},{"$f":"+L168","v":0},{"$f":"+N168","v":0},null,{"$f":"IF(SUM(J168,L168,N168)=0,\"S/V\",VLOOKUP(D168,'Plan Estu Especialidades'!$B$4:$AG$77,32,0))","v":"S/V"},{"$f":"IF(AND(AS168<2,$AT$166>$AU$166),V168+Z168,IF($AT$166=$AU$166,V168+Z168,0))","v":0},{"$f":"+IF(AND($AU$166>$AT$166,AS168=2),V168+Z168,IF(AND($AU$166>$AT$166,AS168=0),V168+Z168,0))","v":0},null,null,null,null,null,null,0,{"$f":"+IF(AI168=0,0,AI168/L168)","v":0},0]
[{"$f":"+IF(B169=0,0,SUM($B$62:B169))","v":0},0,92,3,0,0,0,"Administración, Logística y Distribución - Sec.Nocturna","_3",null,null,null,null,null,null,{"$f":"IF(E169=2,VLOOKUP(D169,'Plan Estu Especialidades'!$B$4:$AF$77,3,0),IF(E169=1,VLOOKUP(D169,'Plan Estu Especialidades'!$B$4:$AF$77,3,0)*J169,0))","v":0},{"$f":"IF(E169=2,VLOOKUP(D169,'Plan Estu Especialidades'!$B$4:$AF$77,4,0),IF(E169=1,VLOOKUP(D169,'Plan Estu Especialidades'!$B$4:$AF$77,4,0)*J169,0))","v":0},{"$f":"IF(E169=2,VLOOKUP(D169,'Plan Estu Especialidades'!$B$4:$AF$77,5,0),IF(E169=1,VLOOKUP(D169,'Plan Estu Especialidades'!$B$4:$AF$77,5,0)*J169,0))","v":0},{"$f":"IF(F169=3,VLOOKUP(D169,'Plan Estu Especialidades'!$B$4:$AF$77,12,0),IF(F169=2,VLOOKUP(D169,'Plan Estu Especialidades'!$B$4:$AF$77,7,0),IF(F169=1,VLOOKUP(D169,'Plan Estu Especialidades'!$B$4:$AF$77,7,0)*L169,0)))","v":0},{"$f":"IF(F169=3,VLOOKUP(D169,'Plan Estu Especialidades'!$B$4:$AF$77,13,0),IF(F169=2,VLOOKUP(D169,'Plan Estu Especialidades'!$B$4:$AF$77,8,0),IF(F169=1,VLOOKUP(D169,'Plan Estu Especialidades'!$B$4:$AF$77,8,0)*L169,0)))","v":0},{"$f":"IF(F169=3,VLOOKUP(D169,'Plan Estu Especialidades'!$B$4:$AF$77,14,0),IF(F169=2,VLOOKUP(D169,'Plan Estu Especialidades'!$B$4:$AF$77,9,0),IF(F169=1,VLOOKUP(D169,'Plan Estu Especialidades'!$B$4:$AF$77,9,0)*L169,0)))","v":0},{"$f":"IF(F169=3,VLOOKUP(D169,'Plan Estu Especialidades'!$B$4:$AF$77,15,0),IF(F169=2,VLOOKUP(D169,'Plan Estu Especialidades'!$B$4:$AF$77,10,0),IF(F169=1,VLOOKUP(D169,'Plan Estu Especialidades'!$B$4:$AF$77,10,0)*L169,0)))","v":0},{"$f":"IF(G169=4,VLOOKUP(D169,'Plan Estu Especialidades'!$B$4:$AF$77,27,0),IF(G169=3,VLOOKUP(D169,'Plan Estu Especialidades'!$B$4:$AF$77,22,0),IF(G169=2,VLOOKUP(D169,'Plan Estu Especialidades'!$B$4:$AF$77,17,0),IF(G169=1,VLOOKUP(D169,'Plan Estu Especialidades'!$B$4:$AF$77,17,0)*N169,0))))","v":0},{"$f":"IF(G169=4,VLOOKUP(D169,'Plan Estu Especialidades'!$B$4:$AF$77,28,0),IF(G169=3,VLOOKUP(D169,'Plan Estu Especialidades'!$B$4:$AF$77,23,0),IF(G169=2,VLOOKUP(D169,'Plan Estu Especialidades'!$B$4:$AF$77,18,0),IF(G169=1,VLOOKUP(D169,'Plan Estu Especialidades'!$B$4:$AF$77,18,0)*N169,0))))","v":0},{"$f":"IF(G169=4,VLOOKUP(D169,'Plan Estu Especialidades'!$B$4:$AF$77,29,0),IF(G169=3,VLOOKUP(D169,'Plan Estu Especialidades'!$B$4:$AF$77,24,0),IF(G169=2,VLOOKUP(D169,'Plan Estu Especialidades'!$B$4:$AF$77,19,0),IF(G169=1,VLOOKUP(D169,'Plan Estu Especialidades'!$B$4:$AF$77,19,0)*N169,0))))","v":0},{"$f":"IF(G169=4,VLOOKUP(D169,'Plan Estu Especialidades'!$B$4:$AF$77,30,0),IF(G169=3,VLOOKUP(D169,'Plan Estu Especialidades'!$B$4:$AF$77,25,0),IF(G169=2,VLOOKUP(D169,'Plan Estu Especialidades'!$B$4:$AF$77,20,0),IF(G169=1,VLOOKUP(D169,'Plan Estu Especialidades'!$B$4:$AF$77,20,0)*N169,0))))","v":0},0,0,null,null,null,null,null,{"$f":"SUM(P169:R169)","v":0},0,0,null,null,null,null,0,0,0,null,{"$f":"IF(SUM(J169,L169,N169)=0,\"S/V\",VLOOKUP(D169,'Plan Estu Especialidades'!$B$4:$AG$77,32,0))","v":"S/V"},{"$f":"IF(AND(AS169<2,$AT$166>$AU$166),V169+Z169,IF($AT$166=$AU$166,V169+Z169,0))","v":0},0,null,null,null,null,null,null,0,0,0]
[{"$f":"+IF(B170=0,0,SUM($B$62:B170))","v":0},0,92,4,0,0,0,"Administration, Logistic and Distribution - Sec.Nocturna","_4",null,null,null,null,null,null,{"$f":"IF(E170=2,VLOOKUP(D170,'Plan Estu Especialidades'!$B$4:$AF$77,3,0),IF(E170=1,VLOOKUP(D170,'Plan Estu Especialidades'!$B$4:$AF$77,3,0)*J170,0))","v":0},{"$f":"IF(E170=2,VLOOKUP(D170,'Plan Estu Especialidades'!$B$4:$AF$77,4,0),IF(E170=1,VLOOKUP(D170,'Plan Estu Especialidades'!$B$4:$AF$77,4,0)*J170,0))","v":0},{"$f":"IF(E170=2,VLOOKUP(D170,'Plan Estu Especialidades'!$B$4:$AF$77,5,0),IF(E170=1,VLOOKUP(D170,'Plan Estu Especialidades'!$B$4:$AF$77,5,0)*J170,0))","v":0},{"$f":"IF(F170=3,VLOOKUP(D170,'Plan Estu Especialidades'!$B$4:$AF$77,12,0),IF(F170=2,VLOOKUP(D170,'Plan Estu Especialidades'!$B$4:$AF$77,7,0),IF(F170=1,VLOOKUP(D170,'Plan Estu Especialidades'!$B$4:$AF$77,7,0)*L170,0)))","v":0},{"$f":"IF(F170=3,VLOOKUP(D170,'Plan Estu Especialidades'!$B$4:$AF$77,13,0),IF(F170=2,VLOOKUP(D170,'Plan Estu Especialidades'!$B$4:$AF$77,8,0),IF(F170=1,VLOOKUP(D170,'Plan Estu Especialidades'!$B$4:$AF$77,8,0)*L170,0)))","v":0},{"$f":"IF(F170=3,VLOOKUP(D170,'Plan Estu Especialidades'!$B$4:$AF$77,14,0),IF(F170=2,VLOOKUP(D170,'Plan Estu Especialidades'!$B$4:$AF$77,9,0),IF(F170=1,VLOOKUP(D170,'Plan Estu Especialidades'!$B$4:$AF$77,9,0)*L170,0)))","v":0},{"$f":"IF(F170=3,VLOOKUP(D170,'Plan Estu Especialidades'!$B$4:$AF$77,15,0),IF(F170=2,VLOOKUP(D170,'Plan Estu Especialidades'!$B$4:$AF$77,10,0),IF(F170=1,VLOOKUP(D170,'Plan Estu Especialidades'!$B$4:$AF$77,10,0)*L170,0)))","v":0},{"$f":"IF(G170=4,VLOOKUP(D170,'Plan Estu Especialidades'!$B$4:$AF$77,27,0),IF(G170=3,VLOOKUP(D170,'Plan Estu Especialidades'!$B$4:$AF$77,22,0),IF(G170=2,VLOOKUP(D170,'Plan Estu Especialidades'!$B$4:$AF$77,17,0),IF(G170=1,VLOOKUP(D170,'Plan Estu Especialidades'!$B$4:$AF$77,17,0)*N170,0))))","v":0},{"$f":"IF(G170=4,VLOOKUP(D170,'Plan Estu Especialidades'!$B$4:$AF$77,28,0),IF(G170=3,VLOOKUP(D170,'Plan Estu Especialidades'!$B$4:$AF$77,23,0),IF(G170=2,VLOOKUP(D170,'Plan Estu Especialidades'!$B$4:$AF$77,18,0),IF(G170=1,VLOOKUP(D170,'Plan Estu Especialidades'!$B$4:$AF$77,18,0)*N170,0))))","v":0},{"$f":"IF(G170=4,VLOOKUP(D170,'Plan Estu Especialidades'!$B$4:$AF$77,29,0),IF(G170=3,VLOOKUP(D170,'Plan Estu Especialidades'!$B$4:$AF$77,24,0),IF(G170=2,VLOOKUP(D170,'Plan Estu Especialidades'!$B$4:$AF$77,19,0),IF(G170=1,VLOOKUP(D170,'Plan Estu Especialidades'!$B$4:$AF$77,19,0)*N170,0))))","v":0},{"$f":"IF(G170=4,VLOOKUP(D170,'Plan Estu Especialidades'!$B$4:$AF$77,30,0),IF(G170=3,VLOOKUP(D170,'Plan Estu Especialidades'!$B$4:$AF$77,25,0),IF(G170=2,VLOOKUP(D170,'Plan Estu Especialidades'!$B$4:$AF$77,20,0),IF(G170=1,VLOOKUP(D170,'Plan Estu Especialidades'!$B$4:$AF$77,20,0)*N170,0))))","v":0},0,0,null,null,null,null,null,{"$f":"SUM(P170:R170)","v":0},0,0,null,null,null,null,0,0,0,null,{"$f":"IF(SUM(J170,L170,N170)=0,\"S/V\",VLOOKUP(D170,'Plan Estu Especialidades'!$B$4:$AG$77,32,0))","v":"S/V"},{"$f":"IF(AND(AS170<2,$AT$166>$AU$166),V170+Z170,IF($AT$166=$AU$166,V170+Z170,0))","v":0},0,null,null,null,null,null,null,0,0,0]
[{"$f":"+IF(B171=0,0,SUM($B$62:B171))","v":0},0,92,5,0,0,0,"Agroecología - Sec.Nocturna","_5",null,null,null,null,null,null,{"$f":"IF(E171=2,VLOOKUP(D171,'Plan Estu Especialidades'!$B$4:$AF$77,3,0),IF(E171=1,VLOOKUP(D171,'Plan Estu Especialidades'!$B$4:$AF$77,3,0)*J171,0))","v":0},{"$f":"IF(E171=2,VLOOKUP(D171,'Plan Estu Especialidades'!$B$4:$AF$77,4,0),IF(E171=1,VLOOKUP(D171,'Plan Estu Especialidades'!$B$4:$AF$77,4,0)*J171,0))","v":0},{"$f":"IF(E171=2,VLOOKUP(D171,'Plan Estu Especialidades'!$B$4:$AF$77,5,0),IF(E171=1,VLOOKUP(D171,'Plan Estu Especialidades'!$B$4:$AF$77,5,0)*J171,0))","v":0},{"$f":"IF(F171=3,VLOOKUP(D171,'Plan Estu Especialidades'!$B$4:$AF$77,12,0),IF(F171=2,VLOOKUP(D171,'Plan Estu Especialidades'!$B$4:$AF$77,7,0),IF(F171=1,VLOOKUP(D171,'Plan Estu Especialidades'!$B$4:$AF$77,7,0)*L171,0)))","v":0},{"$f":"IF(F171=3,VLOOKUP(D171,'Plan Estu Especialidades'!$B$4:$AF$77,13,0),IF(F171=2,VLOOKUP(D171,'Plan Estu Especialidades'!$B$4:$AF$77,8,0),IF(F171=1,VLOOKUP(D171,'Plan Estu Especialidades'!$B$4:$AF$77,8,0)*L171,0)))","v":0},{"$f":"IF(F171=3,VLOOKUP(D171,'Plan Estu Especialidades'!$B$4:$AF$77,14,0),IF(F171=2,VLOOKUP(D171,'Plan Estu Especialidades'!$B$4:$AF$77,9,0),IF(F171=1,VLOOKUP(D171,'Plan Estu Especialidades'!$B$4:$AF$77,9,0)*L171,0)))","v":0},{"$f":"IF(F171=3,VLOOKUP(D171,'Plan Estu Especialidades'!$B$4:$AF$77,15,0),IF(F171=2,VLOOKUP(D171,'Plan Estu Especialidades'!$B$4:$AF$77,10,0),IF(F171=1,VLOOKUP(D171,'Plan Estu Especialidades'!$B$4:$AF$77,10,0)*L171,0)))","v":0},{"$f":"IF(G171=4,VLOOKUP(D171,'Plan Estu Especialidades'!$B$4:$AF$77,27,0),IF(G171=3,VLOOKUP(D171,'Plan Estu Especialidades'!$B$4:$AF$77,22,0),IF(G171=2,VLOOKUP(D171,'Plan Estu Especialidades'!$B$4:$AF$77,17,0),IF(G171=1,VLOOKUP(D171,'Plan Estu Especialidades'!$B$4:$AF$77,17,0)*N171,0))))","v":0},{"$f":"IF(G171=4,VLOOKUP(D171,'Plan Estu Especialidades'!$B$4:$AF$77,28,0),IF(G171=3,VLOOKUP(D171,'Plan Estu Especialidades'!$B$4:$AF$77,23,0),IF(G171=2,VLOOKUP(D171,'Plan Estu Especialidades'!$B$4:$AF$77,18,0),IF(G171=1,VLOOKUP(D171,'Plan Estu Especialidades'!$B$4:$AF$77,18,0)*N171,0))))","v":0},{"$f":"IF(G171=4,VLOOKUP(D171,'Plan Estu Especialidades'!$B$4:$AF$77,29,0),IF(G171=3,VLOOKUP(D171,'Plan Estu Especialidades'!$B$4:$AF$77,24,0),IF(G171=2,VLOOKUP(D171,'Plan Estu Especialidades'!$B$4:$AF$77,19,0),IF(G171=1,VLOOKUP(D171,'Plan Estu Especialidades'!$B$4:$AF$77,19,0)*N171,0))))","v":0},{"$f":"IF(G171=4,VLOOKUP(D171,'Plan Estu Especialidades'!$B$4:$AF$77,30,0),IF(G171=3,VLOOKUP(D171,'Plan Estu Especialidades'!$B$4:$AF$77,25,0),IF(G171=2,VLOOKUP(D171,'Plan Estu Especialidades'!$B$4:$AF$77,20,0),IF(G171=1,VLOOKUP(D171,'Plan Estu Especialidades'!$B$4:$AF$77,20,0)*N171,0))))","v":0},0,0,null,null,null,null,null,{"$f":"SUM(P171:R171)","v":0},0,0,null,null,null,null,0,0,0,null,{"$f":"IF(SUM(J171,L171,N171)=0,\"S/V\",VLOOKUP(D171,'Plan Estu Especialidades'!$B$4:$AG$77,32,0))","v":"S/V"},{"$f":"IF(AND(AS171<2,$AT$166>$AU$166),V171+Z171,IF($AT$166=$AU$166,V171+Z171,0))","v":0},0,null,null,null,null,null,null,0,0,0]
[{"$f":"+IF(B172=0,0,SUM($B$62:B172))","v":0},0,92,6,0,0,0,"Agroindustria Alimentaria con Téc. Agrícola - Sec.Nocturna","_6",null,null,null,null,null,null,{"$f":"IF(E172=2,VLOOKUP(D172,'Plan Estu Especialidades'!$B$4:$AF$77,3,0),IF(E172=1,VLOOKUP(D172,'Plan Estu Especialidades'!$B$4:$AF$77,3,0)*J172,0))","v":0},{"$f":"IF(E172=2,VLOOKUP(D172,'Plan Estu Especialidades'!$B$4:$AF$77,4,0),IF(E172=1,VLOOKUP(D172,'Plan Estu Especialidades'!$B$4:$AF$77,4,0)*J172,0))","v":0},{"$f":"IF(E172=2,VLOOKUP(D172,'Plan Estu Especialidades'!$B$4:$AF$77,5,0),IF(E172=1,VLOOKUP(D172,'Plan Estu Especialidades'!$B$4:$AF$77,5,0)*J172,0))","v":0},{"$f":"IF(F172=3,VLOOKUP(D172,'Plan Estu Especialidades'!$B$4:$AF$77,12,0),IF(F172=2,VLOOKUP(D172,'Plan Estu Especialidades'!$B$4:$AF$77,7,0),IF(F172=1,VLOOKUP(D172,'Plan Estu Especialidades'!$B$4:$AF$77,7,0)*L172,0)))","v":0},{"$f":"IF(F172=3,VLOOKUP(D172,'Plan Estu Especialidades'!$B$4:$AF$77,13,0),IF(F172=2,VLOOKUP(D172,'Plan Estu Especialidades'!$B$4:$AF$77,8,0),IF(F172=1,VLOOKUP(D172,'Plan Estu Especialidades'!$B$4:$AF$77,8,0)*L172,0)))","v":0},{"$f":"IF(F172=3,VLOOKUP(D172,'Plan Estu Especialidades'!$B$4:$AF$77,14,0),IF(F172=2,VLOOKUP(D172,'Plan Estu Especialidades'!$B$4:$AF$77,9,0),IF(F172=1,VLOOKUP(D172,'Plan Estu Especialidades'!$B$4:$AF$77,9,0)*L172,0)))","v":0},{"$f":"IF(F172=3,VLOOKUP(D172,'Plan Estu Especialidades'!$B$4:$AF$77,15,0),IF(F172=2,VLOOKUP(D172,'Plan Estu Especialidades'!$B$4:$AF$77,10,0),IF(F172=1,VLOOKUP(D172,'Plan Estu Especialidades'!$B$4:$AF$77,10,0)*L172,0)))","v":0},{"$f":"IF(G172=4,VLOOKUP(D172,'Plan Estu Especialidades'!$B$4:$AF$77,27,0),IF(G172=3,VLOOKUP(D172,'Plan Estu Especialidades'!$B$4:$AF$77,22,0),IF(G172=2,VLOOKUP(D172,'Plan Estu Especialidades'!$B$4:$AF$77,17,0),IF(G172=1,VLOOKUP(D172,'Plan Estu Especialidades'!$B$4:$AF$77,17,0)*N172,0))))","v":0},{"$f":"IF(G172=4,VLOOKUP(D172,'Plan Estu Especialidades'!$B$4:$AF$77,28,0),IF(G172=3,VLOOKUP(D172,'Plan Estu Especialidades'!$B$4:$AF$77,23,0),IF(G172=2,VLOOKUP(D172,'Plan Estu Especialidades'!$B$4:$AF$77,18,0),IF(G172=1,VLOOKUP(D172,'Plan Estu Especialidades'!$B$4:$AF$77,18,0)*N172,0))))","v":0},{"$f":"IF(G172=4,VLOOKUP(D172,'Plan Estu Especialidades'!$B$4:$AF$77,29,0),IF(G172=3,VLOOKUP(D172,'Plan Estu Especialidades'!$B$4:$AF$77,24,0),IF(G172=2,VLOOKUP(D172,'Plan Estu Especialidades'!$B$4:$AF$77,19,0),IF(G172=1,VLOOKUP(D172,'Plan Estu Especialidades'!$B$4:$AF$77,19,0)*N172,0))))","v":0},{"$f":"IF(G172=4,VLOOKUP(D172,'Plan Estu Especialidades'!$B$4:$AF$77,30,0),IF(G172=3,VLOOKUP(D172,'Plan Estu Especialidades'!$B$4:$AF$77,25,0),IF(G172=2,VLOOKUP(D172,'Plan Estu Especialidades'!$B$4:$AF$77,20,0),IF(G172=1,VLOOKUP(D172,'Plan Estu Especialidades'!$B$4:$AF$77,20,0)*N172,0))))","v":0},0,0,null,null,null,null,null,{"$f":"SUM(P172:R172)","v":0},0,0,null,null,null,null,0,0,0,null,{"$f":"IF(SUM(J172,L172,N172)=0,\"S/V\",VLOOKUP(D172,'Plan Estu Especialidades'!$B$4:$AG$77,32,0))","v":"S/V"},{"$f":"IF(AND(AS172<2,$AT$166>$AU$166),V172+Z172,IF($AT$166=$AU$166,V172+Z172,0))","v":0},0,null,null,null,null,null,null,0,0,0]
[{"$f":"+IF(B173=0,0,SUM($B$62:B173))","v":0},0,92,7,0,0,0,"Agroindustria Alimentaria con Téc. Pecuaria - Sec.Nocturna","_7",null,null,null,null,null,null,{"$f":"IF(E173=2,VLOOKUP(D173,'Plan Estu Especialidades'!$B$4:$AF$77,3,0),IF(E173=1,VLOOKUP(D173,'Plan Estu Especialidades'!$B$4:$AF$77,3,0)*J173,0))","v":0},{"$f":"IF(E173=2,VLOOKUP(D173,'Plan Estu Especialidades'!$B$4:$AF$77,4,0),IF(E173=1,VLOOKUP(D173,'Plan Estu Especialidades'!$B$4:$AF$77,4,0)*J173,0))","v":0},{"$f":"IF(E173=2,VLOOKUP(D173,'Plan Estu Especialidades'!$B$4:$AF$77,5,0),IF(E173=1,VLOOKUP(D173,'Plan Estu Especialidades'!$B$4:$AF$77,5,0)*J173,0))","v":0},{"$f":"IF(F173=3,VLOOKUP(D173,'Plan Estu Especialidades'!$B$4:$AF$77,12,0),IF(F173=2,VLOOKUP(D173,'Plan Estu Especialidades'!$B$4:$AF$77,7,0),IF(F173=1,VLOOKUP(D173,'Plan Estu Especialidades'!$B$4:$AF$77,7,0)*L173,0)))","v":0},{"$f":"IF(F173=3,VLOOKUP(D173,'Plan Estu Especialidades'!$B$4:$AF$77,13,0),IF(F173=2,VLOOKUP(D173,'Plan Estu Especialidades'!$B$4:$AF$77,8,0),IF(F173=1,VLOOKUP(D173,'Plan Estu Especialidades'!$B$4:$AF$77,8,0)*L173,0)))","v":0},{"$f":"IF(F173=3,VLOOKUP(D173,'Plan Estu Especialidades'!$B$4:$AF$77,14,0),IF(F173=2,VLOOKUP(D173,'Plan Estu Especialidades'!$B$4:$AF$77,9,0),IF(F173=1,VLOOKUP(D173,'Plan Estu Especialidades'!$B$4:$AF$77,9,0)*L173,0)))","v":0},{"$f":"IF(F173=3,VLOOKUP(D173,'Plan Estu Especialidades'!$B$4:$AF$77,15,0),IF(F173=2,VLOOKUP(D173,'Plan Estu Especialidades'!$B$4:$AF$77,10,0),IF(F173=1,VLOOKUP(D173,'Plan Estu Especialidades'!$B$4:$AF$77,10,0)*L173,0)))","v":0},{"$f":"IF(G173=4,VLOOKUP(D173,'Plan Estu Especialidades'!$B$4:$AF$77,27,0),IF(G173=3,VLOOKUP(D173,'Plan Estu Especialidades'!$B$4:$AF$77,22,0),IF(G173=2,VLOOKUP(D173,'Plan Estu Especialidades'!$B$4:$AF$77,17,0),IF(G173=1,VLOOKUP(D173,'Plan Estu Especialidades'!$B$4:$AF$77,17,0)*N173,0))))","v":0},{"$f":"IF(G173=4,VLOOKUP(D173,'Plan Estu Especialidades'!$B$4:$AF$77,28,0),IF(G173=3,VLOOKUP(D173,'Plan Estu Especialidades'!$B$4:$AF$77,23,0),IF(G173=2,VLOOKUP(D173,'Plan Estu Especialidades'!$B$4:$AF$77,18,0),IF(G173=1,VLOOKUP(D173,'Plan Estu Especialidades'!$B$4:$AF$77,18,0)*N173,0))))","v":0},{"$f":"IF(G173=4,VLOOKUP(D173,'Plan Estu Especialidades'!$B$4:$AF$77,29,0),IF(G173=3,VLOOKUP(D173,'Plan Estu Especialidades'!$B$4:$AF$77,24,0),IF(G173=2,VLOOKUP(D173,'Plan Estu Especialidades'!$B$4:$AF$77,19,0),IF(G173=1,VLOOKUP(D173,'Plan Estu Especialidades'!$B$4:$AF$77,19,0)*N173,0))))","v":0},{"$f":"IF(G173=4,VLOOKUP(D173,'Plan Estu Especialidades'!$B$4:$AF$77,30,0),IF(G173=3,VLOOKUP(D173,'Plan Estu Especialidades'!$B$4:$AF$77,25,0),IF(G173=2,VLOOKUP(D173,'Plan Estu Especialidades'!$B$4:$AF$77,20,0),IF(G173=1,VLOOKUP(D173,'Plan Estu Especialidades'!$B$4:$AF$77,20,0)*N173,0))))","v":0},0,0,null,null,null,null,null,0,0,0,null,null,null,null,0,0,0,null,{"$f":"IF(SUM(J173,L173,N173)=0,\"S/V\",VLOOKUP(D173,'Plan Estu Especialidades'!$B$4:$AG$77,32,0))","v":"S/V"},0,{"$f":"+IF(AND($AU$166>$AT$166,AS173=2),V173+Z173,IF(AND($AU$166>$AT$166,AS173=0),V173+Z173,0))","v":0},null,null,null,null,null,null,0,0,0]
[{"$f":"+IF(B174=0,0,SUM($B$62:B174))","v":0},0,92,8,0,0,0,"Agrojardinería - Sec.Nocturna","_8",null,null,null,null,null,null,{"$f":"IF(E174=2,VLOOKUP(D174,'Plan Estu Especialidades'!$B$4:$AF$77,3,0),IF(E174=1,VLOOKUP(D174,'Plan Estu Especialidades'!$B$4:$AF$77,3,0)*J174,0))","v":0},{"$f":"IF(E174=2,VLOOKUP(D174,'Plan Estu Especialidades'!$B$4:$AF$77,4,0),IF(E174=1,VLOOKUP(D174,'Plan Estu Especialidades'!$B$4:$AF$77,4,0)*J174,0))","v":0},{"$f":"IF(E174=2,VLOOKUP(D174,'Plan Estu Especialidades'!$B$4:$AF$77,5,0),IF(E174=1,VLOOKUP(D174,'Plan Estu Especialidades'!$B$4:$AF$77,5,0)*J174,0))","v":0},{"$f":"IF(F174=3,VLOOKUP(D174,'Plan Estu Especialidades'!$B$4:$AF$77,12,0),IF(F174=2,VLOOKUP(D174,'Plan Estu Especialidades'!$B$4:$AF$77,7,0),IF(F174=1,VLOOKUP(D174,'Plan Estu Especialidades'!$B$4:$AF$77,7,0)*L174,0)))","v":0},{"$f":"IF(F174=3,VLOOKUP(D174,'Plan Estu Especialidades'!$B$4:$AF$77,13,0),IF(F174=2,VLOOKUP(D174,'Plan Estu Especialidades'!$B$4:$AF$77,8,0),IF(F174=1,VLOOKUP(D174,'Plan Estu Especialidades'!$B$4:$AF$77,8,0)*L174,0)))","v":0},{"$f":"IF(F174=3,VLOOKUP(D174,'Plan Estu Especialidades'!$B$4:$AF$77,14,0),IF(F174=2,VLOOKUP(D174,'Plan Estu Especialidades'!$B$4:$AF$77,9,0),IF(F174=1,VLOOKUP(D174,'Plan Estu Especialidades'!$B$4:$AF$77,9,0)*L174,0)))","v":0},{"$f":"IF(F174=3,VLOOKUP(D174,'Plan Estu Especialidades'!$B$4:$AF$77,15,0),IF(F174=2,VLOOKUP(D174,'Plan Estu Especialidades'!$B$4:$AF$77,10,0),IF(F174=1,VLOOKUP(D174,'Plan Estu Especialidades'!$B$4:$AF$77,10,0)*L174,0)))","v":0},{"$f":"IF(G174=4,VLOOKUP(D174,'Plan Estu Especialidades'!$B$4:$AF$77,27,0),IF(G174=3,VLOOKUP(D174,'Plan Estu Especialidades'!$B$4:$AF$77,22,0),IF(G174=2,VLOOKUP(D174,'Plan Estu Especialidades'!$B$4:$AF$77,17,0),IF(G174=1,VLOOKUP(D174,'Plan Estu Especialidades'!$B$4:$AF$77,17,0)*N174,0))))","v":0},{"$f":"IF(G174=4,VLOOKUP(D174,'Plan Estu Especialidades'!$B$4:$AF$77,28,0),IF(G174=3,VLOOKUP(D174,'Plan Estu Especialidades'!$B$4:$AF$77,23,0),IF(G174=2,VLOOKUP(D174,'Plan Estu Especialidades'!$B$4:$AF$77,18,0),IF(G174=1,VLOOKUP(D174,'Plan Estu Especialidades'!$B$4:$AF$77,18,0)*N174,0))))","v":0},{"$f":"IF(G174=4,VLOOKUP(D174,'Plan Estu Especialidades'!$B$4:$AF$77,29,0),IF(G174=3,VLOOKUP(D174,'Plan Estu Especialidades'!$B$4:$AF$77,24,0),IF(G174=2,VLOOKUP(D174,'Plan Estu Especialidades'!$B$4:$AF$77,19,0),IF(G174=1,VLOOKUP(D174,'Plan Estu Especialidades'!$B$4:$AF$77,19,0)*N174,0))))","v":0},{"$f":"IF(G174=4,VLOOKUP(D174,'Plan Estu Especialidades'!$B$4:$AF$77,30,0),IF(G174=3,VLOOKUP(D174,'Plan Estu Especialidades'!$B$4:$AF$77,25,0),IF(G174=2,VLOOKUP(D174,'Plan Estu Especialidades'!$B$4:$AF$77,20,0),IF(G174=1,VLOOKUP(D174,'Plan Estu Especialidades'!$B$4:$AF$77,20,0)*N174,0))))","v":0},0,0,null,null,null,null,null,0,0,0,null,null,null,null,0,0,0,null,{"$f":"IF(SUM(J174,L174,N174)=0,\"S/V\",VLOOKUP(D174,'Plan Estu Especialidades'!$B$4:$AG$77,32,0))","v":"S/V"},0,0,null,null,null,null,null,null,0,0,0]
[{"$f":"+IF(B175=0,0,SUM($B$62:B175))","v":0},0,92,9,0,0,0,"Agropecuario en Producción Agrícola - Sec.Nocturna","_9",null,null,null,null,null,null,{"$f":"IF(E175=2,VLOOKUP(D175,'Plan Estu Especialidades'!$B$4:$AF$77,3,0),IF(E175=1,VLOOKUP(D175,'Plan Estu Especialidades'!$B$4:$AF$77,3,0)*J175,0))","v":0},{"$f":"IF(E175=2,VLOOKUP(D175,'Plan Estu Especialidades'!$B$4:$AF$77,4,0),IF(E175=1,VLOOKUP(D175,'Plan Estu Especialidades'!$B$4:$AF$77,4,0)*J175,0))","v":0},{"$f":"IF(E175=2,VLOOKUP(D175,'Plan Estu Especialidades'!$B$4:$AF$77,5,0),IF(E175=1,VLOOKUP(D175,'Plan Estu Especialidades'!$B$4:$AF$77,5,0)*J175,0))","v":0},{"$f":"IF(F175=3,VLOOKUP(D175,'Plan Estu Especialidades'!$B$4:$AF$77,12,0),IF(F175=2,VLOOKUP(D175,'Plan Estu Especialidades'!$B$4:$AF$77,7,0),IF(F175=1,VLOOKUP(D175,'Plan Estu Especialidades'!$B$4:$AF$77,7,0)*L175,0)))","v":0},{"$f":"IF(F175=3,VLOOKUP(D175,'Plan Estu Especialidades'!$B$4:$AF$77,13,0),IF(F175=2,VLOOKUP(D175,'Plan Estu Especialidades'!$B$4:$AF$77,8,0),IF(F175=1,VLOOKUP(D175,'Plan Estu Especialidades'!$B$4:$AF$77,8,0)*L175,0)))","v":0},{"$f":"IF(F175=3,VLOOKUP(D175,'Plan Estu Especialidades'!$B$4:$AF$77,14,0),IF(F175=2,VLOOKUP(D175,'Plan Estu Especialidades'!$B$4:$AF$77,9,0),IF(F175=1,VLOOKUP(D175,'Plan Estu Especialidades'!$B$4:$AF$77,9,0)*L175,0)))","v":0},{"$f":"IF(F175=3,VLOOKUP(D175,'Plan Estu Especialidades'!$B$4:$AF$77,15,0),IF(F175=2,VLOOKUP(D175,'Plan Estu Especialidades'!$B$4:$AF$77,10,0),IF(F175=1,VLOOKUP(D175,'Plan Estu Especialidades'!$B$4:$AF$77,10,0)*L175,0)))","v":0},{"$f":"IF(G175=4,VLOOKUP(D175,'Plan Estu Especialidades'!$B$4:$AF$77,27,0),IF(G175=3,VLOOKUP(D175,'Plan Estu Especialidades'!$B$4:$AF$77,22,0),IF(G175=2,VLOOKUP(D175,'Plan Estu Especialidades'!$B$4:$AF$77,17,0),IF(G175=1,VLOOKUP(D175,'Plan Estu Especialidades'!$B$4:$AF$77,17,0)*N175,0))))","v":0},{"$f":"IF(G175=4,VLOOKUP(D175,'Plan Estu Especialidades'!$B$4:$AF$77,28,0),IF(G175=3,VLOOKUP(D175,'Plan Estu Especialidades'!$B$4:$AF$77,23,0),IF(G175=2,VLOOKUP(D175,'Plan Estu Especialidades'!$B$4:$AF$77,18,0),IF(G175=1,VLOOKUP(D175,'Plan Estu Especialidades'!$B$4:$AF$77,18,0)*N175,0))))","v":0},{"$f":"IF(G175=4,VLOOKUP(D175,'Plan Estu Especialidades'!$B$4:$AF$77,29,0),IF(G175=3,VLOOKUP(D175,'Plan Estu Especialidades'!$B$4:$AF$77,24,0),IF(G175=2,VLOOKUP(D175,'Plan Estu Especialidades'!$B$4:$AF$77,19,0),IF(G175=1,VLOOKUP(D175,'Plan Estu Especialidades'!$B$4:$AF$77,19,0)*N175,0))))","v":0},{"$f":"IF(G175=4,VLOOKUP(D175,'Plan Estu Especialidades'!$B$4:$AF$77,30,0),IF(G175=3,VLOOKUP(D175,'Plan Estu Especialidades'!$B$4:$AF$77,25,0),IF(G175=2,VLOOKUP(D175,'Plan Estu Especialidades'!$B$4:$AF$77,20,0),IF(G175=1,VLOOKUP(D175,'Plan Estu Especialidades'!$B$4:$AF$77,20,0)*N175,0))))","v":0},0,0,null,null,null,null,null,0,0,0,null,null,null,null,0,0,0,null,{"$f":"IF(SUM(J175,L175,N175)=0,\"S/V\",VLOOKUP(D175,'Plan Estu Especialidades'!$B$4:$AG$77,32,0))","v":"S/V"},0,0,null,null,null,null,null,null,0,0,0]
[{"$f":"+IF(B176=0,0,SUM($B$62:B176))","v":0},0,92,10,0,0,0,"Agropecuario en Producción Pecuaria - Sec.Nocturna","_10",null,null,null,null,null,null,{"$f":"IF(E176=2,VLOOKUP(D176,'Plan Estu Especialidades'!$B$4:$AF$77,3,0),IF(E176=1,VLOOKUP(D176,'Plan Estu Especialidades'!$B$4:$AF$77,3,0)*J176,0))","v":0},{"$f":"IF(E176=2,VLOOKUP(D176,'Plan Estu Especialidades'!$B$4:$AF$77,4,0),IF(E176=1,VLOOKUP(D176,'Plan Estu Especialidades'!$B$4:$AF$77,4,0)*J176,0))","v":0},{"$f":"IF(E176=2,VLOOKUP(D176,'Plan Estu Especialidades'!$B$4:$AF$77,5,0),IF(E176=1,VLOOKUP(D176,'Plan Estu Especialidades'!$B$4:$AF$77,5,0)*J176,0))","v":0},{"$f":"IF(F176=3,VLOOKUP(D176,'Plan Estu Especialidades'!$B$4:$AF$77,12,0),IF(F176=2,VLOOKUP(D176,'Plan Estu Especialidades'!$B$4:$AF$77,7,0),IF(F176=1,VLOOKUP(D176,'Plan Estu Especialidades'!$B$4:$AF$77,7,0)*L176,0)))","v":0},{"$f":"IF(F176=3,VLOOKUP(D176,'Plan Estu Especialidades'!$B$4:$AF$77,13,0),IF(F176=2,VLOOKUP(D176,'Plan Estu Especialidades'!$B$4:$AF$77,8,0),IF(F176=1,VLOOKUP(D176,'Plan Estu Especialidades'!$B$4:$AF$77,8,0)*L176,0)))","v":0},{"$f":"IF(F176=3,VLOOKUP(D176,'Plan Estu Especialidades'!$B$4:$AF$77,14,0),IF(F176=2,VLOOKUP(D176,'Plan Estu Especialidades'!$B$4:$AF$77,9,0),IF(F176=1,VLOOKUP(D176,'Plan Estu Especialidades'!$B$4:$AF$77,9,0)*L176,0)))","v":0},{"$f":"IF(F176=3,VLOOKUP(D176,'Plan Estu Especialidades'!$B$4:$AF$77,15,0),IF(F176=2,VLOOKUP(D176,'Plan Estu Especialidades'!$B$4:$AF$77,10,0),IF(F176=1,VLOOKUP(D176,'Plan Estu Especialidades'!$B$4:$AF$77,10,0)*L176,0)))","v":0},{"$f":"IF(G176=4,VLOOKUP(D176,'Plan Estu Especialidades'!$B$4:$AF$77,27,0),IF(G176=3,VLOOKUP(D176,'Plan Estu Especialidades'!$B$4:$AF$77,22,0),IF(G176=2,VLOOKUP(D176,'Plan Estu Especialidades'!$B$4:$AF$77,17,0),IF(G176=1,VLOOKUP(D176,'Plan Estu Especialidades'!$B$4:$AF$77,17,0)*N176,0))))","v":0},{"$f":"IF(G176=4,VLOOKUP(D176,'Plan Estu Especialidades'!$B$4:$AF$77,28,0),IF(G176=3,VLOOKUP(D176,'Plan Estu Especialidades'!$B$4:$AF$77,23,0),IF(G176=2,VLOOKUP(D176,'Plan Estu Especialidades'!$B$4:$AF$77,18,0),IF(G176=1,VLOOKUP(D176,'Plan Estu Especialidades'!$B$4:$AF$77,18,0)*N176,0))))","v":0},{"$f":"IF(G176=4,VLOOKUP(D176,'Plan Estu Especialidades'!$B$4:$AF$77,29,0),IF(G176=3,VLOOKUP(D176,'Plan Estu Especialidades'!$B$4:$AF$77,24,0),IF(G176=2,VLOOKUP(D176,'Plan Estu Especialidades'!$B$4:$AF$77,19,0),IF(G176=1,VLOOKUP(D176,'Plan Estu Especialidades'!$B$4:$AF$77,19,0)*N176,0))))","v":0},{"$f":"IF(G176=4,VLOOKUP(D176,'Plan Estu Especialidades'!$B$4:$AF$77,30,0),IF(G176=3,VLOOKUP(D176,'Plan Estu Especialidades'!$B$4:$AF$77,25,0),IF(G176=2,VLOOKUP(D176,'Plan Estu Especialidades'!$B$4:$AF$77,20,0),IF(G176=1,VLOOKUP(D176,'Plan Estu Especialidades'!$B$4:$AF$77,20,0)*N176,0))))","v":0},0,0,null,null,null,null,null,0,0,0,null,null,null,null,0,0,0,null,{"$f":"IF(SUM(J176,L176,N176)=0,\"S/V\",VLOOKUP(D176,'Plan Estu Especialidades'!$B$4:$AG$77,32,0))","v":"S/V"},0,0,null,null,null,null,null,null,0,0,0]
[{"$f":"+IF(B177=0,0,SUM($B$62:B177))","v":0},0,92,11,0,0,0,"Automotriz - Sec.Nocturna","_11",null,null,null,null,null,null,{"$f":"IF(E177=2,VLOOKUP(D177,'Plan Estu Especialidades'!$B$4:$AF$77,3,0),IF(E177=1,VLOOKUP(D177,'Plan Estu Especialidades'!$B$4:$AF$77,3,0)*J177,0))","v":0},{"$f":"IF(E177=2,VLOOKUP(D177,'Plan Estu Especialidades'!$B$4:$AF$77,4,0),IF(E177=1,VLOOKUP(D177,'Plan Estu Especialidades'!$B$4:$AF$77,4,0)*J177,0))","v":0},{"$f":"IF(E177=2,VLOOKUP(D177,'Plan Estu Especialidades'!$B$4:$AF$77,5,0),IF(E177=1,VLOOKUP(D177,'Plan Estu Especialidades'!$B$4:$AF$77,5,0)*J177,0))","v":0},{"$f":"IF(F177=3,VLOOKUP(D177,'Plan Estu Especialidades'!$B$4:$AF$77,12,0),IF(F177=2,VLOOKUP(D177,'Plan Estu Especialidades'!$B$4:$AF$77,7,0),IF(F177=1,VLOOKUP(D177,'Plan Estu Especialidades'!$B$4:$AF$77,7,0)*L177,0)))","v":0},{"$f":"IF(F177=3,VLOOKUP(D177,'Plan Estu Especialidades'!$B$4:$AF$77,13,0),IF(F177=2,VLOOKUP(D177,'Plan Estu Especialidades'!$B$4:$AF$77,8,0),IF(F177=1,VLOOKUP(D177,'Plan Estu Especialidades'!$B$4:$AF$77,8,0)*L177,0)))","v":0},{"$f":"IF(F177=3,VLOOKUP(D177,'Plan Estu Especialidades'!$B$4:$AF$77,14,0),IF(F177=2,VLOOKUP(D177,'Plan Estu Especialidades'!$B$4:$AF$77,9,0),IF(F177=1,VLOOKUP(D177,'Plan Estu Especialidades'!$B$4:$AF$77,9,0)*L177,0)))","v":0},{"$f":"IF(F177=3,VLOOKUP(D177,'Plan Estu Especialidades'!$B$4:$AF$77,15,0),IF(F177=2,VLOOKUP(D177,'Plan Estu Especialidades'!$B$4:$AF$77,10,0),IF(F177=1,VLOOKUP(D177,'Plan Estu Especialidades'!$B$4:$AF$77,10,0)*L177,0)))","v":0},{"$f":"IF(G177=4,VLOOKUP(D177,'Plan Estu Especialidades'!$B$4:$AF$77,27,0),IF(G177=3,VLOOKUP(D177,'Plan Estu Especialidades'!$B$4:$AF$77,22,0),IF(G177=2,VLOOKUP(D177,'Plan Estu Especialidades'!$B$4:$AF$77,17,0),IF(G177=1,VLOOKUP(D177,'Plan Estu Especialidades'!$B$4:$AF$77,17,0)*N177,0))))","v":0},{"$f":"IF(G177=4,VLOOKUP(D177,'Plan Estu Especialidades'!$B$4:$AF$77,28,0),IF(G177=3,VLOOKUP(D177,'Plan Estu Especialidades'!$B$4:$AF$77,23,0),IF(G177=2,VLOOKUP(D177,'Plan Estu Especialidades'!$B$4:$AF$77,18,0),IF(G177=1,VLOOKUP(D177,'Plan Estu Especialidades'!$B$4:$AF$77,18,0)*N177,0))))","v":0},{"$f":"IF(G177=4,VLOOKUP(D177,'Plan Estu Especialidades'!$B$4:$AF$77,29,0),IF(G177=3,VLOOKUP(D177,'Plan Estu Especialidades'!$B$4:$AF$77,24,0),IF(G177=2,VLOOKUP(D177,'Plan Estu Especialidades'!$B$4:$AF$77,19,0),IF(G177=1,VLOOKUP(D177,'Plan Estu Especialidades'!$B$4:$AF$77,19,0)*N177,0))))","v":0},{"$f":"IF(G177=4,VLOOKUP(D177,'Plan Estu Especialidades'!$B$4:$AF$77,30,0),IF(G177=3,VLOOKUP(D177,'Plan Estu Especialidades'!$B$4:$AF$77,25,0),IF(G177=2,VLOOKUP(D177,'Plan Estu Especialidades'!$B$4:$AF$77,20,0),IF(G177=1,VLOOKUP(D177,'Plan Estu Especialidades'!$B$4:$AF$77,20,0)*N177,0))))","v":0},0,0,null,null,null,null,null,0,0,0,null,null,null,null,0,0,0,null,{"$f":"IF(SUM(J177,L177,N177)=0,\"S/V\",VLOOKUP(D177,'Plan Estu Especialidades'!$B$4:$AG$77,32,0))","v":"S/V"},0,0,null,null,null,null,null,null,0,0,0]
[{"$f":"+IF(B178=0,0,SUM($B$62:B178))","v":0},0,92,12,0,0,0,"Autoremodelado - Sec.Nocturna","_12",null,null,null,null,null,null,{"$f":"IF(E178=2,VLOOKUP(D178,'Plan Estu Especialidades'!$B$4:$AF$77,3,0),IF(E178=1,VLOOKUP(D178,'Plan Estu Especialidades'!$B$4:$AF$77,3,0)*J178,0))","v":0},{"$f":"IF(E178=2,VLOOKUP(D178,'Plan Estu Especialidades'!$B$4:$AF$77,4,0),IF(E178=1,VLOOKUP(D178,'Plan Estu Especialidades'!$B$4:$AF$77,4,0)*J178,0))","v":0},{"$f":"IF(E178=2,VLOOKUP(D178,'Plan Estu Especialidades'!$B$4:$AF$77,5,0),IF(E178=1,VLOOKUP(D178,'Plan Estu Especialidades'!$B$4:$AF$77,5,0)*J178,0))","v":0},{"$f":"IF(F178=3,VLOOKUP(D178,'Plan Estu Especialidades'!$B$4:$AF$77,12,0),IF(F178=2,VLOOKUP(D178,'Plan Estu Especialidades'!$B$4:$AF$77,7,0),IF(F178=1,VLOOKUP(D178,'Plan Estu Especialidades'!$B$4:$AF$77,7,0)*L178,0)))","v":0},{"$f":"IF(F178=3,VLOOKUP(D178,'Plan Estu Especialidades'!$B$4:$AF$77,13,0),IF(F178=2,VLOOKUP(D178,'Plan Estu Especialidades'!$B$4:$AF$77,8,0),IF(F178=1,VLOOKUP(D178,'Plan Estu Especialidades'!$B$4:$AF$77,8,0)*L178,0)))","v":0},{"$f":"IF(F178=3,VLOOKUP(D178,'Plan Estu Especialidades'!$B$4:$AF$77,14,0),IF(F178=2,VLOOKUP(D178,'Plan Estu Especialidades'!$B$4:$AF$77,9,0),IF(F178=1,VLOOKUP(D178,'Plan Estu Especialidades'!$B$4:$AF$77,9,0)*L178,0)))","v":0},{"$f":"IF(F178=3,VLOOKUP(D178,'Plan Estu Especialidades'!$B$4:$AF$77,15,0),IF(F178=2,VLOOKUP(D178,'Plan Estu Especialidades'!$B$4:$AF$77,10,0),IF(F178=1,VLOOKUP(D178,'Plan Estu Especialidades'!$B$4:$AF$77,10,0)*L178,0)))","v":0},{"$f":"IF(G178=4,VLOOKUP(D178,'Plan Estu Especialidades'!$B$4:$AF$77,27,0),IF(G178=3,VLOOKUP(D178,'Plan Estu Especialidades'!$B$4:$AF$77,22,0),IF(G178=2,VLOOKUP(D178,'Plan Estu Especialidades'!$B$4:$AF$77,17,0),IF(G178=1,VLOOKUP(D178,'Plan Estu Especialidades'!$B$4:$AF$77,17,0)*N178,0))))","v":0},{"$f":"IF(G178=4,VLOOKUP(D178,'Plan Estu Especialidades'!$B$4:$AF$77,28,0),IF(G178=3,VLOOKUP(D178,'Plan Estu Especialidades'!$B$4:$AF$77,23,0),IF(G178=2,VLOOKUP(D178,'Plan Estu Especialidades'!$B$4:$AF$77,18,0),IF(G178=1,VLOOKUP(D178,'Plan Estu Especialidades'!$B$4:$AF$77,18,0)*N178,0))))","v":0},{"$f":"IF(G178=4,VLOOKUP(D178,'Plan Estu Especialidades'!$B$4:$AF$77,29,0),IF(G178=3,VLOOKUP(D178,'Plan Estu Especialidades'!$B$4:$AF$77,24,0),IF(G178=2,VLOOKUP(D178,'Plan Estu Especialidades'!$B$4:$AF$77,19,0),IF(G178=1,VLOOKUP(D178,'Plan Estu Especialidades'!$B$4:$AF$77,19,0)*N178,0))))","v":0},{"$f":"IF(G178=4,VLOOKUP(D178,'Plan Estu Especialidades'!$B$4:$AF$77,30,0),IF(G178=3,VLOOKUP(D178,'Plan Estu Especialidades'!$B$4:$AF$77,25,0),IF(G178=2,VLOOKUP(D178,'Plan Estu Especialidades'!$B$4:$AF$77,20,0),IF(G178=1,VLOOKUP(D178,'Plan Estu Especialidades'!$B$4:$AF$77,20,0)*N178,0))))","v":0},0,0,null,null,null,null,null,0,0,0,null,null,null,null,0,0,0,null,{"$f":"IF(SUM(J178,L178,N178)=0,\"S/V\",VLOOKUP(D178,'Plan Estu Especialidades'!$B$4:$AG$77,32,0))","v":"S/V"},0,0,null,null,null,null,null,null,0,0,0]
[{"$f":"+IF(B179=0,0,SUM($B$62:B179))","v":0},0,92,13,0,0,0,"Banca y Finanzas - Sec.Nocturna","_13",null,null,null,null,null,null,{"$f":"IF(E179=2,VLOOKUP(D179,'Plan Estu Especialidades'!$B$4:$AF$77,3,0),IF(E179=1,VLOOKUP(D179,'Plan Estu Especialidades'!$B$4:$AF$77,3,0)*J179,0))","v":0},{"$f":"IF(E179=2,VLOOKUP(D179,'Plan Estu Especialidades'!$B$4:$AF$77,4,0),IF(E179=1,VLOOKUP(D179,'Plan Estu Especialidades'!$B$4:$AF$77,4,0)*J179,0))","v":0},{"$f":"IF(E179=2,VLOOKUP(D179,'Plan Estu Especialidades'!$B$4:$AF$77,5,0),IF(E179=1,VLOOKUP(D179,'Plan Estu Especialidades'!$B$4:$AF$77,5,0)*J179,0))","v":0},{"$f":"IF(F179=3,VLOOKUP(D179,'Plan Estu Especialidades'!$B$4:$AF$77,12,0),IF(F179=2,VLOOKUP(D179,'Plan Estu Especialidades'!$B$4:$AF$77,7,0),IF(F179=1,VLOOKUP(D179,'Plan Estu Especialidades'!$B$4:$AF$77,7,0)*L179,0)))","v":0},{"$f":"IF(F179=3,VLOOKUP(D179,'Plan Estu Especialidades'!$B$4:$AF$77,13,0),IF(F179=2,VLOOKUP(D179,'Plan Estu Especialidades'!$B$4:$AF$77,8,0),IF(F179=1,VLOOKUP(D179,'Plan Estu Especialidades'!$B$4:$AF$77,8,0)*L179,0)))","v":0},{"$f":"IF(F179=3,VLOOKUP(D179,'Plan Estu Especialidades'!$B$4:$AF$77,14,0),IF(F179=2,VLOOKUP(D179,'Plan Estu Especialidades'!$B$4:$AF$77,9,0),IF(F179=1,VLOOKUP(D179,'Plan Estu Especialidades'!$B$4:$AF$77,9,0)*L179,0)))","v":0},{"$f":"IF(F179=3,VLOOKUP(D179,'Plan Estu Especialidades'!$B$4:$AF$77,15,0),IF(F179=2,VLOOKUP(D179,'Plan Estu Especialidades'!$B$4:$AF$77,10,0),IF(F179=1,VLOOKUP(D179,'Plan Estu Especialidades'!$B$4:$AF$77,10,0)*L179,0)))","v":0},{"$f":"IF(G179=4,VLOOKUP(D179,'Plan Estu Especialidades'!$B$4:$AF$77,27,0),IF(G179=3,VLOOKUP(D179,'Plan Estu Especialidades'!$B$4:$AF$77,22,0),IF(G179=2,VLOOKUP(D179,'Plan Estu Especialidades'!$B$4:$AF$77,17,0),IF(G179=1,VLOOKUP(D179,'Plan Estu Especialidades'!$B$4:$AF$77,17,0)*N179,0))))","v":0},{"$f":"IF(G179=4,VLOOKUP(D179,'Plan Estu Especialidades'!$B$4:$AF$77,28,0),IF(G179=3,VLOOKUP(D179,'Plan Estu Especialidades'!$B$4:$AF$77,23,0),IF(G179=2,VLOOKUP(D179,'Plan Estu Especialidades'!$B$4:$AF$77,18,0),IF(G179=1,VLOOKUP(D179,'Plan Estu Especialidades'!$B$4:$AF$77,18,0)*N179,0))))","v":0},{"$f":"IF(G179=4,VLOOKUP(D179,'Plan Estu Especialidades'!$B$4:$AF$77,29,0),IF(G179=3,VLOOKUP(D179,'Plan Estu Especialidades'!$B$4:$AF$77,24,0),IF(G179=2,VLOOKUP(D179,'Plan Estu Especialidades'!$B$4:$AF$77,19,0),IF(G179=1,VLOOKUP(D179,'Plan Estu Especialidades'!$B$4:$AF$77,19,0)*N179,0))))","v":0},{"$f":"IF(G179=4,VLOOKUP(D179,'Plan Estu Especialidades'!$B$4:$AF$77,30,0),IF(G179=3,VLOOKUP(D179,'Plan Estu Especialidades'!$B$4:$AF$77,25,0),IF(G179=2,VLOOKUP(D179,'Plan Estu Especialidades'!$B$4:$AF$77,20,0),IF(G179=1,VLOOKUP(D179,'Plan Estu Especialidades'!$B$4:$AF$77,20,0)*N179,0))))","v":0},0,0,null,null,null,null,null,0,0,0,null,null,null,null,0,{"$f":"+L179","v":0},0,null,{"$f":"IF(SUM(J179,L179,N179)=0,\"S/V\",VLOOKUP(D179,'Plan Estu Especialidades'!$B$4:$AG$77,32,0))","v":"S/V"},0,0,null,null,null,null,null,null,0,{"$f":"+IF(AI179=0,0,AI179/L179)","v":0},0]
[{"$f":"+IF(B180=0,0,SUM($B$62:B180))","v":0},0,92,14,0,0,0,"Bilingual Secretary - Sec.Nocturna","_14",null,null,null,null,null,null,{"$f":"IF(E180=2,VLOOKUP(D180,'Plan Estu Especialidades'!$B$4:$AF$77,3,0),IF(E180=1,VLOOKUP(D180,'Plan Estu Especialidades'!$B$4:$AF$77,3,0)*J180,0))","v":0},{"$f":"IF(E180=2,VLOOKUP(D180,'Plan Estu Especialidades'!$B$4:$AF$77,4,0),IF(E180=1,VLOOKUP(D180,'Plan Estu Especialidades'!$B$4:$AF$77,4,0)*J180,0))","v":0},{"$f":"IF(E180=2,VLOOKUP(D180,'Plan Estu Especialidades'!$B$4:$AF$77,5,0),IF(E180=1,VLOOKUP(D180,'Plan Estu Especialidades'!$B$4:$AF$77,5,0)*J180,0))","v":0},{"$f":"IF(F180=3,VLOOKUP(D180,'Plan Estu Especialidades'!$B$4:$AF$77,12,0),IF(F180=2,VLOOKUP(D180,'Plan Estu Especialidades'!$B$4:$AF$77,7,0),IF(F180=1,VLOOKUP(D180,'Plan Estu Especialidades'!$B$4:$AF$77,7,0)*L180,0)))","v":0},{"$f":"IF(F180=3,VLOOKUP(D180,'Plan Estu Especialidades'!$B$4:$AF$77,13,0),IF(F180=2,VLOOKUP(D180,'Plan Estu Especialidades'!$B$4:$AF$77,8,0),IF(F180=1,VLOOKUP(D180,'Plan Estu Especialidades'!$B$4:$AF$77,8,0)*L180,0)))","v":0},{"$f":"IF(F180=3,VLOOKUP(D180,'Plan Estu Especialidades'!$B$4:$AF$77,14,0),IF(F180=2,VLOOKUP(D180,'Plan Estu Especialidades'!$B$4:$AF$77,9,0),IF(F180=1,VLOOKUP(D180,'Plan Estu Especialidades'!$B$4:$AF$77,9,0)*L180,0)))","v":0},{"$f":"IF(F180=3,VLOOKUP(D180,'Plan Estu Especialidades'!$B$4:$AF$77,15,0),IF(F180=2,VLOOKUP(D180,'Plan Estu Especialidades'!$B$4:$AF$77,10,0),IF(F180=1,VLOOKUP(D180,'Plan Estu Especialidades'!$B$4:$AF$77,10,0)*L180,0)))","v":0},{"$f":"IF(G180=4,VLOOKUP(D180,'Plan Estu Especialidades'!$B$4:$AF$77,27,0),IF(G180=3,VLOOKUP(D180,'Plan Estu Especialidades'!$B$4:$AF$77,22,0),IF(G180=2,VLOOKUP(D180,'Plan Estu Especialidades'!$B$4:$AF$77,17,0),IF(G180=1,VLOOKUP(D180,'Plan Estu Especialidades'!$B$4:$AF$77,17,0)*N180,0))))","v":0},{"$f":"IF(G180=4,VLOOKUP(D180,'Plan Estu Especialidades'!$B$4:$AF$77,28,0),IF(G180=3,VLOOKUP(D180,'Plan Estu Especialidades'!$B$4:$AF$77,23,0),IF(G180=2,VLOOKUP(D180,'Plan Estu Especialidades'!$B$4:$AF$77,18,0),IF(G180=1,VLOOKUP(D180,'Plan Estu Especialidades'!$B$4:$AF$77,18,0)*N180,0))))","v":0},{"$f":"IF(G180=4,VLOOKUP(D180,'Plan Estu Especialidades'!$B$4:$AF$77,29,0),IF(G180=3,VLOOKUP(D180,'Plan Estu Especialidades'!$B$4:$AF$77,24,0),IF(G180=2,VLOOKUP(D180,'Plan Estu Especialidades'!$B$4:$AF$77,19,0),IF(G180=1,VLOOKUP(D180,'Plan Estu Especialidades'!$B$4:$AF$77,19,0)*N180,0))))","v":0},{"$f":"IF(G180=4,VLOOKUP(D180,'Plan Estu Especialidades'!$B$4:$AF$77,30,0),IF(G180=3,VLOOKUP(D180,'Plan Estu Especialidades'!$B$4:$AF$77,25,0),IF(G180=2,VLOOKUP(D180,'Plan Estu Especialidades'!$B$4:$AF$77,20,0),IF(G180=1,VLOOKUP(D180,'Plan Estu Especialidades'!$B$4:$AF$77,20,0)*N180,0))))","v":0},0,0,null,null,null,null,null,0,0,0,null,null,null,null,0,0,0,null,{"$f":"IF(SUM(J180,L180,N180)=0,\"S/V\",VLOOKUP(D180,'Plan Estu Especialidades'!$B$4:$AG$77,32,0))","v":"S/V"},0,0,null,null,null,null,null,null,0,0,0]
[{"$f":"+IF(B181=0,0,SUM($B$62:B181))","v":0},0,92,15,0,0,0,"Ciberseguridad - Sec.Nocturna","_15",null,null,null,null,null,null,{"$f":"IF(E181=2,VLOOKUP(D181,'Plan Estu Especialidades'!$B$4:$AF$77,3,0),IF(E181=1,VLOOKUP(D181,'Plan Estu Especialidades'!$B$4:$AF$77,3,0)*J181,0))","v":0},{"$f":"IF(E181=2,VLOOKUP(D181,'Plan Estu Especialidades'!$B$4:$AF$77,4,0),IF(E181=1,VLOOKUP(D181,'Plan Estu Especialidades'!$B$4:$AF$77,4,0)*J181,0))","v":0},{"$f":"IF(E181=2,VLOOKUP(D181,'Plan Estu Especialidades'!$B$4:$AF$77,5,0),IF(E181=1,VLOOKUP(D181,'Plan Estu Especialidades'!$B$4:$AF$77,5,0)*J181,0))","v":0},{"$f":"IF(F181=3,VLOOKUP(D181,'Plan Estu Especialidades'!$B$4:$AF$77,12,0),IF(F181=2,VLOOKUP(D181,'Plan Estu Especialidades'!$B$4:$AF$77,7,0),IF(F181=1,VLOOKUP(D181,'Plan Estu Especialidades'!$B$4:$AF$77,7,0)*L181,0)))","v":0},{"$f":"IF(F181=3,VLOOKUP(D181,'Plan Estu Especialidades'!$B$4:$AF$77,13,0),IF(F181=2,VLOOKUP(D181,'Plan Estu Especialidades'!$B$4:$AF$77,8,0),IF(F181=1,VLOOKUP(D181,'Plan Estu Especialidades'!$B$4:$AF$77,8,0)*L181,0)))","v":0},{"$f":"IF(F181=3,VLOOKUP(D181,'Plan Estu Especialidades'!$B$4:$AF$77,14,0),IF(F181=2,VLOOKUP(D181,'Plan Estu Especialidades'!$B$4:$AF$77,9,0),IF(F181=1,VLOOKUP(D181,'Plan Estu Especialidades'!$B$4:$AF$77,9,0)*L181,0)))","v":0},{"$f":"IF(F181=3,VLOOKUP(D181,'Plan Estu Especialidades'!$B$4:$AF$77,15,0),IF(F181=2,VLOOKUP(D181,'Plan Estu Especialidades'!$B$4:$AF$77,10,0),IF(F181=1,VLOOKUP(D181,'Plan Estu Especialidades'!$B$4:$AF$77,10,0)*L181,0)))","v":0},{"$f":"IF(G181=4,VLOOKUP(D181,'Plan Estu Especialidades'!$B$4:$AF$77,27,0),IF(G181=3,VLOOKUP(D181,'Plan Estu Especialidades'!$B$4:$AF$77,22,0),IF(G181=2,VLOOKUP(D181,'Plan Estu Especialidades'!$B$4:$AF$77,17,0),IF(G181=1,VLOOKUP(D181,'Plan Estu Especialidades'!$B$4:$AF$77,17,0)*N181,0))))","v":0},{"$f":"IF(G181=4,VLOOKUP(D181,'Plan Estu Especialidades'!$B$4:$AF$77,28,0),IF(G181=3,VLOOKUP(D181,'Plan Estu Especialidades'!$B$4:$AF$77,23,0),IF(G181=2,VLOOKUP(D181,'Plan Estu Especialidades'!$B$4:$AF$77,18,0),IF(G181=1,VLOOKUP(D181,'Plan Estu Especialidades'!$B$4:$AF$77,18,0)*N181,0))))","v":0},{"$f":"IF(G181=4,VLOOKUP(D181,'Plan Estu Especialidades'!$B$4:$AF$77,29,0),IF(G181=3,VLOOKUP(D181,'Plan Estu Especialidades'!$B$4:$AF$77,24,0),IF(G181=2,VLOOKUP(D181,'Plan Estu Especialidades'!$B$4:$AF$77,19,0),IF(G181=1,VLOOKUP(D181,'Plan Estu Especialidades'!$B$4:$AF$77,19,0)*N181,0))))","v":0},{"$f":"IF(G181=4,VLOOKUP(D181,'Plan Estu Especialidades'!$B$4:$AF$77,30,0),IF(G181=3,VLOOKUP(D181,'Plan Estu Especialidades'!$B$4:$AF$77,25,0),IF(G181=2,VLOOKUP(D181,'Plan Estu Especialidades'!$B$4:$AF$77,20,0),IF(G181=1,VLOOKUP(D181,'Plan Estu Especialidades'!$B$4:$AF$77,20,0)*N181,0))))","v":0},0,0,null,null,null,null,null,0,0,0,null,null,null,null,0,0,0,null,{"$f":"IF(SUM(J181,L181,N181)=0,\"S/V\",VLOOKUP(D181,'Plan Estu Especialidades'!$B$4:$AG$77,32,0))","v":"S/V"},0,0,null,null,null,null,null,null,0,0,0]
[{"$f":"+IF(B182=0,0,SUM($B$62:B182))","v":0},0,92,16,0,0,0,"Computer networking - Sec.Nocturna","_16",null,null,null,null,null,null,{"$f":"IF(E182=2,VLOOKUP(D182,'Plan Estu Especialidades'!$B$4:$AF$77,3,0),IF(E182=1,VLOOKUP(D182,'Plan Estu Especialidades'!$B$4:$AF$77,3,0)*J182,0))","v":0},{"$f":"IF(E182=2,VLOOKUP(D182,'Plan Estu Especialidades'!$B$4:$AF$77,4,0),IF(E182=1,VLOOKUP(D182,'Plan Estu Especialidades'!$B$4:$AF$77,4,0)*J182,0))","v":0},{"$f":"IF(E182=2,VLOOKUP(D182,'Plan Estu Especialidades'!$B$4:$AF$77,5,0),IF(E182=1,VLOOKUP(D182,'Plan Estu Especialidades'!$B$4:$AF$77,5,0)*J182,0))","v":0},{"$f":"IF(F182=3,VLOOKUP(D182,'Plan Estu Especialidades'!$B$4:$AF$77,12,0),IF(F182=2,VLOOKUP(D182,'Plan Estu Especialidades'!$B$4:$AF$77,7,0),IF(F182=1,VLOOKUP(D182,'Plan Estu Especialidades'!$B$4:$AF$77,7,0)*L182,0)))","v":0},{"$f":"IF(F182=3,VLOOKUP(D182,'Plan Estu Especialidades'!$B$4:$AF$77,13,0),IF(F182=2,VLOOKUP(D182,'Plan Estu Especialidades'!$B$4:$AF$77,8,0),IF(F182=1,VLOOKUP(D182,'Plan Estu Especialidades'!$B$4:$AF$77,8,0)*L182,0)))","v":0},{"$f":"IF(F182=3,VLOOKUP(D182,'Plan Estu Especialidades'!$B$4:$AF$77,14,0),IF(F182=2,VLOOKUP(D182,'Plan Estu Especialidades'!$B$4:$AF$77,9,0),IF(F182=1,VLOOKUP(D182,'Plan Estu Especialidades'!$B$4:$AF$77,9,0)*L182,0)))","v":0},{"$f":"IF(F182=3,VLOOKUP(D182,'Plan Estu Especialidades'!$B$4:$AF$77,15,0),IF(F182=2,VLOOKUP(D182,'Plan Estu Especialidades'!$B$4:$AF$77,10,0),IF(F182=1,VLOOKUP(D182,'Plan Estu Especialidades'!$B$4:$AF$77,10,0)*L182,0)))","v":0},{"$f":"IF(G182=4,VLOOKUP(D182,'Plan Estu Especialidades'!$B$4:$AF$77,27,0),IF(G182=3,VLOOKUP(D182,'Plan Estu Especialidades'!$B$4:$AF$77,22,0),IF(G182=2,VLOOKUP(D182,'Plan Estu Especialidades'!$B$4:$AF$77,17,0),IF(G182=1,VLOOKUP(D182,'Plan Estu Especialidades'!$B$4:$AF$77,17,0)*N182,0))))","v":0},{"$f":"IF(G182=4,VLOOKUP(D182,'Plan Estu Especialidades'!$B$4:$AF$77,28,0),IF(G182=3,VLOOKUP(D182,'Plan Estu Especialidades'!$B$4:$AF$77,23,0),IF(G182=2,VLOOKUP(D182,'Plan Estu Especialidades'!$B$4:$AF$77,18,0),IF(G182=1,VLOOKUP(D182,'Plan Estu Especialidades'!$B$4:$AF$77,18,0)*N182,0))))","v":0},{"$f":"IF(G182=4,VLOOKUP(D182,'Plan Estu Especialidades'!$B$4:$AF$77,29,0),IF(G182=3,VLOOKUP(D182,'Plan Estu Especialidades'!$B$4:$AF$77,24,0),IF(G182=2,VLOOKUP(D182,'Plan Estu Especialidades'!$B$4:$AF$77,19,0),IF(G182=1,VLOOKUP(D182,'Plan Estu Especialidades'!$B$4:$AF$77,19,0)*N182,0))))","v":0},{"$f":"IF(G182=4,VLOOKUP(D182,'Plan Estu Especialidades'!$B$4:$AF$77,30,0),IF(G182=3,VLOOKUP(D182,'Plan Estu Especialidades'!$B$4:$AF$77,25,0),IF(G182=2,VLOOKUP(D182,'Plan Estu Especialidades'!$B$4:$AF$77,20,0),IF(G182=1,VLOOKUP(D182,'Plan Estu Especialidades'!$B$4:$AF$77,20,0)*N182,0))))","v":0},0,0,null,null,null,null,null,0,0,0,null,null,null,null,0,0,0,null,{"$f":"IF(SUM(J182,L182,N182)=0,\"S/V\",VLOOKUP(D182,'Plan Estu Especialidades'!$B$4:$AG$77,32,0))","v":"S/V"},0,0,null,null,null,null,null,null,0,0,0]
[{"$f":"+IF(B183=0,0,SUM($B$62:B183))","v":0},0,92,17,0,0,0,"Computer Science in Software Development - Sec.Nocturna","_17",null,null,null,null,null,null,{"$f":"IF(E183=2,VLOOKUP(D183,'Plan Estu Especialidades'!$B$4:$AF$77,3,0),IF(E183=1,VLOOKUP(D183,'Plan Estu Especialidades'!$B$4:$AF$77,3,0)*J183,0))","v":0},{"$f":"IF(E183=2,VLOOKUP(D183,'Plan Estu Especialidades'!$B$4:$AF$77,4,0),IF(E183=1,VLOOKUP(D183,'Plan Estu Especialidades'!$B$4:$AF$77,4,0)*J183,0))","v":0},{"$f":"IF(E183=2,VLOOKUP(D183,'Plan Estu Especialidades'!$B$4:$AF$77,5,0),IF(E183=1,VLOOKUP(D183,'Plan Estu Especialidades'!$B$4:$AF$77,5,0)*J183,0))","v":0},{"$f":"IF(F183=3,VLOOKUP(D183,'Plan Estu Especialidades'!$B$4:$AF$77,12,0),IF(F183=2,VLOOKUP(D183,'Plan Estu Especialidades'!$B$4:$AF$77,7,0),IF(F183=1,VLOOKUP(D183,'Plan Estu Especialidades'!$B$4:$AF$77,7,0)*L183,0)))","v":0},{"$f":"IF(F183=3,VLOOKUP(D183,'Plan Estu Especialidades'!$B$4:$AF$77,13,0),IF(F183=2,VLOOKUP(D183,'Plan Estu Especialidades'!$B$4:$AF$77,8,0),IF(F183=1,VLOOKUP(D183,'Plan Estu Especialidades'!$B$4:$AF$77,8,0)*L183,0)))","v":0},{"$f":"IF(F183=3,VLOOKUP(D183,'Plan Estu Especialidades'!$B$4:$AF$77,14,0),IF(F183=2,VLOOKUP(D183,'Plan Estu Especialidades'!$B$4:$AF$77,9,0),IF(F183=1,VLOOKUP(D183,'Plan Estu Especialidades'!$B$4:$AF$77,9,0)*L183,0)))","v":0},{"$f":"IF(F183=3,VLOOKUP(D183,'Plan Estu Especialidades'!$B$4:$AF$77,15,0),IF(F183=2,VLOOKUP(D183,'Plan Estu Especialidades'!$B$4:$AF$77,10,0),IF(F183=1,VLOOKUP(D183,'Plan Estu Especialidades'!$B$4:$AF$77,10,0)*L183,0)))","v":0},{"$f":"IF(G183=4,VLOOKUP(D183,'Plan Estu Especialidades'!$B$4:$AF$77,27,0),IF(G183=3,VLOOKUP(D183,'Plan Estu Especialidades'!$B$4:$AF$77,22,0),IF(G183=2,VLOOKUP(D183,'Plan Estu Especialidades'!$B$4:$AF$77,17,0),IF(G183=1,VLOOKUP(D183,'Plan Estu Especialidades'!$B$4:$AF$77,17,0)*N183,0))))","v":0},{"$f":"IF(G183=4,VLOOKUP(D183,'Plan Estu Especialidades'!$B$4:$AF$77,28,0),IF(G183=3,VLOOKUP(D183,'Plan Estu Especialidades'!$B$4:$AF$77,23,0),IF(G183=2,VLOOKUP(D183,'Plan Estu Especialidades'!$B$4:$AF$77,18,0),IF(G183=1,VLOOKUP(D183,'Plan Estu Especialidades'!$B$4:$AF$77,18,0)*N183,0))))","v":0},{"$f":"IF(G183=4,VLOOKUP(D183,'Plan Estu Especialidades'!$B$4:$AF$77,29,0),IF(G183=3,VLOOKUP(D183,'Plan Estu Especialidades'!$B$4:$AF$77,24,0),IF(G183=2,VLOOKUP(D183,'Plan Estu Especialidades'!$B$4:$AF$77,19,0),IF(G183=1,VLOOKUP(D183,'Plan Estu Especialidades'!$B$4:$AF$77,19,0)*N183,0))))","v":0},{"$f":"IF(G183=4,VLOOKUP(D183,'Plan Estu Especialidades'!$B$4:$AF$77,30,0),IF(G183=3,VLOOKUP(D183,'Plan Estu Especialidades'!$B$4:$AF$77,25,0),IF(G183=2,VLOOKUP(D183,'Plan Estu Especialidades'!$B$4:$AF$77,20,0),IF(G183=1,VLOOKUP(D183,'Plan Estu Especialidades'!$B$4:$AF$77,20,0)*N183,0))))","v":0},0,0,null,null,null,null,null,0,0,{"$f":"SUM(W183:Y183)","v":0},null,null,null,null,0,0,0,null,{"$f":"IF(SUM(J183,L183,N183)=0,\"S/V\",VLOOKUP(D183,'Plan Estu Especialidades'!$B$4:$AG$77,32,0))","v":"S/V"},0,0,null,null,null,null,null,null,0,0,0]
[{"$f":"+IF(B184=0,0,SUM($B$62:B184))","v":0},0,92,18,0,0,0,"Configuración y Soporte de Redes de Comunicación y Sistemas Operativos - Sec.Nocturna","_18",null,null,null,null,null,null,{"$f":"IF(E184=2,VLOOKUP(D184,'Plan Estu Especialidades'!$B$4:$AF$77,3,0),IF(E184=1,VLOOKUP(D184,'Plan Estu Especialidades'!$B$4:$AF$77,3,0)*J184,0))","v":0},{"$f":"IF(E184=2,VLOOKUP(D184,'Plan Estu Especialidades'!$B$4:$AF$77,4,0),IF(E184=1,VLOOKUP(D184,'Plan Estu Especialidades'!$B$4:$AF$77,4,0)*J184,0))","v":0},{"$f":"IF(E184=2,VLOOKUP(D184,'Plan Estu Especialidades'!$B$4:$AF$77,5,0),IF(E184=1,VLOOKUP(D184,'Plan Estu Especialidades'!$B$4:$AF$77,5,0)*J184,0))","v":0},{"$f":"IF(F184=3,VLOOKUP(D184,'Plan Estu Especialidades'!$B$4:$AF$77,12,0),IF(F184=2,VLOOKUP(D184,'Plan Estu Especialidades'!$B$4:$AF$77,7,0),IF(F184=1,VLOOKUP(D184,'Plan Estu Especialidades'!$B$4:$AF$77,7,0)*L184,0)))","v":0},{"$f":"IF(F184=3,VLOOKUP(D184,'Plan Estu Especialidades'!$B$4:$AF$77,13,0),IF(F184=2,VLOOKUP(D184,'Plan Estu Especialidades'!$B$4:$AF$77,8,0),IF(F184=1,VLOOKUP(D184,'Plan Estu Especialidades'!$B$4:$AF$77,8,0)*L184,0)))","v":0},{"$f":"IF(F184=3,VLOOKUP(D184,'Plan Estu Especialidades'!$B$4:$AF$77,14,0),IF(F184=2,VLOOKUP(D184,'Plan Estu Especialidades'!$B$4:$AF$77,9,0),IF(F184=1,VLOOKUP(D184,'Plan Estu Especialidades'!$B$4:$AF$77,9,0)*L184,0)))","v":0},{"$f":"IF(F184=3,VLOOKUP(D184,'Plan Estu Especialidades'!$B$4:$AF$77,15,0),IF(F184=2,VLOOKUP(D184,'Plan Estu Especialidades'!$B$4:$AF$77,10,0),IF(F184=1,VLOOKUP(D184,'Plan Estu Especialidades'!$B$4:$AF$77,10,0)*L184,0)))","v":0},{"$f":"IF(G184=4,VLOOKUP(D184,'Plan Estu Especialidades'!$B$4:$AF$77,27,0),IF(G184=3,VLOOKUP(D184,'Plan Estu Especialidades'!$B$4:$AF$77,22,0),IF(G184=2,VLOOKUP(D184,'Plan Estu Especialidades'!$B$4:$AF$77,17,0),IF(G184=1,VLOOKUP(D184,'Plan Estu Especialidades'!$B$4:$AF$77,17,0)*N184,0))))","v":0},{"$f":"IF(G184=4,VLOOKUP(D184,'Plan Estu Especialidades'!$B$4:$AF$77,28,0),IF(G184=3,VLOOKUP(D184,'Plan Estu Especialidades'!$B$4:$AF$77,23,0),IF(G184=2,VLOOKUP(D184,'Plan Estu Especialidades'!$B$4:$AF$77,18,0),IF(G184=1,VLOOKUP(D184,'Plan Estu Especialidades'!$B$4:$AF$77,18,0)*N184,0))))","v":0},{"$f":"IF(G184=4,VLOOKUP(D184,'Plan Estu Especialidades'!$B$4:$AF$77,29,0),IF(G184=3,VLOOKUP(D184,'Plan Estu Especialidades'!$B$4:$AF$77,24,0),IF(G184=2,VLOOKUP(D184,'Plan Estu Especialidades'!$B$4:$AF$77,19,0),IF(G184=1,VLOOKUP(D184,'Plan Estu Especialidades'!$B$4:$AF$77,19,0)*N184,0))))","v":0},{"$f":"IF(G184=4,VLOOKUP(D184,'Plan Estu Especialidades'!$B$4:$AF$77,30,0),IF(G184=3,VLOOKUP(D184,'Plan Estu Especialidades'!$B$4:$AF$77,25,0),IF(G184=2,VLOOKUP(D184,'Plan Estu Especialidades'!$B$4:$AF$77,20,0),IF(G184=1,VLOOKUP(D184,'Plan Estu Especialidades'!$B$4:$AF$77,20,0)*N184,0))))","v":0},0,0,null,null,null,null,null,0,0,0,null,null,null,null,0,0,0,null,{"$f":"IF(SUM(J184,L184,N184)=0,\"S/V\",VLOOKUP(D184,'Plan Estu Especialidades'!$B$4:$AG$77,32,0))","v":"S/V"},0,0,null,null,null,null,null,null,0,0,0]
[{"$f":"+IF(B185=0,0,SUM($B$62:B185))","v":0},0,92,19,0,0,0,"Construcción Civil - Sec.Nocturna","_19",null,null,null,null,null,null,{"$f":"IF(E185=2,VLOOKUP(D185,'Plan Estu Especialidades'!$B$4:$AF$77,3,0),IF(E185=1,VLOOKUP(D185,'Plan Estu Especialidades'!$B$4:$AF$77,3,0)*J185,0))","v":0},{"$f":"IF(E185=2,VLOOKUP(D185,'Plan Estu Especialidades'!$B$4:$AF$77,4,0),IF(E185=1,VLOOKUP(D185,'Plan Estu Especialidades'!$B$4:$AF$77,4,0)*J185,0))","v":0},{"$f":"IF(E185=2,VLOOKUP(D185,'Plan Estu Especialidades'!$B$4:$AF$77,5,0),IF(E185=1,VLOOKUP(D185,'Plan Estu Especialidades'!$B$4:$AF$77,5,0)*J185,0))","v":0},{"$f":"IF(F185=3,VLOOKUP(D185,'Plan Estu Especialidades'!$B$4:$AF$77,12,0),IF(F185=2,VLOOKUP(D185,'Plan Estu Especialidades'!$B$4:$AF$77,7,0),IF(F185=1,VLOOKUP(D185,'Plan Estu Especialidades'!$B$4:$AF$77,7,0)*L185,0)))","v":0},{"$f":"IF(F185=3,VLOOKUP(D185,'Plan Estu Especialidades'!$B$4:$AF$77,13,0),IF(F185=2,VLOOKUP(D185,'Plan Estu Especialidades'!$B$4:$AF$77,8,0),IF(F185=1,VLOOKUP(D185,'Plan Estu Especialidades'!$B$4:$AF$77,8,0)*L185,0)))","v":0},{"$f":"IF(F185=3,VLOOKUP(D185,'Plan Estu Especialidades'!$B$4:$AF$77,14,0),IF(F185=2,VLOOKUP(D185,'Plan Estu Especialidades'!$B$4:$AF$77,9,0),IF(F185=1,VLOOKUP(D185,'Plan Estu Especialidades'!$B$4:$AF$77,9,0)*L185,0)))","v":0},{"$f":"IF(F185=3,VLOOKUP(D185,'Plan Estu Especialidades'!$B$4:$AF$77,15,0),IF(F185=2,VLOOKUP(D185,'Plan Estu Especialidades'!$B$4:$AF$77,10,0),IF(F185=1,VLOOKUP(D185,'Plan Estu Especialidades'!$B$4:$AF$77,10,0)*L185,0)))","v":0},{"$f":"IF(G185=4,VLOOKUP(D185,'Plan Estu Especialidades'!$B$4:$AF$77,27,0),IF(G185=3,VLOOKUP(D185,'Plan Estu Especialidades'!$B$4:$AF$77,22,0),IF(G185=2,VLOOKUP(D185,'Plan Estu Especialidades'!$B$4:$AF$77,17,0),IF(G185=1,VLOOKUP(D185,'Plan Estu Especialidades'!$B$4:$AF$77,17,0)*N185,0))))","v":0},{"$f":"IF(G185=4,VLOOKUP(D185,'Plan Estu Especialidades'!$B$4:$AF$77,28,0),IF(G185=3,VLOOKUP(D185,'Plan Estu Especialidades'!$B$4:$AF$77,23,0),IF(G185=2,VLOOKUP(D185,'Plan Estu Especialidades'!$B$4:$AF$77,18,0),IF(G185=1,VLOOKUP(D185,'Plan Estu Especialidades'!$B$4:$AF$77,18,0)*N185,0))))","v":0},{"$f":"IF(G185=4,VLOOKUP(D185,'Plan Estu Especialidades'!$B$4:$AF$77,29,0),IF(G185=3,VLOOKUP(D185,'Plan Estu Especialidades'!$B$4:$AF$77,24,0),IF(G185=2,VLOOKUP(D185,'Plan Estu Especialidades'!$B$4:$AF$77,19,0),IF(G185=1,VLOOKUP(D185,'Plan Estu Especialidades'!$B$4:$AF$77,19,0)*N185,0))))","v":0},{"$f":"IF(G185=4,VLOOKUP(D185,'Plan Estu Especialidades'!$B$4:$AF$77,30,0),IF(G185=3,VLOOKUP(D185,'Plan Estu Especialidades'!$B$4:$AF$77,25,0),IF(G185=2,VLOOKUP(D185,'Plan Estu Especialidades'!$B$4:$AF$77,20,0),IF(G185=1,VLOOKUP(D185,'Plan Estu Especialidades'!$B$4:$AF$77,20,0)*N185,0))))","v":0},0,0,null,null,null,null,null,0,0,0,null,null,null,null,0,0,0,null,{"$f":"IF(SUM(J185,L185,N185)=0,\"S/V\",VLOOKUP(D185,'Plan Estu Especialidades'!$B$4:$AG$77,32,0))","v":"S/V"},0,0,null,null,null,null,null,null,0,0,0]
[{"$f":"+IF(B186=0,0,SUM($B$62:B186))","v":0},0,92,20,0,0,0,"Contabilidad - Sec.Nocturna","_20",null,null,null,null,null,null,{"$f":"IF(E186=2,VLOOKUP(D186,'Plan Estu Especialidades'!$B$4:$AF$77,3,0),IF(E186=1,VLOOKUP(D186,'Plan Estu Especialidades'!$B$4:$AF$77,3,0)*J186,0))","v":0},{"$f":"IF(E186=2,VLOOKUP(D186,'Plan Estu Especialidades'!$B$4:$AF$77,4,0),IF(E186=1,VLOOKUP(D186,'Plan Estu Especialidades'!$B$4:$AF$77,4,0)*J186,0))","v":0},{"$f":"IF(E186=2,VLOOKUP(D186,'Plan Estu Especialidades'!$B$4:$AF$77,5,0),IF(E186=1,VLOOKUP(D186,'Plan Estu Especialidades'!$B$4:$AF$77,5,0)*J186,0))","v":0},{"$f":"IF(F186=3,VLOOKUP(D186,'Plan Estu Especialidades'!$B$4:$AF$77,12,0),IF(F186=2,VLOOKUP(D186,'Plan Estu Especialidades'!$B$4:$AF$77,7,0),IF(F186=1,VLOOKUP(D186,'Plan Estu Especialidades'!$B$4:$AF$77,7,0)*L186,0)))","v":0},{"$f":"IF(F186=3,VLOOKUP(D186,'Plan Estu Especialidades'!$B$4:$AF$77,13,0),IF(F186=2,VLOOKUP(D186,'Plan Estu Especialidades'!$B$4:$AF$77,8,0),IF(F186=1,VLOOKUP(D186,'Plan Estu Especialidades'!$B$4:$AF$77,8,0)*L186,0)))","v":0},{"$f":"IF(F186=3,VLOOKUP(D186,'Plan Estu Especialidades'!$B$4:$AF$77,14,0),IF(F186=2,VLOOKUP(D186,'Plan Estu Especialidades'!$B$4:$AF$77,9,0),IF(F186=1,VLOOKUP(D186,'Plan Estu Especialidades'!$B$4:$AF$77,9,0)*L186,0)))","v":0},{"$f":"IF(F186=3,VLOOKUP(D186,'Plan Estu Especialidades'!$B$4:$AF$77,15,0),IF(F186=2,VLOOKUP(D186,'Plan Estu Especialidades'!$B$4:$AF$77,10,0),IF(F186=1,VLOOKUP(D186,'Plan Estu Especialidades'!$B$4:$AF$77,10,0)*L186,0)))","v":0},{"$f":"IF(G186=4,VLOOKUP(D186,'Plan Estu Especialidades'!$B$4:$AF$77,27,0),IF(G186=3,VLOOKUP(D186,'Plan Estu Especialidades'!$B$4:$AF$77,22,0),IF(G186=2,VLOOKUP(D186,'Plan Estu Especialidades'!$B$4:$AF$77,17,0),IF(G186=1,VLOOKUP(D186,'Plan Estu Especialidades'!$B$4:$AF$77,17,0)*N186,0))))","v":0},{"$f":"IF(G186=4,VLOOKUP(D186,'Plan Estu Especialidades'!$B$4:$AF$77,28,0),IF(G186=3,VLOOKUP(D186,'Plan Estu Especialidades'!$B$4:$AF$77,23,0),IF(G186=2,VLOOKUP(D186,'Plan Estu Especialidades'!$B$4:$AF$77,18,0),IF(G186=1,VLOOKUP(D186,'Plan Estu Especialidades'!$B$4:$AF$77,18,0)*N186,0))))","v":0},{"$f":"IF(G186=4,VLOOKUP(D186,'Plan Estu Especialidades'!$B$4:$AF$77,29,0),IF(G186=3,VLOOKUP(D186,'Plan Estu Especialidades'!$B$4:$AF$77,24,0),IF(G186=2,VLOOKUP(D186,'Plan Estu Especialidades'!$B$4:$AF$77,19,0),IF(G186=1,VLOOKUP(D186,'Plan Estu Especialidades'!$B$4:$AF$77,19,0)*N186,0))))","v":0},{"$f":"IF(G186=4,VLOOKUP(D186,'Plan Estu Especialidades'!$B$4:$AF$77,30,0),IF(G186=3,VLOOKUP(D186,'Plan Estu Especialidades'!$B$4:$AF$77,25,0),IF(G186=2,VLOOKUP(D186,'Plan Estu Especialidades'!$B$4:$AF$77,20,0),IF(G186=1,VLOOKUP(D186,'Plan Estu Especialidades'!$B$4:$AF$77,20,0)*N186,0))))","v":0},0,0,null,null,null,null,null,0,0,0,null,null,null,null,0,0,0,null,{"$f":"IF(SUM(J186,L186,N186)=0,\"S/V\",VLOOKUP(D186,'Plan Estu Especialidades'!$B$4:$AG$77,32,0))","v":"S/V"},0,0,null,null,null,null,null,null,0,0,0]
[{"$f":"+IF(B187=0,0,SUM($B$62:B187))","v":0},0,92,21,0,0,0,"Contabilidad y Auditoria - Sec.Nocturna","_21",null,null,null,null,null,null,{"$f":"IF(E187=2,VLOOKUP(D187,'Plan Estu Especialidades'!$B$4:$AF$77,3,0),IF(E187=1,VLOOKUP(D187,'Plan Estu Especialidades'!$B$4:$AF$77,3,0)*J187,0))","v":0},{"$f":"IF(E187=2,VLOOKUP(D187,'Plan Estu Especialidades'!$B$4:$AF$77,4,0),IF(E187=1,VLOOKUP(D187,'Plan Estu Especialidades'!$B$4:$AF$77,4,0)*J187,0))","v":0},{"$f":"IF(E187=2,VLOOKUP(D187,'Plan Estu Especialidades'!$B$4:$AF$77,5,0),IF(E187=1,VLOOKUP(D187,'Plan Estu Especialidades'!$B$4:$AF$77,5,0)*J187,0))","v":0},{"$f":"IF(F187=3,VLOOKUP(D187,'Plan Estu Especialidades'!$B$4:$AF$77,12,0),IF(F187=2,VLOOKUP(D187,'Plan Estu Especialidades'!$B$4:$AF$77,7,0),IF(F187=1,VLOOKUP(D187,'Plan Estu Especialidades'!$B$4:$AF$77,7,0)*L187,0)))","v":0},{"$f":"IF(F187=3,VLOOKUP(D187,'Plan Estu Especialidades'!$B$4:$AF$77,13,0),IF(F187=2,VLOOKUP(D187,'Plan Estu Especialidades'!$B$4:$AF$77,8,0),IF(F187=1,VLOOKUP(D187,'Plan Estu Especialidades'!$B$4:$AF$77,8,0)*L187,0)))","v":0},{"$f":"IF(F187=3,VLOOKUP(D187,'Plan Estu Especialidades'!$B$4:$AF$77,14,0),IF(F187=2,VLOOKUP(D187,'Plan Estu Especialidades'!$B$4:$AF$77,9,0),IF(F187=1,VLOOKUP(D187,'Plan Estu Especialidades'!$B$4:$AF$77,9,0)*L187,0)))","v":0},{"$f":"IF(F187=3,VLOOKUP(D187,'Plan Estu Especialidades'!$B$4:$AF$77,15,0),IF(F187=2,VLOOKUP(D187,'Plan Estu Especialidades'!$B$4:$AF$77,10,0),IF(F187=1,VLOOKUP(D187,'Plan Estu Especialidades'!$B$4:$AF$77,10,0)*L187,0)))","v":0},{"$f":"IF(G187=4,VLOOKUP(D187,'Plan Estu Especialidades'!$B$4:$AF$77,27,0),IF(G187=3,VLOOKUP(D187,'Plan Estu Especialidades'!$B$4:$AF$77,22,0),IF(G187=2,VLOOKUP(D187,'Plan Estu Especialidades'!$B$4:$AF$77,17,0),IF(G187=1,VLOOKUP(D187,'Plan Estu Especialidades'!$B$4:$AF$77,17,0)*N187,0))))","v":0},{"$f":"IF(G187=4,VLOOKUP(D187,'Plan Estu Especialidades'!$B$4:$AF$77,28,0),IF(G187=3,VLOOKUP(D187,'Plan Estu Especialidades'!$B$4:$AF$77,23,0),IF(G187=2,VLOOKUP(D187,'Plan Estu Especialidades'!$B$4:$AF$77,18,0),IF(G187=1,VLOOKUP(D187,'Plan Estu Especialidades'!$B$4:$AF$77,18,0)*N187,0))))","v":0},{"$f":"IF(G187=4,VLOOKUP(D187,'Plan Estu Especialidades'!$B$4:$AF$77,29,0),IF(G187=3,VLOOKUP(D187,'Plan Estu Especialidades'!$B$4:$AF$77,24,0),IF(G187=2,VLOOKUP(D187,'Plan Estu Especialidades'!$B$4:$AF$77,19,0),IF(G187=1,VLOOKUP(D187,'Plan Estu Especialidades'!$B$4:$AF$77,19,0)*N187,0))))","v":0},{"$f":"IF(G187=4,VLOOKUP(D187,'Plan Estu Especialidades'!$B$4:$AF$77,30,0),IF(G187=3,VLOOKUP(D187,'Plan Estu Especialidades'!$B$4:$AF$77,25,0),IF(G187=2,VLOOKUP(D187,'Plan Estu Especialidades'!$B$4:$AF$77,20,0),IF(G187=1,VLOOKUP(D187,'Plan Estu Especialidades'!$B$4:$AF$77,20,0)*N187,0))))","v":0},0,0,null,null,null,null,null,0,0,0,null,null,null,null,0,0,0,null,{"$f":"IF(SUM(J187,L187,N187)=0,\"S/V\",VLOOKUP(D187,'Plan Estu Especialidades'!$B$4:$AG$77,32,0))","v":"S/V"},{"$f":"IF(AND(AS187<2,$AT$166>$AU$166),V187+Z187,IF($AT$166=$AU$166,V187+Z187,0))","v":0},0,null,null,null,null,null,null,0,0,0]
[{"$f":"+IF(B188=0,0,SUM($B$62:B188))","v":0},0,92,22,0,0,0,"Contabilidad y Control Interno - Sec.Nocturna","_22",null,null,null,null,null,null,{"$f":"IF(E188=2,VLOOKUP(D188,'Plan Estu Especialidades'!$B$4:$AF$77,3,0),IF(E188=1,VLOOKUP(D188,'Plan Estu Especialidades'!$B$4:$AF$77,3,0)*J188,0))","v":0},{"$f":"IF(E188=2,VLOOKUP(D188,'Plan Estu Especialidades'!$B$4:$AF$77,4,0),IF(E188=1,VLOOKUP(D188,'Plan Estu Especialidades'!$B$4:$AF$77,4,0)*J188,0))","v":0},{"$f":"IF(E188=2,VLOOKUP(D188,'Plan Estu Especialidades'!$B$4:$AF$77,5,0),IF(E188=1,VLOOKUP(D188,'Plan Estu Especialidades'!$B$4:$AF$77,5,0)*J188,0))","v":0},{"$f":"IF(F188=3,VLOOKUP(D188,'Plan Estu Especialidades'!$B$4:$AF$77,12,0),IF(F188=2,VLOOKUP(D188,'Plan Estu Especialidades'!$B$4:$AF$77,7,0),IF(F188=1,VLOOKUP(D188,'Plan Estu Especialidades'!$B$4:$AF$77,7,0)*L188,0)))","v":0},{"$f":"IF(F188=3,VLOOKUP(D188,'Plan Estu Especialidades'!$B$4:$AF$77,13,0),IF(F188=2,VLOOKUP(D188,'Plan Estu Especialidades'!$B$4:$AF$77,8,0),IF(F188=1,VLOOKUP(D188,'Plan Estu Especialidades'!$B$4:$AF$77,8,0)*L188,0)))","v":0},{"$f":"IF(F188=3,VLOOKUP(D188,'Plan Estu Especialidades'!$B$4:$AF$77,14,0),IF(F188=2,VLOOKUP(D188,'Plan Estu Especialidades'!$B$4:$AF$77,9,0),IF(F188=1,VLOOKUP(D188,'Plan Estu Especialidades'!$B$4:$AF$77,9,0)*L188,0)))","v":0},{"$f":"IF(F188=3,VLOOKUP(D188,'Plan Estu Especialidades'!$B$4:$AF$77,15,0),IF(F188=2,VLOOKUP(D188,'Plan Estu Especialidades'!$B$4:$AF$77,10,0),IF(F188=1,VLOOKUP(D188,'Plan Estu Especialidades'!$B$4:$AF$77,10,0)*L188,0)))","v":0},{"$f":"IF(G188=4,VLOOKUP(D188,'Plan Estu Especialidades'!$B$4:$AF$77,27,0),IF(G188=3,VLOOKUP(D188,'Plan Estu Especialidades'!$B$4:$AF$77,22,0),IF(G188=2,VLOOKUP(D188,'Plan Estu Especialidades'!$B$4:$AF$77,17,0),IF(G188=1,VLOOKUP(D188,'Plan Estu Especialidades'!$B$4:$AF$77,17,0)*N188,0))))","v":0},{"$f":"IF(G188=4,VLOOKUP(D188,'Plan Estu Especialidades'!$B$4:$AF$77,28,0),IF(G188=3,VLOOKUP(D188,'Plan Estu Especialidades'!$B$4:$AF$77,23,0),IF(G188=2,VLOOKUP(D188,'Plan Estu Especialidades'!$B$4:$AF$77,18,0),IF(G188=1,VLOOKUP(D188,'Plan Estu Especialidades'!$B$4:$AF$77,18,0)*N188,0))))","v":0},{"$f":"IF(G188=4,VLOOKUP(D188,'Plan Estu Especialidades'!$B$4:$AF$77,29,0),IF(G188=3,VLOOKUP(D188,'Plan Estu Especialidades'!$B$4:$AF$77,24,0),IF(G188=2,VLOOKUP(D188,'Plan Estu Especialidades'!$B$4:$AF$77,19,0),IF(G188=1,VLOOKUP(D188,'Plan Estu Especialidades'!$B$4:$AF$77,19,0)*N188,0))))","v":0},{"$f":"IF(G188=4,VLOOKUP(D188,'Plan Estu Especialidades'!$B$4:$AF$77,30,0),IF(G188=3,VLOOKUP(D188,'Plan Estu Especialidades'!$B$4:$AF$77,25,0),IF(G188=2,VLOOKUP(D188,'Plan Estu Especialidades'!$B$4:$AF$77,20,0),IF(G188=1,VLOOKUP(D188,'Plan Estu Especialidades'!$B$4:$AF$77,20,0)*N188,0))))","v":0},0,0,null,null,null,null,null,0,0,0,null,null,null,null,0,0,0,null,{"$f":"IF(SUM(J188,L188,N188)=0,\"S/V\",VLOOKUP(D188,'Plan Estu Especialidades'!$B$4:$AG$77,32,0))","v":"S/V"},0,0,null,null,null,null,null,null,0,0,0]
[{"$f":"+IF(B189=0,0,SUM($B$62:B189))","v":0},0,92,23,0,0,0,"Contabilidad y Costos - Sec.Nocturna","_23",null,null,null,null,null,null,{"$f":"IF(E189=2,VLOOKUP(D189,'Plan Estu Especialidades'!$B$4:$AF$77,3,0),IF(E189=1,VLOOKUP(D189,'Plan Estu Especialidades'!$B$4:$AF$77,3,0)*J189,0))","v":0},{"$f":"IF(E189=2,VLOOKUP(D189,'Plan Estu Especialidades'!$B$4:$AF$77,4,0),IF(E189=1,VLOOKUP(D189,'Plan Estu Especialidades'!$B$4:$AF$77,4,0)*J189,0))","v":0},{"$f":"IF(E189=2,VLOOKUP(D189,'Plan Estu Especialidades'!$B$4:$AF$77,5,0),IF(E189=1,VLOOKUP(D189,'Plan Estu Especialidades'!$B$4:$AF$77,5,0)*J189,0))","v":0},{"$f":"IF(F189=3,VLOOKUP(D189,'Plan Estu Especialidades'!$B$4:$AF$77,12,0),IF(F189=2,VLOOKUP(D189,'Plan Estu Especialidades'!$B$4:$AF$77,7,0),IF(F189=1,VLOOKUP(D189,'Plan Estu Especialidades'!$B$4:$AF$77,7,0)*L189,0)))","v":0},{"$f":"IF(F189=3,VLOOKUP(D189,'Plan Estu Especialidades'!$B$4:$AF$77,13,0),IF(F189=2,VLOOKUP(D189,'Plan Estu Especialidades'!$B$4:$AF$77,8,0),IF(F189=1,VLOOKUP(D189,'Plan Estu Especialidades'!$B$4:$AF$77,8,0)*L189,0)))","v":0},{"$f":"IF(F189=3,VLOOKUP(D189,'Plan Estu Especialidades'!$B$4:$AF$77,14,0),IF(F189=2,VLOOKUP(D189,'Plan Estu Especialidades'!$B$4:$AF$77,9,0),IF(F189=1,VLOOKUP(D189,'Plan Estu Especialidades'!$B$4:$AF$77,9,0)*L189,0)))","v":0},{"$f":"IF(F189=3,VLOOKUP(D189,'Plan Estu Especialidades'!$B$4:$AF$77,15,0),IF(F189=2,VLOOKUP(D189,'Plan Estu Especialidades'!$B$4:$AF$77,10,0),IF(F189=1,VLOOKUP(D189,'Plan Estu Especialidades'!$B$4:$AF$77,10,0)*L189,0)))","v":0},{"$f":"IF(G189=4,VLOOKUP(D189,'Plan Estu Especialidades'!$B$4:$AF$77,27,0),IF(G189=3,VLOOKUP(D189,'Plan Estu Especialidades'!$B$4:$AF$77,22,0),IF(G189=2,VLOOKUP(D189,'Plan Estu Especialidades'!$B$4:$AF$77,17,0),IF(G189=1,VLOOKUP(D189,'Plan Estu Especialidades'!$B$4:$AF$77,17,0)*N189,0))))","v":0},{"$f":"IF(G189=4,VLOOKUP(D189,'Plan Estu Especialidades'!$B$4:$AF$77,28,0),IF(G189=3,VLOOKUP(D189,'Plan Estu Especialidades'!$B$4:$AF$77,23,0),IF(G189=2,VLOOKUP(D189,'Plan Estu Especialidades'!$B$4:$AF$77,18,0),IF(G189=1,VLOOKUP(D189,'Plan Estu Especialidades'!$B$4:$AF$77,18,0)*N189,0))))","v":0},{"$f":"IF(G189=4,VLOOKUP(D189,'Plan Estu Especialidades'!$B$4:$AF$77,29,0),IF(G189=3,VLOOKUP(D189,'Plan Estu Especialidades'!$B$4:$AF$77,24,0),IF(G189=2,VLOOKUP(D189,'Plan Estu Especialidades'!$B$4:$AF$77,19,0),IF(G189=1,VLOOKUP(D189,'Plan Estu Especialidades'!$B$4:$AF$77,19,0)*N189,0))))","v":0},{"$f":"IF(G189=4,VLOOKUP(D189,'Plan Estu Especialidades'!$B$4:$AF$77,30,0),IF(G189=3,VLOOKUP(D189,'Plan Estu Especialidades'!$B$4:$AF$77,25,0),IF(G189=2,VLOOKUP(D189,'Plan Estu Especialidades'!$B$4:$AF$77,20,0),IF(G189=1,VLOOKUP(D189,'Plan Estu Especialidades'!$B$4:$AF$77,20,0)*N189,0))))","v":0},0,0,null,null,null,null,null,0,0,0,null,null,null,null,0,0,0,null,{"$f":"IF(SUM(J189,L189,N189)=0,\"S/V\",VLOOKUP(D189,'Plan Estu Especialidades'!$B$4:$AG$77,32,0))","v":"S/V"},{"$f":"IF(AND(AS189<2,$AT$166>$AU$166),V189+Z189,IF($AT$166=$AU$166,V189+Z189,0))","v":0},0,null,null,null,null,null,null,0,0,0]
[{"$f":"+IF(B190=0,0,SUM($B$62:B190))","v":0},0,92,24,0,0,0,"Contabilidad y Finanzas - Sec.Nocturna","_24",null,null,null,null,null,null,{"$f":"IF(E190=2,VLOOKUP(D190,'Plan Estu Especialidades'!$B$4:$AF$77,3,0),IF(E190=1,VLOOKUP(D190,'Plan Estu Especialidades'!$B$4:$AF$77,3,0)*J190,0))","v":0},{"$f":"IF(E190=2,VLOOKUP(D190,'Plan Estu Especialidades'!$B$4:$AF$77,4,0),IF(E190=1,VLOOKUP(D190,'Plan Estu Especialidades'!$B$4:$AF$77,4,0)*J190,0))","v":0},{"$f":"IF(E190=2,VLOOKUP(D190,'Plan Estu Especialidades'!$B$4:$AF$77,5,0),IF(E190=1,VLOOKUP(D190,'Plan Estu Especialidades'!$B$4:$AF$77,5,0)*J190,0))","v":0},{"$f":"IF(F190=3,VLOOKUP(D190,'Plan Estu Especialidades'!$B$4:$AF$77,12,0),IF(F190=2,VLOOKUP(D190,'Plan Estu Especialidades'!$B$4:$AF$77,7,0),IF(F190=1,VLOOKUP(D190,'Plan Estu Especialidades'!$B$4:$AF$77,7,0)*L190,0)))","v":0},{"$f":"IF(F190=3,VLOOKUP(D190,'Plan Estu Especialidades'!$B$4:$AF$77,13,0),IF(F190=2,VLOOKUP(D190,'Plan Estu Especialidades'!$B$4:$AF$77,8,0),IF(F190=1,VLOOKUP(D190,'Plan Estu Especialidades'!$B$4:$AF$77,8,0)*L190,0)))","v":0},{"$f":"IF(F190=3,VLOOKUP(D190,'Plan Estu Especialidades'!$B$4:$AF$77,14,0),IF(F190=2,VLOOKUP(D190,'Plan Estu Especialidades'!$B$4:$AF$77,9,0),IF(F190=1,VLOOKUP(D190,'Plan Estu Especialidades'!$B$4:$AF$77,9,0)*L190,0)))","v":0},{"$f":"IF(F190=3,VLOOKUP(D190,'Plan Estu Especialidades'!$B$4:$AF$77,15,0),IF(F190=2,VLOOKUP(D190,'Plan Estu Especialidades'!$B$4:$AF$77,10,0),IF(F190=1,VLOOKUP(D190,'Plan Estu Especialidades'!$B$4:$AF$77,10,0)*L190,0)))","v":0},{"$f":"IF(G190=4,VLOOKUP(D190,'Plan Estu Especialidades'!$B$4:$AF$77,27,0),IF(G190=3,VLOOKUP(D190,'Plan Estu Especialidades'!$B$4:$AF$77,22,0),IF(G190=2,VLOOKUP(D190,'Plan Estu Especialidades'!$B$4:$AF$77,17,0),IF(G190=1,VLOOKUP(D190,'Plan Estu Especialidades'!$B$4:$AF$77,17,0)*N190,0))))","v":0},{"$f":"IF(G190=4,VLOOKUP(D190,'Plan Estu Especialidades'!$B$4:$AF$77,28,0),IF(G190=3,VLOOKUP(D190,'Plan Estu Especialidades'!$B$4:$AF$77,23,0),IF(G190=2,VLOOKUP(D190,'Plan Estu Especialidades'!$B$4:$AF$77,18,0),IF(G190=1,VLOOKUP(D190,'Plan Estu Especialidades'!$B$4:$AF$77,18,0)*N190,0))))","v":0},{"$f":"IF(G190=4,VLOOKUP(D190,'Plan Estu Especialidades'!$B$4:$AF$77,29,0),IF(G190=3,VLOOKUP(D190,'Plan Estu Especialidades'!$B$4:$AF$77,24,0),IF(G190=2,VLOOKUP(D190,'Plan Estu Especialidades'!$B$4:$AF$77,19,0),IF(G190=1,VLOOKUP(D190,'Plan Estu Especialidades'!$B$4:$AF$77,19,0)*N190,0))))","v":0},{"$f":"IF(G190=4,VLOOKUP(D190,'Plan Estu Especialidades'!$B$4:$AF$77,30,0),IF(G190=3,VLOOKUP(D190,'Plan Estu Especialidades'!$B$4:$AF$77,25,0),IF(G190=2,VLOOKUP(D190,'Plan Estu Especialidades'!$B$4:$AF$77,20,0),IF(G190=1,VLOOKUP(D190,'Plan Estu Especialidades'!$B$4:$AF$77,20,0)*N190,0))))","v":0},0,0,null,null,null,null,null,0,0,0,null,null,null,null,0,0,0,null,{"$f":"IF(SUM(J190,L190,N190)=0,\"S/V\",VLOOKUP(D190,'Plan Estu Especialidades'!$B$4:$AG$77,32,0))","v":"S/V"},0,0,null,null,null,null,null,null,0,0,0]
[{"$f":"+IF(B191=0,0,SUM($B$62:B191))","v":0},0,92,25,0,0,0,"Desarrollo Web - Sec.Nocturna","_25",null,null,null,null,null,null,{"$f":"IF(E191=2,VLOOKUP(D191,'Plan Estu Especialidades'!$B$4:$AF$77,3,0),IF(E191=1,VLOOKUP(D191,'Plan Estu Especialidades'!$B$4:$AF$77,3,0)*J191,0))","v":0},{"$f":"IF(E191=2,VLOOKUP(D191,'Plan Estu Especialidades'!$B$4:$AF$77,4,0),IF(E191=1,VLOOKUP(D191,'Plan Estu Especialidades'!$B$4:$AF$77,4,0)*J191,0))","v":0},{"$f":"IF(E191=2,VLOOKUP(D191,'Plan Estu Especialidades'!$B$4:$AF$77,5,0),IF(E191=1,VLOOKUP(D191,'Plan Estu Especialidades'!$B$4:$AF$77,5,0)*J191,0))","v":0},{"$f":"IF(F191=3,VLOOKUP(D191,'Plan Estu Especialidades'!$B$4:$AF$77,12,0),IF(F191=2,VLOOKUP(D191,'Plan Estu Especialidades'!$B$4:$AF$77,7,0),IF(F191=1,VLOOKUP(D191,'Plan Estu Especialidades'!$B$4:$AF$77,7,0)*L191,0)))","v":0},{"$f":"IF(F191=3,VLOOKUP(D191,'Plan Estu Especialidades'!$B$4:$AF$77,13,0),IF(F191=2,VLOOKUP(D191,'Plan Estu Especialidades'!$B$4:$AF$77,8,0),IF(F191=1,VLOOKUP(D191,'Plan Estu Especialidades'!$B$4:$AF$77,8,0)*L191,0)))","v":0},{"$f":"IF(F191=3,VLOOKUP(D191,'Plan Estu Especialidades'!$B$4:$AF$77,14,0),IF(F191=2,VLOOKUP(D191,'Plan Estu Especialidades'!$B$4:$AF$77,9,0),IF(F191=1,VLOOKUP(D191,'Plan Estu Especialidades'!$B$4:$AF$77,9,0)*L191,0)))","v":0},{"$f":"IF(F191=3,VLOOKUP(D191,'Plan Estu Especialidades'!$B$4:$AF$77,15,0),IF(F191=2,VLOOKUP(D191,'Plan Estu Especialidades'!$B$4:$AF$77,10,0),IF(F191=1,VLOOKUP(D191,'Plan Estu Especialidades'!$B$4:$AF$77,10,0)*L191,0)))","v":0},{"$f":"IF(G191=4,VLOOKUP(D191,'Plan Estu Especialidades'!$B$4:$AF$77,27,0),IF(G191=3,VLOOKUP(D191,'Plan Estu Especialidades'!$B$4:$AF$77,22,0),IF(G191=2,VLOOKUP(D191,'Plan Estu Especialidades'!$B$4:$AF$77,17,0),IF(G191=1,VLOOKUP(D191,'Plan Estu Especialidades'!$B$4:$AF$77,17,0)*N191,0))))","v":0},{"$f":"IF(G191=4,VLOOKUP(D191,'Plan Estu Especialidades'!$B$4:$AF$77,28,0),IF(G191=3,VLOOKUP(D191,'Plan Estu Especialidades'!$B$4:$AF$77,23,0),IF(G191=2,VLOOKUP(D191,'Plan Estu Especialidades'!$B$4:$AF$77,18,0),IF(G191=1,VLOOKUP(D191,'Plan Estu Especialidades'!$B$4:$AF$77,18,0)*N191,0))))","v":0},{"$f":"IF(G191=4,VLOOKUP(D191,'Plan Estu Especialidades'!$B$4:$AF$77,29,0),IF(G191=3,VLOOKUP(D191,'Plan Estu Especialidades'!$B$4:$AF$77,24,0),IF(G191=2,VLOOKUP(D191,'Plan Estu Especialidades'!$B$4:$AF$77,19,0),IF(G191=1,VLOOKUP(D191,'Plan Estu Especialidades'!$B$4:$AF$77,19,0)*N191,0))))","v":0},{"$f":"IF(G191=4,VLOOKUP(D191,'Plan Estu Especialidades'!$B$4:$AF$77,30,0),IF(G191=3,VLOOKUP(D191,'Plan Estu Especialidades'!$B$4:$AF$77,25,0),IF(G191=2,VLOOKUP(D191,'Plan Estu Especialidades'!$B$4:$AF$77,20,0),IF(G191=1,VLOOKUP(D191,'Plan Estu Especialidades'!$B$4:$AF$77,20,0)*N191,0))))","v":0},0,0,null,null,null,null,null,0,0,0,null,null,null,null,0,0,0,null,{"$f":"IF(SUM(J191,L191,N191)=0,\"S/V\",VLOOKUP(D191,'Plan Estu Especialidades'!$B$4:$AG$77,32,0))","v":"S/V"},0,0,null,null,null,null,null,null,0,0,0]
[{"$f":"+IF(B192=0,0,SUM($B$62:B192))","v":0},0,92,26,0,0,0,"Dibujo Arquitectónico - Sec.Nocturna","_26",null,null,null,null,null,null,{"$f":"IF(E192=2,VLOOKUP(D192,'Plan Estu Especialidades'!$B$4:$AF$77,3,0),IF(E192=1,VLOOKUP(D192,'Plan Estu Especialidades'!$B$4:$AF$77,3,0)*J192,0))","v":0},{"$f":"IF(E192=2,VLOOKUP(D192,'Plan Estu Especialidades'!$B$4:$AF$77,4,0),IF(E192=1,VLOOKUP(D192,'Plan Estu Especialidades'!$B$4:$AF$77,4,0)*J192,0))","v":0},{"$f":"IF(E192=2,VLOOKUP(D192,'Plan Estu Especialidades'!$B$4:$AF$77,5,0),IF(E192=1,VLOOKUP(D192,'Plan Estu Especialidades'!$B$4:$AF$77,5,0)*J192,0))","v":0},{"$f":"IF(F192=3,VLOOKUP(D192,'Plan Estu Especialidades'!$B$4:$AF$77,12,0),IF(F192=2,VLOOKUP(D192,'Plan Estu Especialidades'!$B$4:$AF$77,7,0),IF(F192=1,VLOOKUP(D192,'Plan Estu Especialidades'!$B$4:$AF$77,7,0)*L192,0)))","v":0},{"$f":"IF(F192=3,VLOOKUP(D192,'Plan Estu Especialidades'!$B$4:$AF$77,13,0),IF(F192=2,VLOOKUP(D192,'Plan Estu Especialidades'!$B$4:$AF$77,8,0),IF(F192=1,VLOOKUP(D192,'Plan Estu Especialidades'!$B$4:$AF$77,8,0)*L192,0)))","v":0},{"$f":"IF(F192=3,VLOOKUP(D192,'Plan Estu Especialidades'!$B$4:$AF$77,14,0),IF(F192=2,VLOOKUP(D192,'Plan Estu Especialidades'!$B$4:$AF$77,9,0),IF(F192=1,VLOOKUP(D192,'Plan Estu Especialidades'!$B$4:$AF$77,9,0)*L192,0)))","v":0},{"$f":"IF(F192=3,VLOOKUP(D192,'Plan Estu Especialidades'!$B$4:$AF$77,15,0),IF(F192=2,VLOOKUP(D192,'Plan Estu Especialidades'!$B$4:$AF$77,10,0),IF(F192=1,VLOOKUP(D192,'Plan Estu Especialidades'!$B$4:$AF$77,10,0)*L192,0)))","v":0},{"$f":"IF(G192=4,VLOOKUP(D192,'Plan Estu Especialidades'!$B$4:$AF$77,27,0),IF(G192=3,VLOOKUP(D192,'Plan Estu Especialidades'!$B$4:$AF$77,22,0),IF(G192=2,VLOOKUP(D192,'Plan Estu Especialidades'!$B$4:$AF$77,17,0),IF(G192=1,VLOOKUP(D192,'Plan Estu Especialidades'!$B$4:$AF$77,17,0)*N192,0))))","v":0},{"$f":"IF(G192=4,VLOOKUP(D192,'Plan Estu Especialidades'!$B$4:$AF$77,28,0),IF(G192=3,VLOOKUP(D192,'Plan Estu Especialidades'!$B$4:$AF$77,23,0),IF(G192=2,VLOOKUP(D192,'Plan Estu Especialidades'!$B$4:$AF$77,18,0),IF(G192=1,VLOOKUP(D192,'Plan Estu Especialidades'!$B$4:$AF$77,18,0)*N192,0))))","v":0},{"$f":"IF(G192=4,VLOOKUP(D192,'Plan Estu Especialidades'!$B$4:$AF$77,29,0),IF(G192=3,VLOOKUP(D192,'Plan Estu Especialidades'!$B$4:$AF$77,24,0),IF(G192=2,VLOOKUP(D192,'Plan Estu Especialidades'!$B$4:$AF$77,19,0),IF(G192=1,VLOOKUP(D192,'Plan Estu Especialidades'!$B$4:$AF$77,19,0)*N192,0))))","v":0},{"$f":"IF(G192=4,VLOOKUP(D192,'Plan Estu Especialidades'!$B$4:$AF$77,30,0),IF(G192=3,VLOOKUP(D192,'Plan Estu Especialidades'!$B$4:$AF$77,25,0),IF(G192=2,VLOOKUP(D192,'Plan Estu Especialidades'!$B$4:$AF$77,20,0),IF(G192=1,VLOOKUP(D192,'Plan Estu Especialidades'!$B$4:$AF$77,20,0)*N192,0))))","v":0},0,0,null,null,null,null,null,0,0,0,null,null,null,null,0,0,0,null,{"$f":"IF(SUM(J192,L192,N192)=0,\"S/V\",VLOOKUP(D192,'Plan Estu Especialidades'!$B$4:$AG$77,32,0))","v":"S/V"},0,0,null,null,null,null,null,null,0,0,0]
[{"$f":"+IF(B193=0,0,SUM($B$62:B193))","v":0},0,92,27,0,0,0,"Dibujo Técnico - Sec.Nocturna","_27",null,null,null,null,null,null,{"$f":"IF(E193=2,VLOOKUP(D193,'Plan Estu Especialidades'!$B$4:$AF$77,3,0),IF(E193=1,VLOOKUP(D193,'Plan Estu Especialidades'!$B$4:$AF$77,3,0)*J193,0))","v":0},{"$f":"IF(E193=2,VLOOKUP(D193,'Plan Estu Especialidades'!$B$4:$AF$77,4,0),IF(E193=1,VLOOKUP(D193,'Plan Estu Especialidades'!$B$4:$AF$77,4,0)*J193,0))","v":0},{"$f":"IF(E193=2,VLOOKUP(D193,'Plan Estu Especialidades'!$B$4:$AF$77,5,0),IF(E193=1,VLOOKUP(D193,'Plan Estu Especialidades'!$B$4:$AF$77,5,0)*J193,0))","v":0},{"$f":"IF(F193=3,VLOOKUP(D193,'Plan Estu Especialidades'!$B$4:$AF$77,12,0),IF(F193=2,VLOOKUP(D193,'Plan Estu Especialidades'!$B$4:$AF$77,7,0),IF(F193=1,VLOOKUP(D193,'Plan Estu Especialidades'!$B$4:$AF$77,7,0)*L193,0)))","v":0},{"$f":"IF(F193=3,VLOOKUP(D193,'Plan Estu Especialidades'!$B$4:$AF$77,13,0),IF(F193=2,VLOOKUP(D193,'Plan Estu Especialidades'!$B$4:$AF$77,8,0),IF(F193=1,VLOOKUP(D193,'Plan Estu Especialidades'!$B$4:$AF$77,8,0)*L193,0)))","v":0},{"$f":"IF(F193=3,VLOOKUP(D193,'Plan Estu Especialidades'!$B$4:$AF$77,14,0),IF(F193=2,VLOOKUP(D193,'Plan Estu Especialidades'!$B$4:$AF$77,9,0),IF(F193=1,VLOOKUP(D193,'Plan Estu Especialidades'!$B$4:$AF$77,9,0)*L193,0)))","v":0},{"$f":"IF(F193=3,VLOOKUP(D193,'Plan Estu Especialidades'!$B$4:$AF$77,15,0),IF(F193=2,VLOOKUP(D193,'Plan Estu Especialidades'!$B$4:$AF$77,10,0),IF(F193=1,VLOOKUP(D193,'Plan Estu Especialidades'!$B$4:$AF$77,10,0)*L193,0)))","v":0},{"$f":"IF(G193=4,VLOOKUP(D193,'Plan Estu Especialidades'!$B$4:$AF$77,27,0),IF(G193=3,VLOOKUP(D193,'Plan Estu Especialidades'!$B$4:$AF$77,22,0),IF(G193=2,VLOOKUP(D193,'Plan Estu Especialidades'!$B$4:$AF$77,17,0),IF(G193=1,VLOOKUP(D193,'Plan Estu Especialidades'!$B$4:$AF$77,17,0)*N193,0))))","v":0},{"$f":"IF(G193=4,VLOOKUP(D193,'Plan Estu Especialidades'!$B$4:$AF$77,28,0),IF(G193=3,VLOOKUP(D193,'Plan Estu Especialidades'!$B$4:$AF$77,23,0),IF(G193=2,VLOOKUP(D193,'Plan Estu Especialidades'!$B$4:$AF$77,18,0),IF(G193=1,VLOOKUP(D193,'Plan Estu Especialidades'!$B$4:$AF$77,18,0)*N193,0))))","v":0},{"$f":"IF(G193=4,VLOOKUP(D193,'Plan Estu Especialidades'!$B$4:$AF$77,29,0),IF(G193=3,VLOOKUP(D193,'Plan Estu Especialidades'!$B$4:$AF$77,24,0),IF(G193=2,VLOOKUP(D193,'Plan Estu Especialidades'!$B$4:$AF$77,19,0),IF(G193=1,VLOOKUP(D193,'Plan Estu Especialidades'!$B$4:$AF$77,19,0)*N193,0))))","v":0},{"$f":"IF(G193=4,VLOOKUP(D193,'Plan Estu Especialidades'!$B$4:$AF$77,30,0),IF(G193=3,VLOOKUP(D193,'Plan Estu Especialidades'!$B$4:$AF$77,25,0),IF(G193=2,VLOOKUP(D193,'Plan Estu Especialidades'!$B$4:$AF$77,20,0),IF(G193=1,VLOOKUP(D193,'Plan Estu Especialidades'!$B$4:$AF$77,20,0)*N193,0))))","v":0},0,0,null,null,null,null,null,0,0,0,null,null,null,null,0,0,0,null,{"$f":"IF(SUM(J193,L193,N193)=0,\"S/V\",VLOOKUP(D193,'Plan Estu Especialidades'!$B$4:$AG$77,32,0))","v":"S/V"},0,0,null,null,null,null,null,null,0,0,0]
[{"$f":"+IF(B194=0,0,SUM($B$62:B194))","v":0},{"$f":"+IF(AA194>0,1,0)","v":0},92,28,0,0,0,"Dibujo y Modelado para Edificaciones - Sec.Nocturna","_28",null,null,null,null,null,null,{"$f":"IF(E194=2,VLOOKUP(D194,'Plan Estu Especialidades'!$B$4:$AF$77,3,0),IF(E194=1,VLOOKUP(D194,'Plan Estu Especialidades'!$B$4:$AF$77,3,0)*J194,0))","v":0},{"$f":"IF(E194=2,VLOOKUP(D194,'Plan Estu Especialidades'!$B$4:$AF$77,4,0),IF(E194=1,VLOOKUP(D194,'Plan Estu Especialidades'!$B$4:$AF$77,4,0)*J194,0))","v":0},{"$f":"IF(E194=2,VLOOKUP(D194,'Plan Estu Especialidades'!$B$4:$AF$77,5,0),IF(E194=1,VLOOKUP(D194,'Plan Estu Especialidades'!$B$4:$AF$77,5,0)*J194,0))","v":0},{"$f":"IF(F194=3,VLOOKUP(D194,'Plan Estu Especialidades'!$B$4:$AF$77,12,0),IF(F194=2,VLOOKUP(D194,'Plan Estu Especialidades'!$B$4:$AF$77,7,0),IF(F194=1,VLOOKUP(D194,'Plan Estu Especialidades'!$B$4:$AF$77,7,0)*L194,0)))","v":0},{"$f":"IF(F194=3,VLOOKUP(D194,'Plan Estu Especialidades'!$B$4:$AF$77,13,0),IF(F194=2,VLOOKUP(D194,'Plan Estu Especialidades'!$B$4:$AF$77,8,0),IF(F194=1,VLOOKUP(D194,'Plan Estu Especialidades'!$B$4:$AF$77,8,0)*L194,0)))","v":0},{"$f":"IF(F194=3,VLOOKUP(D194,'Plan Estu Especialidades'!$B$4:$AF$77,14,0),IF(F194=2,VLOOKUP(D194,'Plan Estu Especialidades'!$B$4:$AF$77,9,0),IF(F194=1,VLOOKUP(D194,'Plan Estu Especialidades'!$B$4:$AF$77,9,0)*L194,0)))","v":0},{"$f":"IF(F194=3,VLOOKUP(D194,'Plan Estu Especialidades'!$B$4:$AF$77,15,0),IF(F194=2,VLOOKUP(D194,'Plan Estu Especialidades'!$B$4:$AF$77,10,0),IF(F194=1,VLOOKUP(D194,'Plan Estu Especialidades'!$B$4:$AF$77,10,0)*L194,0)))","v":0},{"$f":"IF(G194=4,VLOOKUP(D194,'Plan Estu Especialidades'!$B$4:$AF$77,27,0),IF(G194=3,VLOOKUP(D194,'Plan Estu Especialidades'!$B$4:$AF$77,22,0),IF(G194=2,VLOOKUP(D194,'Plan Estu Especialidades'!$B$4:$AF$77,17,0),IF(G194=1,VLOOKUP(D194,'Plan Estu Especialidades'!$B$4:$AF$77,17,0)*N194,0))))","v":0},{"$f":"IF(G194=4,VLOOKUP(D194,'Plan Estu Especialidades'!$B$4:$AF$77,28,0),IF(G194=3,VLOOKUP(D194,'Plan Estu Especialidades'!$B$4:$AF$77,23,0),IF(G194=2,VLOOKUP(D194,'Plan Estu Especialidades'!$B$4:$AF$77,18,0),IF(G194=1,VLOOKUP(D194,'Plan Estu Especialidades'!$B$4:$AF$77,18,0)*N194,0))))","v":0},{"$f":"IF(G194=4,VLOOKUP(D194,'Plan Estu Especialidades'!$B$4:$AF$77,29,0),IF(G194=3,VLOOKUP(D194,'Plan Estu Especialidades'!$B$4:$AF$77,24,0),IF(G194=2,VLOOKUP(D194,'Plan Estu Especialidades'!$B$4:$AF$77,19,0),IF(G194=1,VLOOKUP(D194,'Plan Estu Especialidades'!$B$4:$AF$77,19,0)*N194,0))))","v":0},{"$f":"IF(G194=4,VLOOKUP(D194,'Plan Estu Especialidades'!$B$4:$AF$77,30,0),IF(G194=3,VLOOKUP(D194,'Plan Estu Especialidades'!$B$4:$AF$77,25,0),IF(G194=2,VLOOKUP(D194,'Plan Estu Especialidades'!$B$4:$AF$77,20,0),IF(G194=1,VLOOKUP(D194,'Plan Estu Especialidades'!$B$4:$AF$77,20,0)*N194,0))))","v":0},0,0,null,null,null,null,null,0,0,0,null,null,null,null,0,0,0,null,{"$f":"IF(SUM(J194,L194,N194)=0,\"S/V\",VLOOKUP(D194,'Plan Estu Especialidades'!$B$4:$AG$77,32,0))","v":"S/V"},0,0,null,null,null,null,null,null,0,0,0]
[{"$f":"+IF(B195=0,0,SUM($B$62:B195))","v":0},0,92,29,0,0,0,"Diseño Gráfico - Sec.Nocturna","_29",null,null,null,null,null,null,{"$f":"IF(E195=2,VLOOKUP(D195,'Plan Estu Especialidades'!$B$4:$AF$77,3,0),IF(E195=1,VLOOKUP(D195,'Plan Estu Especialidades'!$B$4:$AF$77,3,0)*J195,0))","v":0},{"$f":"IF(E195=2,VLOOKUP(D195,'Plan Estu Especialidades'!$B$4:$AF$77,4,0),IF(E195=1,VLOOKUP(D195,'Plan Estu Especialidades'!$B$4:$AF$77,4,0)*J195,0))","v":0},{"$f":"IF(E195=2,VLOOKUP(D195,'Plan Estu Especialidades'!$B$4:$AF$77,5,0),IF(E195=1,VLOOKUP(D195,'Plan Estu Especialidades'!$B$4:$AF$77,5,0)*J195,0))","v":0},{"$f":"IF(F195=3,VLOOKUP(D195,'Plan Estu Especialidades'!$B$4:$AF$77,12,0),IF(F195=2,VLOOKUP(D195,'Plan Estu Especialidades'!$B$4:$AF$77,7,0),IF(F195=1,VLOOKUP(D195,'Plan Estu Especialidades'!$B$4:$AF$77,7,0)*L195,0)))","v":0},{"$f":"IF(F195=3,VLOOKUP(D195,'Plan Estu Especialidades'!$B$4:$AF$77,13,0),IF(F195=2,VLOOKUP(D195,'Plan Estu Especialidades'!$B$4:$AF$77,8,0),IF(F195=1,VLOOKUP(D195,'Plan Estu Especialidades'!$B$4:$AF$77,8,0)*L195,0)))","v":0},{"$f":"IF(F195=3,VLOOKUP(D195,'Plan Estu Especialidades'!$B$4:$AF$77,14,0),IF(F195=2,VLOOKUP(D195,'Plan Estu Especialidades'!$B$4:$AF$77,9,0),IF(F195=1,VLOOKUP(D195,'Plan Estu Especialidades'!$B$4:$AF$77,9,0)*L195,0)))","v":0},{"$f":"IF(F195=3,VLOOKUP(D195,'Plan Estu Especialidades'!$B$4:$AF$77,15,0),IF(F195=2,VLOOKUP(D195,'Plan Estu Especialidades'!$B$4:$AF$77,10,0),IF(F195=1,VLOOKUP(D195,'Plan Estu Especialidades'!$B$4:$AF$77,10,0)*L195,0)))","v":0},{"$f":"IF(G195=4,VLOOKUP(D195,'Plan Estu Especialidades'!$B$4:$AF$77,27,0),IF(G195=3,VLOOKUP(D195,'Plan Estu Especialidades'!$B$4:$AF$77,22,0),IF(G195=2,VLOOKUP(D195,'Plan Estu Especialidades'!$B$4:$AF$77,17,0),IF(G195=1,VLOOKUP(D195,'Plan Estu Especialidades'!$B$4:$AF$77,17,0)*N195,0))))","v":0},{"$f":"IF(G195=4,VLOOKUP(D195,'Plan Estu Especialidades'!$B$4:$AF$77,28,0),IF(G195=3,VLOOKUP(D195,'Plan Estu Especialidades'!$B$4:$AF$77,23,0),IF(G195=2,VLOOKUP(D195,'Plan Estu Especialidades'!$B$4:$AF$77,18,0),IF(G195=1,VLOOKUP(D195,'Plan Estu Especialidades'!$B$4:$AF$77,18,0)*N195,0))))","v":0},{"$f":"IF(G195=4,VLOOKUP(D195,'Plan Estu Especialidades'!$B$4:$AF$77,29,0),IF(G195=3,VLOOKUP(D195,'Plan Estu Especialidades'!$B$4:$AF$77,24,0),IF(G195=2,VLOOKUP(D195,'Plan Estu Especialidades'!$B$4:$AF$77,19,0),IF(G195=1,VLOOKUP(D195,'Plan Estu Especialidades'!$B$4:$AF$77,19,0)*N195,0))))","v":0},{"$f":"IF(G195=4,VLOOKUP(D195,'Plan Estu Especialidades'!$B$4:$AF$77,30,0),IF(G195=3,VLOOKUP(D195,'Plan Estu Especialidades'!$B$4:$AF$77,25,0),IF(G195=2,VLOOKUP(D195,'Plan Estu Especialidades'!$B$4:$AF$77,20,0),IF(G195=1,VLOOKUP(D195,'Plan Estu Especialidades'!$B$4:$AF$77,20,0)*N195,0))))","v":0},0,0,null,null,null,null,null,0,0,0,null,null,null,null,0,0,0,null,{"$f":"IF(SUM(J195,L195,N195)=0,\"S/V\",VLOOKUP(D195,'Plan Estu Especialidades'!$B$4:$AG$77,32,0))","v":"S/V"},0,0,null,null,null,null,null,null,0,0,0]
[{"$f":"+IF(B196=0,0,SUM($B$62:B196))","v":0},0,92,30,0,0,0,"Diseño Publicitario - Sec.Nocturna","_30",null,null,null,null,null,null,{"$f":"IF(E196=2,VLOOKUP(D196,'Plan Estu Especialidades'!$B$4:$AF$77,3,0),IF(E196=1,VLOOKUP(D196,'Plan Estu Especialidades'!$B$4:$AF$77,3,0)*J196,0))","v":0},{"$f":"IF(E196=2,VLOOKUP(D196,'Plan Estu Especialidades'!$B$4:$AF$77,4,0),IF(E196=1,VLOOKUP(D196,'Plan Estu Especialidades'!$B$4:$AF$77,4,0)*J196,0))","v":0},{"$f":"IF(E196=2,VLOOKUP(D196,'Plan Estu Especialidades'!$B$4:$AF$77,5,0),IF(E196=1,VLOOKUP(D196,'Plan Estu Especialidades'!$B$4:$AF$77,5,0)*J196,0))","v":0},{"$f":"IF(F196=3,VLOOKUP(D196,'Plan Estu Especialidades'!$B$4:$AF$77,12,0),IF(F196=2,VLOOKUP(D196,'Plan Estu Especialidades'!$B$4:$AF$77,7,0),IF(F196=1,VLOOKUP(D196,'Plan Estu Especialidades'!$B$4:$AF$77,7,0)*L196,0)))","v":0},{"$f":"IF(F196=3,VLOOKUP(D196,'Plan Estu Especialidades'!$B$4:$AF$77,13,0),IF(F196=2,VLOOKUP(D196,'Plan Estu Especialidades'!$B$4:$AF$77,8,0),IF(F196=1,VLOOKUP(D196,'Plan Estu Especialidades'!$B$4:$AF$77,8,0)*L196,0)))","v":0},{"$f":"IF(F196=3,VLOOKUP(D196,'Plan Estu Especialidades'!$B$4:$AF$77,14,0),IF(F196=2,VLOOKUP(D196,'Plan Estu Especialidades'!$B$4:$AF$77,9,0),IF(F196=1,VLOOKUP(D196,'Plan Estu Especialidades'!$B$4:$AF$77,9,0)*L196,0)))","v":0},{"$f":"IF(F196=3,VLOOKUP(D196,'Plan Estu Especialidades'!$B$4:$AF$77,15,0),IF(F196=2,VLOOKUP(D196,'Plan Estu Especialidades'!$B$4:$AF$77,10,0),IF(F196=1,VLOOKUP(D196,'Plan Estu Especialidades'!$B$4:$AF$77,10,0)*L196,0)))","v":0},{"$f":"IF(G196=4,VLOOKUP(D196,'Plan Estu Especialidades'!$B$4:$AF$77,27,0),IF(G196=3,VLOOKUP(D196,'Plan Estu Especialidades'!$B$4:$AF$77,22,0),IF(G196=2,VLOOKUP(D196,'Plan Estu Especialidades'!$B$4:$AF$77,17,0),IF(G196=1,VLOOKUP(D196,'Plan Estu Especialidades'!$B$4:$AF$77,17,0)*N196,0))))","v":0},{"$f":"IF(G196=4,VLOOKUP(D196,'Plan Estu Especialidades'!$B$4:$AF$77,28,0),IF(G196=3,VLOOKUP(D196,'Plan Estu Especialidades'!$B$4:$AF$77,23,0),IF(G196=2,VLOOKUP(D196,'Plan Estu Especialidades'!$B$4:$AF$77,18,0),IF(G196=1,VLOOKUP(D196,'Plan Estu Especialidades'!$B$4:$AF$77,18,0)*N196,0))))","v":0},{"$f":"IF(G196=4,VLOOKUP(D196,'Plan Estu Especialidades'!$B$4:$AF$77,29,0),IF(G196=3,VLOOKUP(D196,'Plan Estu Especialidades'!$B$4:$AF$77,24,0),IF(G196=2,VLOOKUP(D196,'Plan Estu Especialidades'!$B$4:$AF$77,19,0),IF(G196=1,VLOOKUP(D196,'Plan Estu Especialidades'!$B$4:$AF$77,19,0)*N196,0))))","v":0},{"$f":"IF(G196=4,VLOOKUP(D196,'Plan Estu Especialidades'!$B$4:$AF$77,30,0),IF(G196=3,VLOOKUP(D196,'Plan Estu Especialidades'!$B$4:$AF$77,25,0),IF(G196=2,VLOOKUP(D196,'Plan Estu Especialidades'!$B$4:$AF$77,20,0),IF(G196=1,VLOOKUP(D196,'Plan Estu Especialidades'!$B$4:$AF$77,20,0)*N196,0))))","v":0},0,0,null,null,null,null,null,0,0,0,null,null,null,null,0,0,0,null,{"$f":"IF(SUM(J196,L196,N196)=0,\"S/V\",VLOOKUP(D196,'Plan Estu Especialidades'!$B$4:$AG$77,32,0))","v":"S/V"},0,0,null,null,null,null,null,null,0,0,0]
[{"$f":"+IF(B197=0,0,SUM($B$62:B197))","v":0},0,92,31,0,0,0,"Diseño y Confección de la moda - Sec.Nocturna","_31",null,null,null,null,null,null,{"$f":"IF(E197=2,VLOOKUP(D197,'Plan Estu Especialidades'!$B$4:$AF$77,3,0),IF(E197=1,VLOOKUP(D197,'Plan Estu Especialidades'!$B$4:$AF$77,3,0)*J197,0))","v":0},{"$f":"IF(E197=2,VLOOKUP(D197,'Plan Estu Especialidades'!$B$4:$AF$77,4,0),IF(E197=1,VLOOKUP(D197,'Plan Estu Especialidades'!$B$4:$AF$77,4,0)*J197,0))","v":0},{"$f":"IF(E197=2,VLOOKUP(D197,'Plan Estu Especialidades'!$B$4:$AF$77,5,0),IF(E197=1,VLOOKUP(D197,'Plan Estu Especialidades'!$B$4:$AF$77,5,0)*J197,0))","v":0},{"$f":"IF(F197=3,VLOOKUP(D197,'Plan Estu Especialidades'!$B$4:$AF$77,12,0),IF(F197=2,VLOOKUP(D197,'Plan Estu Especialidades'!$B$4:$AF$77,7,0),IF(F197=1,VLOOKUP(D197,'Plan Estu Especialidades'!$B$4:$AF$77,7,0)*L197,0)))","v":0},{"$f":"IF(F197=3,VLOOKUP(D197,'Plan Estu Especialidades'!$B$4:$AF$77,13,0),IF(F197=2,VLOOKUP(D197,'Plan Estu Especialidades'!$B$4:$AF$77,8,0),IF(F197=1,VLOOKUP(D197,'Plan Estu Especialidades'!$B$4:$AF$77,8,0)*L197,0)))","v":0},{"$f":"IF(F197=3,VLOOKUP(D197,'Plan Estu Especialidades'!$B$4:$AF$77,14,0),IF(F197=2,VLOOKUP(D197,'Plan Estu Especialidades'!$B$4:$AF$77,9,0),IF(F197=1,VLOOKUP(D197,'Plan Estu Especialidades'!$B$4:$AF$77,9,0)*L197,0)))","v":0},{"$f":"IF(F197=3,VLOOKUP(D197,'Plan Estu Especialidades'!$B$4:$AF$77,15,0),IF(F197=2,VLOOKUP(D197,'Plan Estu Especialidades'!$B$4:$AF$77,10,0),IF(F197=1,VLOOKUP(D197,'Plan Estu Especialidades'!$B$4:$AF$77,10,0)*L197,0)))","v":0},{"$f":"IF(G197=4,VLOOKUP(D197,'Plan Estu Especialidades'!$B$4:$AF$77,27,0),IF(G197=3,VLOOKUP(D197,'Plan Estu Especialidades'!$B$4:$AF$77,22,0),IF(G197=2,VLOOKUP(D197,'Plan Estu Especialidades'!$B$4:$AF$77,17,0),IF(G197=1,VLOOKUP(D197,'Plan Estu Especialidades'!$B$4:$AF$77,17,0)*N197,0))))","v":0},{"$f":"IF(G197=4,VLOOKUP(D197,'Plan Estu Especialidades'!$B$4:$AF$77,28,0),IF(G197=3,VLOOKUP(D197,'Plan Estu Especialidades'!$B$4:$AF$77,23,0),IF(G197=2,VLOOKUP(D197,'Plan Estu Especialidades'!$B$4:$AF$77,18,0),IF(G197=1,VLOOKUP(D197,'Plan Estu Especialidades'!$B$4:$AF$77,18,0)*N197,0))))","v":0},{"$f":"IF(G197=4,VLOOKUP(D197,'Plan Estu Especialidades'!$B$4:$AF$77,29,0),IF(G197=3,VLOOKUP(D197,'Plan Estu Especialidades'!$B$4:$AF$77,24,0),IF(G197=2,VLOOKUP(D197,'Plan Estu Especialidades'!$B$4:$AF$77,19,0),IF(G197=1,VLOOKUP(D197,'Plan Estu Especialidades'!$B$4:$AF$77,19,0)*N197,0))))","v":0},{"$f":"IF(G197=4,VLOOKUP(D197,'Plan Estu Especialidades'!$B$4:$AF$77,30,0),IF(G197=3,VLOOKUP(D197,'Plan Estu Especialidades'!$B$4:$AF$77,25,0),IF(G197=2,VLOOKUP(D197,'Plan Estu Especialidades'!$B$4:$AF$77,20,0),IF(G197=1,VLOOKUP(D197,'Plan Estu Especialidades'!$B$4:$AF$77,20,0)*N197,0))))","v":0},0,0,null,null,null,null,null,0,0,0,null,null,null,null,0,0,0,null,{"$f":"IF(SUM(J197,L197,N197)=0,\"S/V\",VLOOKUP(D197,'Plan Estu Especialidades'!$B$4:$AG$77,32,0))","v":"S/V"},{"$f":"IF(AND(AS197<2,$AT$166>$AU$166),V197+Z197,IF($AT$166=$AU$166,V197+Z197,0))","v":0},0,null,null,null,null,null,null,0,0,0]
[{"$f":"+IF(B198=0,0,SUM($B$62:B198))","v":0},0,92,32,0,0,0,"Diseño y Construcción Muebles y Estructuras - Sec.Nocturna","_32",null,null,null,null,null,null,{"$f":"IF(E198=2,VLOOKUP(D198,'Plan Estu Especialidades'!$B$4:$AF$77,3,0),IF(E198=1,VLOOKUP(D198,'Plan Estu Especialidades'!$B$4:$AF$77,3,0)*J198,0))","v":0},{"$f":"IF(E198=2,VLOOKUP(D198,'Plan Estu Especialidades'!$B$4:$AF$77,4,0),IF(E198=1,VLOOKUP(D198,'Plan Estu Especialidades'!$B$4:$AF$77,4,0)*J198,0))","v":0},{"$f":"IF(E198=2,VLOOKUP(D198,'Plan Estu Especialidades'!$B$4:$AF$77,5,0),IF(E198=1,VLOOKUP(D198,'Plan Estu Especialidades'!$B$4:$AF$77,5,0)*J198,0))","v":0},{"$f":"IF(F198=3,VLOOKUP(D198,'Plan Estu Especialidades'!$B$4:$AF$77,12,0),IF(F198=2,VLOOKUP(D198,'Plan Estu Especialidades'!$B$4:$AF$77,7,0),IF(F198=1,VLOOKUP(D198,'Plan Estu Especialidades'!$B$4:$AF$77,7,0)*L198,0)))","v":0},{"$f":"IF(F198=3,VLOOKUP(D198,'Plan Estu Especialidades'!$B$4:$AF$77,13,0),IF(F198=2,VLOOKUP(D198,'Plan Estu Especialidades'!$B$4:$AF$77,8,0),IF(F198=1,VLOOKUP(D198,'Plan Estu Especialidades'!$B$4:$AF$77,8,0)*L198,0)))","v":0},{"$f":"IF(F198=3,VLOOKUP(D198,'Plan Estu Especialidades'!$B$4:$AF$77,14,0),IF(F198=2,VLOOKUP(D198,'Plan Estu Especialidades'!$B$4:$AF$77,9,0),IF(F198=1,VLOOKUP(D198,'Plan Estu Especialidades'!$B$4:$AF$77,9,0)*L198,0)))","v":0},{"$f":"IF(F198=3,VLOOKUP(D198,'Plan Estu Especialidades'!$B$4:$AF$77,15,0),IF(F198=2,VLOOKUP(D198,'Plan Estu Especialidades'!$B$4:$AF$77,10,0),IF(F198=1,VLOOKUP(D198,'Plan Estu Especialidades'!$B$4:$AF$77,10,0)*L198,0)))","v":0},{"$f":"IF(G198=4,VLOOKUP(D198,'Plan Estu Especialidades'!$B$4:$AF$77,27,0),IF(G198=3,VLOOKUP(D198,'Plan Estu Especialidades'!$B$4:$AF$77,22,0),IF(G198=2,VLOOKUP(D198,'Plan Estu Especialidades'!$B$4:$AF$77,17,0),IF(G198=1,VLOOKUP(D198,'Plan Estu Especialidades'!$B$4:$AF$77,17,0)*N198,0))))","v":0},{"$f":"IF(G198=4,VLOOKUP(D198,'Plan Estu Especialidades'!$B$4:$AF$77,28,0),IF(G198=3,VLOOKUP(D198,'Plan Estu Especialidades'!$B$4:$AF$77,23,0),IF(G198=2,VLOOKUP(D198,'Plan Estu Especialidades'!$B$4:$AF$77,18,0),IF(G198=1,VLOOKUP(D198,'Plan Estu Especialidades'!$B$4:$AF$77,18,0)*N198,0))))","v":0},{"$f":"IF(G198=4,VLOOKUP(D198,'Plan Estu Especialidades'!$B$4:$AF$77,29,0),IF(G198=3,VLOOKUP(D198,'Plan Estu Especialidades'!$B$4:$AF$77,24,0),IF(G198=2,VLOOKUP(D198,'Plan Estu Especialidades'!$B$4:$AF$77,19,0),IF(G198=1,VLOOKUP(D198,'Plan Estu Especialidades'!$B$4:$AF$77,19,0)*N198,0))))","v":0},{"$f":"IF(G198=4,VLOOKUP(D198,'Plan Estu Especialidades'!$B$4:$AF$77,30,0),IF(G198=3,VLOOKUP(D198,'Plan Estu Especialidades'!$B$4:$AF$77,25,0),IF(G198=2,VLOOKUP(D198,'Plan Estu Especialidades'!$B$4:$AF$77,20,0),IF(G198=1,VLOOKUP(D198,'Plan Estu Especialidades'!$B$4:$AF$77,20,0)*N198,0))))","v":0},0,0,null,null,null,null,null,0,0,0,null,null,null,null,0,0,0,null,{"$f":"IF(SUM(J198,L198,N198)=0,\"S/V\",VLOOKUP(D198,'Plan Estu Especialidades'!$B$4:$AG$77,32,0))","v":"S/V"},0,0,null,null,null,null,null,null,0,0,0]
[{"$f":"+IF(B199=0,0,SUM($B$62:B199))","v":0},0,92,33,0,0,0,"Diseño y Desarrollo Digital - Sec.Nocturna","_33",null,null,null,null,null,null,{"$f":"IF(E199=2,VLOOKUP(D199,'Plan Estu Especialidades'!$B$4:$AF$77,3,0),IF(E199=1,VLOOKUP(D199,'Plan Estu Especialidades'!$B$4:$AF$77,3,0)*J199,0))","v":0},{"$f":"IF(E199=2,VLOOKUP(D199,'Plan Estu Especialidades'!$B$4:$AF$77,4,0),IF(E199=1,VLOOKUP(D199,'Plan Estu Especialidades'!$B$4:$AF$77,4,0)*J199,0))","v":0},{"$f":"IF(E199=2,VLOOKUP(D199,'Plan Estu Especialidades'!$B$4:$AF$77,5,0),IF(E199=1,VLOOKUP(D199,'Plan Estu Especialidades'!$B$4:$AF$77,5,0)*J199,0))","v":0},{"$f":"IF(F199=3,VLOOKUP(D199,'Plan Estu Especialidades'!$B$4:$AF$77,12,0),IF(F199=2,VLOOKUP(D199,'Plan Estu Especialidades'!$B$4:$AF$77,7,0),IF(F199=1,VLOOKUP(D199,'Plan Estu Especialidades'!$B$4:$AF$77,7,0)*L199,0)))","v":0},{"$f":"IF(F199=3,VLOOKUP(D199,'Plan Estu Especialidades'!$B$4:$AF$77,13,0),IF(F199=2,VLOOKUP(D199,'Plan Estu Especialidades'!$B$4:$AF$77,8,0),IF(F199=1,VLOOKUP(D199,'Plan Estu Especialidades'!$B$4:$AF$77,8,0)*L199,0)))","v":0},{"$f":"IF(F199=3,VLOOKUP(D199,'Plan Estu Especialidades'!$B$4:$AF$77,14,0),IF(F199=2,VLOOKUP(D199,'Plan Estu Especialidades'!$B$4:$AF$77,9,0),IF(F199=1,VLOOKUP(D199,'Plan Estu Especialidades'!$B$4:$AF$77,9,0)*L199,0)))","v":0},{"$f":"IF(F199=3,VLOOKUP(D199,'Plan Estu Especialidades'!$B$4:$AF$77,15,0),IF(F199=2,VLOOKUP(D199,'Plan Estu Especialidades'!$B$4:$AF$77,10,0),IF(F199=1,VLOOKUP(D199,'Plan Estu Especialidades'!$B$4:$AF$77,10,0)*L199,0)))","v":0},{"$f":"IF(G199=4,VLOOKUP(D199,'Plan Estu Especialidades'!$B$4:$AF$77,27,0),IF(G199=3,VLOOKUP(D199,'Plan Estu Especialidades'!$B$4:$AF$77,22,0),IF(G199=2,VLOOKUP(D199,'Plan Estu Especialidades'!$B$4:$AF$77,17,0),IF(G199=1,VLOOKUP(D199,'Plan Estu Especialidades'!$B$4:$AF$77,17,0)*N199,0))))","v":0},{"$f":"IF(G199=4,VLOOKUP(D199,'Plan Estu Especialidades'!$B$4:$AF$77,28,0),IF(G199=3,VLOOKUP(D199,'Plan Estu Especialidades'!$B$4:$AF$77,23,0),IF(G199=2,VLOOKUP(D199,'Plan Estu Especialidades'!$B$4:$AF$77,18,0),IF(G199=1,VLOOKUP(D199,'Plan Estu Especialidades'!$B$4:$AF$77,18,0)*N199,0))))","v":0},{"$f":"IF(G199=4,VLOOKUP(D199,'Plan Estu Especialidades'!$B$4:$AF$77,29,0),IF(G199=3,VLOOKUP(D199,'Plan Estu Especialidades'!$B$4:$AF$77,24,0),IF(G199=2,VLOOKUP(D199,'Plan Estu Especialidades'!$B$4:$AF$77,19,0),IF(G199=1,VLOOKUP(D199,'Plan Estu Especialidades'!$B$4:$AF$77,19,0)*N199,0))))","v":0},{"$f":"IF(G199=4,VLOOKUP(D199,'Plan Estu Especialidades'!$B$4:$AF$77,30,0),IF(G199=3,VLOOKUP(D199,'Plan Estu Especialidades'!$B$4:$AF$77,25,0),IF(G199=2,VLOOKUP(D199,'Plan Estu Especialidades'!$B$4:$AF$77,20,0),IF(G199=1,VLOOKUP(D199,'Plan Estu Especialidades'!$B$4:$AF$77,20,0)*N199,0))))","v":0},0,0,null,null,null,null,null,0,0,0,null,null,null,null,0,0,0,null,{"$f":"IF(SUM(J199,L199,N199)=0,\"S/V\",VLOOKUP(D199,'Plan Estu Especialidades'!$B$4:$AG$77,32,0))","v":"S/V"},0,0,null,null,null,null,null,null,0,0,0]
[{"$f":"+IF(B200=0,0,SUM($B$62:B200))","v":0},{"$f":"+IF(AA200>0,1,0)","v":0},92,34,0,0,0,"Ecoturismo - Sec.Nocturna","_34",null,null,null,null,null,null,{"$f":"IF(E200=2,VLOOKUP(D200,'Plan Estu Especialidades'!$B$4:$AF$77,3,0),IF(E200=1,VLOOKUP(D200,'Plan Estu Especialidades'!$B$4:$AF$77,3,0)*J200,0))","v":0},{"$f":"IF(E200=2,VLOOKUP(D200,'Plan Estu Especialidades'!$B$4:$AF$77,4,0),IF(E200=1,VLOOKUP(D200,'Plan Estu Especialidades'!$B$4:$AF$77,4,0)*J200,0))","v":0},{"$f":"IF(E200=2,VLOOKUP(D200,'Plan Estu Especialidades'!$B$4:$AF$77,5,0),IF(E200=1,VLOOKUP(D200,'Plan Estu Especialidades'!$B$4:$AF$77,5,0)*J200,0))","v":0},{"$f":"IF(F200=3,VLOOKUP(D200,'Plan Estu Especialidades'!$B$4:$AF$77,12,0),IF(F200=2,VLOOKUP(D200,'Plan Estu Especialidades'!$B$4:$AF$77,7,0),IF(F200=1,VLOOKUP(D200,'Plan Estu Especialidades'!$B$4:$AF$77,7,0)*L200,0)))","v":0},{"$f":"IF(F200=3,VLOOKUP(D200,'Plan Estu Especialidades'!$B$4:$AF$77,13,0),IF(F200=2,VLOOKUP(D200,'Plan Estu Especialidades'!$B$4:$AF$77,8,0),IF(F200=1,VLOOKUP(D200,'Plan Estu Especialidades'!$B$4:$AF$77,8,0)*L200,0)))","v":0},{"$f":"IF(F200=3,VLOOKUP(D200,'Plan Estu Especialidades'!$B$4:$AF$77,14,0),IF(F200=2,VLOOKUP(D200,'Plan Estu Especialidades'!$B$4:$AF$77,9,0),IF(F200=1,VLOOKUP(D200,'Plan Estu Especialidades'!$B$4:$AF$77,9,0)*L200,0)))","v":0},{"$f":"IF(F200=3,VLOOKUP(D200,'Plan Estu Especialidades'!$B$4:$AF$77,15,0),IF(F200=2,VLOOKUP(D200,'Plan Estu Especialidades'!$B$4:$AF$77,10,0),IF(F200=1,VLOOKUP(D200,'Plan Estu Especialidades'!$B$4:$AF$77,10,0)*L200,0)))","v":0},{"$f":"IF(G200=4,VLOOKUP(D200,'Plan Estu Especialidades'!$B$4:$AF$77,27,0),IF(G200=3,VLOOKUP(D200,'Plan Estu Especialidades'!$B$4:$AF$77,22,0),IF(G200=2,VLOOKUP(D200,'Plan Estu Especialidades'!$B$4:$AF$77,17,0),IF(G200=1,VLOOKUP(D200,'Plan Estu Especialidades'!$B$4:$AF$77,17,0)*N200,0))))","v":0},{"$f":"IF(G200=4,VLOOKUP(D200,'Plan Estu Especialidades'!$B$4:$AF$77,28,0),IF(G200=3,VLOOKUP(D200,'Plan Estu Especialidades'!$B$4:$AF$77,23,0),IF(G200=2,VLOOKUP(D200,'Plan Estu Especialidades'!$B$4:$AF$77,18,0),IF(G200=1,VLOOKUP(D200,'Plan Estu Especialidades'!$B$4:$AF$77,18,0)*N200,0))))","v":0},{"$f":"IF(G200=4,VLOOKUP(D200,'Plan Estu Especialidades'!$B$4:$AF$77,29,0),IF(G200=3,VLOOKUP(D200,'Plan Estu Especialidades'!$B$4:$AF$77,24,0),IF(G200=2,VLOOKUP(D200,'Plan Estu Especialidades'!$B$4:$AF$77,19,0),IF(G200=1,VLOOKUP(D200,'Plan Estu Especialidades'!$B$4:$AF$77,19,0)*N200,0))))","v":0},{"$f":"IF(G200=4,VLOOKUP(D200,'Plan Estu Especialidades'!$B$4:$AF$77,30,0),IF(G200=3,VLOOKUP(D200,'Plan Estu Especialidades'!$B$4:$AF$77,25,0),IF(G200=2,VLOOKUP(D200,'Plan Estu Especialidades'!$B$4:$AF$77,20,0),IF(G200=1,VLOOKUP(D200,'Plan Estu Especialidades'!$B$4:$AF$77,20,0)*N200,0))))","v":0},0,0,null,null,null,null,null,0,0,0,null,null,null,null,0,0,0,null,{"$f":"IF(SUM(J200,L200,N200)=0,\"S/V\",VLOOKUP(D200,'Plan Estu Especialidades'!$B$4:$AG$77,32,0))","v":"S/V"},0,0,null,null,null,null,null,null,0,0,0]
[{"$f":"+IF(B201=0,0,SUM($B$62:B201))","v":0},0,92,35,0,0,0,"Ejecutivo Comercial y Servicio al Cliente - Sec.Nocturna","_35",null,null,null,null,null,null,{"$f":"IF(E201=2,VLOOKUP(D201,'Plan Estu Especialidades'!$B$4:$AF$77,3,0),IF(E201=1,VLOOKUP(D201,'Plan Estu Especialidades'!$B$4:$AF$77,3,0)*J201,0))","v":0},{"$f":"IF(E201=2,VLOOKUP(D201,'Plan Estu Especialidades'!$B$4:$AF$77,4,0),IF(E201=1,VLOOKUP(D201,'Plan Estu Especialidades'!$B$4:$AF$77,4,0)*J201,0))","v":0},{"$f":"IF(E201=2,VLOOKUP(D201,'Plan Estu Especialidades'!$B$4:$AF$77,5,0),IF(E201=1,VLOOKUP(D201,'Plan Estu Especialidades'!$B$4:$AF$77,5,0)*J201,0))","v":0},{"$f":"IF(F201=3,VLOOKUP(D201,'Plan Estu Especialidades'!$B$4:$AF$77,12,0),IF(F201=2,VLOOKUP(D201,'Plan Estu Especialidades'!$B$4:$AF$77,7,0),IF(F201=1,VLOOKUP(D201,'Plan Estu Especialidades'!$B$4:$AF$77,7,0)*L201,0)))","v":0},{"$f":"IF(F201=3,VLOOKUP(D201,'Plan Estu Especialidades'!$B$4:$AF$77,13,0),IF(F201=2,VLOOKUP(D201,'Plan Estu Especialidades'!$B$4:$AF$77,8,0),IF(F201=1,VLOOKUP(D201,'Plan Estu Especialidades'!$B$4:$AF$77,8,0)*L201,0)))","v":0},{"$f":"IF(F201=3,VLOOKUP(D201,'Plan Estu Especialidades'!$B$4:$AF$77,14,0),IF(F201=2,VLOOKUP(D201,'Plan Estu Especialidades'!$B$4:$AF$77,9,0),IF(F201=1,VLOOKUP(D201,'Plan Estu Especialidades'!$B$4:$AF$77,9,0)*L201,0)))","v":0},{"$f":"IF(F201=3,VLOOKUP(D201,'Plan Estu Especialidades'!$B$4:$AF$77,15,0),IF(F201=2,VLOOKUP(D201,'Plan Estu Especialidades'!$B$4:$AF$77,10,0),IF(F201=1,VLOOKUP(D201,'Plan Estu Especialidades'!$B$4:$AF$77,10,0)*L201,0)))","v":0},{"$f":"IF(G201=4,VLOOKUP(D201,'Plan Estu Especialidades'!$B$4:$AF$77,27,0),IF(G201=3,VLOOKUP(D201,'Plan Estu Especialidades'!$B$4:$AF$77,22,0),IF(G201=2,VLOOKUP(D201,'Plan Estu Especialidades'!$B$4:$AF$77,17,0),IF(G201=1,VLOOKUP(D201,'Plan Estu Especialidades'!$B$4:$AF$77,17,0)*N201,0))))","v":0},{"$f":"IF(G201=4,VLOOKUP(D201,'Plan Estu Especialidades'!$B$4:$AF$77,28,0),IF(G201=3,VLOOKUP(D201,'Plan Estu Especialidades'!$B$4:$AF$77,23,0),IF(G201=2,VLOOKUP(D201,'Plan Estu Especialidades'!$B$4:$AF$77,18,0),IF(G201=1,VLOOKUP(D201,'Plan Estu Especialidades'!$B$4:$AF$77,18,0)*N201,0))))","v":0},{"$f":"IF(G201=4,VLOOKUP(D201,'Plan Estu Especialidades'!$B$4:$AF$77,29,0),IF(G201=3,VLOOKUP(D201,'Plan Estu Especialidades'!$B$4:$AF$77,24,0),IF(G201=2,VLOOKUP(D201,'Plan Estu Especialidades'!$B$4:$AF$77,19,0),IF(G201=1,VLOOKUP(D201,'Plan Estu Especialidades'!$B$4:$AF$77,19,0)*N201,0))))","v":0},{"$f":"IF(G201=4,VLOOKUP(D201,'Plan Estu Especialidades'!$B$4:$AF$77,30,0),IF(G201=3,VLOOKUP(D201,'Plan Estu Especialidades'!$B$4:$AF$77,25,0),IF(G201=2,VLOOKUP(D201,'Plan Estu Especialidades'!$B$4:$AF$77,20,0),IF(G201=1,VLOOKUP(D201,'Plan Estu Especialidades'!$B$4:$AF$77,20,0)*N201,0))))","v":0},0,0,null,null,null,null,null,0,0,0,null,null,null,null,0,0,0,null,{"$f":"IF(SUM(J201,L201,N201)=0,\"S/V\",VLOOKUP(D201,'Plan Estu Especialidades'!$B$4:$AG$77,32,0))","v":"S/V"},0,0,null,null,null,null,null,null,0,0,0]
[{"$f":"+IF(B202=0,0,SUM($B$62:B202))","v":0},0,92,36,0,0,0,"Ejecutivo para Centros de Servicio - Sec.Nocturna","_36",null,null,null,null,null,null,{"$f":"IF(E202=2,VLOOKUP(D202,'Plan Estu Especialidades'!$B$4:$AF$77,3,0),IF(E202=1,VLOOKUP(D202,'Plan Estu Especialidades'!$B$4:$AF$77,3,0)*J202,0))","v":0},{"$f":"IF(E202=2,VLOOKUP(D202,'Plan Estu Especialidades'!$B$4:$AF$77,4,0),IF(E202=1,VLOOKUP(D202,'Plan Estu Especialidades'!$B$4:$AF$77,4,0)*J202,0))","v":0},{"$f":"IF(E202=2,VLOOKUP(D202,'Plan Estu Especialidades'!$B$4:$AF$77,5,0),IF(E202=1,VLOOKUP(D202,'Plan Estu Especialidades'!$B$4:$AF$77,5,0)*J202,0))","v":0},{"$f":"IF(F202=3,VLOOKUP(D202,'Plan Estu Especialidades'!$B$4:$AF$77,12,0),IF(F202=2,VLOOKUP(D202,'Plan Estu Especialidades'!$B$4:$AF$77,7,0),IF(F202=1,VLOOKUP(D202,'Plan Estu Especialidades'!$B$4:$AF$77,7,0)*L202,0)))","v":0},{"$f":"IF(F202=3,VLOOKUP(D202,'Plan Estu Especialidades'!$B$4:$AF$77,13,0),IF(F202=2,VLOOKUP(D202,'Plan Estu Especialidades'!$B$4:$AF$77,8,0),IF(F202=1,VLOOKUP(D202,'Plan Estu Especialidades'!$B$4:$AF$77,8,0)*L202,0)))","v":0},{"$f":"IF(F202=3,VLOOKUP(D202,'Plan Estu Especialidades'!$B$4:$AF$77,14,0),IF(F202=2,VLOOKUP(D202,'Plan Estu Especialidades'!$B$4:$AF$77,9,0),IF(F202=1,VLOOKUP(D202,'Plan Estu Especialidades'!$B$4:$AF$77,9,0)*L202,0)))","v":0},{"$f":"IF(F202=3,VLOOKUP(D202,'Plan Estu Especialidades'!$B$4:$AF$77,15,0),IF(F202=2,VLOOKUP(D202,'Plan Estu Especialidades'!$B$4:$AF$77,10,0),IF(F202=1,VLOOKUP(D202,'Plan Estu Especialidades'!$B$4:$AF$77,10,0)*L202,0)))","v":0},{"$f":"IF(G202=4,VLOOKUP(D202,'Plan Estu Especialidades'!$B$4:$AF$77,27,0),IF(G202=3,VLOOKUP(D202,'Plan Estu Especialidades'!$B$4:$AF$77,22,0),IF(G202=2,VLOOKUP(D202,'Plan Estu Especialidades'!$B$4:$AF$77,17,0),IF(G202=1,VLOOKUP(D202,'Plan Estu Especialidades'!$B$4:$AF$77,17,0)*N202,0))))","v":0},{"$f":"IF(G202=4,VLOOKUP(D202,'Plan Estu Especialidades'!$B$4:$AF$77,28,0),IF(G202=3,VLOOKUP(D202,'Plan Estu Especialidades'!$B$4:$AF$77,23,0),IF(G202=2,VLOOKUP(D202,'Plan Estu Especialidades'!$B$4:$AF$77,18,0),IF(G202=1,VLOOKUP(D202,'Plan Estu Especialidades'!$B$4:$AF$77,18,0)*N202,0))))","v":0},{"$f":"IF(G202=4,VLOOKUP(D202,'Plan Estu Especialidades'!$B$4:$AF$77,29,0),IF(G202=3,VLOOKUP(D202,'Plan Estu Especialidades'!$B$4:$AF$77,24,0),IF(G202=2,VLOOKUP(D202,'Plan Estu Especialidades'!$B$4:$AF$77,19,0),IF(G202=1,VLOOKUP(D202,'Plan Estu Especialidades'!$B$4:$AF$77,19,0)*N202,0))))","v":0},{"$f":"IF(G202=4,VLOOKUP(D202,'Plan Estu Especialidades'!$B$4:$AF$77,30,0),IF(G202=3,VLOOKUP(D202,'Plan Estu Especialidades'!$B$4:$AF$77,25,0),IF(G202=2,VLOOKUP(D202,'Plan Estu Especialidades'!$B$4:$AF$77,20,0),IF(G202=1,VLOOKUP(D202,'Plan Estu Especialidades'!$B$4:$AF$77,20,0)*N202,0))))","v":0},0,0,null,null,null,null,null,0,0,0,null,null,null,null,0,0,0,null,{"$f":"IF(SUM(J202,L202,N202)=0,\"S/V\",VLOOKUP(D202,'Plan Estu Especialidades'!$B$4:$AG$77,32,0))","v":"S/V"},0,0,null,null,null,null,null,null,0,0,0]
[{"$f":"+IF(B203=0,0,SUM($B$62:B203))","v":0},0,92,37,0,0,0,"Electromecánica - Sec.Nocturna","_37",null,null,null,null,null,null,{"$f":"IF(E203=2,VLOOKUP(D203,'Plan Estu Especialidades'!$B$4:$AF$77,3,0),IF(E203=1,VLOOKUP(D203,'Plan Estu Especialidades'!$B$4:$AF$77,3,0)*J203,0))","v":0},{"$f":"IF(E203=2,VLOOKUP(D203,'Plan Estu Especialidades'!$B$4:$AF$77,4,0),IF(E203=1,VLOOKUP(D203,'Plan Estu Especialidades'!$B$4:$AF$77,4,0)*J203,0))","v":0},{"$f":"IF(E203=2,VLOOKUP(D203,'Plan Estu Especialidades'!$B$4:$AF$77,5,0),IF(E203=1,VLOOKUP(D203,'Plan Estu Especialidades'!$B$4:$AF$77,5,0)*J203,0))","v":0},{"$f":"IF(F203=3,VLOOKUP(D203,'Plan Estu Especialidades'!$B$4:$AF$77,12,0),IF(F203=2,VLOOKUP(D203,'Plan Estu Especialidades'!$B$4:$AF$77,7,0),IF(F203=1,VLOOKUP(D203,'Plan Estu Especialidades'!$B$4:$AF$77,7,0)*L203,0)))","v":0},{"$f":"IF(F203=3,VLOOKUP(D203,'Plan Estu Especialidades'!$B$4:$AF$77,13,0),IF(F203=2,VLOOKUP(D203,'Plan Estu Especialidades'!$B$4:$AF$77,8,0),IF(F203=1,VLOOKUP(D203,'Plan Estu Especialidades'!$B$4:$AF$77,8,0)*L203,0)))","v":0},{"$f":"IF(F203=3,VLOOKUP(D203,'Plan Estu Especialidades'!$B$4:$AF$77,14,0),IF(F203=2,VLOOKUP(D203,'Plan Estu Especialidades'!$B$4:$AF$77,9,0),IF(F203=1,VLOOKUP(D203,'Plan Estu Especialidades'!$B$4:$AF$77,9,0)*L203,0)))","v":0},{"$f":"IF(F203=3,VLOOKUP(D203,'Plan Estu Especialidades'!$B$4:$AF$77,15,0),IF(F203=2,VLOOKUP(D203,'Plan Estu Especialidades'!$B$4:$AF$77,10,0),IF(F203=1,VLOOKUP(D203,'Plan Estu Especialidades'!$B$4:$AF$77,10,0)*L203,0)))","v":0},{"$f":"IF(G203=4,VLOOKUP(D203,'Plan Estu Especialidades'!$B$4:$AF$77,27,0),IF(G203=3,VLOOKUP(D203,'Plan Estu Especialidades'!$B$4:$AF$77,22,0),IF(G203=2,VLOOKUP(D203,'Plan Estu Especialidades'!$B$4:$AF$77,17,0),IF(G203=1,VLOOKUP(D203,'Plan Estu Especialidades'!$B$4:$AF$77,17,0)*N203,0))))","v":0},{"$f":"IF(G203=4,VLOOKUP(D203,'Plan Estu Especialidades'!$B$4:$AF$77,28,0),IF(G203=3,VLOOKUP(D203,'Plan Estu Especialidades'!$B$4:$AF$77,23,0),IF(G203=2,VLOOKUP(D203,'Plan Estu Especialidades'!$B$4:$AF$77,18,0),IF(G203=1,VLOOKUP(D203,'Plan Estu Especialidades'!$B$4:$AF$77,18,0)*N203,0))))","v":0},{"$f":"IF(G203=4,VLOOKUP(D203,'Plan Estu Especialidades'!$B$4:$AF$77,29,0),IF(G203=3,VLOOKUP(D203,'Plan Estu Especialidades'!$B$4:$AF$77,24,0),IF(G203=2,VLOOKUP(D203,'Plan Estu Especialidades'!$B$4:$AF$77,19,0),IF(G203=1,VLOOKUP(D203,'Plan Estu Especialidades'!$B$4:$AF$77,19,0)*N203,0))))","v":0},{"$f":"IF(G203=4,VLOOKUP(D203,'Plan Estu Especialidades'!$B$4:$AF$77,30,0),IF(G203=3,VLOOKUP(D203,'Plan Estu Especialidades'!$B$4:$AF$77,25,0),IF(G203=2,VLOOKUP(D203,'Plan Estu Especialidades'!$B$4:$AF$77,20,0),IF(G203=1,VLOOKUP(D203,'Plan Estu Especialidades'!$B$4:$AF$77,20,0)*N203,0))))","v":0},0,0,null,null,null,null,null,0,0,0,null,null,null,null,0,0,0,null,{"$f":"IF(SUM(J203,L203,N203)=0,\"S/V\",VLOOKUP(D203,'Plan Estu Especialidades'!$B$4:$AG$77,32,0))","v":"S/V"},0,0,null,null,null,null,null,null,0,0,0]
[{"$f":"+IF(B204=0,0,SUM($B$62:B204))","v":0},0,92,38,0,0,0,"Electrónica en Mantenimiento y Eq. Cómputo - Sec.Nocturna","_38",null,null,null,null,null,null,{"$f":"IF(E204=2,VLOOKUP(D204,'Plan Estu Especialidades'!$B$4:$AF$77,3,0),IF(E204=1,VLOOKUP(D204,'Plan Estu Especialidades'!$B$4:$AF$77,3,0)*J204,0))","v":0},{"$f":"IF(E204=2,VLOOKUP(D204,'Plan Estu Especialidades'!$B$4:$AF$77,4,0),IF(E204=1,VLOOKUP(D204,'Plan Estu Especialidades'!$B$4:$AF$77,4,0)*J204,0))","v":0},{"$f":"IF(E204=2,VLOOKUP(D204,'Plan Estu Especialidades'!$B$4:$AF$77,5,0),IF(E204=1,VLOOKUP(D204,'Plan Estu Especialidades'!$B$4:$AF$77,5,0)*J204,0))","v":0},{"$f":"IF(F204=3,VLOOKUP(D204,'Plan Estu Especialidades'!$B$4:$AF$77,12,0),IF(F204=2,VLOOKUP(D204,'Plan Estu Especialidades'!$B$4:$AF$77,7,0),IF(F204=1,VLOOKUP(D204,'Plan Estu Especialidades'!$B$4:$AF$77,7,0)*L204,0)))","v":0},{"$f":"IF(F204=3,VLOOKUP(D204,'Plan Estu Especialidades'!$B$4:$AF$77,13,0),IF(F204=2,VLOOKUP(D204,'Plan Estu Especialidades'!$B$4:$AF$77,8,0),IF(F204=1,VLOOKUP(D204,'Plan Estu Especialidades'!$B$4:$AF$77,8,0)*L204,0)))","v":0},{"$f":"IF(F204=3,VLOOKUP(D204,'Plan Estu Especialidades'!$B$4:$AF$77,14,0),IF(F204=2,VLOOKUP(D204,'Plan Estu Especialidades'!$B$4:$AF$77,9,0),IF(F204=1,VLOOKUP(D204,'Plan Estu Especialidades'!$B$4:$AF$77,9,0)*L204,0)))","v":0},{"$f":"IF(F204=3,VLOOKUP(D204,'Plan Estu Especialidades'!$B$4:$AF$77,15,0),IF(F204=2,VLOOKUP(D204,'Plan Estu Especialidades'!$B$4:$AF$77,10,0),IF(F204=1,VLOOKUP(D204,'Plan Estu Especialidades'!$B$4:$AF$77,10,0)*L204,0)))","v":0},{"$f":"IF(G204=4,VLOOKUP(D204,'Plan Estu Especialidades'!$B$4:$AF$77,27,0),IF(G204=3,VLOOKUP(D204,'Plan Estu Especialidades'!$B$4:$AF$77,22,0),IF(G204=2,VLOOKUP(D204,'Plan Estu Especialidades'!$B$4:$AF$77,17,0),IF(G204=1,VLOOKUP(D204,'Plan Estu Especialidades'!$B$4:$AF$77,17,0)*N204,0))))","v":0},{"$f":"IF(G204=4,VLOOKUP(D204,'Plan Estu Especialidades'!$B$4:$AF$77,28,0),IF(G204=3,VLOOKUP(D204,'Plan Estu Especialidades'!$B$4:$AF$77,23,0),IF(G204=2,VLOOKUP(D204,'Plan Estu Especialidades'!$B$4:$AF$77,18,0),IF(G204=1,VLOOKUP(D204,'Plan Estu Especialidades'!$B$4:$AF$77,18,0)*N204,0))))","v":0},{"$f":"IF(G204=4,VLOOKUP(D204,'Plan Estu Especialidades'!$B$4:$AF$77,29,0),IF(G204=3,VLOOKUP(D204,'Plan Estu Especialidades'!$B$4:$AF$77,24,0),IF(G204=2,VLOOKUP(D204,'Plan Estu Especialidades'!$B$4:$AF$77,19,0),IF(G204=1,VLOOKUP(D204,'Plan Estu Especialidades'!$B$4:$AF$77,19,0)*N204,0))))","v":0},{"$f":"IF(G204=4,VLOOKUP(D204,'Plan Estu Especialidades'!$B$4:$AF$77,30,0),IF(G204=3,VLOOKUP(D204,'Plan Estu Especialidades'!$B$4:$AF$77,25,0),IF(G204=2,VLOOKUP(D204,'Plan Estu Especialidades'!$B$4:$AF$77,20,0),IF(G204=1,VLOOKUP(D204,'Plan Estu Especialidades'!$B$4:$AF$77,20,0)*N204,0))))","v":0},0,0,null,null,null,null,null,0,0,0,null,null,null,null,0,0,0,null,{"$f":"IF(SUM(J204,L204,N204)=0,\"S/V\",VLOOKUP(D204,'Plan Estu Especialidades'!$B$4:$AG$77,32,0))","v":"S/V"},0,0,null,null,null,null,null,null,0,0,0]
[{"$f":"+IF(B205=0,0,SUM($B$62:B205))","v":0},0,92,39,0,0,0,"Electrónica en Telecomunicaciones - Sec.Nocturna","_39",null,null,null,null,null,null,{"$f":"IF(E205=2,VLOOKUP(D205,'Plan Estu Especialidades'!$B$4:$AF$77,3,0),IF(E205=1,VLOOKUP(D205,'Plan Estu Especialidades'!$B$4:$AF$77,3,0)*J205,0))","v":0},{"$f":"IF(E205=2,VLOOKUP(D205,'Plan Estu Especialidades'!$B$4:$AF$77,4,0),IF(E205=1,VLOOKUP(D205,'Plan Estu Especialidades'!$B$4:$AF$77,4,0)*J205,0))","v":0},{"$f":"IF(E205=2,VLOOKUP(D205,'Plan Estu Especialidades'!$B$4:$AF$77,5,0),IF(E205=1,VLOOKUP(D205,'Plan Estu Especialidades'!$B$4:$AF$77,5,0)*J205,0))","v":0},{"$f":"IF(F205=3,VLOOKUP(D205,'Plan Estu Especialidades'!$B$4:$AF$77,12,0),IF(F205=2,VLOOKUP(D205,'Plan Estu Especialidades'!$B$4:$AF$77,7,0),IF(F205=1,VLOOKUP(D205,'Plan Estu Especialidades'!$B$4:$AF$77,7,0)*L205,0)))","v":0},{"$f":"IF(F205=3,VLOOKUP(D205,'Plan Estu Especialidades'!$B$4:$AF$77,13,0),IF(F205=2,VLOOKUP(D205,'Plan Estu Especialidades'!$B$4:$AF$77,8,0),IF(F205=1,VLOOKUP(D205,'Plan Estu Especialidades'!$B$4:$AF$77,8,0)*L205,0)))","v":0},{"$f":"IF(F205=3,VLOOKUP(D205,'Plan Estu Especialidades'!$B$4:$AF$77,14,0),IF(F205=2,VLOOKUP(D205,'Plan Estu Especialidades'!$B$4:$AF$77,9,0),IF(F205=1,VLOOKUP(D205,'Plan Estu Especialidades'!$B$4:$AF$77,9,0)*L205,0)))","v":0},{"$f":"IF(F205=3,VLOOKUP(D205,'Plan Estu Especialidades'!$B$4:$AF$77,15,0),IF(F205=2,VLOOKUP(D205,'Plan Estu Especialidades'!$B$4:$AF$77,10,0),IF(F205=1,VLOOKUP(D205,'Plan Estu Especialidades'!$B$4:$AF$77,10,0)*L205,0)))","v":0},{"$f":"IF(G205=4,VLOOKUP(D205,'Plan Estu Especialidades'!$B$4:$AF$77,27,0),IF(G205=3,VLOOKUP(D205,'Plan Estu Especialidades'!$B$4:$AF$77,22,0),IF(G205=2,VLOOKUP(D205,'Plan Estu Especialidades'!$B$4:$AF$77,17,0),IF(G205=1,VLOOKUP(D205,'Plan Estu Especialidades'!$B$4:$AF$77,17,0)*N205,0))))","v":0},{"$f":"IF(G205=4,VLOOKUP(D205,'Plan Estu Especialidades'!$B$4:$AF$77,28,0),IF(G205=3,VLOOKUP(D205,'Plan Estu Especialidades'!$B$4:$AF$77,23,0),IF(G205=2,VLOOKUP(D205,'Plan Estu Especialidades'!$B$4:$AF$77,18,0),IF(G205=1,VLOOKUP(D205,'Plan Estu Especialidades'!$B$4:$AF$77,18,0)*N205,0))))","v":0},{"$f":"IF(G205=4,VLOOKUP(D205,'Plan Estu Especialidades'!$B$4:$AF$77,29,0),IF(G205=3,VLOOKUP(D205,'Plan Estu Especialidades'!$B$4:$AF$77,24,0),IF(G205=2,VLOOKUP(D205,'Plan Estu Especialidades'!$B$4:$AF$77,19,0),IF(G205=1,VLOOKUP(D205,'Plan Estu Especialidades'!$B$4:$AF$77,19,0)*N205,0))))","v":0},{"$f":"IF(G205=4,VLOOKUP(D205,'Plan Estu Especialidades'!$B$4:$AF$77,30,0),IF(G205=3,VLOOKUP(D205,'Plan Estu Especialidades'!$B$4:$AF$77,25,0),IF(G205=2,VLOOKUP(D205,'Plan Estu Especialidades'!$B$4:$AF$77,20,0),IF(G205=1,VLOOKUP(D205,'Plan Estu Especialidades'!$B$4:$AF$77,20,0)*N205,0))))","v":0},0,0,null,null,null,null,null,0,0,0,null,null,null,null,0,0,0,null,{"$f":"IF(SUM(J205,L205,N205)=0,\"S/V\",VLOOKUP(D205,'Plan Estu Especialidades'!$B$4:$AG$77,32,0))","v":"S/V"},0,0,null,null,null,null,null,null,0,0,0]
[{"$f":"+IF(B206=0,0,SUM($B$62:B206))","v":0},0,92,40,0,0,0,"Electrónica Industrial - Sec.Nocturna","_40",null,null,null,null,null,null,{"$f":"IF(E206=2,VLOOKUP(D206,'Plan Estu Especialidades'!$B$4:$AF$77,3,0),IF(E206=1,VLOOKUP(D206,'Plan Estu Especialidades'!$B$4:$AF$77,3,0)*J206,0))","v":0},{"$f":"IF(E206=2,VLOOKUP(D206,'Plan Estu Especialidades'!$B$4:$AF$77,4,0),IF(E206=1,VLOOKUP(D206,'Plan Estu Especialidades'!$B$4:$AF$77,4,0)*J206,0))","v":0},{"$f":"IF(E206=2,VLOOKUP(D206,'Plan Estu Especialidades'!$B$4:$AF$77,5,0),IF(E206=1,VLOOKUP(D206,'Plan Estu Especialidades'!$B$4:$AF$77,5,0)*J206,0))","v":0},{"$f":"IF(F206=3,VLOOKUP(D206,'Plan Estu Especialidades'!$B$4:$AF$77,12,0),IF(F206=2,VLOOKUP(D206,'Plan Estu Especialidades'!$B$4:$AF$77,7,0),IF(F206=1,VLOOKUP(D206,'Plan Estu Especialidades'!$B$4:$AF$77,7,0)*L206,0)))","v":0},{"$f":"IF(F206=3,VLOOKUP(D206,'Plan Estu Especialidades'!$B$4:$AF$77,13,0),IF(F206=2,VLOOKUP(D206,'Plan Estu Especialidades'!$B$4:$AF$77,8,0),IF(F206=1,VLOOKUP(D206,'Plan Estu Especialidades'!$B$4:$AF$77,8,0)*L206,0)))","v":0},{"$f":"IF(F206=3,VLOOKUP(D206,'Plan Estu Especialidades'!$B$4:$AF$77,14,0),IF(F206=2,VLOOKUP(D206,'Plan Estu Especialidades'!$B$4:$AF$77,9,0),IF(F206=1,VLOOKUP(D206,'Plan Estu Especialidades'!$B$4:$AF$77,9,0)*L206,0)))","v":0},{"$f":"IF(F206=3,VLOOKUP(D206,'Plan Estu Especialidades'!$B$4:$AF$77,15,0),IF(F206=2,VLOOKUP(D206,'Plan Estu Especialidades'!$B$4:$AF$77,10,0),IF(F206=1,VLOOKUP(D206,'Plan Estu Especialidades'!$B$4:$AF$77,10,0)*L206,0)))","v":0},{"$f":"IF(G206=4,VLOOKUP(D206,'Plan Estu Especialidades'!$B$4:$AF$77,27,0),IF(G206=3,VLOOKUP(D206,'Plan Estu Especialidades'!$B$4:$AF$77,22,0),IF(G206=2,VLOOKUP(D206,'Plan Estu Especialidades'!$B$4:$AF$77,17,0),IF(G206=1,VLOOKUP(D206,'Plan Estu Especialidades'!$B$4:$AF$77,17,0)*N206,0))))","v":0},{"$f":"IF(G206=4,VLOOKUP(D206,'Plan Estu Especialidades'!$B$4:$AF$77,28,0),IF(G206=3,VLOOKUP(D206,'Plan Estu Especialidades'!$B$4:$AF$77,23,0),IF(G206=2,VLOOKUP(D206,'Plan Estu Especialidades'!$B$4:$AF$77,18,0),IF(G206=1,VLOOKUP(D206,'Plan Estu Especialidades'!$B$4:$AF$77,18,0)*N206,0))))","v":0},{"$f":"IF(G206=4,VLOOKUP(D206,'Plan Estu Especialidades'!$B$4:$AF$77,29,0),IF(G206=3,VLOOKUP(D206,'Plan Estu Especialidades'!$B$4:$AF$77,24,0),IF(G206=2,VLOOKUP(D206,'Plan Estu Especialidades'!$B$4:$AF$77,19,0),IF(G206=1,VLOOKUP(D206,'Plan Estu Especialidades'!$B$4:$AF$77,19,0)*N206,0))))","v":0},{"$f":"IF(G206=4,VLOOKUP(D206,'Plan Estu Especialidades'!$B$4:$AF$77,30,0),IF(G206=3,VLOOKUP(D206,'Plan Estu Especialidades'!$B$4:$AF$77,25,0),IF(G206=2,VLOOKUP(D206,'Plan Estu Especialidades'!$B$4:$AF$77,20,0),IF(G206=1,VLOOKUP(D206,'Plan Estu Especialidades'!$B$4:$AF$77,20,0)*N206,0))))","v":0},0,0,null,null,null,null,null,0,0,0,null,null,null,null,0,0,0,null,{"$f":"IF(SUM(J206,L206,N206)=0,\"S/V\",VLOOKUP(D206,'Plan Estu Especialidades'!$B$4:$AG$77,32,0))","v":"S/V"},0,0,null,null,null,null,null,null,0,0,0]
[{"$f":"+IF(B207=0,0,SUM($B$62:B207))","v":0},0,92,41,0,0,0,"Electrotecnia - Sec.Nocturna","_41",null,null,null,null,null,null,{"$f":"IF(E207=2,VLOOKUP(D207,'Plan Estu Especialidades'!$B$4:$AF$77,3,0),IF(E207=1,VLOOKUP(D207,'Plan Estu Especialidades'!$B$4:$AF$77,3,0)*J207,0))","v":0},{"$f":"IF(E207=2,VLOOKUP(D207,'Plan Estu Especialidades'!$B$4:$AF$77,4,0),IF(E207=1,VLOOKUP(D207,'Plan Estu Especialidades'!$B$4:$AF$77,4,0)*J207,0))","v":0},{"$f":"IF(E207=2,VLOOKUP(D207,'Plan Estu Especialidades'!$B$4:$AF$77,5,0),IF(E207=1,VLOOKUP(D207,'Plan Estu Especialidades'!$B$4:$AF$77,5,0)*J207,0))","v":0},{"$f":"IF(F207=3,VLOOKUP(D207,'Plan Estu Especialidades'!$B$4:$AF$77,12,0),IF(F207=2,VLOOKUP(D207,'Plan Estu Especialidades'!$B$4:$AF$77,7,0),IF(F207=1,VLOOKUP(D207,'Plan Estu Especialidades'!$B$4:$AF$77,7,0)*L207,0)))","v":0},{"$f":"IF(F207=3,VLOOKUP(D207,'Plan Estu Especialidades'!$B$4:$AF$77,13,0),IF(F207=2,VLOOKUP(D207,'Plan Estu Especialidades'!$B$4:$AF$77,8,0),IF(F207=1,VLOOKUP(D207,'Plan Estu Especialidades'!$B$4:$AF$77,8,0)*L207,0)))","v":0},{"$f":"IF(F207=3,VLOOKUP(D207,'Plan Estu Especialidades'!$B$4:$AF$77,14,0),IF(F207=2,VLOOKUP(D207,'Plan Estu Especialidades'!$B$4:$AF$77,9,0),IF(F207=1,VLOOKUP(D207,'Plan Estu Especialidades'!$B$4:$AF$77,9,0)*L207,0)))","v":0},{"$f":"IF(F207=3,VLOOKUP(D207,'Plan Estu Especialidades'!$B$4:$AF$77,15,0),IF(F207=2,VLOOKUP(D207,'Plan Estu Especialidades'!$B$4:$AF$77,10,0),IF(F207=1,VLOOKUP(D207,'Plan Estu Especialidades'!$B$4:$AF$77,10,0)*L207,0)))","v":0},{"$f":"IF(G207=4,VLOOKUP(D207,'Plan Estu Especialidades'!$B$4:$AF$77,27,0),IF(G207=3,VLOOKUP(D207,'Plan Estu Especialidades'!$B$4:$AF$77,22,0),IF(G207=2,VLOOKUP(D207,'Plan Estu Especialidades'!$B$4:$AF$77,17,0),IF(G207=1,VLOOKUP(D207,'Plan Estu Especialidades'!$B$4:$AF$77,17,0)*N207,0))))","v":0},{"$f":"IF(G207=4,VLOOKUP(D207,'Plan Estu Especialidades'!$B$4:$AF$77,28,0),IF(G207=3,VLOOKUP(D207,'Plan Estu Especialidades'!$B$4:$AF$77,23,0),IF(G207=2,VLOOKUP(D207,'Plan Estu Especialidades'!$B$4:$AF$77,18,0),IF(G207=1,VLOOKUP(D207,'Plan Estu Especialidades'!$B$4:$AF$77,18,0)*N207,0))))","v":0},{"$f":"IF(G207=4,VLOOKUP(D207,'Plan Estu Especialidades'!$B$4:$AF$77,29,0),IF(G207=3,VLOOKUP(D207,'Plan Estu Especialidades'!$B$4:$AF$77,24,0),IF(G207=2,VLOOKUP(D207,'Plan Estu Especialidades'!$B$4:$AF$77,19,0),IF(G207=1,VLOOKUP(D207,'Plan Estu Especialidades'!$B$4:$AF$77,19,0)*N207,0))))","v":0},{"$f":"IF(G207=4,VLOOKUP(D207,'Plan Estu Especialidades'!$B$4:$AF$77,30,0),IF(G207=3,VLOOKUP(D207,'Plan Estu Especialidades'!$B$4:$AF$77,25,0),IF(G207=2,VLOOKUP(D207,'Plan Estu Especialidades'!$B$4:$AF$77,20,0),IF(G207=1,VLOOKUP(D207,'Plan Estu Especialidades'!$B$4:$AF$77,20,0)*N207,0))))","v":0},0,0,null,null,null,null,null,0,0,0,null,null,null,null,0,0,0,null,{"$f":"IF(SUM(J207,L207,N207)=0,\"S/V\",VLOOKUP(D207,'Plan Estu Especialidades'!$B$4:$AG$77,32,0))","v":"S/V"},0,0,null,null,null,null,null,null,0,0,0]
[{"$f":"+IF(B208=0,0,SUM($B$62:B208))","v":0},0,92,42,0,0,0,"Executive Service Center - Sec.Nocturna","_42",null,null,null,null,null,null,{"$f":"IF(E208=2,VLOOKUP(D208,'Plan Estu Especialidades'!$B$4:$AF$77,3,0),IF(E208=1,VLOOKUP(D208,'Plan Estu Especialidades'!$B$4:$AF$77,3,0)*J208,0))","v":0},{"$f":"IF(E208=2,VLOOKUP(D208,'Plan Estu Especialidades'!$B$4:$AF$77,4,0),IF(E208=1,VLOOKUP(D208,'Plan Estu Especialidades'!$B$4:$AF$77,4,0)*J208,0))","v":0},{"$f":"IF(E208=2,VLOOKUP(D208,'Plan Estu Especialidades'!$B$4:$AF$77,5,0),IF(E208=1,VLOOKUP(D208,'Plan Estu Especialidades'!$B$4:$AF$77,5,0)*J208,0))","v":0},{"$f":"IF(F208=3,VLOOKUP(D208,'Plan Estu Especialidades'!$B$4:$AF$77,12,0),IF(F208=2,VLOOKUP(D208,'Plan Estu Especialidades'!$B$4:$AF$77,7,0),IF(F208=1,VLOOKUP(D208,'Plan Estu Especialidades'!$B$4:$AF$77,7,0)*L208,0)))","v":0},{"$f":"IF(F208=3,VLOOKUP(D208,'Plan Estu Especialidades'!$B$4:$AF$77,13,0),IF(F208=2,VLOOKUP(D208,'Plan Estu Especialidades'!$B$4:$AF$77,8,0),IF(F208=1,VLOOKUP(D208,'Plan Estu Especialidades'!$B$4:$AF$77,8,0)*L208,0)))","v":0},{"$f":"IF(F208=3,VLOOKUP(D208,'Plan Estu Especialidades'!$B$4:$AF$77,14,0),IF(F208=2,VLOOKUP(D208,'Plan Estu Especialidades'!$B$4:$AF$77,9,0),IF(F208=1,VLOOKUP(D208,'Plan Estu Especialidades'!$B$4:$AF$77,9,0)*L208,0)))","v":0},{"$f":"IF(F208=3,VLOOKUP(D208,'Plan Estu Especialidades'!$B$4:$AF$77,15,0),IF(F208=2,VLOOKUP(D208,'Plan Estu Especialidades'!$B$4:$AF$77,10,0),IF(F208=1,VLOOKUP(D208,'Plan Estu Especialidades'!$B$4:$AF$77,10,0)*L208,0)))","v":0},{"$f":"IF(G208=4,VLOOKUP(D208,'Plan Estu Especialidades'!$B$4:$AF$77,27,0),IF(G208=3,VLOOKUP(D208,'Plan Estu Especialidades'!$B$4:$AF$77,22,0),IF(G208=2,VLOOKUP(D208,'Plan Estu Especialidades'!$B$4:$AF$77,17,0),IF(G208=1,VLOOKUP(D208,'Plan Estu Especialidades'!$B$4:$AF$77,17,0)*N208,0))))","v":0},{"$f":"IF(G208=4,VLOOKUP(D208,'Plan Estu Especialidades'!$B$4:$AF$77,28,0),IF(G208=3,VLOOKUP(D208,'Plan Estu Especialidades'!$B$4:$AF$77,23,0),IF(G208=2,VLOOKUP(D208,'Plan Estu Especialidades'!$B$4:$AF$77,18,0),IF(G208=1,VLOOKUP(D208,'Plan Estu Especialidades'!$B$4:$AF$77,18,0)*N208,0))))","v":0},{"$f":"IF(G208=4,VLOOKUP(D208,'Plan Estu Especialidades'!$B$4:$AF$77,29,0),IF(G208=3,VLOOKUP(D208,'Plan Estu Especialidades'!$B$4:$AF$77,24,0),IF(G208=2,VLOOKUP(D208,'Plan Estu Especialidades'!$B$4:$AF$77,19,0),IF(G208=1,VLOOKUP(D208,'Plan Estu Especialidades'!$B$4:$AF$77,19,0)*N208,0))))","v":0},{"$f":"IF(G208=4,VLOOKUP(D208,'Plan Estu Especialidades'!$B$4:$AF$77,30,0),IF(G208=3,VLOOKUP(D208,'Plan Estu Especialidades'!$B$4:$AF$77,25,0),IF(G208=2,VLOOKUP(D208,'Plan Estu Especialidades'!$B$4:$AF$77,20,0),IF(G208=1,VLOOKUP(D208,'Plan Estu Especialidades'!$B$4:$AF$77,20,0)*N208,0))))","v":0},0,0,null,null,null,null,null,0,0,0,null,null,null,null,0,0,0,null,{"$f":"IF(SUM(J208,L208,N208)=0,\"S/V\",VLOOKUP(D208,'Plan Estu Especialidades'!$B$4:$AG$77,32,0))","v":"S/V"},0,0,null,null,null,null,null,null,0,0,0]
[{"$f":"+IF(B209=0,0,SUM($B$62:B209))","v":0},0,92,43,0,0,0,"Impresión Offset - Sec.Nocturna","_43",null,null,null,null,null,null,{"$f":"IF(E209=2,VLOOKUP(D209,'Plan Estu Especialidades'!$B$4:$AF$77,3,0),IF(E209=1,VLOOKUP(D209,'Plan Estu Especialidades'!$B$4:$AF$77,3,0)*J209,0))","v":0},{"$f":"IF(E209=2,VLOOKUP(D209,'Plan Estu Especialidades'!$B$4:$AF$77,4,0),IF(E209=1,VLOOKUP(D209,'Plan Estu Especialidades'!$B$4:$AF$77,4,0)*J209,0))","v":0},{"$f":"IF(E209=2,VLOOKUP(D209,'Plan Estu Especialidades'!$B$4:$AF$77,5,0),IF(E209=1,VLOOKUP(D209,'Plan Estu Especialidades'!$B$4:$AF$77,5,0)*J209,0))","v":0},{"$f":"IF(F209=3,VLOOKUP(D209,'Plan Estu Especialidades'!$B$4:$AF$77,12,0),IF(F209=2,VLOOKUP(D209,'Plan Estu Especialidades'!$B$4:$AF$77,7,0),IF(F209=1,VLOOKUP(D209,'Plan Estu Especialidades'!$B$4:$AF$77,7,0)*L209,0)))","v":0},{"$f":"IF(F209=3,VLOOKUP(D209,'Plan Estu Especialidades'!$B$4:$AF$77,13,0),IF(F209=2,VLOOKUP(D209,'Plan Estu Especialidades'!$B$4:$AF$77,8,0),IF(F209=1,VLOOKUP(D209,'Plan Estu Especialidades'!$B$4:$AF$77,8,0)*L209,0)))","v":0},{"$f":"IF(F209=3,VLOOKUP(D209,'Plan Estu Especialidades'!$B$4:$AF$77,14,0),IF(F209=2,VLOOKUP(D209,'Plan Estu Especialidades'!$B$4:$AF$77,9,0),IF(F209=1,VLOOKUP(D209,'Plan Estu Especialidades'!$B$4:$AF$77,9,0)*L209,0)))","v":0},{"$f":"IF(F209=3,VLOOKUP(D209,'Plan Estu Especialidades'!$B$4:$AF$77,15,0),IF(F209=2,VLOOKUP(D209,'Plan Estu Especialidades'!$B$4:$AF$77,10,0),IF(F209=1,VLOOKUP(D209,'Plan Estu Especialidades'!$B$4:$AF$77,10,0)*L209,0)))","v":0},{"$f":"IF(G209=4,VLOOKUP(D209,'Plan Estu Especialidades'!$B$4:$AF$77,27,0),IF(G209=3,VLOOKUP(D209,'Plan Estu Especialidades'!$B$4:$AF$77,22,0),IF(G209=2,VLOOKUP(D209,'Plan Estu Especialidades'!$B$4:$AF$77,17,0),IF(G209=1,VLOOKUP(D209,'Plan Estu Especialidades'!$B$4:$AF$77,17,0)*N209,0))))","v":0},{"$f":"IF(G209=4,VLOOKUP(D209,'Plan Estu Especialidades'!$B$4:$AF$77,28,0),IF(G209=3,VLOOKUP(D209,'Plan Estu Especialidades'!$B$4:$AF$77,23,0),IF(G209=2,VLOOKUP(D209,'Plan Estu Especialidades'!$B$4:$AF$77,18,0),IF(G209=1,VLOOKUP(D209,'Plan Estu Especialidades'!$B$4:$AF$77,18,0)*N209,0))))","v":0},{"$f":"IF(G209=4,VLOOKUP(D209,'Plan Estu Especialidades'!$B$4:$AF$77,29,0),IF(G209=3,VLOOKUP(D209,'Plan Estu Especialidades'!$B$4:$AF$77,24,0),IF(G209=2,VLOOKUP(D209,'Plan Estu Especialidades'!$B$4:$AF$77,19,0),IF(G209=1,VLOOKUP(D209,'Plan Estu Especialidades'!$B$4:$AF$77,19,0)*N209,0))))","v":0},{"$f":"IF(G209=4,VLOOKUP(D209,'Plan Estu Especialidades'!$B$4:$AF$77,30,0),IF(G209=3,VLOOKUP(D209,'Plan Estu Especialidades'!$B$4:$AF$77,25,0),IF(G209=2,VLOOKUP(D209,'Plan Estu Especialidades'!$B$4:$AF$77,20,0),IF(G209=1,VLOOKUP(D209,'Plan Estu Especialidades'!$B$4:$AF$77,20,0)*N209,0))))","v":0},0,0,null,null,null,null,null,0,0,0,null,null,null,null,0,0,0,null,{"$f":"IF(SUM(J209,L209,N209)=0,\"S/V\",VLOOKUP(D209,'Plan Estu Especialidades'!$B$4:$AG$77,32,0))","v":"S/V"},0,0,null,null,null,null,null,null,0,0,0]
[{"$f":"+IF(B210=0,0,SUM($B$62:B210))","v":0},0,92,44,0,0,0,"Informática Empresarial - Sec.Nocturna","_44",null,null,null,null,null,null,{"$f":"IF(E210=2,VLOOKUP(D210,'Plan Estu Especialidades'!$B$4:$AF$77,3,0),IF(E210=1,VLOOKUP(D210,'Plan Estu Especialidades'!$B$4:$AF$77,3,0)*J210,0))","v":0},{"$f":"IF(E210=2,VLOOKUP(D210,'Plan Estu Especialidades'!$B$4:$AF$77,4,0),IF(E210=1,VLOOKUP(D210,'Plan Estu Especialidades'!$B$4:$AF$77,4,0)*J210,0))","v":0},{"$f":"IF(E210=2,VLOOKUP(D210,'Plan Estu Especialidades'!$B$4:$AF$77,5,0),IF(E210=1,VLOOKUP(D210,'Plan Estu Especialidades'!$B$4:$AF$77,5,0)*J210,0))","v":0},{"$f":"IF(F210=3,VLOOKUP(D210,'Plan Estu Especialidades'!$B$4:$AF$77,12,0),IF(F210=2,VLOOKUP(D210,'Plan Estu Especialidades'!$B$4:$AF$77,7,0),IF(F210=1,VLOOKUP(D210,'Plan Estu Especialidades'!$B$4:$AF$77,7,0)*L210,0)))","v":0},{"$f":"IF(F210=3,VLOOKUP(D210,'Plan Estu Especialidades'!$B$4:$AF$77,13,0),IF(F210=2,VLOOKUP(D210,'Plan Estu Especialidades'!$B$4:$AF$77,8,0),IF(F210=1,VLOOKUP(D210,'Plan Estu Especialidades'!$B$4:$AF$77,8,0)*L210,0)))","v":0},{"$f":"IF(F210=3,VLOOKUP(D210,'Plan Estu Especialidades'!$B$4:$AF$77,14,0),IF(F210=2,VLOOKUP(D210,'Plan Estu Especialidades'!$B$4:$AF$77,9,0),IF(F210=1,VLOOKUP(D210,'Plan Estu Especialidades'!$B$4:$AF$77,9,0)*L210,0)))","v":0},{"$f":"IF(F210=3,VLOOKUP(D210,'Plan Estu Especialidades'!$B$4:$AF$77,15,0),IF(F210=2,VLOOKUP(D210,'Plan Estu Especialidades'!$B$4:$AF$77,10,0),IF(F210=1,VLOOKUP(D210,'Plan Estu Especialidades'!$B$4:$AF$77,10,0)*L210,0)))","v":0},{"$f":"IF(G210=4,VLOOKUP(D210,'Plan Estu Especialidades'!$B$4:$AF$77,27,0),IF(G210=3,VLOOKUP(D210,'Plan Estu Especialidades'!$B$4:$AF$77,22,0),IF(G210=2,VLOOKUP(D210,'Plan Estu Especialidades'!$B$4:$AF$77,17,0),IF(G210=1,VLOOKUP(D210,'Plan Estu Especialidades'!$B$4:$AF$77,17,0)*N210,0))))","v":0},{"$f":"IF(G210=4,VLOOKUP(D210,'Plan Estu Especialidades'!$B$4:$AF$77,28,0),IF(G210=3,VLOOKUP(D210,'Plan Estu Especialidades'!$B$4:$AF$77,23,0),IF(G210=2,VLOOKUP(D210,'Plan Estu Especialidades'!$B$4:$AF$77,18,0),IF(G210=1,VLOOKUP(D210,'Plan Estu Especialidades'!$B$4:$AF$77,18,0)*N210,0))))","v":0},{"$f":"IF(G210=4,VLOOKUP(D210,'Plan Estu Especialidades'!$B$4:$AF$77,29,0),IF(G210=3,VLOOKUP(D210,'Plan Estu Especialidades'!$B$4:$AF$77,24,0),IF(G210=2,VLOOKUP(D210,'Plan Estu Especialidades'!$B$4:$AF$77,19,0),IF(G210=1,VLOOKUP(D210,'Plan Estu Especialidades'!$B$4:$AF$77,19,0)*N210,0))))","v":0},{"$f":"IF(G210=4,VLOOKUP(D210,'Plan Estu Especialidades'!$B$4:$AF$77,30,0),IF(G210=3,VLOOKUP(D210,'Plan Estu Especialidades'!$B$4:$AF$77,25,0),IF(G210=2,VLOOKUP(D210,'Plan Estu Especialidades'!$B$4:$AF$77,20,0),IF(G210=1,VLOOKUP(D210,'Plan Estu Especialidades'!$B$4:$AF$77,20,0)*N210,0))))","v":0},0,0,null,null,null,null,null,0,0,0,null,null,null,null,0,0,0,null,{"$f":"IF(SUM(J210,L210,N210)=0,\"S/V\",VLOOKUP(D210,'Plan Estu Especialidades'!$B$4:$AG$77,32,0))","v":"S/V"},0,0,null,null,null,null,null,null,0,0,0]
[{"$f":"+IF(B211=0,0,SUM($B$62:B211))","v":0},0,92,45,0,0,0,"Informática en desarrollo de software - Sec.Nocturna","_45",null,null,null,null,null,null,{"$f":"IF(E211=2,VLOOKUP(D211,'Plan Estu Especialidades'!$B$4:$AF$77,3,0),IF(E211=1,VLOOKUP(D211,'Plan Estu Especialidades'!$B$4:$AF$77,3,0)*J211,0))","v":0},{"$f":"IF(E211=2,VLOOKUP(D211,'Plan Estu Especialidades'!$B$4:$AF$77,4,0),IF(E211=1,VLOOKUP(D211,'Plan Estu Especialidades'!$B$4:$AF$77,4,0)*J211,0))","v":0},{"$f":"IF(E211=2,VLOOKUP(D211,'Plan Estu Especialidades'!$B$4:$AF$77,5,0),IF(E211=1,VLOOKUP(D211,'Plan Estu Especialidades'!$B$4:$AF$77,5,0)*J211,0))","v":0},{"$f":"IF(F211=3,VLOOKUP(D211,'Plan Estu Especialidades'!$B$4:$AF$77,12,0),IF(F211=2,VLOOKUP(D211,'Plan Estu Especialidades'!$B$4:$AF$77,7,0),IF(F211=1,VLOOKUP(D211,'Plan Estu Especialidades'!$B$4:$AF$77,7,0)*L211,0)))","v":0},{"$f":"IF(F211=3,VLOOKUP(D211,'Plan Estu Especialidades'!$B$4:$AF$77,13,0),IF(F211=2,VLOOKUP(D211,'Plan Estu Especialidades'!$B$4:$AF$77,8,0),IF(F211=1,VLOOKUP(D211,'Plan Estu Especialidades'!$B$4:$AF$77,8,0)*L211,0)))","v":0},{"$f":"IF(F211=3,VLOOKUP(D211,'Plan Estu Especialidades'!$B$4:$AF$77,14,0),IF(F211=2,VLOOKUP(D211,'Plan Estu Especialidades'!$B$4:$AF$77,9,0),IF(F211=1,VLOOKUP(D211,'Plan Estu Especialidades'!$B$4:$AF$77,9,0)*L211,0)))","v":0},{"$f":"IF(F211=3,VLOOKUP(D211,'Plan Estu Especialidades'!$B$4:$AF$77,15,0),IF(F211=2,VLOOKUP(D211,'Plan Estu Especialidades'!$B$4:$AF$77,10,0),IF(F211=1,VLOOKUP(D211,'Plan Estu Especialidades'!$B$4:$AF$77,10,0)*L211,0)))","v":0},{"$f":"IF(G211=4,VLOOKUP(D211,'Plan Estu Especialidades'!$B$4:$AF$77,27,0),IF(G211=3,VLOOKUP(D211,'Plan Estu Especialidades'!$B$4:$AF$77,22,0),IF(G211=2,VLOOKUP(D211,'Plan Estu Especialidades'!$B$4:$AF$77,17,0),IF(G211=1,VLOOKUP(D211,'Plan Estu Especialidades'!$B$4:$AF$77,17,0)*N211,0))))","v":0},{"$f":"IF(G211=4,VLOOKUP(D211,'Plan Estu Especialidades'!$B$4:$AF$77,28,0),IF(G211=3,VLOOKUP(D211,'Plan Estu Especialidades'!$B$4:$AF$77,23,0),IF(G211=2,VLOOKUP(D211,'Plan Estu Especialidades'!$B$4:$AF$77,18,0),IF(G211=1,VLOOKUP(D211,'Plan Estu Especialidades'!$B$4:$AF$77,18,0)*N211,0))))","v":0},{"$f":"IF(G211=4,VLOOKUP(D211,'Plan Estu Especialidades'!$B$4:$AF$77,29,0),IF(G211=3,VLOOKUP(D211,'Plan Estu Especialidades'!$B$4:$AF$77,24,0),IF(G211=2,VLOOKUP(D211,'Plan Estu Especialidades'!$B$4:$AF$77,19,0),IF(G211=1,VLOOKUP(D211,'Plan Estu Especialidades'!$B$4:$AF$77,19,0)*N211,0))))","v":0},{"$f":"IF(G211=4,VLOOKUP(D211,'Plan Estu Especialidades'!$B$4:$AF$77,30,0),IF(G211=3,VLOOKUP(D211,'Plan Estu Especialidades'!$B$4:$AF$77,25,0),IF(G211=2,VLOOKUP(D211,'Plan Estu Especialidades'!$B$4:$AF$77,20,0),IF(G211=1,VLOOKUP(D211,'Plan Estu Especialidades'!$B$4:$AF$77,20,0)*N211,0))))","v":0},0,0,null,null,null,null,null,0,0,0,null,null,null,null,0,0,0,null,{"$f":"IF(SUM(J211,L211,N211)=0,\"S/V\",VLOOKUP(D211,'Plan Estu Especialidades'!$B$4:$AG$77,32,0))","v":"S/V"},0,0,null,null,null,null,null,null,0,0,0]
[{"$f":"+IF(B212=0,0,SUM($B$62:B212))","v":0},0,92,46,0,0,0,"Informática en Redes - Sec.Nocturna","_46",null,null,null,null,null,null,{"$f":"IF(E212=2,VLOOKUP(D212,'Plan Estu Especialidades'!$B$4:$AF$77,3,0),IF(E212=1,VLOOKUP(D212,'Plan Estu Especialidades'!$B$4:$AF$77,3,0)*J212,0))","v":0},{"$f":"IF(E212=2,VLOOKUP(D212,'Plan Estu Especialidades'!$B$4:$AF$77,4,0),IF(E212=1,VLOOKUP(D212,'Plan Estu Especialidades'!$B$4:$AF$77,4,0)*J212,0))","v":0},{"$f":"IF(E212=2,VLOOKUP(D212,'Plan Estu Especialidades'!$B$4:$AF$77,5,0),IF(E212=1,VLOOKUP(D212,'Plan Estu Especialidades'!$B$4:$AF$77,5,0)*J212,0))","v":0},{"$f":"IF(F212=3,VLOOKUP(D212,'Plan Estu Especialidades'!$B$4:$AF$77,12,0),IF(F212=2,VLOOKUP(D212,'Plan Estu Especialidades'!$B$4:$AF$77,7,0),IF(F212=1,VLOOKUP(D212,'Plan Estu Especialidades'!$B$4:$AF$77,7,0)*L212,0)))","v":0},{"$f":"IF(F212=3,VLOOKUP(D212,'Plan Estu Especialidades'!$B$4:$AF$77,13,0),IF(F212=2,VLOOKUP(D212,'Plan Estu Especialidades'!$B$4:$AF$77,8,0),IF(F212=1,VLOOKUP(D212,'Plan Estu Especialidades'!$B$4:$AF$77,8,0)*L212,0)))","v":0},{"$f":"IF(F212=3,VLOOKUP(D212,'Plan Estu Especialidades'!$B$4:$AF$77,14,0),IF(F212=2,VLOOKUP(D212,'Plan Estu Especialidades'!$B$4:$AF$77,9,0),IF(F212=1,VLOOKUP(D212,'Plan Estu Especialidades'!$B$4:$AF$77,9,0)*L212,0)))","v":0},{"$f":"IF(F212=3,VLOOKUP(D212,'Plan Estu Especialidades'!$B$4:$AF$77,15,0),IF(F212=2,VLOOKUP(D212,'Plan Estu Especialidades'!$B$4:$AF$77,10,0),IF(F212=1,VLOOKUP(D212,'Plan Estu Especialidades'!$B$4:$AF$77,10,0)*L212,0)))","v":0},{"$f":"IF(G212=4,VLOOKUP(D212,'Plan Estu Especialidades'!$B$4:$AF$77,27,0),IF(G212=3,VLOOKUP(D212,'Plan Estu Especialidades'!$B$4:$AF$77,22,0),IF(G212=2,VLOOKUP(D212,'Plan Estu Especialidades'!$B$4:$AF$77,17,0),IF(G212=1,VLOOKUP(D212,'Plan Estu Especialidades'!$B$4:$AF$77,17,0)*N212,0))))","v":0},{"$f":"IF(G212=4,VLOOKUP(D212,'Plan Estu Especialidades'!$B$4:$AF$77,28,0),IF(G212=3,VLOOKUP(D212,'Plan Estu Especialidades'!$B$4:$AF$77,23,0),IF(G212=2,VLOOKUP(D212,'Plan Estu Especialidades'!$B$4:$AF$77,18,0),IF(G212=1,VLOOKUP(D212,'Plan Estu Especialidades'!$B$4:$AF$77,18,0)*N212,0))))","v":0},{"$f":"IF(G212=4,VLOOKUP(D212,'Plan Estu Especialidades'!$B$4:$AF$77,29,0),IF(G212=3,VLOOKUP(D212,'Plan Estu Especialidades'!$B$4:$AF$77,24,0),IF(G212=2,VLOOKUP(D212,'Plan Estu Especialidades'!$B$4:$AF$77,19,0),IF(G212=1,VLOOKUP(D212,'Plan Estu Especialidades'!$B$4:$AF$77,19,0)*N212,0))))","v":0},{"$f":"IF(G212=4,VLOOKUP(D212,'Plan Estu Especialidades'!$B$4:$AF$77,30,0),IF(G212=3,VLOOKUP(D212,'Plan Estu Especialidades'!$B$4:$AF$77,25,0),IF(G212=2,VLOOKUP(D212,'Plan Estu Especialidades'!$B$4:$AF$77,20,0),IF(G212=1,VLOOKUP(D212,'Plan Estu Especialidades'!$B$4:$AF$77,20,0)*N212,0))))","v":0},0,0,null,null,null,null,null,0,0,0,null,null,null,null,0,0,0,null,{"$f":"IF(SUM(J212,L212,N212)=0,\"S/V\",VLOOKUP(D212,'Plan Estu Especialidades'!$B$4:$AG$77,32,0))","v":"S/V"},0,0,null,null,null,null,null,null,0,0,0]
[{"$f":"+IF(B213=0,0,SUM($B$62:B213))","v":0},0,92,47,0,0,0,"Informática en soporte - Sec.Nocturna","_47",null,null,null,null,null,null,{"$f":"IF(E213=2,VLOOKUP(D213,'Plan Estu Especialidades'!$B$4:$AF$77,3,0),IF(E213=1,VLOOKUP(D213,'Plan Estu Especialidades'!$B$4:$AF$77,3,0)*J213,0))","v":0},{"$f":"IF(E213=2,VLOOKUP(D213,'Plan Estu Especialidades'!$B$4:$AF$77,4,0),IF(E213=1,VLOOKUP(D213,'Plan Estu Especialidades'!$B$4:$AF$77,4,0)*J213,0))","v":0},{"$f":"IF(E213=2,VLOOKUP(D213,'Plan Estu Especialidades'!$B$4:$AF$77,5,0),IF(E213=1,VLOOKUP(D213,'Plan Estu Especialidades'!$B$4:$AF$77,5,0)*J213,0))","v":0},{"$f":"IF(F213=3,VLOOKUP(D213,'Plan Estu Especialidades'!$B$4:$AF$77,12,0),IF(F213=2,VLOOKUP(D213,'Plan Estu Especialidades'!$B$4:$AF$77,7,0),IF(F213=1,VLOOKUP(D213,'Plan Estu Especialidades'!$B$4:$AF$77,7,0)*L213,0)))","v":0},{"$f":"IF(F213=3,VLOOKUP(D213,'Plan Estu Especialidades'!$B$4:$AF$77,13,0),IF(F213=2,VLOOKUP(D213,'Plan Estu Especialidades'!$B$4:$AF$77,8,0),IF(F213=1,VLOOKUP(D213,'Plan Estu Especialidades'!$B$4:$AF$77,8,0)*L213,0)))","v":0},{"$f":"IF(F213=3,VLOOKUP(D213,'Plan Estu Especialidades'!$B$4:$AF$77,14,0),IF(F213=2,VLOOKUP(D213,'Plan Estu Especialidades'!$B$4:$AF$77,9,0),IF(F213=1,VLOOKUP(D213,'Plan Estu Especialidades'!$B$4:$AF$77,9,0)*L213,0)))","v":0},{"$f":"IF(F213=3,VLOOKUP(D213,'Plan Estu Especialidades'!$B$4:$AF$77,15,0),IF(F213=2,VLOOKUP(D213,'Plan Estu Especialidades'!$B$4:$AF$77,10,0),IF(F213=1,VLOOKUP(D213,'Plan Estu Especialidades'!$B$4:$AF$77,10,0)*L213,0)))","v":0},{"$f":"IF(G213=4,VLOOKUP(D213,'Plan Estu Especialidades'!$B$4:$AF$77,27,0),IF(G213=3,VLOOKUP(D213,'Plan Estu Especialidades'!$B$4:$AF$77,22,0),IF(G213=2,VLOOKUP(D213,'Plan Estu Especialidades'!$B$4:$AF$77,17,0),IF(G213=1,VLOOKUP(D213,'Plan Estu Especialidades'!$B$4:$AF$77,17,0)*N213,0))))","v":0},{"$f":"IF(G213=4,VLOOKUP(D213,'Plan Estu Especialidades'!$B$4:$AF$77,28,0),IF(G213=3,VLOOKUP(D213,'Plan Estu Especialidades'!$B$4:$AF$77,23,0),IF(G213=2,VLOOKUP(D213,'Plan Estu Especialidades'!$B$4:$AF$77,18,0),IF(G213=1,VLOOKUP(D213,'Plan Estu Especialidades'!$B$4:$AF$77,18,0)*N213,0))))","v":0},{"$f":"IF(G213=4,VLOOKUP(D213,'Plan Estu Especialidades'!$B$4:$AF$77,29,0),IF(G213=3,VLOOKUP(D213,'Plan Estu Especialidades'!$B$4:$AF$77,24,0),IF(G213=2,VLOOKUP(D213,'Plan Estu Especialidades'!$B$4:$AF$77,19,0),IF(G213=1,VLOOKUP(D213,'Plan Estu Especialidades'!$B$4:$AF$77,19,0)*N213,0))))","v":0},{"$f":"IF(G213=4,VLOOKUP(D213,'Plan Estu Especialidades'!$B$4:$AF$77,30,0),IF(G213=3,VLOOKUP(D213,'Plan Estu Especialidades'!$B$4:$AF$77,25,0),IF(G213=2,VLOOKUP(D213,'Plan Estu Especialidades'!$B$4:$AF$77,20,0),IF(G213=1,VLOOKUP(D213,'Plan Estu Especialidades'!$B$4:$AF$77,20,0)*N213,0))))","v":0},0,0,null,null,null,null,null,0,0,0,null,null,null,null,0,0,0,null,{"$f":"IF(SUM(J213,L213,N213)=0,\"S/V\",VLOOKUP(D213,'Plan Estu Especialidades'!$B$4:$AG$77,32,0))","v":"S/V"},0,0,null,null,null,null,null,null,0,0,0]
[{"$f":"+IF(B214=0,0,SUM($B$62:B214))","v":0},0,92,48,0,0,0,"Information technology support - Sec.Nocturna","_48",null,null,null,null,null,null,{"$f":"IF(E214=2,VLOOKUP(D214,'Plan Estu Especialidades'!$B$4:$AF$77,3,0),IF(E214=1,VLOOKUP(D214,'Plan Estu Especialidades'!$B$4:$AF$77,3,0)*J214,0))","v":0},{"$f":"IF(E214=2,VLOOKUP(D214,'Plan Estu Especialidades'!$B$4:$AF$77,4,0),IF(E214=1,VLOOKUP(D214,'Plan Estu Especialidades'!$B$4:$AF$77,4,0)*J214,0))","v":0},{"$f":"IF(E214=2,VLOOKUP(D214,'Plan Estu Especialidades'!$B$4:$AF$77,5,0),IF(E214=1,VLOOKUP(D214,'Plan Estu Especialidades'!$B$4:$AF$77,5,0)*J214,0))","v":0},{"$f":"IF(F214=3,VLOOKUP(D214,'Plan Estu Especialidades'!$B$4:$AF$77,12,0),IF(F214=2,VLOOKUP(D214,'Plan Estu Especialidades'!$B$4:$AF$77,7,0),IF(F214=1,VLOOKUP(D214,'Plan Estu Especialidades'!$B$4:$AF$77,7,0)*L214,0)))","v":0},{"$f":"IF(F214=3,VLOOKUP(D214,'Plan Estu Especialidades'!$B$4:$AF$77,13,0),IF(F214=2,VLOOKUP(D214,'Plan Estu Especialidades'!$B$4:$AF$77,8,0),IF(F214=1,VLOOKUP(D214,'Plan Estu Especialidades'!$B$4:$AF$77,8,0)*L214,0)))","v":0},{"$f":"IF(F214=3,VLOOKUP(D214,'Plan Estu Especialidades'!$B$4:$AF$77,14,0),IF(F214=2,VLOOKUP(D214,'Plan Estu Especialidades'!$B$4:$AF$77,9,0),IF(F214=1,VLOOKUP(D214,'Plan Estu Especialidades'!$B$4:$AF$77,9,0)*L214,0)))","v":0},{"$f":"IF(F214=3,VLOOKUP(D214,'Plan Estu Especialidades'!$B$4:$AF$77,15,0),IF(F214=2,VLOOKUP(D214,'Plan Estu Especialidades'!$B$4:$AF$77,10,0),IF(F214=1,VLOOKUP(D214,'Plan Estu Especialidades'!$B$4:$AF$77,10,0)*L214,0)))","v":0},{"$f":"IF(G214=4,VLOOKUP(D214,'Plan Estu Especialidades'!$B$4:$AF$77,27,0),IF(G214=3,VLOOKUP(D214,'Plan Estu Especialidades'!$B$4:$AF$77,22,0),IF(G214=2,VLOOKUP(D214,'Plan Estu Especialidades'!$B$4:$AF$77,17,0),IF(G214=1,VLOOKUP(D214,'Plan Estu Especialidades'!$B$4:$AF$77,17,0)*N214,0))))","v":0},{"$f":"IF(G214=4,VLOOKUP(D214,'Plan Estu Especialidades'!$B$4:$AF$77,28,0),IF(G214=3,VLOOKUP(D214,'Plan Estu Especialidades'!$B$4:$AF$77,23,0),IF(G214=2,VLOOKUP(D214,'Plan Estu Especialidades'!$B$4:$AF$77,18,0),IF(G214=1,VLOOKUP(D214,'Plan Estu Especialidades'!$B$4:$AF$77,18,0)*N214,0))))","v":0},{"$f":"IF(G214=4,VLOOKUP(D214,'Plan Estu Especialidades'!$B$4:$AF$77,29,0),IF(G214=3,VLOOKUP(D214,'Plan Estu Especialidades'!$B$4:$AF$77,24,0),IF(G214=2,VLOOKUP(D214,'Plan Estu Especialidades'!$B$4:$AF$77,19,0),IF(G214=1,VLOOKUP(D214,'Plan Estu Especialidades'!$B$4:$AF$77,19,0)*N214,0))))","v":0},{"$f":"IF(G214=4,VLOOKUP(D214,'Plan Estu Especialidades'!$B$4:$AF$77,30,0),IF(G214=3,VLOOKUP(D214,'Plan Estu Especialidades'!$B$4:$AF$77,25,0),IF(G214=2,VLOOKUP(D214,'Plan Estu Especialidades'!$B$4:$AF$77,20,0),IF(G214=1,VLOOKUP(D214,'Plan Estu Especialidades'!$B$4:$AF$77,20,0)*N214,0))))","v":0},0,0,null,null,null,null,null,0,0,0,null,null,null,null,0,0,0,null,{"$f":"IF(SUM(J214,L214,N214)=0,\"S/V\",VLOOKUP(D214,'Plan Estu Especialidades'!$B$4:$AG$77,32,0))","v":"S/V"},0,0,null,null,null,null,null,null,0,0,0]
[{"$f":"+IF(B215=0,0,SUM($B$62:B215))","v":0},0,92,49,0,0,0,"Mantenimiento Industrial - Sec.Nocturna","_49",null,null,null,null,null,null,{"$f":"IF(E215=2,VLOOKUP(D215,'Plan Estu Especialidades'!$B$4:$AF$77,3,0),IF(E215=1,VLOOKUP(D215,'Plan Estu Especialidades'!$B$4:$AF$77,3,0)*J215,0))","v":0},{"$f":"IF(E215=2,VLOOKUP(D215,'Plan Estu Especialidades'!$B$4:$AF$77,4,0),IF(E215=1,VLOOKUP(D215,'Plan Estu Especialidades'!$B$4:$AF$77,4,0)*J215,0))","v":0},{"$f":"IF(E215=2,VLOOKUP(D215,'Plan Estu Especialidades'!$B$4:$AF$77,5,0),IF(E215=1,VLOOKUP(D215,'Plan Estu Especialidades'!$B$4:$AF$77,5,0)*J215,0))","v":0},{"$f":"IF(F215=3,VLOOKUP(D215,'Plan Estu Especialidades'!$B$4:$AF$77,12,0),IF(F215=2,VLOOKUP(D215,'Plan Estu Especialidades'!$B$4:$AF$77,7,0),IF(F215=1,VLOOKUP(D215,'Plan Estu Especialidades'!$B$4:$AF$77,7,0)*L215,0)))","v":0},{"$f":"IF(F215=3,VLOOKUP(D215,'Plan Estu Especialidades'!$B$4:$AF$77,13,0),IF(F215=2,VLOOKUP(D215,'Plan Estu Especialidades'!$B$4:$AF$77,8,0),IF(F215=1,VLOOKUP(D215,'Plan Estu Especialidades'!$B$4:$AF$77,8,0)*L215,0)))","v":0},{"$f":"IF(F215=3,VLOOKUP(D215,'Plan Estu Especialidades'!$B$4:$AF$77,14,0),IF(F215=2,VLOOKUP(D215,'Plan Estu Especialidades'!$B$4:$AF$77,9,0),IF(F215=1,VLOOKUP(D215,'Plan Estu Especialidades'!$B$4:$AF$77,9,0)*L215,0)))","v":0},{"$f":"IF(F215=3,VLOOKUP(D215,'Plan Estu Especialidades'!$B$4:$AF$77,15,0),IF(F215=2,VLOOKUP(D215,'Plan Estu Especialidades'!$B$4:$AF$77,10,0),IF(F215=1,VLOOKUP(D215,'Plan Estu Especialidades'!$B$4:$AF$77,10,0)*L215,0)))","v":0},{"$f":"IF(G215=4,VLOOKUP(D215,'Plan Estu Especialidades'!$B$4:$AF$77,27,0),IF(G215=3,VLOOKUP(D215,'Plan Estu Especialidades'!$B$4:$AF$77,22,0),IF(G215=2,VLOOKUP(D215,'Plan Estu Especialidades'!$B$4:$AF$77,17,0),IF(G215=1,VLOOKUP(D215,'Plan Estu Especialidades'!$B$4:$AF$77,17,0)*N215,0))))","v":0},{"$f":"IF(G215=4,VLOOKUP(D215,'Plan Estu Especialidades'!$B$4:$AF$77,28,0),IF(G215=3,VLOOKUP(D215,'Plan Estu Especialidades'!$B$4:$AF$77,23,0),IF(G215=2,VLOOKUP(D215,'Plan Estu Especialidades'!$B$4:$AF$77,18,0),IF(G215=1,VLOOKUP(D215,'Plan Estu Especialidades'!$B$4:$AF$77,18,0)*N215,0))))","v":0},{"$f":"IF(G215=4,VLOOKUP(D215,'Plan Estu Especialidades'!$B$4:$AF$77,29,0),IF(G215=3,VLOOKUP(D215,'Plan Estu Especialidades'!$B$4:$AF$77,24,0),IF(G215=2,VLOOKUP(D215,'Plan Estu Especialidades'!$B$4:$AF$77,19,0),IF(G215=1,VLOOKUP(D215,'Plan Estu Especialidades'!$B$4:$AF$77,19,0)*N215,0))))","v":0},{"$f":"IF(G215=4,VLOOKUP(D215,'Plan Estu Especialidades'!$B$4:$AF$77,30,0),IF(G215=3,VLOOKUP(D215,'Plan Estu Especialidades'!$B$4:$AF$77,25,0),IF(G215=2,VLOOKUP(D215,'Plan Estu Especialidades'!$B$4:$AF$77,20,0),IF(G215=1,VLOOKUP(D215,'Plan Estu Especialidades'!$B$4:$AF$77,20,0)*N215,0))))","v":0},0,0,null,null,null,null,null,0,0,0,null,null,null,null,0,0,0,null,{"$f":"IF(SUM(J215,L215,N215)=0,\"S/V\",VLOOKUP(D215,'Plan Estu Especialidades'!$B$4:$AG$77,32,0))","v":"S/V"},0,0,null,null,null,null,null,null,0,0,0]
[{"$f":"+IF(B216=0,0,SUM($B$62:B216))","v":0},0,92,50,0,0,0,"Mecánica de Precisión - Sec.Nocturna","_50",null,null,null,null,null,null,{"$f":"IF(E216=2,VLOOKUP(D216,'Plan Estu Especialidades'!$B$4:$AF$77,3,0),IF(E216=1,VLOOKUP(D216,'Plan Estu Especialidades'!$B$4:$AF$77,3,0)*J216,0))","v":0},{"$f":"IF(E216=2,VLOOKUP(D216,'Plan Estu Especialidades'!$B$4:$AF$77,4,0),IF(E216=1,VLOOKUP(D216,'Plan Estu Especialidades'!$B$4:$AF$77,4,0)*J216,0))","v":0},{"$f":"IF(E216=2,VLOOKUP(D216,'Plan Estu Especialidades'!$B$4:$AF$77,5,0),IF(E216=1,VLOOKUP(D216,'Plan Estu Especialidades'!$B$4:$AF$77,5,0)*J216,0))","v":0},{"$f":"IF(F216=3,VLOOKUP(D216,'Plan Estu Especialidades'!$B$4:$AF$77,12,0),IF(F216=2,VLOOKUP(D216,'Plan Estu Especialidades'!$B$4:$AF$77,7,0),IF(F216=1,VLOOKUP(D216,'Plan Estu Especialidades'!$B$4:$AF$77,7,0)*L216,0)))","v":0},{"$f":"IF(F216=3,VLOOKUP(D216,'Plan Estu Especialidades'!$B$4:$AF$77,13,0),IF(F216=2,VLOOKUP(D216,'Plan Estu Especialidades'!$B$4:$AF$77,8,0),IF(F216=1,VLOOKUP(D216,'Plan Estu Especialidades'!$B$4:$AF$77,8,0)*L216,0)))","v":0},{"$f":"IF(F216=3,VLOOKUP(D216,'Plan Estu Especialidades'!$B$4:$AF$77,14,0),IF(F216=2,VLOOKUP(D216,'Plan Estu Especialidades'!$B$4:$AF$77,9,0),IF(F216=1,VLOOKUP(D216,'Plan Estu Especialidades'!$B$4:$AF$77,9,0)*L216,0)))","v":0},{"$f":"IF(F216=3,VLOOKUP(D216,'Plan Estu Especialidades'!$B$4:$AF$77,15,0),IF(F216=2,VLOOKUP(D216,'Plan Estu Especialidades'!$B$4:$AF$77,10,0),IF(F216=1,VLOOKUP(D216,'Plan Estu Especialidades'!$B$4:$AF$77,10,0)*L216,0)))","v":0},{"$f":"IF(G216=4,VLOOKUP(D216,'Plan Estu Especialidades'!$B$4:$AF$77,27,0),IF(G216=3,VLOOKUP(D216,'Plan Estu Especialidades'!$B$4:$AF$77,22,0),IF(G216=2,VLOOKUP(D216,'Plan Estu Especialidades'!$B$4:$AF$77,17,0),IF(G216=1,VLOOKUP(D216,'Plan Estu Especialidades'!$B$4:$AF$77,17,0)*N216,0))))","v":0},{"$f":"IF(G216=4,VLOOKUP(D216,'Plan Estu Especialidades'!$B$4:$AF$77,28,0),IF(G216=3,VLOOKUP(D216,'Plan Estu Especialidades'!$B$4:$AF$77,23,0),IF(G216=2,VLOOKUP(D216,'Plan Estu Especialidades'!$B$4:$AF$77,18,0),IF(G216=1,VLOOKUP(D216,'Plan Estu Especialidades'!$B$4:$AF$77,18,0)*N216,0))))","v":0},{"$f":"IF(G216=4,VLOOKUP(D216,'Plan Estu Especialidades'!$B$4:$AF$77,29,0),IF(G216=3,VLOOKUP(D216,'Plan Estu Especialidades'!$B$4:$AF$77,24,0),IF(G216=2,VLOOKUP(D216,'Plan Estu Especialidades'!$B$4:$AF$77,19,0),IF(G216=1,VLOOKUP(D216,'Plan Estu Especialidades'!$B$4:$AF$77,19,0)*N216,0))))","v":0},{"$f":"IF(G216=4,VLOOKUP(D216,'Plan Estu Especialidades'!$B$4:$AF$77,30,0),IF(G216=3,VLOOKUP(D216,'Plan Estu Especialidades'!$B$4:$AF$77,25,0),IF(G216=2,VLOOKUP(D216,'Plan Estu Especialidades'!$B$4:$AF$77,20,0),IF(G216=1,VLOOKUP(D216,'Plan Estu Especialidades'!$B$4:$AF$77,20,0)*N216,0))))","v":0},0,0,null,null,null,null,null,0,0,0,null,null,null,null,0,0,0,null,{"$f":"IF(SUM(J216,L216,N216)=0,\"S/V\",VLOOKUP(D216,'Plan Estu Especialidades'!$B$4:$AG$77,32,0))","v":"S/V"},0,0,null,null,null,null,null,null,0,0,0]
[{"$f":"+IF(B217=0,0,SUM($B$62:B217))","v":0},0,92,51,0,0,0,"Mecánica General - Sec.Nocturna","_51",null,null,null,null,null,null,{"$f":"IF(E217=2,VLOOKUP(D217,'Plan Estu Especialidades'!$B$4:$AF$77,3,0),IF(E217=1,VLOOKUP(D217,'Plan Estu Especialidades'!$B$4:$AF$77,3,0)*J217,0))","v":0},{"$f":"IF(E217=2,VLOOKUP(D217,'Plan Estu Especialidades'!$B$4:$AF$77,4,0),IF(E217=1,VLOOKUP(D217,'Plan Estu Especialidades'!$B$4:$AF$77,4,0)*J217,0))","v":0},{"$f":"IF(E217=2,VLOOKUP(D217,'Plan Estu Especialidades'!$B$4:$AF$77,5,0),IF(E217=1,VLOOKUP(D217,'Plan Estu Especialidades'!$B$4:$AF$77,5,0)*J217,0))","v":0},{"$f":"IF(F217=3,VLOOKUP(D217,'Plan Estu Especialidades'!$B$4:$AF$77,12,0),IF(F217=2,VLOOKUP(D217,'Plan Estu Especialidades'!$B$4:$AF$77,7,0),IF(F217=1,VLOOKUP(D217,'Plan Estu Especialidades'!$B$4:$AF$77,7,0)*L217,0)))","v":0},{"$f":"IF(F217=3,VLOOKUP(D217,'Plan Estu Especialidades'!$B$4:$AF$77,13,0),IF(F217=2,VLOOKUP(D217,'Plan Estu Especialidades'!$B$4:$AF$77,8,0),IF(F217=1,VLOOKUP(D217,'Plan Estu Especialidades'!$B$4:$AF$77,8,0)*L217,0)))","v":0},{"$f":"IF(F217=3,VLOOKUP(D217,'Plan Estu Especialidades'!$B$4:$AF$77,14,0),IF(F217=2,VLOOKUP(D217,'Plan Estu Especialidades'!$B$4:$AF$77,9,0),IF(F217=1,VLOOKUP(D217,'Plan Estu Especialidades'!$B$4:$AF$77,9,0)*L217,0)))","v":0},{"$f":"IF(F217=3,VLOOKUP(D217,'Plan Estu Especialidades'!$B$4:$AF$77,15,0),IF(F217=2,VLOOKUP(D217,'Plan Estu Especialidades'!$B$4:$AF$77,10,0),IF(F217=1,VLOOKUP(D217,'Plan Estu Especialidades'!$B$4:$AF$77,10,0)*L217,0)))","v":0},{"$f":"IF(G217=4,VLOOKUP(D217,'Plan Estu Especialidades'!$B$4:$AF$77,27,0),IF(G217=3,VLOOKUP(D217,'Plan Estu Especialidades'!$B$4:$AF$77,22,0),IF(G217=2,VLOOKUP(D217,'Plan Estu Especialidades'!$B$4:$AF$77,17,0),IF(G217=1,VLOOKUP(D217,'Plan Estu Especialidades'!$B$4:$AF$77,17,0)*N217,0))))","v":0},{"$f":"IF(G217=4,VLOOKUP(D217,'Plan Estu Especialidades'!$B$4:$AF$77,28,0),IF(G217=3,VLOOKUP(D217,'Plan Estu Especialidades'!$B$4:$AF$77,23,0),IF(G217=2,VLOOKUP(D217,'Plan Estu Especialidades'!$B$4:$AF$77,18,0),IF(G217=1,VLOOKUP(D217,'Plan Estu Especialidades'!$B$4:$AF$77,18,0)*N217,0))))","v":0},{"$f":"IF(G217=4,VLOOKUP(D217,'Plan Estu Especialidades'!$B$4:$AF$77,29,0),IF(G217=3,VLOOKUP(D217,'Plan Estu Especialidades'!$B$4:$AF$77,24,0),IF(G217=2,VLOOKUP(D217,'Plan Estu Especialidades'!$B$4:$AF$77,19,0),IF(G217=1,VLOOKUP(D217,'Plan Estu Especialidades'!$B$4:$AF$77,19,0)*N217,0))))","v":0},{"$f":"IF(G217=4,VLOOKUP(D217,'Plan Estu Especialidades'!$B$4:$AF$77,30,0),IF(G217=3,VLOOKUP(D217,'Plan Estu Especialidades'!$B$4:$AF$77,25,0),IF(G217=2,VLOOKUP(D217,'Plan Estu Especialidades'!$B$4:$AF$77,20,0),IF(G217=1,VLOOKUP(D217,'Plan Estu Especialidades'!$B$4:$AF$77,20,0)*N217,0))))","v":0},0,0,null,null,null,null,null,0,0,0,null,null,null,null,0,0,0,null,{"$f":"IF(SUM(J217,L217,N217)=0,\"S/V\",VLOOKUP(D217,'Plan Estu Especialidades'!$B$4:$AG$77,32,0))","v":"S/V"},0,0,null,null,null,null,null,null,0,0,0]
[{"$f":"+IF(B218=0,0,SUM($B$62:B218))","v":0},0,92,52,0,0,0,"Mecánica Naval - Sec.Nocturna",{"$f":"+$U$3&\"_\"&D218","v":"_52"},null,null,null,null,null,null,{"$f":"IF(E218=2,VLOOKUP(D218,'Plan Estu Especialidades'!$B$4:$AF$77,3,0),IF(E218=1,VLOOKUP(D218,'Plan Estu Especialidades'!$B$4:$AF$77,3,0)*J218,0))","v":0},{"$f":"IF(E218=2,VLOOKUP(D218,'Plan Estu Especialidades'!$B$4:$AF$77,4,0),IF(E218=1,VLOOKUP(D218,'Plan Estu Especialidades'!$B$4:$AF$77,4,0)*J218,0))","v":0},{"$f":"IF(E218=2,VLOOKUP(D218,'Plan Estu Especialidades'!$B$4:$AF$77,5,0),IF(E218=1,VLOOKUP(D218,'Plan Estu Especialidades'!$B$4:$AF$77,5,0)*J218,0))","v":0},{"$f":"IF(F218=3,VLOOKUP(D218,'Plan Estu Especialidades'!$B$4:$AF$77,12,0),IF(F218=2,VLOOKUP(D218,'Plan Estu Especialidades'!$B$4:$AF$77,7,0),IF(F218=1,VLOOKUP(D218,'Plan Estu Especialidades'!$B$4:$AF$77,7,0)*L218,0)))","v":0},{"$f":"IF(F218=3,VLOOKUP(D218,'Plan Estu Especialidades'!$B$4:$AF$77,13,0),IF(F218=2,VLOOKUP(D218,'Plan Estu Especialidades'!$B$4:$AF$77,8,0),IF(F218=1,VLOOKUP(D218,'Plan Estu Especialidades'!$B$4:$AF$77,8,0)*L218,0)))","v":0},{"$f":"IF(F218=3,VLOOKUP(D218,'Plan Estu Especialidades'!$B$4:$AF$77,14,0),IF(F218=2,VLOOKUP(D218,'Plan Estu Especialidades'!$B$4:$AF$77,9,0),IF(F218=1,VLOOKUP(D218,'Plan Estu Especialidades'!$B$4:$AF$77,9,0)*L218,0)))","v":0},{"$f":"IF(F218=3,VLOOKUP(D218,'Plan Estu Especialidades'!$B$4:$AF$77,15,0),IF(F218=2,VLOOKUP(D218,'Plan Estu Especialidades'!$B$4:$AF$77,10,0),IF(F218=1,VLOOKUP(D218,'Plan Estu Especialidades'!$B$4:$AF$77,10,0)*L218,0)))","v":0},{"$f":"IF(G218=4,VLOOKUP(D218,'Plan Estu Especialidades'!$B$4:$AF$77,27,0),IF(G218=3,VLOOKUP(D218,'Plan Estu Especialidades'!$B$4:$AF$77,22,0),IF(G218=2,VLOOKUP(D218,'Plan Estu Especialidades'!$B$4:$AF$77,17,0),IF(G218=1,VLOOKUP(D218,'Plan Estu Especialidades'!$B$4:$AF$77,17,0)*N218,0))))","v":0},{"$f":"IF(G218=4,VLOOKUP(D218,'Plan Estu Especialidades'!$B$4:$AF$77,28,0),IF(G218=3,VLOOKUP(D218,'Plan Estu Especialidades'!$B$4:$AF$77,23,0),IF(G218=2,VLOOKUP(D218,'Plan Estu Especialidades'!$B$4:$AF$77,18,0),IF(G218=1,VLOOKUP(D218,'Plan Estu Especialidades'!$B$4:$AF$77,18,0)*N218,0))))","v":0},{"$f":"IF(G218=4,VLOOKUP(D218,'Plan Estu Especialidades'!$B$4:$AF$77,29,0),IF(G218=3,VLOOKUP(D218,'Plan Estu Especialidades'!$B$4:$AF$77,24,0),IF(G218=2,VLOOKUP(D218,'Plan Estu Especialidades'!$B$4:$AF$77,19,0),IF(G218=1,VLOOKUP(D218,'Plan Estu Especialidades'!$B$4:$AF$77,19,0)*N218,0))))","v":0},{"$f":"IF(G218=4,VLOOKUP(D218,'Plan Estu Especialidades'!$B$4:$AF$77,30,0),IF(G218=3,VLOOKUP(D218,'Plan Estu Especialidades'!$B$4:$AF$77,25,0),IF(G218=2,VLOOKUP(D218,'Plan Estu Especialidades'!$B$4:$AF$77,20,0),IF(G218=1,VLOOKUP(D218,'Plan Estu Especialidades'!$B$4:$AF$77,20,0)*N218,0))))","v":0},0,0,null,null,null,null,null,0,0,0,null,null,null,null,{"$f":"+J218","v":0},0,0,null,{"$f":"IF(SUM(J218,L218,N218)=0,\"S/V\",VLOOKUP(D218,'Plan Estu Especialidades'!$B$4:$AG$77,32,0))","v":"S/V"},0,0,null,null,null,null,null,null,0,0,0]
[{"$f":"+IF(B219=0,0,SUM($B$62:B219))","v":0},0,92,53,0,0,0,"Mercadeo - Sec.Nocturna","_53",null,null,null,null,null,null,{"$f":"IF(E219=2,VLOOKUP(D219,'Plan Estu Especialidades'!$B$4:$AF$77,3,0),IF(E219=1,VLOOKUP(D219,'Plan Estu Especialidades'!$B$4:$AF$77,3,0)*J219,0))","v":0},{"$f":"IF(E219=2,VLOOKUP(D219,'Plan Estu Especialidades'!$B$4:$AF$77,4,0),IF(E219=1,VLOOKUP(D219,'Plan Estu Especialidades'!$B$4:$AF$77,4,0)*J219,0))","v":0},{"$f":"IF(E219=2,VLOOKUP(D219,'Plan Estu Especialidades'!$B$4:$AF$77,5,0),IF(E219=1,VLOOKUP(D219,'Plan Estu Especialidades'!$B$4:$AF$77,5,0)*J219,0))","v":0},{"$f":"IF(F219=3,VLOOKUP(D219,'Plan Estu Especialidades'!$B$4:$AF$77,12,0),IF(F219=2,VLOOKUP(D219,'Plan Estu Especialidades'!$B$4:$AF$77,7,0),IF(F219=1,VLOOKUP(D219,'Plan Estu Especialidades'!$B$4:$AF$77,7,0)*L219,0)))","v":0},{"$f":"IF(F219=3,VLOOKUP(D219,'Plan Estu Especialidades'!$B$4:$AF$77,13,0),IF(F219=2,VLOOKUP(D219,'Plan Estu Especialidades'!$B$4:$AF$77,8,0),IF(F219=1,VLOOKUP(D219,'Plan Estu Especialidades'!$B$4:$AF$77,8,0)*L219,0)))","v":0},{"$f":"IF(F219=3,VLOOKUP(D219,'Plan Estu Especialidades'!$B$4:$AF$77,14,0),IF(F219=2,VLOOKUP(D219,'Plan Estu Especialidades'!$B$4:$AF$77,9,0),IF(F219=1,VLOOKUP(D219,'Plan Estu Especialidades'!$B$4:$AF$77,9,0)*L219,0)))","v":0},{"$f":"IF(F219=3,VLOOKUP(D219,'Plan Estu Especialidades'!$B$4:$AF$77,15,0),IF(F219=2,VLOOKUP(D219,'Plan Estu Especialidades'!$B$4:$AF$77,10,0),IF(F219=1,VLOOKUP(D219,'Plan Estu Especialidades'!$B$4:$AF$77,10,0)*L219,0)))","v":0},{"$f":"IF(G219=4,VLOOKUP(D219,'Plan Estu Especialidades'!$B$4:$AF$77,27,0),IF(G219=3,VLOOKUP(D219,'Plan Estu Especialidades'!$B$4:$AF$77,22,0),IF(G219=2,VLOOKUP(D219,'Plan Estu Especialidades'!$B$4:$AF$77,17,0),IF(G219=1,VLOOKUP(D219,'Plan Estu Especialidades'!$B$4:$AF$77,17,0)*N219,0))))","v":0},{"$f":"IF(G219=4,VLOOKUP(D219,'Plan Estu Especialidades'!$B$4:$AF$77,28,0),IF(G219=3,VLOOKUP(D219,'Plan Estu Especialidades'!$B$4:$AF$77,23,0),IF(G219=2,VLOOKUP(D219,'Plan Estu Especialidades'!$B$4:$AF$77,18,0),IF(G219=1,VLOOKUP(D219,'Plan Estu Especialidades'!$B$4:$AF$77,18,0)*N219,0))))","v":0},{"$f":"IF(G219=4,VLOOKUP(D219,'Plan Estu Especialidades'!$B$4:$AF$77,29,0),IF(G219=3,VLOOKUP(D219,'Plan Estu Especialidades'!$B$4:$AF$77,24,0),IF(G219=2,VLOOKUP(D219,'Plan Estu Especialidades'!$B$4:$AF$77,19,0),IF(G219=1,VLOOKUP(D219,'Plan Estu Especialidades'!$B$4:$AF$77,19,0)*N219,0))))","v":0},{"$f":"IF(G219=4,VLOOKUP(D219,'Plan Estu Especialidades'!$B$4:$AF$77,30,0),IF(G219=3,VLOOKUP(D219,'Plan Estu Especialidades'!$B$4:$AF$77,25,0),IF(G219=2,VLOOKUP(D219,'Plan Estu Especialidades'!$B$4:$AF$77,20,0),IF(G219=1,VLOOKUP(D219,'Plan Estu Especialidades'!$B$4:$AF$77,20,0)*N219,0))))","v":0},0,0,null,null,null,null,null,0,0,0,null,null,null,null,{"$f":"+J219","v":0},0,0,null,{"$f":"IF(SUM(J219,L219,N219)=0,\"S/V\",VLOOKUP(D219,'Plan Estu Especialidades'!$B$4:$AG$77,32,0))","v":"S/V"},0,0,null,null,null,null,null,null,0,0,0]
[{"$f":"+IF(B220=0,0,SUM($B$62:B220))","v":0},0,92,54,0,0,0,"Operación de Empresas de Alojamiento - Sec.Nocturna","_54",null,null,null,null,null,null,{"$f":"IF(E220=2,VLOOKUP(D220,'Plan Estu Especialidades'!$B$4:$AF$77,3,0),IF(E220=1,VLOOKUP(D220,'Plan Estu Especialidades'!$B$4:$AF$77,3,0)*J220,0))","v":0},{"$f":"IF(E220=2,VLOOKUP(D220,'Plan Estu Especialidades'!$B$4:$AF$77,4,0),IF(E220=1,VLOOKUP(D220,'Plan Estu Especialidades'!$B$4:$AF$77,4,0)*J220,0))","v":0},{"$f":"IF(E220=2,VLOOKUP(D220,'Plan Estu Especialidades'!$B$4:$AF$77,5,0),IF(E220=1,VLOOKUP(D220,'Plan Estu Especialidades'!$B$4:$AF$77,5,0)*J220,0))","v":0},{"$f":"IF(F220=3,VLOOKUP(D220,'Plan Estu Especialidades'!$B$4:$AF$77,12,0),IF(F220=2,VLOOKUP(D220,'Plan Estu Especialidades'!$B$4:$AF$77,7,0),IF(F220=1,VLOOKUP(D220,'Plan Estu Especialidades'!$B$4:$AF$77,7,0)*L220,0)))","v":0},{"$f":"IF(F220=3,VLOOKUP(D220,'Plan Estu Especialidades'!$B$4:$AF$77,13,0),IF(F220=2,VLOOKUP(D220,'Plan Estu Especialidades'!$B$4:$AF$77,8,0),IF(F220=1,VLOOKUP(D220,'Plan Estu Especialidades'!$B$4:$AF$77,8,0)*L220,0)))","v":0},{"$f":"IF(F220=3,VLOOKUP(D220,'Plan Estu Especialidades'!$B$4:$AF$77,14,0),IF(F220=2,VLOOKUP(D220,'Plan Estu Especialidades'!$B$4:$AF$77,9,0),IF(F220=1,VLOOKUP(D220,'Plan Estu Especialidades'!$B$4:$AF$77,9,0)*L220,0)))","v":0},{"$f":"IF(F220=3,VLOOKUP(D220,'Plan Estu Especialidades'!$B$4:$AF$77,15,0),IF(F220=2,VLOOKUP(D220,'Plan Estu Especialidades'!$B$4:$AF$77,10,0),IF(F220=1,VLOOKUP(D220,'Plan Estu Especialidades'!$B$4:$AF$77,10,0)*L220,0)))","v":0},{"$f":"IF(G220=4,VLOOKUP(D220,'Plan Estu Especialidades'!$B$4:$AF$77,27,0),IF(G220=3,VLOOKUP(D220,'Plan Estu Especialidades'!$B$4:$AF$77,22,0),IF(G220=2,VLOOKUP(D220,'Plan Estu Especialidades'!$B$4:$AF$77,17,0),IF(G220=1,VLOOKUP(D220,'Plan Estu Especialidades'!$B$4:$AF$77,17,0)*N220,0))))","v":0},{"$f":"IF(G220=4,VLOOKUP(D220,'Plan Estu Especialidades'!$B$4:$AF$77,28,0),IF(G220=3,VLOOKUP(D220,'Plan Estu Especialidades'!$B$4:$AF$77,23,0),IF(G220=2,VLOOKUP(D220,'Plan Estu Especialidades'!$B$4:$AF$77,18,0),IF(G220=1,VLOOKUP(D220,'Plan Estu Especialidades'!$B$4:$AF$77,18,0)*N220,0))))","v":0},{"$f":"IF(G220=4,VLOOKUP(D220,'Plan Estu Especialidades'!$B$4:$AF$77,29,0),IF(G220=3,VLOOKUP(D220,'Plan Estu Especialidades'!$B$4:$AF$77,24,0),IF(G220=2,VLOOKUP(D220,'Plan Estu Especialidades'!$B$4:$AF$77,19,0),IF(G220=1,VLOOKUP(D220,'Plan Estu Especialidades'!$B$4:$AF$77,19,0)*N220,0))))","v":0},{"$f":"IF(G220=4,VLOOKUP(D220,'Plan Estu Especialidades'!$B$4:$AF$77,30,0),IF(G220=3,VLOOKUP(D220,'Plan Estu Especialidades'!$B$4:$AF$77,25,0),IF(G220=2,VLOOKUP(D220,'Plan Estu Especialidades'!$B$4:$AF$77,20,0),IF(G220=1,VLOOKUP(D220,'Plan Estu Especialidades'!$B$4:$AF$77,20,0)*N220,0))))","v":0},0,0,null,null,null,null,null,0,0,0,null,null,null,null,0,0,0,null,{"$f":"IF(SUM(J220,L220,N220)=0,\"S/V\",VLOOKUP(D220,'Plan Estu Especialidades'!$B$4:$AG$77,32,0))","v":"S/V"},0,0,null,null,null,null,null,null,0,0,0]
[{"$f":"+IF(B221=0,0,SUM($B$62:B221))","v":0},{"$f":"+IF(AA221>0,1,0)","v":0},92,55,{"$f":"IF(K221>29,1,IF(K221>14,2,0))","v":0},{"$f":"IF(M221>20,1,IF(M221>8,2,IF(M221>0,3,0)))","v":0},{"$f":"IF(O221>20,1,IF(O221>7,2,IF(O221>5,3,IF(O221>0,4,0))))","v":0},"Producción Agrícola y Pecuaria - Sec.Nocturna","_55",null,null,null,null,null,null,{"$f":"IF(E221=2,VLOOKUP(D221,'Plan Estu Especialidades'!$B$4:$AF$77,3,0),IF(E221=1,VLOOKUP(D221,'Plan Estu Especialidades'!$B$4:$AF$77,3,0)*J221,0))","v":0},{"$f":"IF(E221=2,VLOOKUP(D221,'Plan Estu Especialidades'!$B$4:$AF$77,4,0),IF(E221=1,VLOOKUP(D221,'Plan Estu Especialidades'!$B$4:$AF$77,4,0)*J221,0))","v":0},{"$f":"IF(E221=2,VLOOKUP(D221,'Plan Estu Especialidades'!$B$4:$AF$77,5,0),IF(E221=1,VLOOKUP(D221,'Plan Estu Especialidades'!$B$4:$AF$77,5,0)*J221,0))","v":0},{"$f":"IF(F221=3,VLOOKUP(D221,'Plan Estu Especialidades'!$B$4:$AF$77,12,0),IF(F221=2,VLOOKUP(D221,'Plan Estu Especialidades'!$B$4:$AF$77,7,0),IF(F221=1,VLOOKUP(D221,'Plan Estu Especialidades'!$B$4:$AF$77,7,0)*L221,0)))","v":0},{"$f":"IF(F221=3,VLOOKUP(D221,'Plan Estu Especialidades'!$B$4:$AF$77,13,0),IF(F221=2,VLOOKUP(D221,'Plan Estu Especialidades'!$B$4:$AF$77,8,0),IF(F221=1,VLOOKUP(D221,'Plan Estu Especialidades'!$B$4:$AF$77,8,0)*L221,0)))","v":0},{"$f":"IF(F221=3,VLOOKUP(D221,'Plan Estu Especialidades'!$B$4:$AF$77,14,0),IF(F221=2,VLOOKUP(D221,'Plan Estu Especialidades'!$B$4:$AF$77,9,0),IF(F221=1,VLOOKUP(D221,'Plan Estu Especialidades'!$B$4:$AF$77,9,0)*L221,0)))","v":0},{"$f":"IF(F221=3,VLOOKUP(D221,'Plan Estu Especialidades'!$B$4:$AF$77,15,0),IF(F221=2,VLOOKUP(D221,'Plan Estu Especialidades'!$B$4:$AF$77,10,0),IF(F221=1,VLOOKUP(D221,'Plan Estu Especialidades'!$B$4:$AF$77,10,0)*L221,0)))","v":0},{"$f":"IF(G221=4,VLOOKUP(D221,'Plan Estu Especialidades'!$B$4:$AF$77,27,0),IF(G221=3,VLOOKUP(D221,'Plan Estu Especialidades'!$B$4:$AF$77,22,0),IF(G221=2,VLOOKUP(D221,'Plan Estu Especialidades'!$B$4:$AF$77,17,0),IF(G221=1,VLOOKUP(D221,'Plan Estu Especialidades'!$B$4:$AF$77,17,0)*N221,0))))","v":0},{"$f":"IF(G221=4,VLOOKUP(D221,'Plan Estu Especialidades'!$B$4:$AF$77,28,0),IF(G221=3,VLOOKUP(D221,'Plan Estu Especialidades'!$B$4:$AF$77,23,0),IF(G221=2,VLOOKUP(D221,'Plan Estu Especialidades'!$B$4:$AF$77,18,0),IF(G221=1,VLOOKUP(D221,'Plan Estu Especialidades'!$B$4:$AF$77,18,0)*N221,0))))","v":0},{"$f":"IF(G221=4,VLOOKUP(D221,'Plan Estu Especialidades'!$B$4:$AF$77,29,0),IF(G221=3,VLOOKUP(D221,'Plan Estu Especialidades'!$B$4:$AF$77,24,0),IF(G221=2,VLOOKUP(D221,'Plan Estu Especialidades'!$B$4:$AF$77,19,0),IF(G221=1,VLOOKUP(D221,'Plan Estu Especialidades'!$B$4:$AF$77,19,0)*N221,0))))","v":0},{"$f":"IF(G221=4,VLOOKUP(D221,'Plan Estu Especialidades'!$B$4:$AF$77,30,0),IF(G221=3,VLOOKUP(D221,'Plan Estu Especialidades'!$B$4:$AF$77,25,0),IF(G221=2,VLOOKUP(D221,'Plan Estu Especialidades'!$B$4:$AF$77,20,0),IF(G221=1,VLOOKUP(D221,'Plan Estu Especialidades'!$B$4:$AF$77,20,0)*N221,0))))","v":0},{"$f":"SUM(P221:R221,S221:U221,W221:Y221)","v":0},{"$f":"+AT221+AU221","v":0},null,null,null,null,null,{"$f":"SUM(P221:R221)","v":0},{"$f":"SUM(S221:U221)","v":0},{"$f":"SUM(W221:Y221)","v":0},null,null,null,null,{"$f":"+J221","v":0},{"$f":"+L221","v":0},{"$f":"+N221","v":0},null,{"$f":"IF(SUM(J221,L221,N221)=0,\"S/V\",VLOOKUP(D221,'Plan Estu Especialidades'!$B$4:$AG$77,32,0))","v":"S/V"},{"$f":"IF(AND(AS221<2,$AT$166>$AU$166),V221+Z221,IF($AT$166=$AU$166,V221+Z221,0))","v":0},{"$f":"+IF(AND($AU$166>$AT$166,AS221=2),V221+Z221,IF(AND($AU$166>$AT$166,AS221=0),V221+Z221,0))","v":0},null,null,null,null,null,null,{"$f":"+IF(AH221=0,0,AH221/J221)","v":0},{"$f":"+IF(AI221=0,0,AI221/L221)","v":0},{"$f":"+IF(AJ221=0,0,AJ221/N221)","v":0}]
[{"$f":"+IF(B222=0,0,SUM($B$62:B222))","v":0},0,92,56,0,0,0,"Productividad y Calidad - Sec.Nocturna","_56",null,null,null,null,null,null,{"$f":"IF(E222=2,VLOOKUP(D222,'Plan Estu Especialidades'!$B$4:$AF$77,3,0),IF(E222=1,VLOOKUP(D222,'Plan Estu Especialidades'!$B$4:$AF$77,3,0)*J222,0))","v":0},{"$f":"IF(E222=2,VLOOKUP(D222,'Plan Estu Especialidades'!$B$4:$AF$77,4,0),IF(E222=1,VLOOKUP(D222,'Plan Estu Especialidades'!$B$4:$AF$77,4,0)*J222,0))","v":0},{"$f":"IF(E222=2,VLOOKUP(D222,'Plan Estu Especialidades'!$B$4:$AF$77,5,0),IF(E222=1,VLOOKUP(D222,'Plan Estu Especialidades'!$B$4:$AF$77,5,0)*J222,0))","v":0},{"$f":"IF(F222=3,VLOOKUP(D222,'Plan Estu Especialidades'!$B$4:$AF$77,12,0),IF(F222=2,VLOOKUP(D222,'Plan Estu Especialidades'!$B$4:$AF$77,7,0),IF(F222=1,VLOOKUP(D222,'Plan Estu Especialidades'!$B$4:$AF$77,7,0)*L222,0)))","v":0},{"$f":"IF(F222=3,VLOOKUP(D222,'Plan Estu Especialidades'!$B$4:$AF$77,13,0),IF(F222=2,VLOOKUP(D222,'Plan Estu Especialidades'!$B$4:$AF$77,8,0),IF(F222=1,VLOOKUP(D222,'Plan Estu Especialidades'!$B$4:$AF$77,8,0)*L222,0)))","v":0},{"$f":"IF(F222=3,VLOOKUP(D222,'Plan Estu Especialidades'!$B$4:$AF$77,14,0),IF(F222=2,VLOOKUP(D222,'Plan Estu Especialidades'!$B$4:$AF$77,9,0),IF(F222=1,VLOOKUP(D222,'Plan Estu Especialidades'!$B$4:$AF$77,9,0)*L222,0)))","v":0},{"$f":"IF(F222=3,VLOOKUP(D222,'Plan Estu Especialidades'!$B$4:$AF$77,15,0),IF(F222=2,VLOOKUP(D222,'Plan Estu Especialidades'!$B$4:$AF$77,10,0),IF(F222=1,VLOOKUP(D222,'Plan Estu Especialidades'!$B$4:$AF$77,10,0)*L222,0)))","v":0},{"$f":"IF(G222=4,VLOOKUP(D222,'Plan Estu Especialidades'!$B$4:$AF$77,27,0),IF(G222=3,VLOOKUP(D222,'Plan Estu Especialidades'!$B$4:$AF$77,22,0),IF(G222=2,VLOOKUP(D222,'Plan Estu Especialidades'!$B$4:$AF$77,17,0),IF(G222=1,VLOOKUP(D222,'Plan Estu Especialidades'!$B$4:$AF$77,17,0)*N222,0))))","v":0},{"$f":"IF(G222=4,VLOOKUP(D222,'Plan Estu Especialidades'!$B$4:$AF$77,28,0),IF(G222=3,VLOOKUP(D222,'Plan Estu Especialidades'!$B$4:$AF$77,23,0),IF(G222=2,VLOOKUP(D222,'Plan Estu Especialidades'!$B$4:$AF$77,18,0),IF(G222=1,VLOOKUP(D222,'Plan Estu Especialidades'!$B$4:$AF$77,18,0)*N222,0))))","v":0},{"$f":"IF(G222=4,VLOOKUP(D222,'Plan Estu Especialidades'!$B$4:$AF$77,29,0),IF(G222=3,VLOOKUP(D222,'Plan Estu Especialidades'!$B$4:$AF$77,24,0),IF(G222=2,VLOOKUP(D222,'Plan Estu Especialidades'!$B$4:$AF$77,19,0),IF(G222=1,VLOOKUP(D222,'Plan Estu Especialidades'!$B$4:$AF$77,19,0)*N222,0))))","v":0},{"$f":"IF(G222=4,VLOOKUP(D222,'Plan Estu Especialidades'!$B$4:$AF$77,30,0),IF(G222=3,VLOOKUP(D222,'Plan Estu Especialidades'!$B$4:$AF$77,25,0),IF(G222=2,VLOOKUP(D222,'Plan Estu Especialidades'!$B$4:$AF$77,20,0),IF(G222=1,VLOOKUP(D222,'Plan Estu Especialidades'!$B$4:$AF$77,20,0)*N222,0))))","v":0},0,0,null,null,null,null,null,0,0,0,null,null,null,null,0,0,0,null,{"$f":"IF(SUM(J222,L222,N222)=0,\"S/V\",VLOOKUP(D222,'Plan Estu Especialidades'!$B$4:$AG$77,32,0))","v":"S/V"},0,0,null,null,null,null,null,null,0,0,0]
[{"$f":"+IF(B223=0,0,SUM($B$62:B223))","v":0},0,92,57,0,0,0,"Productivity and Quality - Sec.Nocturna","_57",null,null,null,null,null,null,{"$f":"IF(E223=2,VLOOKUP(D223,'Plan Estu Especialidades'!$B$4:$AF$77,3,0),IF(E223=1,VLOOKUP(D223,'Plan Estu Especialidades'!$B$4:$AF$77,3,0)*J223,0))","v":0},{"$f":"IF(E223=2,VLOOKUP(D223,'Plan Estu Especialidades'!$B$4:$AF$77,4,0),IF(E223=1,VLOOKUP(D223,'Plan Estu Especialidades'!$B$4:$AF$77,4,0)*J223,0))","v":0},{"$f":"IF(E223=2,VLOOKUP(D223,'Plan Estu Especialidades'!$B$4:$AF$77,5,0),IF(E223=1,VLOOKUP(D223,'Plan Estu Especialidades'!$B$4:$AF$77,5,0)*J223,0))","v":0},{"$f":"IF(F223=3,VLOOKUP(D223,'Plan Estu Especialidades'!$B$4:$AF$77,12,0),IF(F223=2,VLOOKUP(D223,'Plan Estu Especialidades'!$B$4:$AF$77,7,0),IF(F223=1,VLOOKUP(D223,'Plan Estu Especialidades'!$B$4:$AF$77,7,0)*L223,0)))","v":0},{"$f":"IF(F223=3,VLOOKUP(D223,'Plan Estu Especialidades'!$B$4:$AF$77,13,0),IF(F223=2,VLOOKUP(D223,'Plan Estu Especialidades'!$B$4:$AF$77,8,0),IF(F223=1,VLOOKUP(D223,'Plan Estu Especialidades'!$B$4:$AF$77,8,0)*L223,0)))","v":0},{"$f":"IF(F223=3,VLOOKUP(D223,'Plan Estu Especialidades'!$B$4:$AF$77,14,0),IF(F223=2,VLOOKUP(D223,'Plan Estu Especialidades'!$B$4:$AF$77,9,0),IF(F223=1,VLOOKUP(D223,'Plan Estu Especialidades'!$B$4:$AF$77,9,0)*L223,0)))","v":0},{"$f":"IF(F223=3,VLOOKUP(D223,'Plan Estu Especialidades'!$B$4:$AF$77,15,0),IF(F223=2,VLOOKUP(D223,'Plan Estu Especialidades'!$B$4:$AF$77,10,0),IF(F223=1,VLOOKUP(D223,'Plan Estu Especialidades'!$B$4:$AF$77,10,0)*L223,0)))","v":0},{"$f":"IF(G223=4,VLOOKUP(D223,'Plan Estu Especialidades'!$B$4:$AF$77,27,0),IF(G223=3,VLOOKUP(D223,'Plan Estu Especialidades'!$B$4:$AF$77,22,0),IF(G223=2,VLOOKUP(D223,'Plan Estu Especialidades'!$B$4:$AF$77,17,0),IF(G223=1,VLOOKUP(D223,'Plan Estu Especialidades'!$B$4:$AF$77,17,0)*N223,0))))","v":0},{"$f":"IF(G223=4,VLOOKUP(D223,'Plan Estu Especialidades'!$B$4:$AF$77,28,0),IF(G223=3,VLOOKUP(D223,'Plan Estu Especialidades'!$B$4:$AF$77,23,0),IF(G223=2,VLOOKUP(D223,'Plan Estu Especialidades'!$B$4:$AF$77,18,0),IF(G223=1,VLOOKUP(D223,'Plan Estu Especialidades'!$B$4:$AF$77,18,0)*N223,0))))","v":0},{"$f":"IF(G223=4,VLOOKUP(D223,'Plan Estu Especialidades'!$B$4:$AF$77,29,0),IF(G223=3,VLOOKUP(D223,'Plan Estu Especialidades'!$B$4:$AF$77,24,0),IF(G223=2,VLOOKUP(D223,'Plan Estu Especialidades'!$B$4:$AF$77,19,0),IF(G223=1,VLOOKUP(D223,'Plan Estu Especialidades'!$B$4:$AF$77,19,0)*N223,0))))","v":0},{"$f":"IF(G223=4,VLOOKUP(D223,'Plan Estu Especialidades'!$B$4:$AF$77,30,0),IF(G223=3,VLOOKUP(D223,'Plan Estu Especialidades'!$B$4:$AF$77,25,0),IF(G223=2,VLOOKUP(D223,'Plan Estu Especialidades'!$B$4:$AF$77,20,0),IF(G223=1,VLOOKUP(D223,'Plan Estu Especialidades'!$B$4:$AF$77,20,0)*N223,0))))","v":0},0,0,null,null,null,null,null,0,0,0,null,null,null,null,0,0,0,null,{"$f":"IF(SUM(J223,L223,N223)=0,\"S/V\",VLOOKUP(D223,'Plan Estu Especialidades'!$B$4:$AG$77,32,0))","v":"S/V"},0,0,null,null,null,null,null,null,0,0,0]
[{"$f":"+IF(B224=0,0,SUM($B$62:B224))","v":0},0,92,58,0,0,0,"Refrigeración y Aire Acondicionado - Sec.Nocturna",{"$f":"+$U$3&\"_\"&D224","v":"_58"},null,null,null,null,null,null,{"$f":"IF(E224=2,VLOOKUP(D224,'Plan Estu Especialidades'!$B$4:$AF$77,3,0),IF(E224=1,VLOOKUP(D224,'Plan Estu Especialidades'!$B$4:$AF$77,3,0)*J224,0))","v":0},{"$f":"IF(E224=2,VLOOKUP(D224,'Plan Estu Especialidades'!$B$4:$AF$77,4,0),IF(E224=1,VLOOKUP(D224,'Plan Estu Especialidades'!$B$4:$AF$77,4,0)*J224,0))","v":0},{"$f":"IF(E224=2,VLOOKUP(D224,'Plan Estu Especialidades'!$B$4:$AF$77,5,0),IF(E224=1,VLOOKUP(D224,'Plan Estu Especialidades'!$B$4:$AF$77,5,0)*J224,0))","v":0},{"$f":"IF(F224=3,VLOOKUP(D224,'Plan Estu Especialidades'!$B$4:$AF$77,12,0),IF(F224=2,VLOOKUP(D224,'Plan Estu Especialidades'!$B$4:$AF$77,7,0),IF(F224=1,VLOOKUP(D224,'Plan Estu Especialidades'!$B$4:$AF$77,7,0)*L224,0)))","v":0},{"$f":"IF(F224=3,VLOOKUP(D224,'Plan Estu Especialidades'!$B$4:$AF$77,13,0),IF(F224=2,VLOOKUP(D224,'Plan Estu Especialidades'!$B$4:$AF$77,8,0),IF(F224=1,VLOOKUP(D224,'Plan Estu Especialidades'!$B$4:$AF$77,8,0)*L224,0)))","v":0},{"$f":"IF(F224=3,VLOOKUP(D224,'Plan Estu Especialidades'!$B$4:$AF$77,14,0),IF(F224=2,VLOOKUP(D224,'Plan Estu Especialidades'!$B$4:$AF$77,9,0),IF(F224=1,VLOOKUP(D224,'Plan Estu Especialidades'!$B$4:$AF$77,9,0)*L224,0)))","v":0},{"$f":"IF(F224=3,VLOOKUP(D224,'Plan Estu Especialidades'!$B$4:$AF$77,15,0),IF(F224=2,VLOOKUP(D224,'Plan Estu Especialidades'!$B$4:$AF$77,10,0),IF(F224=1,VLOOKUP(D224,'Plan Estu Especialidades'!$B$4:$AF$77,10,0)*L224,0)))","v":0},{"$f":"IF(G224=4,VLOOKUP(D224,'Plan Estu Especialidades'!$B$4:$AF$77,27,0),IF(G224=3,VLOOKUP(D224,'Plan Estu Especialidades'!$B$4:$AF$77,22,0),IF(G224=2,VLOOKUP(D224,'Plan Estu Especialidades'!$B$4:$AF$77,17,0),IF(G224=1,VLOOKUP(D224,'Plan Estu Especialidades'!$B$4:$AF$77,17,0)*N224,0))))","v":0},{"$f":"IF(G224=4,VLOOKUP(D224,'Plan Estu Especialidades'!$B$4:$AF$77,28,0),IF(G224=3,VLOOKUP(D224,'Plan Estu Especialidades'!$B$4:$AF$77,23,0),IF(G224=2,VLOOKUP(D224,'Plan Estu Especialidades'!$B$4:$AF$77,18,0),IF(G224=1,VLOOKUP(D224,'Plan Estu Especialidades'!$B$4:$AF$77,18,0)*N224,0))))","v":0},{"$f":"IF(G224=4,VLOOKUP(D224,'Plan Estu Especialidades'!$B$4:$AF$77,29,0),IF(G224=3,VLOOKUP(D224,'Plan Estu Especialidades'!$B$4:$AF$77,24,0),IF(G224=2,VLOOKUP(D224,'Plan Estu Especialidades'!$B$4:$AF$77,19,0),IF(G224=1,VLOOKUP(D224,'Plan Estu Especialidades'!$B$4:$AF$77,19,0)*N224,0))))","v":0},{"$f":"IF(G224=4,VLOOKUP(D224,'Plan Estu Especialidades'!$B$4:$AF$77,30,0),IF(G224=3,VLOOKUP(D224,'Plan Estu Especialidades'!$B$4:$AF$77,25,0),IF(G224=2,VLOOKUP(D224,'Plan Estu Especialidades'!$B$4:$AF$77,20,0),IF(G224=1,VLOOKUP(D224,'Plan Estu Especialidades'!$B$4:$AF$77,20,0)*N224,0))))","v":0},0,0,null,null,null,null,null,0,0,0,null,null,null,null,0,0,0,null,{"$f":"IF(SUM(J224,L224,N224)=0,\"S/V\",VLOOKUP(D224,'Plan Estu Especialidades'!$B$4:$AG$77,32,0))","v":"S/V"},0,0,null,null,null,null,null,null,0,0,0]
[{"$f":"+IF(B225=0,0,SUM($B$62:B225))","v":0},0,92,59,0,0,0,"Reparación de los Sistemas de Vehículos Livianos - Sec.Nocturna","_59",null,null,null,null,null,null,{"$f":"IF(E225=2,VLOOKUP(D225,'Plan Estu Especialidades'!$B$4:$AF$77,3,0),IF(E225=1,VLOOKUP(D225,'Plan Estu Especialidades'!$B$4:$AF$77,3,0)*J225,0))","v":0},{"$f":"IF(E225=2,VLOOKUP(D225,'Plan Estu Especialidades'!$B$4:$AF$77,4,0),IF(E225=1,VLOOKUP(D225,'Plan Estu Especialidades'!$B$4:$AF$77,4,0)*J225,0))","v":0},{"$f":"IF(E225=2,VLOOKUP(D225,'Plan Estu Especialidades'!$B$4:$AF$77,5,0),IF(E225=1,VLOOKUP(D225,'Plan Estu Especialidades'!$B$4:$AF$77,5,0)*J225,0))","v":0},{"$f":"IF(F225=3,VLOOKUP(D225,'Plan Estu Especialidades'!$B$4:$AF$77,12,0),IF(F225=2,VLOOKUP(D225,'Plan Estu Especialidades'!$B$4:$AF$77,7,0),IF(F225=1,VLOOKUP(D225,'Plan Estu Especialidades'!$B$4:$AF$77,7,0)*L225,0)))","v":0},{"$f":"IF(F225=3,VLOOKUP(D225,'Plan Estu Especialidades'!$B$4:$AF$77,13,0),IF(F225=2,VLOOKUP(D225,'Plan Estu Especialidades'!$B$4:$AF$77,8,0),IF(F225=1,VLOOKUP(D225,'Plan Estu Especialidades'!$B$4:$AF$77,8,0)*L225,0)))","v":0},{"$f":"IF(F225=3,VLOOKUP(D225,'Plan Estu Especialidades'!$B$4:$AF$77,14,0),IF(F225=2,VLOOKUP(D225,'Plan Estu Especialidades'!$B$4:$AF$77,9,0),IF(F225=1,VLOOKUP(D225,'Plan Estu Especialidades'!$B$4:$AF$77,9,0)*L225,0)))","v":0},{"$f":"IF(F225=3,VLOOKUP(D225,'Plan Estu Especialidades'!$B$4:$AF$77,15,0),IF(F225=2,VLOOKUP(D225,'Plan Estu Especialidades'!$B$4:$AF$77,10,0),IF(F225=1,VLOOKUP(D225,'Plan Estu Especialidades'!$B$4:$AF$77,10,0)*L225,0)))","v":0},{"$f":"IF(G225=4,VLOOKUP(D225,'Plan Estu Especialidades'!$B$4:$AF$77,27,0),IF(G225=3,VLOOKUP(D225,'Plan Estu Especialidades'!$B$4:$AF$77,22,0),IF(G225=2,VLOOKUP(D225,'Plan Estu Especialidades'!$B$4:$AF$77,17,0),IF(G225=1,VLOOKUP(D225,'Plan Estu Especialidades'!$B$4:$AF$77,17,0)*N225,0))))","v":0},{"$f":"IF(G225=4,VLOOKUP(D225,'Plan Estu Especialidades'!$B$4:$AF$77,28,0),IF(G225=3,VLOOKUP(D225,'Plan Estu Especialidades'!$B$4:$AF$77,23,0),IF(G225=2,VLOOKUP(D225,'Plan Estu Especialidades'!$B$4:$AF$77,18,0),IF(G225=1,VLOOKUP(D225,'Plan Estu Especialidades'!$B$4:$AF$77,18,0)*N225,0))))","v":0},{"$f":"IF(G225=4,VLOOKUP(D225,'Plan Estu Especialidades'!$B$4:$AF$77,29,0),IF(G225=3,VLOOKUP(D225,'Plan Estu Especialidades'!$B$4:$AF$77,24,0),IF(G225=2,VLOOKUP(D225,'Plan Estu Especialidades'!$B$4:$AF$77,19,0),IF(G225=1,VLOOKUP(D225,'Plan Estu Especialidades'!$B$4:$AF$77,19,0)*N225,0))))","v":0},{"$f":"IF(G225=4,VLOOKUP(D225,'Plan Estu Especialidades'!$B$4:$AF$77,30,0),IF(G225=3,VLOOKUP(D225,'Plan Estu Especialidades'!$B$4:$AF$77,25,0),IF(G225=2,VLOOKUP(D225,'Plan Estu Especialidades'!$B$4:$AF$77,20,0),IF(G225=1,VLOOKUP(D225,'Plan Estu Especialidades'!$B$4:$AF$77,20,0)*N225,0))))","v":0},0,0,null,null,null,null,null,0,0,0,null,null,null,null,0,0,0,null,{"$f":"IF(SUM(J225,L225,N225)=0,\"S/V\",VLOOKUP(D225,'Plan Estu Especialidades'!$B$4:$AG$77,32,0))","v":"S/V"},0,0,null,null,null,null,null,null,0,0,0]
[{"$f":"+IF(B226=0,0,SUM($B$62:B226))","v":0},0,92,60,0,0,0,"Riego y Drenaje - Sec.Nocturna","_60",null,null,null,null,null,null,{"$f":"IF(E226=2,VLOOKUP(D226,'Plan Estu Especialidades'!$B$4:$AF$77,3,0),IF(E226=1,VLOOKUP(D226,'Plan Estu Especialidades'!$B$4:$AF$77,3,0)*J226,0))","v":0},{"$f":"IF(E226=2,VLOOKUP(D226,'Plan Estu Especialidades'!$B$4:$AF$77,4,0),IF(E226=1,VLOOKUP(D226,'Plan Estu Especialidades'!$B$4:$AF$77,4,0)*J226,0))","v":0},{"$f":"IF(E226=2,VLOOKUP(D226,'Plan Estu Especialidades'!$B$4:$AF$77,5,0),IF(E226=1,VLOOKUP(D226,'Plan Estu Especialidades'!$B$4:$AF$77,5,0)*J226,0))","v":0},{"$f":"IF(F226=3,VLOOKUP(D226,'Plan Estu Especialidades'!$B$4:$AF$77,12,0),IF(F226=2,VLOOKUP(D226,'Plan Estu Especialidades'!$B$4:$AF$77,7,0),IF(F226=1,VLOOKUP(D226,'Plan Estu Especialidades'!$B$4:$AF$77,7,0)*L226,0)))","v":0},{"$f":"IF(F226=3,VLOOKUP(D226,'Plan Estu Especialidades'!$B$4:$AF$77,13,0),IF(F226=2,VLOOKUP(D226,'Plan Estu Especialidades'!$B$4:$AF$77,8,0),IF(F226=1,VLOOKUP(D226,'Plan Estu Especialidades'!$B$4:$AF$77,8,0)*L226,0)))","v":0},{"$f":"IF(F226=3,VLOOKUP(D226,'Plan Estu Especialidades'!$B$4:$AF$77,14,0),IF(F226=2,VLOOKUP(D226,'Plan Estu Especialidades'!$B$4:$AF$77,9,0),IF(F226=1,VLOOKUP(D226,'Plan Estu Especialidades'!$B$4:$AF$77,9,0)*L226,0)))","v":0},{"$f":"IF(F226=3,VLOOKUP(D226,'Plan Estu Especialidades'!$B$4:$AF$77,15,0),IF(F226=2,VLOOKUP(D226,'Plan Estu Especialidades'!$B$4:$AF$77,10,0),IF(F226=1,VLOOKUP(D226,'Plan Estu Especialidades'!$B$4:$AF$77,10,0)*L226,0)))","v":0},{"$f":"IF(G226=4,VLOOKUP(D226,'Plan Estu Especialidades'!$B$4:$AF$77,27,0),IF(G226=3,VLOOKUP(D226,'Plan Estu Especialidades'!$B$4:$AF$77,22,0),IF(G226=2,VLOOKUP(D226,'Plan Estu Especialidades'!$B$4:$AF$77,17,0),IF(G226=1,VLOOKUP(D226,'Plan Estu Especialidades'!$B$4:$AF$77,17,0)*N226,0))))","v":0},{"$f":"IF(G226=4,VLOOKUP(D226,'Plan Estu Especialidades'!$B$4:$AF$77,28,0),IF(G226=3,VLOOKUP(D226,'Plan Estu Especialidades'!$B$4:$AF$77,23,0),IF(G226=2,VLOOKUP(D226,'Plan Estu Especialidades'!$B$4:$AF$77,18,0),IF(G226=1,VLOOKUP(D226,'Plan Estu Especialidades'!$B$4:$AF$77,18,0)*N226,0))))","v":0},{"$f":"IF(G226=4,VLOOKUP(D226,'Plan Estu Especialidades'!$B$4:$AF$77,29,0),IF(G226=3,VLOOKUP(D226,'Plan Estu Especialidades'!$B$4:$AF$77,24,0),IF(G226=2,VLOOKUP(D226,'Plan Estu Especialidades'!$B$4:$AF$77,19,0),IF(G226=1,VLOOKUP(D226,'Plan Estu Especialidades'!$B$4:$AF$77,19,0)*N226,0))))","v":0},{"$f":"IF(G226=4,VLOOKUP(D226,'Plan Estu Especialidades'!$B$4:$AF$77,30,0),IF(G226=3,VLOOKUP(D226,'Plan Estu Especialidades'!$B$4:$AF$77,25,0),IF(G226=2,VLOOKUP(D226,'Plan Estu Especialidades'!$B$4:$AF$77,20,0),IF(G226=1,VLOOKUP(D226,'Plan Estu Especialidades'!$B$4:$AF$77,20,0)*N226,0))))","v":0},0,0,null,null,null,null,null,0,0,0,null,null,null,null,0,0,0,null,{"$f":"IF(SUM(J226,L226,N226)=0,\"S/V\",VLOOKUP(D226,'Plan Estu Especialidades'!$B$4:$AG$77,32,0))","v":"S/V"},0,0,null,null,null,null,null,null,0,0,0]
[{"$f":"+IF(B227=0,0,SUM($B$62:B227))","v":0},{"$f":"+IF(AA227>0,1,0)","v":0},92,61,{"$f":"IF(K227>29,1,IF(K227>14,2,0))","v":0},{"$f":"IF(M227>20,1,IF(M227>8,2,IF(M227>0,3,0)))","v":0},{"$f":"IF(O227>20,1,IF(O227>7,2,IF(O227>5,3,IF(O227>0,4,0))))","v":0},"Salud Ocupacional - Sec.Nocturna",{"$f":"+$U$3&\"_\"&D227","v":"_61"},null,null,null,null,null,null,{"$f":"IF(E227=2,VLOOKUP(D227,'Plan Estu Especialidades'!$B$4:$AF$77,3,0),IF(E227=1,VLOOKUP(D227,'Plan Estu Especialidades'!$B$4:$AF$77,3,0)*J227,0))","v":0},{"$f":"IF(E227=2,VLOOKUP(D227,'Plan Estu Especialidades'!$B$4:$AF$77,4,0),IF(E227=1,VLOOKUP(D227,'Plan Estu Especialidades'!$B$4:$AF$77,4,0)*J227,0))","v":0},{"$f":"IF(E227=2,VLOOKUP(D227,'Plan Estu Especialidades'!$B$4:$AF$77,5,0),IF(E227=1,VLOOKUP(D227,'Plan Estu Especialidades'!$B$4:$AF$77,5,0)*J227,0))","v":0},{"$f":"IF(F227=3,VLOOKUP(D227,'Plan Estu Especialidades'!$B$4:$AF$77,12,0),IF(F227=2,VLOOKUP(D227,'Plan Estu Especialidades'!$B$4:$AF$77,7,0),IF(F227=1,VLOOKUP(D227,'Plan Estu Especialidades'!$B$4:$AF$77,7,0)*L227,0)))","v":0},{"$f":"IF(F227=3,VLOOKUP(D227,'Plan Estu Especialidades'!$B$4:$AF$77,13,0),IF(F227=2,VLOOKUP(D227,'Plan Estu Especialidades'!$B$4:$AF$77,8,0),IF(F227=1,VLOOKUP(D227,'Plan Estu Especialidades'!$B$4:$AF$77,8,0)*L227,0)))","v":0},{"$f":"IF(F227=3,VLOOKUP(D227,'Plan Estu Especialidades'!$B$4:$AF$77,14,0),IF(F227=2,VLOOKUP(D227,'Plan Estu Especialidades'!$B$4:$AF$77,9,0),IF(F227=1,VLOOKUP(D227,'Plan Estu Especialidades'!$B$4:$AF$77,9,0)*L227,0)))","v":0},{"$f":"IF(F227=3,VLOOKUP(D227,'Plan Estu Especialidades'!$B$4:$AF$77,15,0),IF(F227=2,VLOOKUP(D227,'Plan Estu Especialidades'!$B$4:$AF$77,10,0),IF(F227=1,VLOOKUP(D227,'Plan Estu Especialidades'!$B$4:$AF$77,10,0)*L227,0)))","v":0},{"$f":"IF(G227=4,VLOOKUP(D227,'Plan Estu Especialidades'!$B$4:$AF$77,27,0),IF(G227=3,VLOOKUP(D227,'Plan Estu Especialidades'!$B$4:$AF$77,22,0),IF(G227=2,VLOOKUP(D227,'Plan Estu Especialidades'!$B$4:$AF$77,17,0),IF(G227=1,VLOOKUP(D227,'Plan Estu Especialidades'!$B$4:$AF$77,17,0)*N227,0))))","v":0},{"$f":"IF(G227=4,VLOOKUP(D227,'Plan Estu Especialidades'!$B$4:$AF$77,28,0),IF(G227=3,VLOOKUP(D227,'Plan Estu Especialidades'!$B$4:$AF$77,23,0),IF(G227=2,VLOOKUP(D227,'Plan Estu Especialidades'!$B$4:$AF$77,18,0),IF(G227=1,VLOOKUP(D227,'Plan Estu Especialidades'!$B$4:$AF$77,18,0)*N227,0))))","v":0},{"$f":"IF(G227=4,VLOOKUP(D227,'Plan Estu Especialidades'!$B$4:$AF$77,29,0),IF(G227=3,VLOOKUP(D227,'Plan Estu Especialidades'!$B$4:$AF$77,24,0),IF(G227=2,VLOOKUP(D227,'Plan Estu Especialidades'!$B$4:$AF$77,19,0),IF(G227=1,VLOOKUP(D227,'Plan Estu Especialidades'!$B$4:$AF$77,19,0)*N227,0))))","v":0},{"$f":"IF(G227=4,VLOOKUP(D227,'Plan Estu Especialidades'!$B$4:$AF$77,30,0),IF(G227=3,VLOOKUP(D227,'Plan Estu Especialidades'!$B$4:$AF$77,25,0),IF(G227=2,VLOOKUP(D227,'Plan Estu Especialidades'!$B$4:$AF$77,20,0),IF(G227=1,VLOOKUP(D227,'Plan Estu Especialidades'!$B$4:$AF$77,20,0)*N227,0))))","v":0},{"$f":"SUM(P227:R227,S227:U227,W227:Y227)","v":0},{"$f":"+AT227+AU227","v":0},null,null,null,null,null,{"$f":"SUM(P227:R227)","v":0},{"$f":"SUM(S227:U227)","v":0},{"$f":"SUM(W227:Y227)","v":0},null,null,null,null,{"$f":"+J227","v":0},{"$f":"+L227","v":0},{"$f":"+N227","v":0},null,{"$f":"IF(SUM(J227,L227,N227)=0,\"S/V\",VLOOKUP(D227,'Plan Estu Especialidades'!$B$4:$AG$77,32,0))","v":"S/V"},{"$f":"IF(AND(AS227<2,$AT$166>$AU$166),V227+Z227,IF($AT$166=$AU$166,V227+Z227,0))","v":0},{"$f":"+IF(AND($AU$166>$AT$166,AS227=2),V227+Z227,IF(AND($AU$166>$AT$166,AS227=0),V227+Z227,0))","v":0},null,null,null,null,null,null,{"$f":"+IF(AH227=0,0,AH227/J227)","v":0},{"$f":"+IF(AI227=0,0,AI227/L227)","v":0},{"$f":"+IF(AJ227=0,0,AJ227/N227)","v":0}]
[{"$f":"+IF(B228=0,0,SUM($B$62:B228))","v":0},0,92,62,0,0,0,"Secretariado Ejecutivo - Sec.Nocturna","_62",null,null,null,null,null,null,{"$f":"IF(E228=2,VLOOKUP(D228,'Plan Estu Especialidades'!$B$4:$AF$77,3,0),IF(E228=1,VLOOKUP(D228,'Plan Estu Especialidades'!$B$4:$AF$77,3,0)*J228,0))","v":0},{"$f":"IF(E228=2,VLOOKUP(D228,'Plan Estu Especialidades'!$B$4:$AF$77,4,0),IF(E228=1,VLOOKUP(D228,'Plan Estu Especialidades'!$B$4:$AF$77,4,0)*J228,0))","v":0},{"$f":"IF(E228=2,VLOOKUP(D228,'Plan Estu Especialidades'!$B$4:$AF$77,5,0),IF(E228=1,VLOOKUP(D228,'Plan Estu Especialidades'!$B$4:$AF$77,5,0)*J228,0))","v":0},{"$f":"IF(F228=3,VLOOKUP(D228,'Plan Estu Especialidades'!$B$4:$AF$77,12,0),IF(F228=2,VLOOKUP(D228,'Plan Estu Especialidades'!$B$4:$AF$77,7,0),IF(F228=1,VLOOKUP(D228,'Plan Estu Especialidades'!$B$4:$AF$77,7,0)*L228,0)))","v":0},{"$f":"IF(F228=3,VLOOKUP(D228,'Plan Estu Especialidades'!$B$4:$AF$77,13,0),IF(F228=2,VLOOKUP(D228,'Plan Estu Especialidades'!$B$4:$AF$77,8,0),IF(F228=1,VLOOKUP(D228,'Plan Estu Especialidades'!$B$4:$AF$77,8,0)*L228,0)))","v":0},{"$f":"IF(F228=3,VLOOKUP(D228,'Plan Estu Especialidades'!$B$4:$AF$77,14,0),IF(F228=2,VLOOKUP(D228,'Plan Estu Especialidades'!$B$4:$AF$77,9,0),IF(F228=1,VLOOKUP(D228,'Plan Estu Especialidades'!$B$4:$AF$77,9,0)*L228,0)))","v":0},{"$f":"IF(F228=3,VLOOKUP(D228,'Plan Estu Especialidades'!$B$4:$AF$77,15,0),IF(F228=2,VLOOKUP(D228,'Plan Estu Especialidades'!$B$4:$AF$77,10,0),IF(F228=1,VLOOKUP(D228,'Plan Estu Especialidades'!$B$4:$AF$77,10,0)*L228,0)))","v":0},{"$f":"IF(G228=4,VLOOKUP(D228,'Plan Estu Especialidades'!$B$4:$AF$77,27,0),IF(G228=3,VLOOKUP(D228,'Plan Estu Especialidades'!$B$4:$AF$77,22,0),IF(G228=2,VLOOKUP(D228,'Plan Estu Especialidades'!$B$4:$AF$77,17,0),IF(G228=1,VLOOKUP(D228,'Plan Estu Especialidades'!$B$4:$AF$77,17,0)*N228,0))))","v":0},{"$f":"IF(G228=4,VLOOKUP(D228,'Plan Estu Especialidades'!$B$4:$AF$77,28,0),IF(G228=3,VLOOKUP(D228,'Plan Estu Especialidades'!$B$4:$AF$77,23,0),IF(G228=2,VLOOKUP(D228,'Plan Estu Especialidades'!$B$4:$AF$77,18,0),IF(G228=1,VLOOKUP(D228,'Plan Estu Especialidades'!$B$4:$AF$77,18,0)*N228,0))))","v":0},{"$f":"IF(G228=4,VLOOKUP(D228,'Plan Estu Especialidades'!$B$4:$AF$77,29,0),IF(G228=3,VLOOKUP(D228,'Plan Estu Especialidades'!$B$4:$AF$77,24,0),IF(G228=2,VLOOKUP(D228,'Plan Estu Especialidades'!$B$4:$AF$77,19,0),IF(G228=1,VLOOKUP(D228,'Plan Estu Especialidades'!$B$4:$AF$77,19,0)*N228,0))))","v":0},{"$f":"IF(G228=4,VLOOKUP(D228,'Plan Estu Especialidades'!$B$4:$AF$77,30,0),IF(G228=3,VLOOKUP(D228,'Plan Estu Especialidades'!$B$4:$AF$77,25,0),IF(G228=2,VLOOKUP(D228,'Plan Estu Especialidades'!$B$4:$AF$77,20,0),IF(G228=1,VLOOKUP(D228,'Plan Estu Especialidades'!$B$4:$AF$77,20,0)*N228,0))))","v":0},0,0,null,null,null,null,null,0,0,0,null,null,null,null,0,0,0,null,{"$f":"IF(SUM(J228,L228,N228)=0,\"S/V\",VLOOKUP(D228,'Plan Estu Especialidades'!$B$4:$AG$77,32,0))","v":"S/V"},0,0,null,null,null,null,null,null,0,0,0]
[{"$f":"+IF(B229=0,0,SUM($B$62:B229))","v":0},0,92,63,0,0,0,"Turismo Costero - Sec.Nocturna","_63",null,null,null,null,null,null,{"$f":"IF(E229=2,VLOOKUP(D229,'Plan Estu Especialidades'!$B$4:$AF$77,3,0),IF(E229=1,VLOOKUP(D229,'Plan Estu Especialidades'!$B$4:$AF$77,3,0)*J229,0))","v":0},{"$f":"IF(E229=2,VLOOKUP(D229,'Plan Estu Especialidades'!$B$4:$AF$77,4,0),IF(E229=1,VLOOKUP(D229,'Plan Estu Especialidades'!$B$4:$AF$77,4,0)*J229,0))","v":0},{"$f":"IF(E229=2,VLOOKUP(D229,'Plan Estu Especialidades'!$B$4:$AF$77,5,0),IF(E229=1,VLOOKUP(D229,'Plan Estu Especialidades'!$B$4:$AF$77,5,0)*J229,0))","v":0},{"$f":"IF(F229=3,VLOOKUP(D229,'Plan Estu Especialidades'!$B$4:$AF$77,12,0),IF(F229=2,VLOOKUP(D229,'Plan Estu Especialidades'!$B$4:$AF$77,7,0),IF(F229=1,VLOOKUP(D229,'Plan Estu Especialidades'!$B$4:$AF$77,7,0)*L229,0)))","v":0},{"$f":"IF(F229=3,VLOOKUP(D229,'Plan Estu Especialidades'!$B$4:$AF$77,13,0),IF(F229=2,VLOOKUP(D229,'Plan Estu Especialidades'!$B$4:$AF$77,8,0),IF(F229=1,VLOOKUP(D229,'Plan Estu Especialidades'!$B$4:$AF$77,8,0)*L229,0)))","v":0},{"$f":"IF(F229=3,VLOOKUP(D229,'Plan Estu Especialidades'!$B$4:$AF$77,14,0),IF(F229=2,VLOOKUP(D229,'Plan Estu Especialidades'!$B$4:$AF$77,9,0),IF(F229=1,VLOOKUP(D229,'Plan Estu Especialidades'!$B$4:$AF$77,9,0)*L229,0)))","v":0},{"$f":"IF(F229=3,VLOOKUP(D229,'Plan Estu Especialidades'!$B$4:$AF$77,15,0),IF(F229=2,VLOOKUP(D229,'Plan Estu Especialidades'!$B$4:$AF$77,10,0),IF(F229=1,VLOOKUP(D229,'Plan Estu Especialidades'!$B$4:$AF$77,10,0)*L229,0)))","v":0},{"$f":"IF(G229=4,VLOOKUP(D229,'Plan Estu Especialidades'!$B$4:$AF$77,27,0),IF(G229=3,VLOOKUP(D229,'Plan Estu Especialidades'!$B$4:$AF$77,22,0),IF(G229=2,VLOOKUP(D229,'Plan Estu Especialidades'!$B$4:$AF$77,17,0),IF(G229=1,VLOOKUP(D229,'Plan Estu Especialidades'!$B$4:$AF$77,17,0)*N229,0))))","v":0},{"$f":"IF(G229=4,VLOOKUP(D229,'Plan Estu Especialidades'!$B$4:$AF$77,28,0),IF(G229=3,VLOOKUP(D229,'Plan Estu Especialidades'!$B$4:$AF$77,23,0),IF(G229=2,VLOOKUP(D229,'Plan Estu Especialidades'!$B$4:$AF$77,18,0),IF(G229=1,VLOOKUP(D229,'Plan Estu Especialidades'!$B$4:$AF$77,18,0)*N229,0))))","v":0},{"$f":"IF(G229=4,VLOOKUP(D229,'Plan Estu Especialidades'!$B$4:$AF$77,29,0),IF(G229=3,VLOOKUP(D229,'Plan Estu Especialidades'!$B$4:$AF$77,24,0),IF(G229=2,VLOOKUP(D229,'Plan Estu Especialidades'!$B$4:$AF$77,19,0),IF(G229=1,VLOOKUP(D229,'Plan Estu Especialidades'!$B$4:$AF$77,19,0)*N229,0))))","v":0},{"$f":"IF(G229=4,VLOOKUP(D229,'Plan Estu Especialidades'!$B$4:$AF$77,30,0),IF(G229=3,VLOOKUP(D229,'Plan Estu Especialidades'!$B$4:$AF$77,25,0),IF(G229=2,VLOOKUP(D229,'Plan Estu Especialidades'!$B$4:$AF$77,20,0),IF(G229=1,VLOOKUP(D229,'Plan Estu Especialidades'!$B$4:$AF$77,20,0)*N229,0))))","v":0},0,0,null,null,null,null,null,0,0,0,null,null,null,null,0,0,0,null,{"$f":"IF(SUM(J229,L229,N229)=0,\"S/V\",VLOOKUP(D229,'Plan Estu Especialidades'!$B$4:$AG$77,32,0))","v":"S/V"},0,0,null,null,null,null,null,null,0,0,0]
[{"$f":"+IF(B230=0,0,SUM($B$62:B230))","v":0},0,92,64,0,0,0,"Turismo Ecológico - Sec.Nocturna","_64",null,null,null,null,null,null,{"$f":"IF(E230=2,VLOOKUP(D230,'Plan Estu Especialidades'!$B$4:$AF$77,3,0),IF(E230=1,VLOOKUP(D230,'Plan Estu Especialidades'!$B$4:$AF$77,3,0)*J230,0))","v":0},{"$f":"IF(E230=2,VLOOKUP(D230,'Plan Estu Especialidades'!$B$4:$AF$77,4,0),IF(E230=1,VLOOKUP(D230,'Plan Estu Especialidades'!$B$4:$AF$77,4,0)*J230,0))","v":0},{"$f":"IF(E230=2,VLOOKUP(D230,'Plan Estu Especialidades'!$B$4:$AF$77,5,0),IF(E230=1,VLOOKUP(D230,'Plan Estu Especialidades'!$B$4:$AF$77,5,0)*J230,0))","v":0},{"$f":"IF(F230=3,VLOOKUP(D230,'Plan Estu Especialidades'!$B$4:$AF$77,12,0),IF(F230=2,VLOOKUP(D230,'Plan Estu Especialidades'!$B$4:$AF$77,7,0),IF(F230=1,VLOOKUP(D230,'Plan Estu Especialidades'!$B$4:$AF$77,7,0)*L230,0)))","v":0},{"$f":"IF(F230=3,VLOOKUP(D230,'Plan Estu Especialidades'!$B$4:$AF$77,13,0),IF(F230=2,VLOOKUP(D230,'Plan Estu Especialidades'!$B$4:$AF$77,8,0),IF(F230=1,VLOOKUP(D230,'Plan Estu Especialidades'!$B$4:$AF$77,8,0)*L230,0)))","v":0},{"$f":"IF(F230=3,VLOOKUP(D230,'Plan Estu Especialidades'!$B$4:$AF$77,14,0),IF(F230=2,VLOOKUP(D230,'Plan Estu Especialidades'!$B$4:$AF$77,9,0),IF(F230=1,VLOOKUP(D230,'Plan Estu Especialidades'!$B$4:$AF$77,9,0)*L230,0)))","v":0},{"$f":"IF(F230=3,VLOOKUP(D230,'Plan Estu Especialidades'!$B$4:$AF$77,15,0),IF(F230=2,VLOOKUP(D230,'Plan Estu Especialidades'!$B$4:$AF$77,10,0),IF(F230=1,VLOOKUP(D230,'Plan Estu Especialidades'!$B$4:$AF$77,10,0)*L230,0)))","v":0},{"$f":"IF(G230=4,VLOOKUP(D230,'Plan Estu Especialidades'!$B$4:$AF$77,27,0),IF(G230=3,VLOOKUP(D230,'Plan Estu Especialidades'!$B$4:$AF$77,22,0),IF(G230=2,VLOOKUP(D230,'Plan Estu Especialidades'!$B$4:$AF$77,17,0),IF(G230=1,VLOOKUP(D230,'Plan Estu Especialidades'!$B$4:$AF$77,17,0)*N230,0))))","v":0},{"$f":"IF(G230=4,VLOOKUP(D230,'Plan Estu Especialidades'!$B$4:$AF$77,28,0),IF(G230=3,VLOOKUP(D230,'Plan Estu Especialidades'!$B$4:$AF$77,23,0),IF(G230=2,VLOOKUP(D230,'Plan Estu Especialidades'!$B$4:$AF$77,18,0),IF(G230=1,VLOOKUP(D230,'Plan Estu Especialidades'!$B$4:$AF$77,18,0)*N230,0))))","v":0},{"$f":"IF(G230=4,VLOOKUP(D230,'Plan Estu Especialidades'!$B$4:$AF$77,29,0),IF(G230=3,VLOOKUP(D230,'Plan Estu Especialidades'!$B$4:$AF$77,24,0),IF(G230=2,VLOOKUP(D230,'Plan Estu Especialidades'!$B$4:$AF$77,19,0),IF(G230=1,VLOOKUP(D230,'Plan Estu Especialidades'!$B$4:$AF$77,19,0)*N230,0))))","v":0},{"$f":"IF(G230=4,VLOOKUP(D230,'Plan Estu Especialidades'!$B$4:$AF$77,30,0),IF(G230=3,VLOOKUP(D230,'Plan Estu Especialidades'!$B$4:$AF$77,25,0),IF(G230=2,VLOOKUP(D230,'Plan Estu Especialidades'!$B$4:$AF$77,20,0),IF(G230=1,VLOOKUP(D230,'Plan Estu Especialidades'!$B$4:$AF$77,20,0)*N230,0))))","v":0},0,0,null,null,null,null,null,0,0,0,null,null,null,null,0,0,0,null,{"$f":"IF(SUM(J230,L230,N230)=0,\"S/V\",VLOOKUP(D230,'Plan Estu Especialidades'!$B$4:$AG$77,32,0))","v":"S/V"},0,0,null,null,null,null,null,null,0,0,0]
[{"$f":"+IF(B231=0,0,SUM($B$62:B231))","v":0},0,92,65,0,0,0,"Turismo en Alimentos y Bebidas - Sec.Nocturna","_65",null,null,null,null,null,null,{"$f":"IF(E231=2,VLOOKUP(D231,'Plan Estu Especialidades'!$B$4:$AF$77,3,0),IF(E231=1,VLOOKUP(D231,'Plan Estu Especialidades'!$B$4:$AF$77,3,0)*J231,0))","v":0},{"$f":"IF(E231=2,VLOOKUP(D231,'Plan Estu Especialidades'!$B$4:$AF$77,4,0),IF(E231=1,VLOOKUP(D231,'Plan Estu Especialidades'!$B$4:$AF$77,4,0)*J231,0))","v":0},{"$f":"IF(E231=2,VLOOKUP(D231,'Plan Estu Especialidades'!$B$4:$AF$77,5,0),IF(E231=1,VLOOKUP(D231,'Plan Estu Especialidades'!$B$4:$AF$77,5,0)*J231,0))","v":0},{"$f":"IF(F231=3,VLOOKUP(D231,'Plan Estu Especialidades'!$B$4:$AF$77,12,0),IF(F231=2,VLOOKUP(D231,'Plan Estu Especialidades'!$B$4:$AF$77,7,0),IF(F231=1,VLOOKUP(D231,'Plan Estu Especialidades'!$B$4:$AF$77,7,0)*L231,0)))","v":0},{"$f":"IF(F231=3,VLOOKUP(D231,'Plan Estu Especialidades'!$B$4:$AF$77,13,0),IF(F231=2,VLOOKUP(D231,'Plan Estu Especialidades'!$B$4:$AF$77,8,0),IF(F231=1,VLOOKUP(D231,'Plan Estu Especialidades'!$B$4:$AF$77,8,0)*L231,0)))","v":0},{"$f":"IF(F231=3,VLOOKUP(D231,'Plan Estu Especialidades'!$B$4:$AF$77,14,0),IF(F231=2,VLOOKUP(D231,'Plan Estu Especialidades'!$B$4:$AF$77,9,0),IF(F231=1,VLOOKUP(D231,'Plan Estu Especialidades'!$B$4:$AF$77,9,0)*L231,0)))","v":0},{"$f":"IF(F231=3,VLOOKUP(D231,'Plan Estu Especialidades'!$B$4:$AF$77,15,0),IF(F231=2,VLOOKUP(D231,'Plan Estu Especialidades'!$B$4:$AF$77,10,0),IF(F231=1,VLOOKUP(D231,'Plan Estu Especialidades'!$B$4:$AF$77,10,0)*L231,0)))","v":0},{"$f":"IF(G231=4,VLOOKUP(D231,'Plan Estu Especialidades'!$B$4:$AF$77,27,0),IF(G231=3,VLOOKUP(D231,'Plan Estu Especialidades'!$B$4:$AF$77,22,0),IF(G231=2,VLOOKUP(D231,'Plan Estu Especialidades'!$B$4:$AF$77,17,0),IF(G231=1,VLOOKUP(D231,'Plan Estu Especialidades'!$B$4:$AF$77,17,0)*N231,0))))","v":0},{"$f":"IF(G231=4,VLOOKUP(D231,'Plan Estu Especialidades'!$B$4:$AF$77,28,0),IF(G231=3,VLOOKUP(D231,'Plan Estu Especialidades'!$B$4:$AF$77,23,0),IF(G231=2,VLOOKUP(D231,'Plan Estu Especialidades'!$B$4:$AF$77,18,0),IF(G231=1,VLOOKUP(D231,'Plan Estu Especialidades'!$B$4:$AF$77,18,0)*N231,0))))","v":0},{"$f":"IF(G231=4,VLOOKUP(D231,'Plan Estu Especialidades'!$B$4:$AF$77,29,0),IF(G231=3,VLOOKUP(D231,'Plan Estu Especialidades'!$B$4:$AF$77,24,0),IF(G231=2,VLOOKUP(D231,'Plan Estu Especialidades'!$B$4:$AF$77,19,0),IF(G231=1,VLOOKUP(D231,'Plan Estu Especialidades'!$B$4:$AF$77,19,0)*N231,0))))","v":0},{"$f":"IF(G231=4,VLOOKUP(D231,'Plan Estu Especialidades'!$B$4:$AF$77,30,0),IF(G231=3,VLOOKUP(D231,'Plan Estu Especialidades'!$B$4:$AF$77,25,0),IF(G231=2,VLOOKUP(D231,'Plan Estu Especialidades'!$B$4:$AF$77,20,0),IF(G231=1,VLOOKUP(D231,'Plan Estu Especialidades'!$B$4:$AF$77,20,0)*N231,0))))","v":0},0,0,null,null,null,null,null,0,0,0,null,null,null,null,0,0,0,null,{"$f":"IF(SUM(J231,L231,N231)=0,\"S/V\",VLOOKUP(D231,'Plan Estu Especialidades'!$B$4:$AG$77,32,0))","v":"S/V"},0,0,null,null,null,null,null,null,0,0,0]
[{"$f":"+IF(B232=0,0,SUM($B$62:B232))","v":0},0,92,66,0,0,0,"Turismo en Hotelería y Eventos Especial - Sec.Nocturna","_66",null,null,null,null,null,null,{"$f":"IF(E232=2,VLOOKUP(D232,'Plan Estu Especialidades'!$B$4:$AF$77,3,0),IF(E232=1,VLOOKUP(D232,'Plan Estu Especialidades'!$B$4:$AF$77,3,0)*J232,0))","v":0},{"$f":"IF(E232=2,VLOOKUP(D232,'Plan Estu Especialidades'!$B$4:$AF$77,4,0),IF(E232=1,VLOOKUP(D232,'Plan Estu Especialidades'!$B$4:$AF$77,4,0)*J232,0))","v":0},{"$f":"IF(E232=2,VLOOKUP(D232,'Plan Estu Especialidades'!$B$4:$AF$77,5,0),IF(E232=1,VLOOKUP(D232,'Plan Estu Especialidades'!$B$4:$AF$77,5,0)*J232,0))","v":0},{"$f":"IF(F232=3,VLOOKUP(D232,'Plan Estu Especialidades'!$B$4:$AF$77,12,0),IF(F232=2,VLOOKUP(D232,'Plan Estu Especialidades'!$B$4:$AF$77,7,0),IF(F232=1,VLOOKUP(D232,'Plan Estu Especialidades'!$B$4:$AF$77,7,0)*L232,0)))","v":0},{"$f":"IF(F232=3,VLOOKUP(D232,'Plan Estu Especialidades'!$B$4:$AF$77,13,0),IF(F232=2,VLOOKUP(D232,'Plan Estu Especialidades'!$B$4:$AF$77,8,0),IF(F232=1,VLOOKUP(D232,'Plan Estu Especialidades'!$B$4:$AF$77,8,0)*L232,0)))","v":0},{"$f":"IF(F232=3,VLOOKUP(D232,'Plan Estu Especialidades'!$B$4:$AF$77,14,0),IF(F232=2,VLOOKUP(D232,'Plan Estu Especialidades'!$B$4:$AF$77,9,0),IF(F232=1,VLOOKUP(D232,'Plan Estu Especialidades'!$B$4:$AF$77,9,0)*L232,0)))","v":0},{"$f":"IF(F232=3,VLOOKUP(D232,'Plan Estu Especialidades'!$B$4:$AF$77,15,0),IF(F232=2,VLOOKUP(D232,'Plan Estu Especialidades'!$B$4:$AF$77,10,0),IF(F232=1,VLOOKUP(D232,'Plan Estu Especialidades'!$B$4:$AF$77,10,0)*L232,0)))","v":0},{"$f":"IF(G232=4,VLOOKUP(D232,'Plan Estu Especialidades'!$B$4:$AF$77,27,0),IF(G232=3,VLOOKUP(D232,'Plan Estu Especialidades'!$B$4:$AF$77,22,0),IF(G232=2,VLOOKUP(D232,'Plan Estu Especialidades'!$B$4:$AF$77,17,0),IF(G232=1,VLOOKUP(D232,'Plan Estu Especialidades'!$B$4:$AF$77,17,0)*N232,0))))","v":0},{"$f":"IF(G232=4,VLOOKUP(D232,'Plan Estu Especialidades'!$B$4:$AF$77,28,0),IF(G232=3,VLOOKUP(D232,'Plan Estu Especialidades'!$B$4:$AF$77,23,0),IF(G232=2,VLOOKUP(D232,'Plan Estu Especialidades'!$B$4:$AF$77,18,0),IF(G232=1,VLOOKUP(D232,'Plan Estu Especialidades'!$B$4:$AF$77,18,0)*N232,0))))","v":0},{"$f":"IF(G232=4,VLOOKUP(D232,'Plan Estu Especialidades'!$B$4:$AF$77,29,0),IF(G232=3,VLOOKUP(D232,'Plan Estu Especialidades'!$B$4:$AF$77,24,0),IF(G232=2,VLOOKUP(D232,'Plan Estu Especialidades'!$B$4:$AF$77,19,0),IF(G232=1,VLOOKUP(D232,'Plan Estu Especialidades'!$B$4:$AF$77,19,0)*N232,0))))","v":0},{"$f":"IF(G232=4,VLOOKUP(D232,'Plan Estu Especialidades'!$B$4:$AF$77,30,0),IF(G232=3,VLOOKUP(D232,'Plan Estu Especialidades'!$B$4:$AF$77,25,0),IF(G232=2,VLOOKUP(D232,'Plan Estu Especialidades'!$B$4:$AF$77,20,0),IF(G232=1,VLOOKUP(D232,'Plan Estu Especialidades'!$B$4:$AF$77,20,0)*N232,0))))","v":0},0,0,null,null,null,null,null,0,0,0,null,null,null,null,0,0,0,null,{"$f":"IF(SUM(J232,L232,N232)=0,\"S/V\",VLOOKUP(D232,'Plan Estu Especialidades'!$B$4:$AG$77,32,0))","v":"S/V"},0,0,null,null,null,null,null,null,0,0,0]
[{"$f":"+IF(B233=0,0,SUM($B$62:B233))","v":0},0,92,67,0,0,0,"Turismo Rural - Sec.Nocturna","_67",null,null,null,null,null,null,{"$f":"IF(E233=2,VLOOKUP(D233,'Plan Estu Especialidades'!$B$4:$AF$77,3,0),IF(E233=1,VLOOKUP(D233,'Plan Estu Especialidades'!$B$4:$AF$77,3,0)*J233,0))","v":0},{"$f":"IF(E233=2,VLOOKUP(D233,'Plan Estu Especialidades'!$B$4:$AF$77,4,0),IF(E233=1,VLOOKUP(D233,'Plan Estu Especialidades'!$B$4:$AF$77,4,0)*J233,0))","v":0},{"$f":"IF(E233=2,VLOOKUP(D233,'Plan Estu Especialidades'!$B$4:$AF$77,5,0),IF(E233=1,VLOOKUP(D233,'Plan Estu Especialidades'!$B$4:$AF$77,5,0)*J233,0))","v":0},{"$f":"IF(F233=3,VLOOKUP(D233,'Plan Estu Especialidades'!$B$4:$AF$77,12,0),IF(F233=2,VLOOKUP(D233,'Plan Estu Especialidades'!$B$4:$AF$77,7,0),IF(F233=1,VLOOKUP(D233,'Plan Estu Especialidades'!$B$4:$AF$77,7,0)*L233,0)))","v":0},{"$f":"IF(F233=3,VLOOKUP(D233,'Plan Estu Especialidades'!$B$4:$AF$77,13,0),IF(F233=2,VLOOKUP(D233,'Plan Estu Especialidades'!$B$4:$AF$77,8,0),IF(F233=1,VLOOKUP(D233,'Plan Estu Especialidades'!$B$4:$AF$77,8,0)*L233,0)))","v":0},{"$f":"IF(F233=3,VLOOKUP(D233,'Plan Estu Especialidades'!$B$4:$AF$77,14,0),IF(F233=2,VLOOKUP(D233,'Plan Estu Especialidades'!$B$4:$AF$77,9,0),IF(F233=1,VLOOKUP(D233,'Plan Estu Especialidades'!$B$4:$AF$77,9,0)*L233,0)))","v":0},{"$f":"IF(F233=3,VLOOKUP(D233,'Plan Estu Especialidades'!$B$4:$AF$77,15,0),IF(F233=2,VLOOKUP(D233,'Plan Estu Especialidades'!$B$4:$AF$77,10,0),IF(F233=1,VLOOKUP(D233,'Plan Estu Especialidades'!$B$4:$AF$77,10,0)*L233,0)))","v":0},{"$f":"IF(G233=4,VLOOKUP(D233,'Plan Estu Especialidades'!$B$4:$AF$77,27,0),IF(G233=3,VLOOKUP(D233,'Plan Estu Especialidades'!$B$4:$AF$77,22,0),IF(G233=2,VLOOKUP(D233,'Plan Estu Especialidades'!$B$4:$AF$77,17,0),IF(G233=1,VLOOKUP(D233,'Plan Estu Especialidades'!$B$4:$AF$77,17,0)*N233,0))))","v":0},{"$f":"IF(G233=4,VLOOKUP(D233,'Plan Estu Especialidades'!$B$4:$AF$77,28,0),IF(G233=3,VLOOKUP(D233,'Plan Estu Especialidades'!$B$4:$AF$77,23,0),IF(G233=2,VLOOKUP(D233,'Plan Estu Especialidades'!$B$4:$AF$77,18,0),IF(G233=1,VLOOKUP(D233,'Plan Estu Especialidades'!$B$4:$AF$77,18,0)*N233,0))))","v":0},{"$f":"IF(G233=4,VLOOKUP(D233,'Plan Estu Especialidades'!$B$4:$AF$77,29,0),IF(G233=3,VLOOKUP(D233,'Plan Estu Especialidades'!$B$4:$AF$77,24,0),IF(G233=2,VLOOKUP(D233,'Plan Estu Especialidades'!$B$4:$AF$77,19,0),IF(G233=1,VLOOKUP(D233,'Plan Estu Especialidades'!$B$4:$AF$77,19,0)*N233,0))))","v":0},{"$f":"IF(G233=4,VLOOKUP(D233,'Plan Estu Especialidades'!$B$4:$AF$77,30,0),IF(G233=3,VLOOKUP(D233,'Plan Estu Especialidades'!$B$4:$AF$77,25,0),IF(G233=2,VLOOKUP(D233,'Plan Estu Especialidades'!$B$4:$AF$77,20,0),IF(G233=1,VLOOKUP(D233,'Plan Estu Especialidades'!$B$4:$AF$77,20,0)*N233,0))))","v":0},0,0,null,null,null,null,null,0,0,0,null,null,null,null,0,0,0,null,{"$f":"IF(SUM(J233,L233,N233)=0,\"S/V\",VLOOKUP(D233,'Plan Estu Especialidades'!$B$4:$AG$77,32,0))","v":"S/V"},0,0,null,null,null,null,null,null,0,0,0]
[{"$f":"+IF(B234=0,0,SUM($B$62:B234))","v":0},0,92,68,0,0,0,"Gestión de la Producción ","_68",null,null,null,null,null,null,{"$f":"IF(E234=2,VLOOKUP(D234,'Plan Estu Especialidades'!$B$4:$AF$77,3,0),IF(E234=1,VLOOKUP(D234,'Plan Estu Especialidades'!$B$4:$AF$77,3,0)*J234,0))","v":0},{"$f":"IF(E234=2,VLOOKUP(D234,'Plan Estu Especialidades'!$B$4:$AF$77,4,0),IF(E234=1,VLOOKUP(D234,'Plan Estu Especialidades'!$B$4:$AF$77,4,0)*J234,0))","v":0},{"$f":"IF(E234=2,VLOOKUP(D234,'Plan Estu Especialidades'!$B$4:$AF$77,5,0),IF(E234=1,VLOOKUP(D234,'Plan Estu Especialidades'!$B$4:$AF$77,5,0)*J234,0))","v":0},{"$f":"IF(F234=3,VLOOKUP(D234,'Plan Estu Especialidades'!$B$4:$AF$77,12,0),IF(F234=2,VLOOKUP(D234,'Plan Estu Especialidades'!$B$4:$AF$77,7,0),IF(F234=1,VLOOKUP(D234,'Plan Estu Especialidades'!$B$4:$AF$77,7,0)*L234,0)))","v":0},{"$f":"IF(F234=3,VLOOKUP(D234,'Plan Estu Especialidades'!$B$4:$AF$77,13,0),IF(F234=2,VLOOKUP(D234,'Plan Estu Especialidades'!$B$4:$AF$77,8,0),IF(F234=1,VLOOKUP(D234,'Plan Estu Especialidades'!$B$4:$AF$77,8,0)*L234,0)))","v":0},{"$f":"IF(F234=3,VLOOKUP(D234,'Plan Estu Especialidades'!$B$4:$AF$77,14,0),IF(F234=2,VLOOKUP(D234,'Plan Estu Especialidades'!$B$4:$AF$77,9,0),IF(F234=1,VLOOKUP(D234,'Plan Estu Especialidades'!$B$4:$AF$77,9,0)*L234,0)))","v":0},{"$f":"IF(F234=3,VLOOKUP(D234,'Plan Estu Especialidades'!$B$4:$AF$77,15,0),IF(F234=2,VLOOKUP(D234,'Plan Estu Especialidades'!$B$4:$AF$77,10,0),IF(F234=1,VLOOKUP(D234,'Plan Estu Especialidades'!$B$4:$AF$77,10,0)*L234,0)))","v":0},{"$f":"IF(G234=4,VLOOKUP(D234,'Plan Estu Especialidades'!$B$4:$AF$77,27,0),IF(G234=3,VLOOKUP(D234,'Plan Estu Especialidades'!$B$4:$AF$77,22,0),IF(G234=2,VLOOKUP(D234,'Plan Estu Especialidades'!$B$4:$AF$77,17,0),IF(G234=1,VLOOKUP(D234,'Plan Estu Especialidades'!$B$4:$AF$77,17,0)*N234,0))))","v":0},{"$f":"IF(G234=4,VLOOKUP(D234,'Plan Estu Especialidades'!$B$4:$AF$77,28,0),IF(G234=3,VLOOKUP(D234,'Plan Estu Especialidades'!$B$4:$AF$77,23,0),IF(G234=2,VLOOKUP(D234,'Plan Estu Especialidades'!$B$4:$AF$77,18,0),IF(G234=1,VLOOKUP(D234,'Plan Estu Especialidades'!$B$4:$AF$77,18,0)*N234,0))))","v":0},{"$f":"IF(G234=4,VLOOKUP(D234,'Plan Estu Especialidades'!$B$4:$AF$77,29,0),IF(G234=3,VLOOKUP(D234,'Plan Estu Especialidades'!$B$4:$AF$77,24,0),IF(G234=2,VLOOKUP(D234,'Plan Estu Especialidades'!$B$4:$AF$77,19,0),IF(G234=1,VLOOKUP(D234,'Plan Estu Especialidades'!$B$4:$AF$77,19,0)*N234,0))))","v":0},{"$f":"IF(G234=4,VLOOKUP(D234,'Plan Estu Especialidades'!$B$4:$AF$77,30,0),IF(G234=3,VLOOKUP(D234,'Plan Estu Especialidades'!$B$4:$AF$77,25,0),IF(G234=2,VLOOKUP(D234,'Plan Estu Especialidades'!$B$4:$AF$77,20,0),IF(G234=1,VLOOKUP(D234,'Plan Estu Especialidades'!$B$4:$AF$77,20,0)*N234,0))))","v":0},0,0,null,null,null,null,null,0,0,0,null,null,null,null,0,0,0,null,{"$f":"IF(SUM(J234,L234,N234)=0,\"S/V\",VLOOKUP(D234,'Plan Estu Especialidades'!$B$4:$AG$77,32,0))","v":"S/V"},0,0,null,null,null,null,null,null,0,0,0]
[{"$f":"+IF(B235=0,0,SUM($B$62:B235))","v":0},0,92,69,0,0,0,"Instalación y mantenimiento de sistemas eléctricos Indutriales ","_69",null,null,null,null,null,null,{"$f":"IF(E235=2,VLOOKUP(D235,'Plan Estu Especialidades'!$B$4:$AF$77,3,0),IF(E235=1,VLOOKUP(D235,'Plan Estu Especialidades'!$B$4:$AF$77,3,0)*J235,0))","v":0},{"$f":"IF(E235=2,VLOOKUP(D235,'Plan Estu Especialidades'!$B$4:$AF$77,4,0),IF(E235=1,VLOOKUP(D235,'Plan Estu Especialidades'!$B$4:$AF$77,4,0)*J235,0))","v":0},{"$f":"IF(E235=2,VLOOKUP(D235,'Plan Estu Especialidades'!$B$4:$AF$77,5,0),IF(E235=1,VLOOKUP(D235,'Plan Estu Especialidades'!$B$4:$AF$77,5,0)*J235,0))","v":0},{"$f":"IF(F235=3,VLOOKUP(D235,'Plan Estu Especialidades'!$B$4:$AF$77,12,0),IF(F235=2,VLOOKUP(D235,'Plan Estu Especialidades'!$B$4:$AF$77,7,0),IF(F235=1,VLOOKUP(D235,'Plan Estu Especialidades'!$B$4:$AF$77,7,0)*L235,0)))","v":0},{"$f":"IF(F235=3,VLOOKUP(D235,'Plan Estu Especialidades'!$B$4:$AF$77,13,0),IF(F235=2,VLOOKUP(D235,'Plan Estu Especialidades'!$B$4:$AF$77,8,0),IF(F235=1,VLOOKUP(D235,'Plan Estu Especialidades'!$B$4:$AF$77,8,0)*L235,0)))","v":0},{"$f":"IF(F235=3,VLOOKUP(D235,'Plan Estu Especialidades'!$B$4:$AF$77,14,0),IF(F235=2,VLOOKUP(D235,'Plan Estu Especialidades'!$B$4:$AF$77,9,0),IF(F235=1,VLOOKUP(D235,'Plan Estu Especialidades'!$B$4:$AF$77,9,0)*L235,0)))","v":0},{"$f":"IF(F235=3,VLOOKUP(D235,'Plan Estu Especialidades'!$B$4:$AF$77,15,0),IF(F235=2,VLOOKUP(D235,'Plan Estu Especialidades'!$B$4:$AF$77,10,0),IF(F235=1,VLOOKUP(D235,'Plan Estu Especialidades'!$B$4:$AF$77,10,0)*L235,0)))","v":0},{"$f":"IF(G235=4,VLOOKUP(D235,'Plan Estu Especialidades'!$B$4:$AF$77,27,0),IF(G235=3,VLOOKUP(D235,'Plan Estu Especialidades'!$B$4:$AF$77,22,0),IF(G235=2,VLOOKUP(D235,'Plan Estu Especialidades'!$B$4:$AF$77,17,0),IF(G235=1,VLOOKUP(D235,'Plan Estu Especialidades'!$B$4:$AF$77,17,0)*N235,0))))","v":0},{"$f":"IF(G235=4,VLOOKUP(D235,'Plan Estu Especialidades'!$B$4:$AF$77,28,0),IF(G235=3,VLOOKUP(D235,'Plan Estu Especialidades'!$B$4:$AF$77,23,0),IF(G235=2,VLOOKUP(D235,'Plan Estu Especialidades'!$B$4:$AF$77,18,0),IF(G235=1,VLOOKUP(D235,'Plan Estu Especialidades'!$B$4:$AF$77,18,0)*N235,0))))","v":0},{"$f":"IF(G235=4,VLOOKUP(D235,'Plan Estu Especialidades'!$B$4:$AF$77,29,0),IF(G235=3,VLOOKUP(D235,'Plan Estu Especialidades'!$B$4:$AF$77,24,0),IF(G235=2,VLOOKUP(D235,'Plan Estu Especialidades'!$B$4:$AF$77,19,0),IF(G235=1,VLOOKUP(D235,'Plan Estu Especialidades'!$B$4:$AF$77,19,0)*N235,0))))","v":0},{"$f":"IF(G235=4,VLOOKUP(D235,'Plan Estu Especialidades'!$B$4:$AF$77,30,0),IF(G235=3,VLOOKUP(D235,'Plan Estu Especialidades'!$B$4:$AF$77,25,0),IF(G235=2,VLOOKUP(D235,'Plan Estu Especialidades'!$B$4:$AF$77,20,0),IF(G235=1,VLOOKUP(D235,'Plan Estu Especialidades'!$B$4:$AF$77,20,0)*N235,0))))","v":0},0,0,null,null,null,null,null,0,0,0,null,null,null,null,0,0,0,null,{"$f":"IF(SUM(J235,L235,N235)=0,\"S/V\",VLOOKUP(D235,'Plan Estu Especialidades'!$B$4:$AG$77,32,0))","v":"S/V"},0,0,null,null,null,null,null,null,0,0,0]
[{"$f":"+IF(B236=0,0,SUM($B$62:B236))","v":0},0,92,70,0,0,0,"Inteligencia Artificial","_70",null,null,null,null,null,null,{"$f":"IF(E236=2,VLOOKUP(D236,'Plan Estu Especialidades'!$B$4:$AF$77,3,0),IF(E236=1,VLOOKUP(D236,'Plan Estu Especialidades'!$B$4:$AF$77,3,0)*J236,0))","v":0},{"$f":"IF(E236=2,VLOOKUP(D236,'Plan Estu Especialidades'!$B$4:$AF$77,4,0),IF(E236=1,VLOOKUP(D236,'Plan Estu Especialidades'!$B$4:$AF$77,4,0)*J236,0))","v":0},{"$f":"IF(E236=2,VLOOKUP(D236,'Plan Estu Especialidades'!$B$4:$AF$77,5,0),IF(E236=1,VLOOKUP(D236,'Plan Estu Especialidades'!$B$4:$AF$77,5,0)*J236,0))","v":0},{"$f":"IF(F236=3,VLOOKUP(D236,'Plan Estu Especialidades'!$B$4:$AF$77,12,0),IF(F236=2,VLOOKUP(D236,'Plan Estu Especialidades'!$B$4:$AF$77,7,0),IF(F236=1,VLOOKUP(D236,'Plan Estu Especialidades'!$B$4:$AF$77,7,0)*L236,0)))","v":0},{"$f":"IF(F236=3,VLOOKUP(D236,'Plan Estu Especialidades'!$B$4:$AF$77,13,0),IF(F236=2,VLOOKUP(D236,'Plan Estu Especialidades'!$B$4:$AF$77,8,0),IF(F236=1,VLOOKUP(D236,'Plan Estu Especialidades'!$B$4:$AF$77,8,0)*L236,0)))","v":0},{"$f":"IF(F236=3,VLOOKUP(D236,'Plan Estu Especialidades'!$B$4:$AF$77,14,0),IF(F236=2,VLOOKUP(D236,'Plan Estu Especialidades'!$B$4:$AF$77,9,0),IF(F236=1,VLOOKUP(D236,'Plan Estu Especialidades'!$B$4:$AF$77,9,0)*L236,0)))","v":0},{"$f":"IF(F236=3,VLOOKUP(D236,'Plan Estu Especialidades'!$B$4:$AF$77,15,0),IF(F236=2,VLOOKUP(D236,'Plan Estu Especialidades'!$B$4:$AF$77,10,0),IF(F236=1,VLOOKUP(D236,'Plan Estu Especialidades'!$B$4:$AF$77,10,0)*L236,0)))","v":0},{"$f":"IF(G236=4,VLOOKUP(D236,'Plan Estu Especialidades'!$B$4:$AF$77,27,0),IF(G236=3,VLOOKUP(D236,'Plan Estu Especialidades'!$B$4:$AF$77,22,0),IF(G236=2,VLOOKUP(D236,'Plan Estu Especialidades'!$B$4:$AF$77,17,0),IF(G236=1,VLOOKUP(D236,'Plan Estu Especialidades'!$B$4:$AF$77,17,0)*N236,0))))","v":0},{"$f":"IF(G236=4,VLOOKUP(D236,'Plan Estu Especialidades'!$B$4:$AF$77,28,0),IF(G236=3,VLOOKUP(D236,'Plan Estu Especialidades'!$B$4:$AF$77,23,0),IF(G236=2,VLOOKUP(D236,'Plan Estu Especialidades'!$B$4:$AF$77,18,0),IF(G236=1,VLOOKUP(D236,'Plan Estu Especialidades'!$B$4:$AF$77,18,0)*N236,0))))","v":0},{"$f":"IF(G236=4,VLOOKUP(D236,'Plan Estu Especialidades'!$B$4:$AF$77,29,0),IF(G236=3,VLOOKUP(D236,'Plan Estu Especialidades'!$B$4:$AF$77,24,0),IF(G236=2,VLOOKUP(D236,'Plan Estu Especialidades'!$B$4:$AF$77,19,0),IF(G236=1,VLOOKUP(D236,'Plan Estu Especialidades'!$B$4:$AF$77,19,0)*N236,0))))","v":0},{"$f":"IF(G236=4,VLOOKUP(D236,'Plan Estu Especialidades'!$B$4:$AF$77,30,0),IF(G236=3,VLOOKUP(D236,'Plan Estu Especialidades'!$B$4:$AF$77,25,0),IF(G236=2,VLOOKUP(D236,'Plan Estu Especialidades'!$B$4:$AF$77,20,0),IF(G236=1,VLOOKUP(D236,'Plan Estu Especialidades'!$B$4:$AF$77,20,0)*N236,0))))","v":0},0,0,null,null,null,null,null,0,0,0,null,null,null,null,0,0,0,null,{"$f":"IF(SUM(J236,L236,N236)=0,\"S/V\",VLOOKUP(D236,'Plan Estu Especialidades'!$B$4:$AG$77,32,0))","v":"S/V"},0,0,null,null,null,null,null,null,0,0,0]
[{"$f":"+IF(B237=0,0,SUM($B$62:B237))","v":0},0,92,71,0,0,0,"Organización de operaciones y servicios de alimentos y bebidas","_71",null,null,null,null,null,null,{"$f":"IF(E237=2,VLOOKUP(D237,'Plan Estu Especialidades'!$B$4:$AF$77,3,0),IF(E237=1,VLOOKUP(D237,'Plan Estu Especialidades'!$B$4:$AF$77,3,0)*J237,0))","v":0},{"$f":"IF(E237=2,VLOOKUP(D237,'Plan Estu Especialidades'!$B$4:$AF$77,4,0),IF(E237=1,VLOOKUP(D237,'Plan Estu Especialidades'!$B$4:$AF$77,4,0)*J237,0))","v":0},{"$f":"IF(E237=2,VLOOKUP(D237,'Plan Estu Especialidades'!$B$4:$AF$77,5,0),IF(E237=1,VLOOKUP(D237,'Plan Estu Especialidades'!$B$4:$AF$77,5,0)*J237,0))","v":0},{"$f":"IF(F237=3,VLOOKUP(D237,'Plan Estu Especialidades'!$B$4:$AF$77,12,0),IF(F237=2,VLOOKUP(D237,'Plan Estu Especialidades'!$B$4:$AF$77,7,0),IF(F237=1,VLOOKUP(D237,'Plan Estu Especialidades'!$B$4:$AF$77,7,0)*L237,0)))","v":0},{"$f":"IF(F237=3,VLOOKUP(D237,'Plan Estu Especialidades'!$B$4:$AF$77,13,0),IF(F237=2,VLOOKUP(D237,'Plan Estu Especialidades'!$B$4:$AF$77,8,0),IF(F237=1,VLOOKUP(D237,'Plan Estu Especialidades'!$B$4:$AF$77,8,0)*L237,0)))","v":0},{"$f":"IF(F237=3,VLOOKUP(D237,'Plan Estu Especialidades'!$B$4:$AF$77,14,0),IF(F237=2,VLOOKUP(D237,'Plan Estu Especialidades'!$B$4:$AF$77,9,0),IF(F237=1,VLOOKUP(D237,'Plan Estu Especialidades'!$B$4:$AF$77,9,0)*L237,0)))","v":0},{"$f":"IF(F237=3,VLOOKUP(D237,'Plan Estu Especialidades'!$B$4:$AF$77,15,0),IF(F237=2,VLOOKUP(D237,'Plan Estu Especialidades'!$B$4:$AF$77,10,0),IF(F237=1,VLOOKUP(D237,'Plan Estu Especialidades'!$B$4:$AF$77,10,0)*L237,0)))","v":0},{"$f":"IF(G237=4,VLOOKUP(D237,'Plan Estu Especialidades'!$B$4:$AF$77,27,0),IF(G237=3,VLOOKUP(D237,'Plan Estu Especialidades'!$B$4:$AF$77,22,0),IF(G237=2,VLOOKUP(D237,'Plan Estu Especialidades'!$B$4:$AF$77,17,0),IF(G237=1,VLOOKUP(D237,'Plan Estu Especialidades'!$B$4:$AF$77,17,0)*N237,0))))","v":0},{"$f":"IF(G237=4,VLOOKUP(D237,'Plan Estu Especialidades'!$B$4:$AF$77,28,0),IF(G237=3,VLOOKUP(D237,'Plan Estu Especialidades'!$B$4:$AF$77,23,0),IF(G237=2,VLOOKUP(D237,'Plan Estu Especialidades'!$B$4:$AF$77,18,0),IF(G237=1,VLOOKUP(D237,'Plan Estu Especialidades'!$B$4:$AF$77,18,0)*N237,0))))","v":0},{"$f":"IF(G237=4,VLOOKUP(D237,'Plan Estu Especialidades'!$B$4:$AF$77,29,0),IF(G237=3,VLOOKUP(D237,'Plan Estu Especialidades'!$B$4:$AF$77,24,0),IF(G237=2,VLOOKUP(D237,'Plan Estu Especialidades'!$B$4:$AF$77,19,0),IF(G237=1,VLOOKUP(D237,'Plan Estu Especialidades'!$B$4:$AF$77,19,0)*N237,0))))","v":0},{"$f":"IF(G237=4,VLOOKUP(D237,'Plan Estu Especialidades'!$B$4:$AF$77,30,0),IF(G237=3,VLOOKUP(D237,'Plan Estu Especialidades'!$B$4:$AF$77,25,0),IF(G237=2,VLOOKUP(D237,'Plan Estu Especialidades'!$B$4:$AF$77,20,0),IF(G237=1,VLOOKUP(D237,'Plan Estu Especialidades'!$B$4:$AF$77,20,0)*N237,0))))","v":0},0,0,null,null,null,null,null,0,0,0,null,null,null,null,0,0,0,null,{"$f":"IF(SUM(J237,L237,N237)=0,\"S/V\",VLOOKUP(D237,'Plan Estu Especialidades'!$B$4:$AG$77,32,0))","v":"S/V"},0,0,null,null,null,null,null,null,0,0,0]
[{"$f":"+IF(B238=0,0,SUM($B$62:B238))","v":0},0,92,72,0,0,0,"Desarrollo de aplicaciones móviles","_72",null,null,null,null,null,null,{"$f":"IF(E238=2,VLOOKUP(D238,'Plan Estu Especialidades'!$B$4:$AF$77,3,0),IF(E238=1,VLOOKUP(D238,'Plan Estu Especialidades'!$B$4:$AF$77,3,0)*J238,0))","v":0},{"$f":"IF(E238=2,VLOOKUP(D238,'Plan Estu Especialidades'!$B$4:$AF$77,4,0),IF(E238=1,VLOOKUP(D238,'Plan Estu Especialidades'!$B$4:$AF$77,4,0)*J238,0))","v":0},{"$f":"IF(E238=2,VLOOKUP(D238,'Plan Estu Especialidades'!$B$4:$AF$77,5,0),IF(E238=1,VLOOKUP(D238,'Plan Estu Especialidades'!$B$4:$AF$77,5,0)*J238,0))","v":0},{"$f":"IF(F238=3,VLOOKUP(D238,'Plan Estu Especialidades'!$B$4:$AF$77,12,0),IF(F238=2,VLOOKUP(D238,'Plan Estu Especialidades'!$B$4:$AF$77,7,0),IF(F238=1,VLOOKUP(D238,'Plan Estu Especialidades'!$B$4:$AF$77,7,0)*L238,0)))","v":0},{"$f":"IF(F238=3,VLOOKUP(D238,'Plan Estu Especialidades'!$B$4:$AF$77,13,0),IF(F238=2,VLOOKUP(D238,'Plan Estu Especialidades'!$B$4:$AF$77,8,0),IF(F238=1,VLOOKUP(D238,'Plan Estu Especialidades'!$B$4:$AF$77,8,0)*L238,0)))","v":0},{"$f":"IF(F238=3,VLOOKUP(D238,'Plan Estu Especialidades'!$B$4:$AF$77,14,0),IF(F238=2,VLOOKUP(D238,'Plan Estu Especialidades'!$B$4:$AF$77,9,0),IF(F238=1,VLOOKUP(D238,'Plan Estu Especialidades'!$B$4:$AF$77,9,0)*L238,0)))","v":0},{"$f":"IF(F238=3,VLOOKUP(D238,'Plan Estu Especialidades'!$B$4:$AF$77,15,0),IF(F238=2,VLOOKUP(D238,'Plan Estu Especialidades'!$B$4:$AF$77,10,0),IF(F238=1,VLOOKUP(D238,'Plan Estu Especialidades'!$B$4:$AF$77,10,0)*L238,0)))","v":0},{"$f":"IF(G238=4,VLOOKUP(D238,'Plan Estu Especialidades'!$B$4:$AF$77,27,0),IF(G238=3,VLOOKUP(D238,'Plan Estu Especialidades'!$B$4:$AF$77,22,0),IF(G238=2,VLOOKUP(D238,'Plan Estu Especialidades'!$B$4:$AF$77,17,0),IF(G238=1,VLOOKUP(D238,'Plan Estu Especialidades'!$B$4:$AF$77,17,0)*N238,0))))","v":0},{"$f":"IF(G238=4,VLOOKUP(D238,'Plan Estu Especialidades'!$B$4:$AF$77,28,0),IF(G238=3,VLOOKUP(D238,'Plan Estu Especialidades'!$B$4:$AF$77,23,0),IF(G238=2,VLOOKUP(D238,'Plan Estu Especialidades'!$B$4:$AF$77,18,0),IF(G238=1,VLOOKUP(D238,'Plan Estu Especialidades'!$B$4:$AF$77,18,0)*N238,0))))","v":0},{"$f":"IF(G238=4,VLOOKUP(D238,'Plan Estu Especialidades'!$B$4:$AF$77,29,0),IF(G238=3,VLOOKUP(D238,'Plan Estu Especialidades'!$B$4:$AF$77,24,0),IF(G238=2,VLOOKUP(D238,'Plan Estu Especialidades'!$B$4:$AF$77,19,0),IF(G238=1,VLOOKUP(D238,'Plan Estu Especialidades'!$B$4:$AF$77,19,0)*N238,0))))","v":0},{"$f":"IF(G238=4,VLOOKUP(D238,'Plan Estu Especialidades'!$B$4:$AF$77,30,0),IF(G238=3,VLOOKUP(D238,'Plan Estu Especialidades'!$B$4:$AF$77,25,0),IF(G238=2,VLOOKUP(D238,'Plan Estu Especialidades'!$B$4:$AF$77,20,0),IF(G238=1,VLOOKUP(D238,'Plan Estu Especialidades'!$B$4:$AF$77,20,0)*N238,0))))","v":0},0,0,null,null,null,null,null,0,0,0,null,null,null,null,0,0,0,null,{"$f":"IF(SUM(J238,L238,N238)=0,\"S/V\",VLOOKUP(D238,'Plan Estu Especialidades'!$B$4:$AG$77,32,0))","v":"S/V"},0,0,null,null,null,null,null,null,0,0,0]
[{"$f":"+IF(B239=0,0,SUM($B$62:B239))","v":0},{"$f":"+IF(AA239>0,1,0)","v":0},92,73,0,0,0,"Gerencia y producción en cocina ","_73",null,null,null,null,null,null,{"$f":"IF(E239=2,VLOOKUP(D239,'Plan Estu Especialidades'!$B$4:$AF$77,3,0),IF(E239=1,VLOOKUP(D239,'Plan Estu Especialidades'!$B$4:$AF$77,3,0)*J239,0))","v":0},{"$f":"IF(E239=2,VLOOKUP(D239,'Plan Estu Especialidades'!$B$4:$AF$77,4,0),IF(E239=1,VLOOKUP(D239,'Plan Estu Especialidades'!$B$4:$AF$77,4,0)*J239,0))","v":0},{"$f":"IF(E239=2,VLOOKUP(D239,'Plan Estu Especialidades'!$B$4:$AF$77,5,0),IF(E239=1,VLOOKUP(D239,'Plan Estu Especialidades'!$B$4:$AF$77,5,0)*J239,0))","v":0},{"$f":"IF(F239=3,VLOOKUP(D239,'Plan Estu Especialidades'!$B$4:$AF$77,12,0),IF(F239=2,VLOOKUP(D239,'Plan Estu Especialidades'!$B$4:$AF$77,7,0),IF(F239=1,VLOOKUP(D239,'Plan Estu Especialidades'!$B$4:$AF$77,7,0)*L239,0)))","v":0},{"$f":"IF(F239=3,VLOOKUP(D239,'Plan Estu Especialidades'!$B$4:$AF$77,13,0),IF(F239=2,VLOOKUP(D239,'Plan Estu Especialidades'!$B$4:$AF$77,8,0),IF(F239=1,VLOOKUP(D239,'Plan Estu Especialidades'!$B$4:$AF$77,8,0)*L239,0)))","v":0},{"$f":"IF(F239=3,VLOOKUP(D239,'Plan Estu Especialidades'!$B$4:$AF$77,14,0),IF(F239=2,VLOOKUP(D239,'Plan Estu Especialidades'!$B$4:$AF$77,9,0),IF(F239=1,VLOOKUP(D239,'Plan Estu Especialidades'!$B$4:$AF$77,9,0)*L239,0)))","v":0},{"$f":"IF(F239=3,VLOOKUP(D239,'Plan Estu Especialidades'!$B$4:$AF$77,15,0),IF(F239=2,VLOOKUP(D239,'Plan Estu Especialidades'!$B$4:$AF$77,10,0),IF(F239=1,VLOOKUP(D239,'Plan Estu Especialidades'!$B$4:$AF$77,10,0)*L239,0)))","v":0},{"$f":"IF(G239=4,VLOOKUP(D239,'Plan Estu Especialidades'!$B$4:$AF$77,27,0),IF(G239=3,VLOOKUP(D239,'Plan Estu Especialidades'!$B$4:$AF$77,22,0),IF(G239=2,VLOOKUP(D239,'Plan Estu Especialidades'!$B$4:$AF$77,17,0),IF(G239=1,VLOOKUP(D239,'Plan Estu Especialidades'!$B$4:$AF$77,17,0)*N239,0))))","v":0},{"$f":"IF(G239=4,VLOOKUP(D239,'Plan Estu Especialidades'!$B$4:$AF$77,28,0),IF(G239=3,VLOOKUP(D239,'Plan Estu Especialidades'!$B$4:$AF$77,23,0),IF(G239=2,VLOOKUP(D239,'Plan Estu Especialidades'!$B$4:$AF$77,18,0),IF(G239=1,VLOOKUP(D239,'Plan Estu Especialidades'!$B$4:$AF$77,18,0)*N239,0))))","v":0},{"$f":"IF(G239=4,VLOOKUP(D239,'Plan Estu Especialidades'!$B$4:$AF$77,29,0),IF(G239=3,VLOOKUP(D239,'Plan Estu Especialidades'!$B$4:$AF$77,24,0),IF(G239=2,VLOOKUP(D239,'Plan Estu Especialidades'!$B$4:$AF$77,19,0),IF(G239=1,VLOOKUP(D239,'Plan Estu Especialidades'!$B$4:$AF$77,19,0)*N239,0))))","v":0},{"$f":"IF(G239=4,VLOOKUP(D239,'Plan Estu Especialidades'!$B$4:$AF$77,30,0),IF(G239=3,VLOOKUP(D239,'Plan Estu Especialidades'!$B$4:$AF$77,25,0),IF(G239=2,VLOOKUP(D239,'Plan Estu Especialidades'!$B$4:$AF$77,20,0),IF(G239=1,VLOOKUP(D239,'Plan Estu Especialidades'!$B$4:$AF$77,20,0)*N239,0))))","v":0},{"$f":"SUM(P239:R239,S239:U239,W239:Y239)","v":0}]
[{"$f":"+IF(B240=0,0,SUM($B$62:B240))","v":0},0,92,74,0,0,0,"Gestión de la calidad","_74",null,null,null,null,null,null,{"$f":"IF(E240=2,VLOOKUP(D240,'Plan Estu Especialidades'!$B$4:$AF$77,3,0),IF(E240=1,VLOOKUP(D240,'Plan Estu Especialidades'!$B$4:$AF$77,3,0)*J240,0))","v":0},{"$f":"IF(E240=2,VLOOKUP(D240,'Plan Estu Especialidades'!$B$4:$AF$77,4,0),IF(E240=1,VLOOKUP(D240,'Plan Estu Especialidades'!$B$4:$AF$77,4,0)*J240,0))","v":0},{"$f":"IF(E240=2,VLOOKUP(D240,'Plan Estu Especialidades'!$B$4:$AF$77,5,0),IF(E240=1,VLOOKUP(D240,'Plan Estu Especialidades'!$B$4:$AF$77,5,0)*J240,0))","v":0},{"$f":"IF(F240=3,VLOOKUP(D240,'Plan Estu Especialidades'!$B$4:$AF$77,12,0),IF(F240=2,VLOOKUP(D240,'Plan Estu Especialidades'!$B$4:$AF$77,7,0),IF(F240=1,VLOOKUP(D240,'Plan Estu Especialidades'!$B$4:$AF$77,7,0)*L240,0)))","v":0},{"$f":"IF(F240=3,VLOOKUP(D240,'Plan Estu Especialidades'!$B$4:$AF$77,13,0),IF(F240=2,VLOOKUP(D240,'Plan Estu Especialidades'!$B$4:$AF$77,8,0),IF(F240=1,VLOOKUP(D240,'Plan Estu Especialidades'!$B$4:$AF$77,8,0)*L240,0)))","v":0},{"$f":"IF(F240=3,VLOOKUP(D240,'Plan Estu Especialidades'!$B$4:$AF$77,14,0),IF(F240=2,VLOOKUP(D240,'Plan Estu Especialidades'!$B$4:$AF$77,9,0),IF(F240=1,VLOOKUP(D240,'Plan Estu Especialidades'!$B$4:$AF$77,9,0)*L240,0)))","v":0},{"$f":"IF(F240=3,VLOOKUP(D240,'Plan Estu Especialidades'!$B$4:$AF$77,15,0),IF(F240=2,VLOOKUP(D240,'Plan Estu Especialidades'!$B$4:$AF$77,10,0),IF(F240=1,VLOOKUP(D240,'Plan Estu Especialidades'!$B$4:$AF$77,10,0)*L240,0)))","v":0},{"$f":"IF(G240=4,VLOOKUP(D240,'Plan Estu Especialidades'!$B$4:$AF$77,27,0),IF(G240=3,VLOOKUP(D240,'Plan Estu Especialidades'!$B$4:$AF$77,22,0),IF(G240=2,VLOOKUP(D240,'Plan Estu Especialidades'!$B$4:$AF$77,17,0),IF(G240=1,VLOOKUP(D240,'Plan Estu Especialidades'!$B$4:$AF$77,17,0)*N240,0))))","v":0},{"$f":"IF(G240=4,VLOOKUP(D240,'Plan Estu Especialidades'!$B$4:$AF$77,28,0),IF(G240=3,VLOOKUP(D240,'Plan Estu Especialidades'!$B$4:$AF$77,23,0),IF(G240=2,VLOOKUP(D240,'Plan Estu Especialidades'!$B$4:$AF$77,18,0),IF(G240=1,VLOOKUP(D240,'Plan Estu Especialidades'!$B$4:$AF$77,18,0)*N240,0))))","v":0},{"$f":"IF(G240=4,VLOOKUP(D240,'Plan Estu Especialidades'!$B$4:$AF$77,29,0),IF(G240=3,VLOOKUP(D240,'Plan Estu Especialidades'!$B$4:$AF$77,24,0),IF(G240=2,VLOOKUP(D240,'Plan Estu Especialidades'!$B$4:$AF$77,19,0),IF(G240=1,VLOOKUP(D240,'Plan Estu Especialidades'!$B$4:$AF$77,19,0)*N240,0))))","v":0},{"$f":"IF(G240=4,VLOOKUP(D240,'Plan Estu Especialidades'!$B$4:$AF$77,30,0),IF(G240=3,VLOOKUP(D240,'Plan Estu Especialidades'!$B$4:$AF$77,25,0),IF(G240=2,VLOOKUP(D240,'Plan Estu Especialidades'!$B$4:$AF$77,20,0),IF(G240=1,VLOOKUP(D240,'Plan Estu Especialidades'!$B$4:$AF$77,20,0)*N240,0))))","v":0},0,0,null,null,null,null,null,0,0,0,null,null,null,null,0,0,0,null,{"$f":"IF(SUM(J240,L240,N240)=0,\"S/V\",VLOOKUP(D240,'Plan Estu Especialidades'!$B$4:$AG$77,32,0))","v":"S/V"},0,0,null,null,null,null,null,null,0,0,0]
[9999,null,92,null,null,null,null,"Total de lecciones por nivel",null,{"$f":"SUM(J167:J240)","v":0},0,{"$f":"SUM(L167:L240)","v":0},0,0,0,0,0,0,0,0,0,0,0,0,0,0,"NOC"]
[9999,null,null,null,null,null,null,null,null,null,null,null,null,null,{"$f":"IF(O241=L42,\"\",\"MATRICULA DIFERENTE A LA REPORTADA EN INFORMACION\")","v":""},null,null,null,null,null,null,null,null,null,null,null,"NOC"]
[9999,null,null,null,null,null,null,null,null,null,null,null,{"$f":"IF(M241=K42,\"\",\"MATRICULA DIFERENTE A LA REPORTADA EN INFORMACION\")","v":""},null,null,null,null,null,null,null,null,null,null,null,null,null,"NOC"]
[9999,null,null,null,null,null,null,null,null,null,{"$f":"IF(K241=J42,\"\",\"MATRICULA DIFERENTE A LA REPORTADA EN INFORMACION\")","v":""},null,null,null,null,null,null,null,null,null,null,null,null,null,null,null,"NOC"]
[9999,null,93,null,null,null,null,"PLAN 2 AÑOS DIURNO"]
[9999,null,93,null,null,null,null,"DESCRIPCION\nESPECIALIDADES TECNICAS",null,"Matrícula",null,null,null,"Nivel 1",null,null,"Nivel 2",null,null,"TOTAL"]
[9999,null,93,null,null,null,null,null,null,"Grupos","Nivel 1","grupos","Nivel 2","ESPEC","INGLES","Dibujo Técnico","ESPEC","INGLES","Dibujo Técnico",null,null,null,null,null,null,null,null,null,null,null,"7°","8°","9°","10°","11°","12°",null,"7°","8°","9°","10°","11°","12°"]
[{"$f":"+IF(B248=0,0,SUM($B$62:B248))","v":0},{"$f":"+IF(T248>0,1,0)","v":0},93,{"$f":"IFERROR(VLOOKUP(H248,'Plan Estu Especialidades'!$C$83:$E$94,3,0),0)","v":0},null,null,null,null,{"$f":"+$U$3&\"_\"&D248","v":"_0"},null,null,null,null,{"$f":"IF($H248=\"\",\"\",IF($K248<9,0,IF($K248<25,'Plan Estu Especialidades'!E124,'Plan Estu Especialidades'!E124*J248)))","v":""},{"$f":"IF($H248=\"\",\"\",IF($K248<9,0,IF($K248<25,'Plan Estu Especialidades'!F124,'Plan Estu Especialidades'!F124*J248)))","v":""},{"$f":"IF($H248=\"\",\"\",IF($K248<9,0,IF($K248<25,'Plan Estu Especialidades'!G124,'Plan Estu Especialidades'!G124*J248)))","v":""},{"$f":"IF($H248=\"\",\"\",IF($M248<9,0,IF($M248<25,'Plan Estu Especialidades'!H124,'Plan Estu Especialidades'!H124*L248)))","v":""},{"$f":"IF($H248=\"\",\"\",IF($M248<9,0,IF($M248<25,'Plan Estu Especialidades'!I124,'Plan Estu Especialidades'!I124*L248)))","v":""},{"$f":"IF($H248=\"\",\"\",IF($M248<9,0,IF($M248<25,'Plan Estu Especialidades'!J124,'Plan Estu Especialidades'!J124*L248)))","v":""},{"$f":"SUM(N248:S248)","v":0},null,null,null,null,null,null,null,null,null,null,null,null,null,null,{"$f":"SUM(N248:P248)","v":0},{"$f":"SUM(Q248:S248)","v":0},null,null,null,null,null,{"$f":"+J248","v":0},{"$f":"+L248","v":0}]
[{"$f":"+IF(B249=0,0,SUM($B$62:B249))","v":0},{"$f":"+IF(T249>0,1,0)","v":0},93,{"$f":"IFERROR(VLOOKUP(H249,'Plan Estu Especialidades'!$C$83:$E$93,3,0),0)","v":0},null,null,null,null,"_0",null,null,null,null,{"$f":"IF($H249=\"\",\"\",IF($K249<9,0,IF($K249<25,'Plan Estu Especialidades'!E125,'Plan Estu Especialidades'!E125*J249)))","v":""},{"$f":"IF($H249=\"\",\"\",IF($K249<9,0,IF($K249<25,'Plan Estu Especialidades'!F125,'Plan Estu Especialidades'!F125*J249)))","v":""},{"$f":"IF($H249=\"\",\"\",IF($K249<9,0,IF($K249<25,'Plan Estu Especialidades'!G125,'Plan Estu Especialidades'!G125*J249)))","v":""},{"$f":"IF($H249=\"\",\"\",IF($M249<9,0,IF($M249<25,'Plan Estu Especialidades'!H125,'Plan Estu Especialidades'!H125*L249)))","v":""},{"$f":"IF($H249=\"\",\"\",IF($M249<9,0,IF($M249<25,'Plan Estu Especialidades'!I125,'Plan Estu Especialidades'!I125*L249)))","v":""},{"$f":"IF($H249=\"\",\"\",IF($M249<9,0,IF($M249<25,'Plan Estu Especialidades'!J125,'Plan Estu Especialidades'!J125*L249)))","v":""},{"$f":"SUM(N249:S249)","v":0},null,null,null,null,null,null,null,null,null,null,null,null,null,null,{"$f":"SUM(N249:P249)","v":0},{"$f":"SUM(Q249:S249)","v":0},null,null,null,null,null,{"$f":"+J249","v":0},{"$f":"+L249","v":0}]
[{"$f":"+IF(B250=0,0,SUM($B$62:B250))","v":0},{"$f":"+IF(T250>0,1,0)","v":0},93,{"$f":"IFERROR(VLOOKUP(H250,'Plan Estu Especialidades'!$C$83:$E$93,3,0),0)","v":0},null,null,null,null,"_0",null,null,null,null,{"$f":"IF($H250=\"\",\"\",IF($K250<9,0,IF($K250<25,'Plan Estu Especialidades'!E126,'Plan Estu Especialidades'!E126*J250)))","v":""},{"$f":"IF($H250=\"\",\"\",IF($K250<9,0,IF($K250<25,'Plan Estu Especialidades'!F126,'Plan Estu Especialidades'!F126*J250)))","v":""},{"$f":"IF($H250=\"\",\"\",IF($K250<9,0,IF($K250<25,'Plan Estu Especialidades'!G126,'Plan Estu Especialidades'!G126*J250)))","v":""},{"$f":"IF($H250=\"\",\"\",IF($M250<9,0,IF($M250<25,'Plan Estu Especialidades'!H126,'Plan Estu Especialidades'!H126*L250)))","v":""},{"$f":"IF($H250=\"\",\"\",IF($M250<9,0,IF($M250<25,'Plan Estu Especialidades'!I126,'Plan Estu Especialidades'!I126*L250)))","v":""},{"$f":"IF($H250=\"\",\"\",IF($M250<9,0,IF($M250<25,'Plan Estu Especialidades'!J126,'Plan Estu Especialidades'!J126*L250)))","v":""},{"$f":"SUM(N250:S250)","v":0},null,null,null,null,null,null,null,null,null,null,null,null,null,null,{"$f":"SUM(N250:P250)","v":0},0,null,null,null,null,null,0,0]
[{"$f":"+IF(B251=0,0,SUM($B$62:B251))","v":0},{"$f":"+IF(T251>0,1,0)","v":0},93,{"$f":"IFERROR(VLOOKUP(H251,'Plan Estu Especialidades'!$C$83:$E$93,3,0),0)","v":0},null,null,null,null,"_0",null,null,null,null,{"$f":"IF($H251=\"\",\"\",IF($K251<9,0,IF($K251<25,'Plan Estu Especialidades'!E127,'Plan Estu Especialidades'!E127*J251)))","v":""},{"$f":"IF($H251=\"\",\"\",IF($K251<9,0,IF($K251<25,'Plan Estu Especialidades'!F127,'Plan Estu Especialidades'!F127*J251)))","v":""},{"$f":"IF($H251=\"\",\"\",IF($K251<9,0,IF($K251<25,'Plan Estu Especialidades'!G127,'Plan Estu Especialidades'!G127*J251)))","v":""},{"$f":"IF($H251=\"\",\"\",IF($M251<9,0,IF($M251<25,'Plan Estu Especialidades'!H127,'Plan Estu Especialidades'!H127*L251)))","v":""},{"$f":"IF($H251=\"\",\"\",IF($M251<9,0,IF($M251<25,'Plan Estu Especialidades'!I127,'Plan Estu Especialidades'!I127*L251)))","v":""},{"$f":"IF($H251=\"\",\"\",IF($M251<9,0,IF($M251<25,'Plan Estu Especialidades'!J127,'Plan Estu Especialidades'!J127*L251)))","v":""},{"$f":"SUM(N251:S251)","v":0},null,null,null,null,null,null,null,null,null,null,null,null,null,null,{"$f":"SUM(N251:P251)","v":0},{"$f":"SUM(Q251:S251)","v":0},null,null,null,null,null,0,0]
[{"$f":"+IF(B252=0,0,SUM($B$62:B252))","v":0},{"$f":"+IF(T252>0,1,0)","v":0},93,{"$f":"IFERROR(VLOOKUP(H252,'Plan Estu Especialidades'!$C$83:$E$93,3,0),0)","v":0},null,null,null,null,"_0",null,null,null,null,{"$f":"IF($H252=\"\",\"\",IF($K252<9,0,IF($K252<25,'Plan Estu Especialidades'!E128,'Plan Estu Especialidades'!E128*J252)))","v":""},{"$f":"IF($H252=\"\",\"\",IF($K252<9,0,IF($K252<25,'Plan Estu Especialidades'!F128,'Plan Estu Especialidades'!F128*J252)))","v":""},{"$f":"IF($H252=\"\",\"\",IF($K252<9,0,IF($K252<25,'Plan Estu Especialidades'!G128,'Plan Estu Especialidades'!G128*J252)))","v":""},{"$f":"IF($H252=\"\",\"\",IF($M252<9,0,IF($M252<25,'Plan Estu Especialidades'!H128,'Plan Estu Especialidades'!H128*L252)))","v":""},{"$f":"IF($H252=\"\",\"\",IF($M252<9,0,IF($M252<25,'Plan Estu Especialidades'!I128,'Plan Estu Especialidades'!I128*L252)))","v":""},{"$f":"IF($H252=\"\",\"\",IF($M252<9,0,IF($M252<25,'Plan Estu Especialidades'!J128,'Plan Estu Especialidades'!J128*L252)))","v":""},{"$f":"SUM(N252:S252)","v":0},null,null,null,null,null,null,null,null,null,null,null,null,null,null,{"$f":"SUM(N252:P252)","v":0},0,null,null,null,null,null,0,0]
[9999,null,93,null,null,null,null,"Total Lecciones",null,{"$f":"SUM(J248:J252)","v":0},{"$f":"SUM(K248:K252)","v":0},{"$f":"SUM(L248:L252)","v":0},0,0,0,0,0,0,0,0]
[9999]
[9999]
[9999,null,null,null,null,null,null,"TALLERES EXPLORATORIOS"]
[9999,null,null,null,null,null,null,"NIVEL",null,"TERCER CICLO",null,null,"LECCIÓN TALLER"]
[9999,null,94,null,null,null,null,null,null,"7°","8°","9°"]
[9999,null,94,null,null,null,null,"Número de secciones",null,{"$f":"+J60","v":0},{"$f":"+K60","v":0},{"$f":"L60","v":0},{"$f":"+IF(J259+K259+L259=0,0,Q322)","v":0}]
[9999,null,94,null,null,null,null,"Matrícula",null,{"$f":"+J61","v":0},{"$f":"+K61","v":0},{"$f":"+L61","v":0}]
[9999,null,94,null,null,null,null,"Control",null,{"$f":"IF(K322=Información!D51,\"√\",\"INCORRECTO\")","v":"√"},{"$f":"IF(L322=Información!E51,\"√\",\"INCORRECTO\")","v":"√"},{"$f":"IF(M322=Información!F51,\"√\",\"INCORRECTO\")","v":"√"}]
[9999]
[9999,null,null,null,"AÑO QUE CORRESPONDE",null,null,"DESCRIPCION\nTALLERES EXPLORATORIOS",null,"Grupos",null,null,null,"Lecciones",null,null,"Total"]
[9999,null,94,null,"7°","8°","9°",null,null,"Ingles","7°","8°","9°","7°","8°","9°",null,"FIL",null,null,null,null,null,null,null,null,null,null,null,null,"7°","8°","9°","10°","11°","12°",null,"7°","8°","9°","10°","11°","12°"]
[{"$f":"+IF(B265=0,0,SUM($B$62:B265))","v":0},{"$f":"+IF(Q265>0,1,0)","v":0},94,1,null,null,null,"Inglés Conversacional (4 ó 8) - Taller Exploratorio",1,null,{"$f":"+J259","v":0},{"$f":"+K259","v":0},{"$f":"+L259","v":0},{"$f":"+$J$265*K265","v":0},{"$f":"+$J$265*L265","v":0},{"$f":"+$J$265*M265","v":0},{"$f":"SUM(N265:P265)","v":0},null,null,null,null,null,null,null,null,null,null,null,null,null,{"$f":"+N265","v":0},{"$f":"+O265","v":0},{"$f":"+P265","v":0},null,null,null,null,{"$f":"+K265","v":0},{"$f":"+L265","v":0},{"$f":"+M265","v":0}]
[9999,null,94,null,null,null,null,"INDUSTRIAL",1,null,null,null,null,null,null,null,null,null,null,null,null,null,null,null,null,null,null,null,null,null,{"$f":"+N266","v":0},{"$f":"+O266","v":0},{"$f":"+P266","v":0},null,null,null,null,{"$f":"+K266","v":0},{"$f":"+L266","v":0},{"$f":"+M266","v":0}]
[{"$f":"+IF(B267=0,0,SUM($B$62:B267))","v":0},{"$f":"+IF(Q267>0,1,0)","v":0},94,2,"x",null,null,"Confección de Artículo Fibras Naturales - Taller Exploratorio",1,null,null,null,null,{"$f":"IF(K267=0,0,IF(E267=\"x\",K267*4,\"ERROR\"))","v":0},{"$f":"IF(L267=0,0,IF(F267=\"x\",L267*4,\"ERROR\"))","v":0},{"$f":"IF(M267=0,0,IF(G267=\"x\",M267*4,\"ERROR\"))","v":0},{"$f":"SUM(N267:P267)","v":0},null,null,null,null,null,null,null,null,null,null,null,null,null,0,0,0,null,null,null,null,0,0,0]
[{"$f":"+IF(B268=0,0,SUM($B$62:B268))","v":0},{"$f":"+IF(Q268>0,1,0)","v":0},94,3,"x",null,null,"Confección de Artículos de Madera y Afines - Taller Exploratorio",1,null,null,null,null,{"$f":"IF(K268=0,0,IF(E268=\"x\",K268*4,\"ERROR\"))","v":0},0,0,{"$f":"SUM(N268:P268)","v":0},null,null,null,null,null,null,null,null,null,null,null,null,null,0,0,0,null,null,null,null,0,0,0]
[{"$f":"+IF(B269=0,0,SUM($B$62:B269))","v":0},{"$f":"+IF(Q269>0,1,0)","v":0},94,4,"x",null,null,"Dibujo Artístico - Taller Exploratorio",1,null,null,null,null,0,0,0,0,null,null,null,null,null,null,null,null,null,null,null,null,null,0,0,0,null,null,null,null,0,0,0]
[{"$f":"+IF(B270=0,0,SUM($B$62:B270))","v":0},{"$f":"+IF(Q270>0,1,0)","v":0},94,5,"x",null,null,"Metalistería Básica - Taller Exploratorio",1,null,null,null,null,0,0,0,0,null,null,null,null,null,null,null,null,null,null,null,null,null,0,0,0,null,null,null,null,0,0,0]
[{"$f":"+IF(B271=0,0,SUM($B$62:B271))","v":0},{"$f":"+IF(Q271>0,1,0)","v":0},94,6,"x",null,null,"Técnicas Básicas Trabajo en Cuero - Taller Exploratorio",1,null,null,null,null,0,0,0,0,null,null,null,null,null,null,null,null,null,null,null,null,null,0,0,0,null,null,null,null,0,0,0]
[{"$f":"+IF(B272=0,0,SUM($B$62:B272))","v":0},0,94,7,null,"x",null,"Aplicación Técnicas Artesanía Textil - Taller Exploratorio",1,null,null,null,null,0,0,0,0,null,null,null,null,null,null,null,null,null,null,null,null,null,0,0,0,null,null,null,null,0,0,0]
[{"$f":"+IF(B273=0,0,SUM($B$62:B273))","v":0},0,94,8,null,"x",null,"Artesanía - Taller Exploratorio",1,null,null,null,null,0,0,0,0,null,null,null,null,null,null,null,null,null,null,null,null,null,0,0,0,null,null,null,null,0,0,0]
[{"$f":"+IF(B274=0,0,SUM($B$62:B274))","v":0},0,94,9,null,"x",null,"Corte y Confección - Taller Exploratorio",1,null,null,null,null,0,0,0,0,null,null,null,null,null,null,null,null,null,null,null,null,null,0,0,0,null,null,null,null,0,0,0]
[{"$f":"+IF(B275=0,0,SUM($B$62:B275))","v":0},0,94,10,null,"x",null,"Dibujo Técnico - Taller Exploratorio",1,null,null,null,null,0,0,0,0,null,null,null,null,null,null,null,null,null,null,null,null,null,0,0,0,null,null,null,null,0,0,0]
[{"$f":"+IF(B276=0,0,SUM($B$62:B276))","v":0},0,94,11,null,"x",null,"Montajes Eléctricos Básicos - Taller Exploratorio",1,null,null,null,null,0,0,0,0,null,null,null,null,null,null,null,null,null,null,null,null,null,0,0,0,null,null,null,null,0,0,0]
[{"$f":"+IF(B277=0,0,SUM($B$62:B277))","v":0},0,94,12,null,null,"x","Básico Automotriz - Taller Exploratorio",1,null,null,null,null,0,0,0,{"$f":"SUM(N277:P277)","v":0},null,null,null,null,null,null,null,null,null,null,null,null,null,0,0,0,null,null,null,null,0,0,0]
[{"$f":"+IF(B278=0,0,SUM($B$62:B278))","v":0},0,94,13,null,null,"x","Construcción de Pequeños Muebles - Taller Exploratorio",1,null,null,null,null,0,0,0,0,null,null,null,null,null,null,null,null,null,null,null,null,null,0,0,0,null,null,null,null,0,0,0]
[{"$f":"+IF(B279=0,0,SUM($B$62:B279))","v":0},0,94,14,null,null,"x","Diseño Digital - Taller Exploratorio",1,null,null,null,null,0,0,0,0,null,null,null,null,null,null,null,null,null,null,null,null,null,0,0,0,null,null,null,null,0,0,0]
[{"$f":"+IF(B280=0,0,SUM($B$62:B280))","v":0},0,94,15,null,null,"x","Modelado y Decoración de la Cerámica - Taller Exploratorio",1,null,null,null,null,0,0,0,0,null,null,null,null,null,null,null,null,null,null,null,null,null,0,0,0,null,null,null,null,0,0,0]
[{"$f":"+IF(B281=0,0,SUM($B$62:B281))","v":0},0,94,16,null,null,"x","Montajes Electromecánicos básicos - Taller Exploratorio",1,null,null,null,null,0,0,0,0,null,null,null,null,null,null,null,null,null,null,null,null,null,0,0,0,null,null,null,null,0,0,0]
[{"$f":"+IF(B282=0,0,SUM($B$62:B282))","v":0},0,94,17,null,null,"x","Refrigeración Doméstica - Taller Exploratorio",1,null,null,null,null,0,0,0,0,null,null,null,null,null,null,null,null,null,null,null,null,null,0,0,0,null,null,null,null,0,0,0]
[{"$f":"+IF(B283=0,0,SUM($B$62:B283))","v":0},0,94,18,null,null,"x","Técnicas Manuales y de Confección - Taller Exploratorio",1,null,null,null,null,0,0,0,0,null,null,null,null,null,null,null,null,null,null,null,null,null,0,0,0,null,null,null,null,0,0,0]
[{"$f":"+IF(B284=0,0,SUM($B$62:B284))","v":0},0,94,19,null,null,"x","Técnicas Orfebres - Taller Exploratorio",1,null,null,null,null,0,0,0,0,null,null,null,null,null,null,null,null,null,null,null,null,null,0,0,0,null,null,null,null,0,0,0]
[9999,null,94,null,null,null,null,"COMERCIAL Y SERVICIOS",1,null,null,null,null,null,null,null,null,null,null,null,null,null,null,null,null,null,null,null,null,null,0,0,0,null,null,null,null,0,0,0]
[{"$f":"+IF(B286=0,0,SUM($B$62:B286))","v":0},0,94,20,"x",null,null,"Animación y actividades turísticas - Taller Exploratorio",1,null,null,null,null,{"$f":"IF(K286=0,0,IF(E286=\"x\",K286*4,\"ERROR\"))","v":0},{"$f":"IF(L286=0,0,IF(F286=\"x\",L286*4,\"ERROR\"))","v":0},{"$f":"IF(M286=0,0,IF(G286=\"x\",M286*4,\"ERROR\"))","v":0},{"$f":"SUM(N286:P286)","v":0},null,null,null,null,null,null,null,null,null,null,null,null,null,0,0,0,null,null,null,null,0,0,0]
[{"$f":"+IF(B287=0,0,SUM($B$62:B287))","v":0},0,94,21,"x",null,null,"Hagamos Comercio Juntos (Aduanas) - Taller Exploratorio",1,null,null,null,null,0,0,0,0,null,null,null,null,null,null,null,null,null,null,null,null,null,0,0,0,null,null,null,null,0,0,0]
[{"$f":"+IF(B288=0,0,SUM($B$62:B288))","v":0},0,94,22,"x",null,null,"Ideando mi pequeño negocio - Taller Exploratorio",1,null,null,null,null,0,0,0,0,null,null,null,null,null,null,null,null,null,null,null,null,null,0,0,0,null,null,null,null,0,0,0]
[{"$f":"+IF(B289=0,0,SUM($B$62:B289))","v":0},0,94,23,"x",null,null,"Oficina Moderna - Taller Exploratorio",1,null,null,null,null,0,0,0,0,null,null,null,null,null,null,null,null,null,null,null,null,null,0,0,0,null,null,null,null,0,0,0]
[{"$f":"+IF(B290=0,0,SUM($B$62:B290))","v":0},0,94,24,"x",null,null,"Técnicas y diseño de recursos para la oficina - Taller Exploratorio",1,null,null,null,null,0,0,0,0,null,null,null,null,null,null,null,null,null,null,null,null,null,0,0,0,null,null,null,null,0,0,0]
[{"$f":"+IF(B291=0,0,SUM($B$62:B291))","v":0},0,94,25,"x",null,null,"Tecnología de información y comunicación - Taller Exploratorio",1,null,null,null,null,0,0,0,0,null,null,null,null,null,null,null,null,null,null,null,null,null,0,0,0,null,null,null,null,0,0,0]
[{"$f":"+IF(B292=0,0,SUM($B$62:B292))","v":0},0,94,26,null,"x",null,"Archivar para el Futuro - Taller Exploratorio",1,null,null,null,null,0,0,0,0,null,null,null,null,null,null,null,null,null,null,null,null,null,0,0,0,null,null,null,null,0,0,0]
[{"$f":"+IF(B293=0,0,SUM($B$62:B293))","v":0},0,94,27,null,"x",null,"Dinero y Finanzas Personales - Taller Exploratorio",1,null,null,null,null,0,0,0,0,null,null,null,null,null,null,null,null,null,null,null,null,null,0,0,0,null,null,null,null,0,0,0]
[{"$f":"+IF(B294=0,0,SUM($B$62:B294))","v":0},0,94,28,null,"x",null,"Mantenimiento Preventivo de Computadoras - Taller Exploratorio",1,null,null,null,null,0,0,0,0,null,null,null,null,null,null,null,null,null,null,null,null,null,0,0,0,null,null,null,null,0,0,0]
[{"$f":"+IF(B295=0,0,SUM($B$62:B295))","v":0},0,94,29,null,"x",null,"Redescubriendo Ideas Empresariales - Taller Exploratorio",1,null,null,null,null,0,0,0,0,null,null,null,null,null,null,null,null,null,null,null,null,null,0,0,0,null,null,null,null,0,0,0]
[{"$f":"+IF(B296=0,0,SUM($B$62:B296))","v":0},0,94,30,null,"x",null,"Técnicas de Cocina Básica - Taller Exploratorio",1,null,null,null,null,0,0,0,0,null,null,null,null,null,null,null,null,null,null,null,null,null,0,0,0,null,null,null,null,0,0,0]
[{"$f":"+IF(B297=0,0,SUM($B$62:B297))","v":0},0,94,31,null,null,"x","Ciber Robótica - Taller Exploratorio",1,null,null,null,null,0,0,0,0,null,null,null,null,null,null,null,null,null,null,null,null,null,0,0,0,null,null,null,null,0,0,0]
[{"$f":"+IF(B298=0,0,SUM($B$62:B298))","v":0},0,94,32,null,null,"x","Conociendo el mundo de las redes - Taller Exploratorio",1,null,null,null,null,0,0,0,0,null,null,null,null,null,null,null,null,null,null,null,null,null,0,0,0,null,null,null,null,0,0,0]
[{"$f":"+IF(B299=0,0,SUM($B$62:B299))","v":0},0,94,33,null,null,"x","Conociendo los negocios - Taller Exploratorio",1,null,null,null,null,0,0,0,0,null,null,null,null,null,null,null,null,null,null,null,null,null,0,0,0,null,null,null,null,0,0,0]
[{"$f":"+IF(B300=0,0,SUM($B$62:B300))","v":0},0,94,34,null,null,"x","Diseño y desarrollo de pequeñas aplicaciones de software - Taller Exploratorio",1,null,null,null,null,0,0,0,0,null,null,null,null,null,null,null,null,null,null,null,null,null,0,0,0,null,null,null,null,{"$f":"+K300","v":0},0,0]
[{"$f":"+IF(B301=0,0,SUM($B$62:B301))","v":0},0,94,35,null,null,"x","Digitación Computacional  - Taller Exploratorio",1,null,null,null,null,0,0,0,0,null,null,null,null,null,null,null,null,null,null,null,null,null,{"$f":"+N301","v":0},{"$f":"+O301","v":0},{"$f":"+P301","v":0},null,null,null,null,{"$f":"+K301","v":0},{"$f":"+L301","v":0},{"$f":"+M301","v":0}]
[{"$f":"+IF(B302=0,0,SUM($B$62:B302))","v":0},{"$f":"+IF(Q302>0,1,0)","v":0},94,36,null,null,"x","Gestión Empresarial Cooperativa - Taller Exploratorio",1,null,null,null,null,0,0,0,0,null,null,null,null,null,null,null,null,null,null,null,null,null,0,0,0,null,null,null,null,0,0,0]
[{"$f":"+IF(B303=0,0,SUM($B$62:B303))","v":0},{"$f":"+IF(Q303>0,1,0)","v":0},94,37,null,null,"x","Guía Naturalista - Taller Exploratorio",1,null,null,null,null,0,0,0,0,null,null,null,null,null,null,null,null,null,null,null,null,null,0,0,0,null,null,null,null,0,0,0]
[{"$f":"+IF(B304=0,0,SUM($B$62:B304))","v":0},{"$f":"+IF(Q304>0,1,0)","v":0},94,38,"x",null,null,"Consumamos y Tributemos - Taller Exploratorio",1,null,null,null,null,0,0,0,0,null,null,null,null,null,null,null,null,null,null,null,null,null,0,0,0,null,null,null,null,0,0,0]
[{"$f":"+IF(B305=0,0,SUM($B$62:B305))","v":0},{"$f":"+IF(Q305>0,1,0)","v":0},94,39,null,null,"x","Salud Ocupacional - Taller Exploratorio",1,null,null,null,null,0,0,0,{"$f":"SUM(N305:P305)","v":0},null,null,null,null,null,null,null,null,null,null,null,null,null,0,0,0,null,null,null,null,0,0,0]
[9999,null,94,null,null,null,null,"AGROPECUARIA",1,null,null,null,null,null,null,null,null,null,null,null,null,null,null,null,null,null,null,null,null,null,0,0,0,null,null,null,null,0,0,0]
[{"$f":"+IF(B307=0,0,SUM($B$62:B307))","v":0},{"$f":"+IF(Q307>0,1,0)","v":0},94,40,"x",null,null,"Agricultura Sostenible - Taller Exploratorio",1,null,null,null,null,{"$f":"IF(K307=0,0,IF(E307=\"x\",K307*4,\"ERROR\"))","v":0},{"$f":"IF(L307=0,0,IF(F307=\"x\",L307*4,\"ERROR\"))","v":0},{"$f":"IF(M307=0,0,IF(G307=\"x\",M307*4,\"ERROR\"))","v":0},{"$f":"SUM(N307:P307)","v":0},null,null,null,null,null,null,null,null,null,null,null,null,null,0,0,0,null,null,null,null,0,0,0]
[{"$f":"+IF(B308=0,0,SUM($B$62:B308))","v":0},{"$f":"+IF(Q308>0,1,0)","v":0},94,41,"x",null,null,"Explotación Avícola - Taller Exploratorio",1,null,null,null,null,{"$f":"IF(K308=0,0,IF(E308=\"x\",K308*4,\"ERROR\"))","v":0},{"$f":"IF(L308=0,0,IF(F308=\"x\",L308*4,\"ERROR\"))","v":0},{"$f":"IF(M308=0,0,IF(G308=\"x\",M308*4,\"ERROR\"))","v":0},0,null,null,null,null,null,null,null,null,null,null,null,null,null,0,0,0,null,null,null,null,0,0,0]
[{"$f":"+IF(B309=0,0,SUM($B$62:B309))","v":0},{"$f":"+IF(Q309>0,1,0)","v":0},94,42,"x",null,null,"Preparemos Alimentos Agrícolas - Taller Exploratorio",1,null,null,null,null,0,0,0,0,null,null,null,null,null,null,null,null,null,null,null,null,null,0,0,0,null,null,null,null,0,0,0]
[{"$f":"+IF(B310=0,0,SUM($B$62:B310))","v":0},0,94,43,"x",null,null,"Preparemos Alimentos Pecuarios - Taller Exploratorio",1,null,null,null,null,0,0,0,0,null,null,null,null,null,null,null,null,null,null,null,null,null,0,0,0,null,null,null,null,0,0,0]
[{"$f":"+IF(B311=0,0,SUM($B$62:B311))","v":0},0,94,44,"x",null,null,"Produzcamos en la Huerta - Taller Exploratorio",1,null,null,null,null,0,0,{"$f":"IF(M311=0,0,IF(G311=\"x\",M311*4,\"ERROR\"))","v":0},0,null,null,null,null,null,null,null,null,null,null,null,null,null,0,0,0,null,null,null,null,0,0,0]
[{"$f":"+IF(B312=0,0,SUM($B$62:B312))","v":0},0,94,45,null,"x",null,"Educación Ambiental - Taller Exploratorio",1,null,null,null,null,0,0,{"$f":"IF(M312=0,0,IF(G312=\"x\",M312*4,\"ERROR\"))","v":0},0,null,null,null,null,null,null,null,null,null,null,null,null,null,0,0,0,null,null,null,null,0,0,0]
[{"$f":"+IF(B313=0,0,SUM($B$62:B313))","v":0},0,94,46,null,"x",null,"Explotación de Especies Menores - Taller Exploratorio",1,null,null,null,null,0,0,{"$f":"IF(M313=0,0,IF(G313=\"x\",M313*4,\"ERROR\"))","v":0},0,null,null,null,null,null,null,null,null,null,null,null,null,null,0,0,0,null,null,null,null,0,0,0]
[{"$f":"+IF(B314=0,0,SUM($B$62:B314))","v":0},0,94,47,null,"x",null,"Industrialicemos Lácteos - Taller Exploratorio",1,null,null,null,null,0,0,{"$f":"IF(M314=0,0,IF(G314=\"x\",M314*4,\"ERROR\"))","v":0},0,null,null,null,null,null,null,null,null,null,null,null,null,null,0,0,0,null,null,null,null,0,0,0]
[{"$f":"+IF(B315=0,0,SUM($B$62:B315))","v":0},0,94,48,null,"x",null,"Preparemos derivados de la harina - Taller Exploratorio",1,null,null,null,null,0,0,{"$f":"IF(M315=0,0,IF(G315=\"x\",M315*4,\"ERROR\"))","v":0},0,null,null,null,null,null,null,null,null,null,null,null,null,null,0,0,0,null,null,null,null,0,0,0]
[{"$f":"+IF(B316=0,0,SUM($B$62:B316))","v":0},0,94,49,null,"x",null,"Reproduzcamos Nuestras Plantas - Taller Exploratorio",1,null,null,null,null,0,0,0,0,null,null,null,null,null,null,null,null,null,null,null,null,null,0,0,0,null,null,null,null,0,0,0]
[{"$f":"+IF(B317=0,0,SUM($B$62:B317))","v":0},0,94,50,null,null,"x","Conservemos la Fauna - Taller Exploratorio",1,null,null,null,null,0,0,0,0,null,null,null,null,null,null,null,null,null,null,null,null,null,0,0,0,null,null,null,null,0,0,0]
[{"$f":"+IF(B318=0,0,SUM($B$62:B318))","v":0},0,94,51,null,null,"x","El Taller Agrícola - Taller Exploratorio",1,null,null,null,null,0,0,0,0,null,null,null,null,null,null,null,null,null,null,null,null,null,0,0,0,null,null,null,null,0,0,0]
[{"$f":"+IF(B319=0,0,SUM($B$62:B319))","v":0},0,94,52,null,null,"x","Explotación Bovina - Taller Exploratorio",1,null,null,null,null,0,0,0,0,null,null,null,null,null,null,null,null,null,null,null,null,null,0,0,0,null,null,null,null,0,0,0]
[{"$f":"+IF(B320=0,0,SUM($B$62:B320))","v":0},0,94,53,null,null,"x","Industrialicemos Cárnicos - Taller Exploratorio",1,null,null,null,null,0,0,0,0,null,null,null,null,null,null,null,null,null,null,null,null,null,0,0,0,null,null,null,null,0,0,0]
[{"$f":"+IF(B321=0,0,SUM($B$62:B321))","v":0},0,94,54,null,null,"x","Industrialicemos frutas y vegetales - Taller Exploratorio",1,null,null,null,null,0,0,0,0,null,null,null,null,null,null,null,null,null,null,null,null,null,0,0,0,null,null,null,null,0,0,0]
[9999,null,null,null,null,null,null,"TOTAL DE LECCIONES",1,{"$f":"SUM(J267:J321)","v":0},{"$f":"SUM(K267:K321)","v":0},{"$f":"SUM(L267:L321)","v":0},{"$f":"SUM(M267:M321)","v":0},{"$f":"SUM(N265:N321)","v":0},{"$f":"SUM(O265:O321)","v":0},{"$f":"SUM(P265:P321)","v":0},{"$f":"SUM(Q265:Q321)","v":0}]

{"sheet":"Oferta Educativa","index":2,"n_rows":1607,"n_cols":19,"rows_kept":1607,"cut":false,"hidden":true,"merged":[[1,10,1,12],[1,13,1,15],[1,8,1,9],[1,16,1,18]]}
[null,null,null,null,null,null,null,{"$f":"+G1+1","v":1},{"$f":"+H1+1","v":2},{"$f":"+I1+1","v":3},4,5,6,7,8,9,10,11,12]
["OFERTA EDUCATIVA TÉCNICA al 2024",null,null,null,null,null,2024,null,"Plan a 2 años",null,"Diurna",null,null,"Nocturna",null,null,"Dual"]
["Cod.Pres.","DRE","CORVEC","CTP, CINDEA, IPEC","No.","Especialidad",null,"&","1°","2° ","10°","11°","12°","10°","11°","12°","I","II","III"]
[4229,"Aguirre","Pacífico Central","Jacó",{"$f":"INDEX([5]Hoja4!$F$2:$F$1672,MATCH(F4,[5]Hoja4!$G$2:$G$1672,0))","v":20},"Contabilidad","x",{"$f":"IF(A4=\"\",\"\",A4&\"_\"&E4)","v":"4229_20"},null,null,"x","X","x"]
[4229,"Aguirre","Pacífico Central","Jacó",{"$f":"INDEX([5]Hoja4!$F$2:$F$1672,MATCH(F5,[5]Hoja4!$G$2:$G$1672,0))","v":24},"Contabilidad y Finanzas","x",{"$f":"IF(A5=\"\",\"\",A5&\"_\"&E5)","v":"4229_24"},null,null,null,null,null,"x","X","x"]
[4229,"Aguirre","Pacífico Central","Jacó",{"$f":"INDEX([5]Hoja4!$F$2:$F$1672,MATCH(F6,[5]Hoja4!$G$2:$G$1672,0))","v":35},"Ejecutivo Comercial y Servicio al cliente","x","4229_35",null,null,null,null,"x"]
[4229,"Aguirre","Pacífico Central","Jacó",{"$f":"INDEX([5]Hoja4!$F$2:$F$1672,MATCH(F7,[5]Hoja4!$G$2:$G$1672,0))","v":54},"Operación de Empresas de Alojamiento","x","4229_54",null,null,"x","X","x"]
[4229,"Aguirre","Pacífico Central","Jacó",{"$f":"INDEX([5]Hoja4!$F$2:$F$1672,MATCH(F8,[5]Hoja4!$G$2:$G$1672,0))","v":61},"Salud Ocupacional","x","4229_61",null,null,null,null,null,null,null,"x"]
[4229,"Aguirre","Pacífico Central","Jacó",{"$f":"INDEX([5]Hoja4!$F$2:$F$1672,MATCH(F9,[5]Hoja4!$G$2:$G$1672,0))","v":65},"Turismo en Alimentos y Bebidas","x","4229_65",null,null,null,"X","x",null,"X","x"]
[4229,"Aguirre","Pacífico Central","Jacó",{"$f":"INDEX([5]Hoja4!$F$2:$F$1672,MATCH(F10,[5]Hoja4!$G$2:$G$1672,0))","v":71},"Organización de operaciones y servicios de alimentos y bebidas","x","4229_71",null,null,"x",null,null,"x"]
[4229,"Aguirre","Pacífico Central","Jacó",{"$f":"INDEX([5]Hoja4!$F$2:$F$1672,MATCH(F11,[5]Hoja4!$G$2:$G$1672,0))","v":73},"Gerencia y producción en cocina ","x","4229_73",null,null,"x",null,null,"x"]
[4229,"Aguirre","Pacífico Central","Jacó",{"$f":"INDEX([5]Hoja4!$F$2:$F$1672,MATCH(F12,[5]Hoja4!$G$2:$G$1672,0))","v":58},"Refrigeración y Aire Acondicionado","x","4229_58",null,null,"x","X",null,"x","X"]
[4231,"Aguirre","Pacífico Central","Matapalo",{"$f":"INDEX([5]Hoja4!$F$2:$F$1672,MATCH(F13,[5]Hoja4!$G$2:$G$1672,0))","v":3},"Administración, Logística y Distribución","x","4231_3",null,null,"x","X"]
[4231,"Aguirre","Pacífico Central","Matapalo",{"$f":"INDEX([5]Hoja4!$F$2:$F$1672,MATCH(F14,[5]Hoja4!$G$2:$G$1672,0))","v":45},"Informática en Desarrollo de Software","x","4231_45",null,null,null,null,"x"]
[4231,"Aguirre","Pacífico Central","Matapalo",{"$f":"INDEX([5]Hoja4!$F$2:$F$1672,MATCH(F15,[5]Hoja4!$G$2:$G$1672,0))","v":54},"Operación de Empresas de Alojamiento","x","4231_54",null,null,"x",null,"x"]
[4231,"Aguirre","Pacífico Central","Matapalo",{"$f":"INDEX([5]Hoja4!$F$2:$F$1672,MATCH(F16,[5]Hoja4!$G$2:$G$1672,0))","v":55},"Producción Agrícola y Pecuaria","x","4231_55",null,null,"x",null,"x"]
[4231,"Aguirre","Pacífico Central","Matapalo",{"$f":"INDEX([5]Hoja4!$F$2:$F$1672,MATCH(F17,[5]Hoja4!$G$2:$G$1672,0))","v":67},"Turismo Rural","x","4231_67",null,null,null,"X"]
[4230,"Aguirre","Pacífico Central","Parrita",{"$f":"INDEX([5]Hoja4!$F$2:$F$1672,MATCH(F18,[5]Hoja4!$G$2:$G$1672,0))","v":68},"Gestión de la Producción","x","4230_68",null,null,"x","x"]
[4230,"Aguirre","Pacífico Central","Parrita",{"$f":"INDEX([5]Hoja4!$F$2:$F$1672,MATCH(F19,[5]Hoja4!$G$2:$G$1672,0))","v":14},"Bilingual Secretary","x","4230_14",null,null,"x"]
[4230,"Aguirre","Pacífico Central","Parrita",{"$f":"INDEX([5]Hoja4!$F$2:$F$1672,MATCH(F20,[5]Hoja4!$G$2:$G$1672,0))","v":20},"Contabilidad","x","4230_20",null,null,"x","x","x","x","x"]
[null,null,null,null,{"$f":"INDEX([5]Hoja4!$F$2:$F$1672,MATCH(F21,[5]Hoja4!$G$2:$G$1672,0))","v":18},"Configuración y soporte de redes de comunicación y sistemas operativos","x","",null,null,"x"]
[4230,"Aguirre","Pacífico Central","Parrita",{"$f":"INDEX([5]Hoja4!$F$2:$F$1672,MATCH(F22,[5]Hoja4!$G$2:$G$1672,0))","v":24},"Contabilidad y Finanzas","x","4230_24",null,null,null,null,null,null,null,"x"]
[4230,"Aguirre","Pacífico Central","Parrita",{"$f":"INDEX([5]Hoja4!$F$2:$F$1672,MATCH(F23,[5]Hoja4!$G$2:$G$1672,0))","v":35},"Ejecutivo Comercial y Servicio al cliente","x","4230_35",null,null,"x","x","x","x","x","x"]
[4230,"Aguirre","Pacífico Central","Parrita",{"$f":"INDEX([5]Hoja4!$F$2:$F$1672,MATCH(F24,[5]Hoja4!$G$2:$G$1672,0))","v":44},"Informática Empresarial","x","4230_44",null,null,null,"x","x",null,"x","x"]
[4230,"Aguirre","Pacífico Central","Parrita",{"$f":"INDEX([5]Hoja4!$F$2:$F$1672,MATCH(F25,[5]Hoja4!$G$2:$G$1672,0))","v":54},"Operación de Empresas de Alojamiento","x","4230_54",null,null,"x",null,null,null,"x","x"]
[4230,"Aguirre","Pacífico Central","Parrita",{"$f":"INDEX([5]Hoja4!$F$2:$F$1672,MATCH(F26,[5]Hoja4!$G$2:$G$1672,0))","v":56},"Productividad y Calidad","x","4230_56",null,null,null,null,null,null,null,"x"]
[4230,"Aguirre","Pacífico Central","Parrita",{"$f":"INDEX([5]Hoja4!$F$2:$F$1672,MATCH(F27,[5]Hoja4!$G$2:$G$1672,0))","v":58},"Refrigeración y Aire Acondicionado","x","4230_58",null,null,null,"x","x","x","x"]
[4230,"Aguirre","Pacífico Central","Parrita",{"$f":"INDEX([5]Hoja4!$F$2:$F$1672,MATCH(F28,[5]Hoja4!$G$2:$G$1672,0))","v":59},"Reparación de los Sistemas de Vehículos Livianos","x","4230_59",null,null,"x","x","x","x","x","x"]
[4230,"Aguirre","Pacífico Central","Parrita",{"$f":"INDEX([5]Hoja4!$F$2:$F$1672,MATCH(F29,[5]Hoja4!$G$2:$G$1672,0))","v":62},"Secretariado Ejecutivo","x","4230_62",null,null,"x","x","x","x","x","x"]
[4230,"Aguirre","Pacífico Central","Parrita",{"$f":"INDEX([5]Hoja4!$F$2:$F$1672,MATCH(F30,[5]Hoja4!$G$2:$G$1672,0))","v":65},"Turismo en Alimentos y Bebidas","x","4230_65",null,null,null,"x","x",null,null,"x"]
[4230,"Aguirre","Pacífico Central","Parrita",{"$f":"INDEX([5]Hoja4!$F$2:$F$1672,MATCH(F31,[5]Hoja4!$G$2:$G$1672,0))","v":72},"Desarrollo de aplicaciones móviles","x","4230_72",null,null,null,null,null,"x"]
[4230,"Aguirre","Pacífico Central","Parrita",{"$f":"INDEX([5]Hoja4!$F$2:$F$1672,MATCH(F32,[5]Hoja4!$G$2:$G$1672,0))","v":71},"Organización de operaciones y servicios de alimentos y bebidas","x","4230_71",null,null,null,null,null,"x"]
[5748,"Aguirre","Pacífico Central","Quepos",{"$f":"INDEX([5]Hoja4!$F$2:$F$1672,MATCH(F33,[5]Hoja4!$G$2:$G$1672,0))","v":20},"Contabilidad","x","5748_20",null,null,"x","x","x","x","x","x"]
[5748,"Aguirre","Pacífico Central","Quepos",{"$f":"INDEX([5]Hoja4!$F$2:$F$1672,MATCH(F34,[5]Hoja4!$G$2:$G$1672,0))","v":25},"Desarrollo Web","x",{"$f":"IF(A34=\"\",\"\",A34&\"_\"&E34)","v":"5748_25"},null,null,"x","x","x","x"]
[5748,"Aguirre","Pacífico Central","Quepos",{"$f":"INDEX([5]Hoja4!$F$2:$F$1672,MATCH(F35,[5]Hoja4!$G$2:$G$1672,0))","v":35},"Ejecutivo Comercial y Servicio al cliente","x","5748_35",null,null,null,"x","x",null,"x","X"]
[5748,"Aguirre","Pacífico Central","Quepos",{"$f":"INDEX([5]Hoja4!$F$2:$F$1672,MATCH(F36,[5]Hoja4!$G$2:$G$1672,0))","v":54},"Operación de Empresas de Alojamiento","x","5748_54",null,null,"x","x","x",null,"x","x"]
[5748,"Aguirre","Pacífico Central","Quepos",{"$f":"INDEX([5]Hoja4!$F$2:$F$1672,MATCH(F37,[5]Hoja4!$G$2:$G$1672,0))","v":61},"Salud Ocupacional","x","5748_61",null,null,null,null,null,"x","x","x"]
[5748,"Aguirre","Pacífico Central","Quepos",{"$f":"INDEX([5]Hoja4!$F$2:$F$1672,MATCH(F38,[5]Hoja4!$G$2:$G$1672,0))","v":65},"Turismo en Alimentos y Bebidas","x","5748_65",null,null,null,"x","x",null,null,"X"]
[5748,"Aguirre","Pacífico Central","Quepos",{"$f":"INDEX([5]Hoja4!$F$2:$F$1672,MATCH(F39,[5]Hoja4!$G$2:$G$1672,0))","v":62},"Secretariado Ejecutivo","x","5748_62",null,null,"x"]
[6547,"Alajuela","CORVECA","Atenas",{"$f":"INDEX([5]Hoja4!$F$2:$F$1672,MATCH(F40,[5]Hoja4!$G$2:$G$1672,0))","v":3},"Administración, Logística y Distribución","x","6547_3",null,null,"x",null,"x","x"]
[6547,"Alajuela","CORVECA","Atenas",{"$f":"INDEX([5]Hoja4!$F$2:$F$1672,MATCH(F41,[5]Hoja4!$G$2:$G$1672,0))","v":13},"Banca y Finanzas","x","6547_13",null,null,null,null,null,null,null,"x"]
[6547,"Alajuela","CORVECA","Atenas",{"$f":"INDEX([5]Hoja4!$F$2:$F$1672,MATCH(F42,[5]Hoja4!$G$2:$G$1672,0))","v":20},"Contabilidad","x","6547_20",null,null,"x","x","x","x","x"]
[6547,"Alajuela","CORVECA","Atenas",{"$f":"INDEX([5]Hoja4!$F$2:$F$1672,MATCH(F43,[5]Hoja4!$G$2:$G$1672,0))","v":25},"Desarrollo Web","x","6547_25",null,null,null,"x","x",null,"x"]
[6547,"Alajuela","CORVECA","Atenas",{"$f":"INDEX([5]Hoja4!$F$2:$F$1672,MATCH(F44,[5]Hoja4!$G$2:$G$1672,0))","v":35},"Ejecutivo Comercial y Servicio al cliente","x","6547_35",null,null,"x","x","x","x","x","x"]
[6547,"Alajuela","CORVECA","Atenas",{"$f":"INDEX([5]Hoja4!$F$2:$F$1672,MATCH(F45,[5]Hoja4!$G$2:$G$1672,0))","v":69},"Instalación y mantenimiento de sistemas eléctricos Indutriales ","x","6547_69",null,null,null,"x"]
[6547,"Alajuela","CORVECA","Atenas",{"$f":"INDEX([5]Hoja4!$F$2:$F$1672,MATCH(F46,[5]Hoja4!$G$2:$G$1672,0))","v":40},"Electrónica Industrial","x","6547_40",null,null,"x","x","x","x","x","x",null,null,"x"]
[6547,"Alajuela","CORVECA","Atenas",{"$f":"INDEX([5]Hoja4!$F$2:$F$1672,MATCH(F47,[5]Hoja4!$G$2:$G$1672,0))","v":56},"Productividad y Calidad","x","6547_56",null,null,null,null,"x",null,null,"x"]
[6547,"Alajuela","CORVECA","Atenas",{"$f":"INDEX([5]Hoja4!$F$2:$F$1672,MATCH(F48,[5]Hoja4!$G$2:$G$1672,0))","v":68},"Gestión de la Producción","x","6547_68",null,null,"x","x"]
[6506,"Alajuela","CORVECA","Bolívar",{"$f":"INDEX([5]Hoja4!$F$2:$F$1672,MATCH(F49,[5]Hoja4!$G$2:$G$1672,0))","v":24},"Contabilidad y Finanzas","x","6506_24",null,null,"x","x","x"]
[6506,"Alajuela","CORVECA","Bolívar",{"$f":"INDEX([5]Hoja4!$F$2:$F$1672,MATCH(F50,[5]Hoja4!$G$2:$G$1672,0))","v":35},"Ejecutivo Comercial y Servicio al Cliente","x","6506_35",null,null,"x","x","x"]
[6506,"Alajuela","CORVECA","Bolívar",{"$f":"INDEX([5]Hoja4!$F$2:$F$1672,MATCH(F51,[5]Hoja4!$G$2:$G$1672,0))","v":44},"Informática Empresarial","x","6506_44",null,null,null,"x","x"]
[6506,"Alajuela","CORVECA","Bolívar",{"$f":"INDEX([5]Hoja4!$F$2:$F$1672,MATCH(F52,[5]Hoja4!$G$2:$G$1672,0))","v":59},"Reparación de los Sistemas de Vehículos Livianos","x","6506_59",null,null,"x","x","x"]
[6506,"Alajuela","CORVECA","Bolívar",{"$f":"INDEX([5]Hoja4!$F$2:$F$1672,MATCH(F53,[5]Hoja4!$G$2:$G$1672,0))","v":65},"Turismo en Alimentos y Bebidas","x","6506_65",null,null,null,"x","x"]
[6506,"Alajuela","CORVECA","Bolívar",{"$f":"INDEX([5]Hoja4!$F$2:$F$1672,MATCH(F54,[5]Hoja4!$G$2:$G$1672,0))","v":72},"Desarrollo de aplicaciones móviles","x","6506_72",null,null,"x"]
[6506,"Alajuela","CORVECA","Bolívar",{"$f":"INDEX([5]Hoja4!$F$2:$F$1672,MATCH(F55,[5]Hoja4!$G$2:$G$1672,0))","v":71},"Organización de operaciones y servicios de alimentos y bebidas","x","6506_71",null,null,"x"]
[4844,"Alajuela","CORVECA","Carlos Luis Fallas Sibaja",{"$f":"INDEX([5]Hoja4!$F$2:$F$1672,MATCH(F56,[5]Hoja4!$G$2:$G$1672,0))","v":20},"Contabilidad","x","4844_20",null,null,null,null,null,"x","x","x"]
[4844,"Alajuela","CORVECA","Carlos Luis Fallas Sibaja",{"$f":"INDEX([5]Hoja4!$F$2:$F$1672,MATCH(F57,[5]Hoja4!$G$2:$G$1672,0))","v":35},"Ejecutivo Comercial y Servicio al cliente","x","4844_35",null,null,null,null,null,"x","x","x"]
[4844,"Alajuela","CORVECA","Carlos Luis Fallas Sibaja",{"$f":"INDEX([5]Hoja4!$F$2:$F$1672,MATCH(F58,[5]Hoja4!$G$2:$G$1672,0))","v":41},"Electrotecnia","x","4844_41",null,null,null,null,null,null,null,"x"]
[4844,"Alajuela","CORVECA","Carlos Luis Fallas Sibaja",{"$f":"INDEX([5]Hoja4!$F$2:$F$1672,MATCH(F59,[5]Hoja4!$G$2:$G$1672,0))","v":44},"Informática Empresarial","x","4844_44",null,null,null,null,null,null,"x","x"]
[4844,"Alajuela","CORVECA","Carlos Luis Fallas Sibaja",{"$f":"INDEX([5]Hoja4!$F$2:$F$1672,MATCH(F60,[5]Hoja4!$G$2:$G$1672,0))","v":45},"Informática en Desarrollo de Software","x","4844_45",null,null,null,null,null,null,"x","x"]
[4844,"Alajuela","CORVECA","Carlos Luis Fallas Sibaja",{"$f":"INDEX([5]Hoja4!$F$2:$F$1672,MATCH(F61,[5]Hoja4!$G$2:$G$1672,0))","v":54},"Operación de Empresas de Alojamiento","x","4844_54",null,null,null,null,null,null,"x","x"]
[4844,"Alajuela","CORVECA","Carlos Luis Fallas Sibaja",{"$f":"INDEX([5]Hoja4!$F$2:$F$1672,MATCH(F62,[5]Hoja4!$G$2:$G$1672,0))","v":59},"Reparación de los Sistemas de Vehículos Livianos","x","4844_59",null,null,null,null,null,"x","x","x"]
[4844,"Alajuela","CORVECA","Carlos Luis Fallas Sibaja",{"$f":"INDEX([5]Hoja4!$F$2:$F$1672,MATCH(F63,[5]Hoja4!$G$2:$G$1672,0))","v":62},"Secretariado Ejecutivo","x","4844_62",null,null,null,null,null,"x","x","x"]
[4845,"Alajuela","CORVECA","Carlos Luis Fallas Sibaja",{"$f":"INDEX([5]Hoja4!$F$2:$F$1672,MATCH(F64,[5]Hoja4!$G$2:$G$1672,0))","v":69},"Instalación y mantenimiento de sistemas eléctricos Indutriales ","x","4845_69",null,null,null,null,null,"x","x"]
[4846,"Alajuela","CORVECA","Carlos Luis Fallas Sibaja",{"$f":"INDEX([5]Hoja4!$F$2:$F$1672,MATCH(F65,[5]Hoja4!$G$2:$G$1672,0))","v":25},"Desarrollo Web","x","4846_25",null,null,null,null,null,"x","x"]
[4846,"Alajuela","CORVECA","Carlos Luis Fallas Sibaja",{"$f":"INDEX([5]Hoja4!$F$2:$F$1672,MATCH(F66,[5]Hoja4!$G$2:$G$1672,0))","v":18},"Configuración y soporte de redes de comunicación y sistemas operativos","x","4846_18",null,null,null,null,null,"x"]
[4846,"Alajuela","CORVECA","Carlos Luis Fallas Sibaja",{"$f":"INDEX([5]Hoja4!$F$2:$F$1672,MATCH(F67,[5]Hoja4!$G$2:$G$1672,0))","v":72},"Desarrollo de aplicaciones móviles","x","4846_72",null,null,null,null,null,"x"]
[4846,"Alajuela","CORVECA","Carlos Luis Fallas Sibaja",{"$f":"INDEX([5]Hoja4!$F$2:$F$1672,MATCH(F68,[5]Hoja4!$G$2:$G$1672,0))","v":71},"Organización de operaciones y servicios de alimentos y bebidas","x","4846_71",null,null,null,null,null,"x"]
[4847,"Alajuela","CORVECA","Carlos Luis Fallas Sibaja",{"$f":"INDEX([5]Hoja4!$F$2:$F$1672,MATCH(F69,[5]Hoja4!$G$2:$G$1672,0))","v":53},"Mercadeo","x","4847_53",null,null,null,null,null,"x","x"]
[6105,"Alajuela","CORVECA","Carrizal",{"$f":"INDEX([5]Hoja4!$F$2:$F$1672,MATCH(F70,[5]Hoja4!$G$2:$G$1672,0))","v":2},"Administración y Operación Aduanera","x","6105_2",null,null,"x","x","x"]
[6105,"Alajuela","CORVECA","Carrizal",{"$f":"INDEX([5]Hoja4!$F$2:$F$1672,MATCH(F71,[5]Hoja4!$G$2:$G$1672,0))","v":13},"Banca y Finanzas","x","6105_13",null,null,"x","x","x"]
[6105,"Alajuela","CORVECA","Carrizal",{"$f":"INDEX([5]Hoja4!$F$2:$F$1672,MATCH(F72,[5]Hoja4!$G$2:$G$1672,0))","v":20},"Contabilidad","x","6105_20",null,null,"x","x","x","x","x","x"]
[6105,"Alajuela","CORVECA","Carrizal",{"$f":"INDEX([5]Hoja4!$F$2:$F$1672,MATCH(F73,[5]Hoja4!$G$2:$G$1672,0))","v":25},"Desarrollo Web","x","6105_25",null,null,null,"x","x"]
[6105,"Alajuela","CORVECA","Carrizal",{"$f":"INDEX([5]Hoja4!$F$2:$F$1672,MATCH(F74,[5]Hoja4!$G$2:$G$1672,0))","v":27},"Dibujo Técnico","x","6105_27",null,null,"x","x","x"]
[6105,"Alajuela","CORVECA","Carrizal",{"$f":"INDEX([5]Hoja4!$F$2:$F$1672,MATCH(F75,[5]Hoja4!$G$2:$G$1672,0))","v":35},"Ejecutivo Comercial y Servicio al cliente","x","6105_35",null,null,"x","x","x"]
[6105,"Alajuela","CORVECA","Carrizal",{"$f":"INDEX([5]Hoja4!$F$2:$F$1672,MATCH(F76,[5]Hoja4!$G$2:$G$1672,0))","v":40},"Electrónica Industrial","x","6105_40",null,null,"x","x","x","x","x","x"]
[6105,"Alajuela","CORVECA","Carrizal",{"$f":"INDEX([5]Hoja4!$F$2:$F$1672,MATCH(F77,[5]Hoja4!$G$2:$G$1672,0))","v":44},"Informática Empresarial","x","6105_44",null,null,null,null,"x","x","x","x"]
[6105,"Alajuela","CORVECA","Carrizal",{"$f":"INDEX([5]Hoja4!$F$2:$F$1672,MATCH(F78,[5]Hoja4!$G$2:$G$1672,0))","v":62},"Secretariado Ejecutivo","x","6105_62",null,null,null,null,"x","x","x","x"]
[6105,"Alajuela","CORVECA","Carrizal",{"$f":"INDEX([5]Hoja4!$F$2:$F$1672,MATCH(F79,[5]Hoja4!$G$2:$G$1672,0))","v":73},"Gerencia y producción en cocina ","x","6105_73",null,null,"x",null,null,"x"]
[6105,"Alajuela","CORVECA","Carrizal",{"$f":"INDEX([5]Hoja4!$F$2:$F$1672,MATCH(F80,[5]Hoja4!$G$2:$G$1672,0))","v":71},"Organización de operaciones y servicios de alimentos y bebidas","x","6105_71",null,null,"x"]
[6105,"Alajuela","CORVECA","Carrizal",{"$f":"INDEX([5]Hoja4!$F$2:$F$1672,MATCH(F81,[5]Hoja4!$G$2:$G$1672,0))","v":70},"Inteligencia Artificial","x","6105_70",null,null,"x"]
[6105,"Alajuela","CORVECA","Carrizal",{"$f":"INDEX([5]Hoja4!$F$2:$F$1672,MATCH(F82,[5]Hoja4!$G$2:$G$1672,0))","v":65},"Turismo en Alimentos y Bebidas","x","6105_65",null,null,null,"x","x",null,"x","x"]
[6033,"Alajuela","CORVECA","INVU Las Cañas",{"$f":"INDEX([5]Hoja4!$F$2:$F$1672,MATCH(F83,[5]Hoja4!$G$2:$G$1672,0))","v":2},"Administración y Operación Aduanera","x","6033_2",null,null,"x","x","x","x","x","x"]
[6033,"Alajuela","CORVECA","INVU Las Cañas",{"$f":"INDEX([5]Hoja4!$F$2:$F$1672,MATCH(F84,[5]Hoja4!$G$2:$G$1672,0))","v":20},"Contabilidad","x","6033_20",null,null,"x","x","x"]
[6033,"Alajuela","CORVECA","INVU Las Cañas",{"$f":"INDEX([5]Hoja4!$F$2:$F$1672,MATCH(F85,[5]Hoja4!$G$2:$G$1672,0))","v":24},"Contabilidad y Finanzas","x","6033_24",null,null,"x","x","x","x","x","x"]
[6033,"Alajuela","CORVECA","INVU Las Cañas",{"$f":"INDEX([5]Hoja4!$F$2:$F$1672,MATCH(F86,[5]Hoja4!$G$2:$G$1672,0))","v":25},"Desarrollo Web","x","6033_25",null,null,null,null,null,null,"x"]
[6033,"Alajuela","CORVECA","INVU Las Cañas",{"$f":"INDEX([5]Hoja4!$F$2:$F$1672,MATCH(F87,[5]Hoja4!$G$2:$G$1672,0))","v":30},"Diseño Publicitario","x","6033_30",null,null,"x","x","x","x","x"]
[6033,"Alajuela","CORVECA","INVU Las Cañas",{"$f":"INDEX([5]Hoja4!$F$2:$F$1672,MATCH(F88,[5]Hoja4!$G$2:$G$1672,0))","v":33},"Diseño y Desarrollo Digital","x","6033_33",null,null,null,null,"x",null,null,"x"]
[6033,"Alajuela","CORVECA","INVU Las Cañas",{"$f":"INDEX([5]Hoja4!$F$2:$F$1672,MATCH(F89,[5]Hoja4!$G$2:$G$1672,0))","v":35},"Ejecutivo Comercial y Servicio al Cliente","x","6033_35",null,null,"x","x","x","x","x","x"]
[6033,"Alajuela","CORVECA","INVU Las Cañas",{"$f":"INDEX([5]Hoja4!$F$2:$F$1672,MATCH(F90,[5]Hoja4!$G$2:$G$1672,0))","v":44},"Informática Empresarial","x","6033_44",null,null,null,null,null,null,null,"x"]
[6033,"Alajuela","CORVECA","INVU Las Cañas",{"$f":"INDEX([5]Hoja4!$F$2:$F$1672,MATCH(F91,[5]Hoja4!$G$2:$G$1672,0))","v":45},"Informática en Desarrollo de Software","x","6033_45",null,null,null,"x",null,null,"x"]
[6033,"Alajuela","CORVECA","INVU Las Cañas",{"$f":"INDEX([5]Hoja4!$F$2:$F$1672,MATCH(F92,[5]Hoja4!$G$2:$G$1672,0))","v":56},"Productividad y Calidad","x","6033_56",null,null,null,null,null,null,null,"x"]
[6033,"Alajuela","CORVECA","INVU Las Cañas",{"$f":"INDEX([5]Hoja4!$F$2:$F$1672,MATCH(F93,[5]Hoja4!$G$2:$G$1672,0))","v":68},"Gestión de la Producción","x","6033_68",null,null,null,null,null,"x","x"]
[6033,"Alajuela","CORVECA","INVU Las Cañas",{"$f":"INDEX([5]Hoja4!$F$2:$F$1672,MATCH(F94,[5]Hoja4!$G$2:$G$1672,0))","v":72},"Desarrollo de aplicaciones móviles","x","6033_72",null,null,"x"]
[6033,"Alajuela","CORVECA","INVU Las Cañas",{"$f":"INDEX([5]Hoja4!$F$2:$F$1672,MATCH(F95,[5]Hoja4!$G$2:$G$1672,0))","v":15},"Ciberseguridad","x","6033_15",null,null,null,null,null,"x","x"]
[4845,"Alajuela","CORVECA","IPEC de Poás (Central)",{"$f":"INDEX([5]Hoja4!$F$2:$F$1672,MATCH(F96,[5]Hoja4!$G$2:$G$1672,0))","v":24},"Contabilidad y Finanzas","x","4845_24",null,null,null,null,null,"x",null,"x"]
[4845,"Alajuela","CORVECA","IPEC de Poás (Central)",{"$f":"INDEX([5]Hoja4!$F$2:$F$1672,MATCH(F97,[5]Hoja4!$G$2:$G$1672,0))","v":31},"Diseño y Confección de la Moda","x","4845_31",null,"x"]
[4845,"Alajuela","CORVECA","IPEC de Poás (Central)",{"$f":"INDEX([5]Hoja4!$F$2:$F$1672,MATCH(F98,[5]Hoja4!$G$2:$G$1672,0))","v":35},"Ejecutivo Comercial y Servicio al Cliente",null,{"$f":"IF(A98=\"\",\"\",A98&\"_\"&E98)","v":"4845_35"},"x",null,null,null,null,"x","x","x"]
[4845,"Alajuela","CORVECA","IPEC de Poás (Central)",{"$f":"INDEX([5]Hoja4!$F$2:$F$1672,MATCH(F99,[5]Hoja4!$G$2:$G$1672,0))","v":62},"Secretariado Ejecutivo","x","4845_62",null,null,null,null,null,null,null,"x"]
[4846,"Alajuela","CORVECA","IPEC de Poás (Central)",{"$f":"INDEX([5]Hoja4!$F$2:$F$1672,MATCH(F100,[5]Hoja4!$G$2:$G$1672,0))","v":20},"Contabilidad","x","4846_20","x",null,null,null,null,"x","x"]
[4847,"Alajuela","CORVECA","IPEC de Poás (Central)",{"$f":"INDEX([5]Hoja4!$F$2:$F$1672,MATCH(F101,[5]Hoja4!$G$2:$G$1672,0))","v":44},"Informática Empresarial","x","4847_44",null,null,null,null,null,null,"x"]
[4171,"Alajuela","CORVECA","Jesús Ocaña Rojas",{"$f":"INDEX([5]Hoja4!$F$2:$F$1672,MATCH(F102,[5]Hoja4!$G$2:$G$1672,0))","v":18},"Configuración y soporte de redes de comunicación y sistemas operativos","x","4171_18",null,null,"x","x","x"]
[4171,"Alajuela","CORVECA","Jesús Ocaña Rojas",{"$f":"INDEX([5]Hoja4!$F$2:$F$1672,MATCH(F103,[5]Hoja4!$G$2:$G$1672,0))","v":22},"Contabilidad y Control Interno","x","4171_22",null,null,"x","x","x"]
[4171,"Alajuela","CORVECA","Jesús Ocaña Rojas",{"$f":"INDEX([5]Hoja4!$F$2:$F$1672,MATCH(F104,[5]Hoja4!$G$2:$G$1672,0))","v":23},"Contabilidad y Costos","x","4171_23",null,null,"x","x","x"]
[4171,"Alajuela","CORVECA","Jesús Ocaña Rojas",{"$f":"INDEX([5]Hoja4!$F$2:$F$1672,MATCH(F105,[5]Hoja4!$G$2:$G$1672,0))","v":24},"Contabilidad y Finanzas","x","4171_24",null,null,"x","x","x"]
[4171,"Alajuela","CORVECA","Jesús Ocaña Rojas",{"$f":"INDEX([5]Hoja4!$F$2:$F$1672,MATCH(F106,[5]Hoja4!$G$2:$G$1672,0))","v":27},"Dibujo Técnico","x","4171_27",null,null,"x","x","x"]
[4171,"Alajuela","CORVECA","Jesús Ocaña Rojas",{"$f":"INDEX([5]Hoja4!$F$2:$F$1672,MATCH(F107,[5]Hoja4!$G$2:$G$1672,0))","v":35},"Ejecutivo Comercial y Servicio al cliente","x","4171_35",null,null,"x","x","x"]
[4171,"Alajuela","CORVECA","Jesús Ocaña Rojas",{"$f":"INDEX([5]Hoja4!$F$2:$F$1672,MATCH(F108,[5]Hoja4!$G$2:$G$1672,0))","v":41},"Electrotecnia","x","4171_41",null,null,null,null,"x"]
[4171,"Alajuela","CORVECA","Jesús Ocaña Rojas",{"$f":"INDEX([5]Hoja4!$F$2:$F$1672,MATCH(F109,[5]Hoja4!$G$2:$G$1672,0))","v":44},"Informática Empresarial","x","4171_44",null,null,"x","x","x"]
[4171,"Alajuela","CORVECA","Jesús Ocaña Rojas",{"$f":"INDEX([5]Hoja4!$F$2:$F$1672,MATCH(F110,[5]Hoja4!$G$2:$G$1672,0))","v":69},"Instalación y mantenimiento de sistemas eléctricos Indutriales ","x","4171_69",null,null,"x","x"]
[4171,"Alajuela","CORVECA","Jesús Ocaña Rojas",{"$f":"INDEX([5]Hoja4!$F$2:$F$1672,MATCH(F111,[5]Hoja4!$G$2:$G$1672,0))","v":50},"Mecánica de Precisión","x","4171_50",null,null,"x","x","x"]
[4171,"Alajuela","CORVECA","Jesús Ocaña Rojas",{"$f":"INDEX([5]Hoja4!$F$2:$F$1672,MATCH(F112,[5]Hoja4!$G$2:$G$1672,0))","v":15},"Ciberseguridad","x","4171_15",null,null,"x"]
[4171,"Alajuela","CORVECA","Jesús Ocaña Rojas",{"$f":"INDEX([5]Hoja4!$F$2:$F$1672,MATCH(F113,[5]Hoja4!$G$2:$G$1672,0))","v":59},"Reparación de los Sistemas de Vehículos Livianos","x","4171_59",null,null,"x","x","x"]
[4171,"Alajuela","CORVECA","Jesús Ocaña Rojas",{"$f":"INDEX([5]Hoja4!$F$2:$F$1672,MATCH(F114,[5]Hoja4!$G$2:$G$1672,0))","v":62},"Secretariado Ejecutivo","x","4171_62",null,null,"x","x","x"]
[4172,"Alajuela","CORVECA","Ricardo Castro Beer",{"$f":"INDEX([5]Hoja4!$F$2:$F$1672,MATCH(F115,[5]Hoja4!$G$2:$G$1672,0))","v":5},"Agroecología","x","4172_5",null,null,"x","x","x"]
[4172,"Alajuela","CORVECA","Ricardo Castro Beer",{"$f":"INDEX([5]Hoja4!$F$2:$F$1672,MATCH(F116,[5]Hoja4!$G$2:$G$1672,0))","v":14},"Bilingual Secretary","x","4172_14",null,null,"x",null,"x"]
[4172,"Alajuela","CORVECA","Ricardo Castro Beer",{"$f":"INDEX([5]Hoja4!$F$2:$F$1672,MATCH(F117,[5]Hoja4!$G$2:$G$1672,0))","v":20},"Contabilidad","x","4172_20",null,null,"x","x","x"]
[4172,"Alajuela","CORVECA","Ricardo Castro Beer",{"$f":"INDEX([5]Hoja4!$F$2:$F$1672,MATCH(F118,[5]Hoja4!$G$2:$G$1672,0))","v":41},"Electrotecnia","x","4172_41",null,null,null,null,"x"]
[4172,"Alajuela","CORVECA","Ricardo Castro Beer",{"$f":"INDEX([5]Hoja4!$F$2:$F$1672,MATCH(F119,[5]Hoja4!$G$2:$G$1672,0))","v":54},"Operación de Empresas de Alojamiento","x","4172_54",null,null,"x","x","x"]
[4172,"Alajuela","CORVECA","Ricardo Castro Beer",{"$f":"INDEX([5]Hoja4!$F$2:$F$1672,MATCH(F120,[5]Hoja4!$G$2:$G$1672,0))","v":55},"Producción Agrícola y Pecuaria","x","4172_55",null,null,"x","x","x"]
[4172,"Alajuela","CORVECA","Ricardo Castro Beer",{"$f":"INDEX([5]Hoja4!$F$2:$F$1672,MATCH(F121,[5]Hoja4!$G$2:$G$1672,0))","v":62},"Secretariado Ejecutivo","x","4172_62",null,null,"x","x","x"]
[4172,"Alajuela","CORVECA","Ricardo Castro Beer",{"$f":"INDEX([5]Hoja4!$F$2:$F$1672,MATCH(F122,[5]Hoja4!$G$2:$G$1672,0))","v":34},"Ecoturismo","x","4172_34",null,null,"x","x","x"]
[4172,"Alajuela","CORVECA","Ricardo Castro Beer",{"$f":"INDEX([5]Hoja4!$F$2:$F$1672,MATCH(F123,[5]Hoja4!$G$2:$G$1672,0))","v":3},"Administración, Logística y Distribución","x","4172_3",null,null,"x","x"]
[4172,"Alajuela","CORVECA","Ricardo Castro Beer",{"$f":"INDEX([5]Hoja4!$F$2:$F$1672,MATCH(F124,[5]Hoja4!$G$2:$G$1672,0))","v":67},"Turismo Rural","x","4172_67",null,null,"x","x","x"]
[4173,"Alajuela","CORVECA","Ricardo Castro Beer",{"$f":"INDEX([5]Hoja4!$F$2:$F$1672,MATCH(F125,[5]Hoja4!$G$2:$G$1672,0))","v":68},"Gestión de la Producción","x","4173_68",null,null,"x","x"]
[4174,"Alajuela","CORVECA","Ricardo Castro Beer",{"$f":"INDEX([5]Hoja4!$F$2:$F$1672,MATCH(F126,[5]Hoja4!$G$2:$G$1672,0))","v":69},"Instalación y mantenimiento de sistemas eléctricos Indutriales ","x","4174_69",null,null,"x","x"]
[6507,"Alajuela","CORVECA","Sabanilla",{"$f":"INDEX([5]Hoja4!$F$2:$F$1672,MATCH(F127,[5]Hoja4!$G$2:$G$1672,0))","v":3},"Administración, Logística y Distribución","x","6507_3",null,null,"x","x","x"]
[6507,"Alajuela","CORVECA","Sabanilla",{"$f":"INDEX([5]Hoja4!$F$2:$F$1672,MATCH(F128,[5]Hoja4!$G$2:$G$1672,0))","v":24},"Contabilidad y Finanzas","x","6507_24",null,null,"x","x","x"]
[6507,"Alajuela","CORVECA","Sabanilla",{"$f":"INDEX([5]Hoja4!$F$2:$F$1672,MATCH(F129,[5]Hoja4!$G$2:$G$1672,0))","v":35},"Ejecutivo Comercial y Servicio al Cliente","x","6507_35",null,null,"x","x","x","x"]
[6507,"Alajuela","CORVECA","Sabanilla",{"$f":"INDEX([5]Hoja4!$F$2:$F$1672,MATCH(F130,[5]Hoja4!$G$2:$G$1672,0))","v":36},"Ejecutivo para Centros de Servicios","x","6507_36",null,null,null,null,"X"]
[6507,"Alajuela","CORVECA","Sabanilla",{"$f":"INDEX([5]Hoja4!$F$2:$F$1672,MATCH(F131,[5]Hoja4!$G$2:$G$1672,0))","v":40},"Electrónica Industrial","x","6507_40",null,null,"x","x","x","x"]
[6507,"Alajuela","CORVECA","Sabanilla",{"$f":"INDEX([5]Hoja4!$F$2:$F$1672,MATCH(F132,[5]Hoja4!$G$2:$G$1672,0))","v":65},"Turismo en Alimentos y Bebidas","x","6507_65",null,null,null,"x","x"]
[6507,"Alajuela","CORVECA","Sabanilla",{"$f":"INDEX([5]Hoja4!$F$2:$F$1672,MATCH(F133,[5]Hoja4!$G$2:$G$1672,0))","v":74},"Gestión de la calidad","x","6507_74",null,null,null,null,null,"x"]
[6507,"Alajuela","CORVECA","Sabanilla",{"$f":"INDEX([5]Hoja4!$F$2:$F$1672,MATCH(F134,[5]Hoja4!$G$2:$G$1672,0))","v":67},"Turismo Rural","x","6507_67",null,null,"x","x"]
[4173,"Alajuela","CORVECA","San Mateo",{"$f":"INDEX([5]Hoja4!$F$2:$F$1672,MATCH(F135,[5]Hoja4!$G$2:$G$1672,0))","v":5},"Agroecología","x","4173_5",null,null,null,null,"x"]
[4173,"Alajuela","CORVECA","San Mateo",{"$f":"INDEX([5]Hoja4!$F$2:$F$1672,MATCH(F136,[5]Hoja4!$G$2:$G$1672,0))","v":6},"Agroindustria Alimentaria con Tecnología Agrícola","x","4173_6",null,null,null,"x","x"]
[4173,"Alajuela","CORVECA","San Mateo",{"$f":"INDEX([5]Hoja4!$F$2:$F$1672,MATCH(F137,[5]Hoja4!$G$2:$G$1672,0))","v":18},"Configuración y soporte de redes de comunicación y sistemas operativos",null,"4173_18",null,null,"x","x","x","x","x","x"]
[4173,"Alajuela","CORVECA","San Mateo",{"$f":"INDEX([5]Hoja4!$F$2:$F$1672,MATCH(F138,[5]Hoja4!$G$2:$G$1672,0))","v":20},"Contabilidad",null,"4173_20",null,null,"x","x","x","x",null,"x"]
[4173,"Alajuela","CORVECA","San Mateo",{"$f":"INDEX([5]Hoja4!$F$2:$F$1672,MATCH(F139,[5]Hoja4!$G$2:$G$1672,0))","v":35},"Ejecutivo Comercial y Servicio al Cliente","x","4173_35",null,null,null,null,null,"x","x","x"]
[4173,"Alajuela","CORVECA","San Mateo",{"$f":"INDEX([5]Hoja4!$F$2:$F$1672,MATCH(F140,[5]Hoja4!$G$2:$G$1672,0))","v":44},"Informática Empresarial","x","4173_44",null,null,null,null,null,null,"x","x"]
[4173,"Alajuela","CORVECA","San Mateo",{"$f":"INDEX([5]Hoja4!$F$2:$F$1672,MATCH(F141,[5]Hoja4!$G$2:$G$1672,0))","v":68},"Gestión de la Producción","x","4173_68",null,null,null,null,null,"x","x"]
[4173,"Alajuela","CORVECA","San Mateo",{"$f":"INDEX([5]Hoja4!$F$2:$F$1672,MATCH(F142,[5]Hoja4!$G$2:$G$1672,0))","v":55},"Producción Agrícola y Pecuaria","x","4173_55",null,null,"x","x","x"]
[4173,"Alajuela","CORVECA","San Mateo",{"$f":"INDEX([5]Hoja4!$F$2:$F$1672,MATCH(F143,[5]Hoja4!$G$2:$G$1672,0))","v":56},"Productividad y Calidad","x","4173_56",null,null,null,null,null,null,null,"x"]
[4173,"Alajuela","CORVECA","San Mateo",{"$f":"INDEX([5]Hoja4!$F$2:$F$1672,MATCH(F144,[5]Hoja4!$G$2:$G$1672,0))","v":62},"Secretariado Ejecutivo","x","4173_62",null,null,null,null,null,null,"x","x"]
[4173,"Alajuela","CORVECA","San Mateo",{"$f":"INDEX([5]Hoja4!$F$2:$F$1672,MATCH(F145,[5]Hoja4!$G$2:$G$1672,0))","v":34},"Ecoturismo",null,"4173_34",null,null,"x","x","x"]
[6635,"Alajuela","CORVECA","San Rafael de Alajuela",{"$f":"INDEX([5]Hoja4!$F$2:$F$1672,MATCH(F146,[5]Hoja4!$G$2:$G$1672,0))","v":3},"Administración, Logística y Distribución","x","6635_3",null,null,null,"x","x",null,"x","x"]
[6635,"Alajuela","CORVECA","San Rafael de Alajuela",{"$f":"INDEX([5]Hoja4!$F$2:$F$1672,MATCH(F147,[5]Hoja4!$G$2:$G$1672,0))","v":20},"Contabilidad","x","6635_20",null,null,"x","x","x","x","x","x"]
[6635,"Alajuela","CORVECA","San Rafael de Alajuela",{"$f":"INDEX([5]Hoja4!$F$2:$F$1672,MATCH(F148,[5]Hoja4!$G$2:$G$1672,0))","v":25},"Desarrollo Web","x","6635_25",null,null,"x","x","x",null,"x","x"]
[6635,"Alajuela","CORVECA","San Rafael de Alajuela",{"$f":"INDEX([5]Hoja4!$F$2:$F$1672,MATCH(F149,[5]Hoja4!$G$2:$G$1672,0))","v":35},"Ejecutivo Comercial y Servicio al cliente","x","6635_35",null,null,"x","x","x",null,"x","x"]
[6635,"Alajuela","CORVECA","San Rafael de Alajuela",{"$f":"INDEX([5]Hoja4!$F$2:$F$1672,MATCH(F150,[5]Hoja4!$G$2:$G$1672,0))","v":40},"Electrónica Industrial","x","6635_40",null,null,"x","x","x","x","x","x"]
[6635,"Alajuela","CORVECA","San Rafael de Alajuela",{"$f":"INDEX([5]Hoja4!$F$2:$F$1672,MATCH(F151,[5]Hoja4!$G$2:$G$1672,0))","v":72},"Desarrollo de aplicaciones móviles","x","6635_72",null,null,"x"]
[6635,"Alajuela","CORVECA","San Rafael de Alajuela",{"$f":"INDEX([5]Hoja4!$F$2:$F$1672,MATCH(F152,[5]Hoja4!$G$2:$G$1672,0))","v":68},"Gestión de la producción ","x","6635_68",null,null,"x"]
[6635,"Alajuela","CORVECA","San Rafael de Alajuela",{"$f":"INDEX([5]Hoja4!$F$2:$F$1672,MATCH(F153,[5]Hoja4!$G$2:$G$1672,0))","v":74},"Gestión de la calidad","x","6635_74",null,null,null,null,null,"x"]
[6635,"Alajuela","CORVECA","San Rafael de Alajuela",{"$f":"INDEX([5]Hoja4!$F$2:$F$1672,MATCH(F154,[5]Hoja4!$G$2:$G$1672,0))","v":45},"Informática en Desarrollo de Software","x","6635_45",null,null,null,"x","x"]
[6508,"Alajuela","CORVECA","San Rafael de Poás",{"$f":"INDEX([5]Hoja4!$F$2:$F$1672,MATCH(F155,[5]Hoja4!$G$2:$G$1672,0))","v":3},"Administración, Logística y Distribución","x","6508_3",null,null,"x","x","x"]
[6508,"Alajuela","CORVECA","San Rafael de Poás",{"$f":"INDEX([5]Hoja4!$F$2:$F$1672,MATCH(F156,[5]Hoja4!$G$2:$G$1672,0))","v":18},"Configuración y soporte de redes de comunicación y sistemas operativos","x","6508_18",null,null,"x","x","x"]
[6508,"Alajuela","CORVECA","San Rafael de Poás",{"$f":"INDEX([5]Hoja4!$F$2:$F$1672,MATCH(F157,[5]Hoja4!$G$2:$G$1672,0))","v":20},"Contabilidad","x","6508_20",null,null,"x","x","x"]
[6508,"Alajuela","CORVECA","San Rafael de Poás",{"$f":"INDEX([5]Hoja4!$F$2:$F$1672,MATCH(F158,[5]Hoja4!$G$2:$G$1672,0))","v":35},"Ejecutivo Comercial y Servicio al cliente","x","6508_35",null,null,"x","x","x"]
[6508,"Alajuela","CORVECA","San Rafael de Poás",{"$f":"INDEX([5]Hoja4!$F$2:$F$1672,MATCH(F159,[5]Hoja4!$G$2:$G$1672,0))","v":36},"Ejecutivo para Centros de Servicios","x","6508_36",null,null,null,null,"x"]
[6508,"Alajuela","CORVECA","San Rafael de Poás",{"$f":"INDEX([5]Hoja4!$F$2:$F$1672,MATCH(F160,[5]Hoja4!$G$2:$G$1672,0))","v":45},"Informática en Desarrollo de Software","x","6508_45",null,null,null,"x","x"]
[6508,"Alajuela","CORVECA","San Rafael de Poás",{"$f":"INDEX([5]Hoja4!$F$2:$F$1672,MATCH(F161,[5]Hoja4!$G$2:$G$1672,0))","v":68},"Gestión de la Producción","x","6508_68",null,null,"x","X"]
[6508,"Alajuela","CORVECA","San Rafael de Poás",{"$f":"INDEX([5]Hoja4!$F$2:$F$1672,MATCH(F162,[5]Hoja4!$G$2:$G$1672,0))","v":72},"Desarrollo de aplicaciones móviles","x",{"$f":"IF(A162=\"\",\"\",A162&\"_\"&E162)","v":"6508_72"},null,null,"x"]
[6508,"Alajuela","CORVECA","San Rafael de Poás",{"$f":"INDEX([5]Hoja4!$F$2:$F$1672,MATCH(F163,[5]Hoja4!$G$2:$G$1672,0))","v":56},"Productividad y Calidad","x","6508_56",null,null,null,null,"x"]
[6537,"Alajuela","CORVECA","Santa Eulalia",{"$f":"INDEX([5]Hoja4!$F$2:$F$1672,MATCH(F164,[5]Hoja4!$G$2:$G$1672,0))","v":24},"Contabilidad y Finanzas","x","6537_24",null,null,"x","X","x"]
[6537,"Alajuela","CORVECA","Santa Eulalia",{"$f":"INDEX([5]Hoja4!$F$2:$F$1672,MATCH(F165,[5]Hoja4!$G$2:$G$1672,0))","v":35},"Ejecutivo Comercial y Servicio al cliente","x","6537_35",null,null,"x","X","x"]
[6537,"Alajuela","CORVECA","Santa Eulalia",{"$f":"INDEX([5]Hoja4!$F$2:$F$1672,MATCH(F166,[5]Hoja4!$G$2:$G$1672,0))","v":44},"Informática Empresarial","x","6537_44",null,null,null,null,"x"]
[6538,"Alajuela","CORVECA","Santa Eulalia",{"$f":"INDEX([5]Hoja4!$F$2:$F$1672,MATCH(F167,[5]Hoja4!$G$2:$G$1672,0))","v":18},"Configuración y soporte de redes de comunicación y sistemas operativos","x","6538_18",null,null,"x","X"]
[4207,"Cañas","Nahualt Chorotega","Abangares",{"$f":"INDEX([5]Hoja4!$F$2:$F$1672,MATCH(F168,[5]Hoja4!$G$2:$G$1672,0))","v":18},"Configuración y soporte de redes de comunicación y sistemas operativos","x","4207_18",null,null,"x","X","x"]
[4207,"Cañas","Nahualt Chorotega","Abangares",{"$f":"INDEX([5]Hoja4!$F$2:$F$1672,MATCH(F169,[5]Hoja4!$G$2:$G$1672,0))","v":20},"Contabilidad","x","4207_20",null,null,null,null,"x",null,null,"x"]
[4207,"Cañas","Nahualt Chorotega","Abangares",{"$f":"INDEX([5]Hoja4!$F$2:$F$1672,MATCH(F170,[5]Hoja4!$G$2:$G$1672,0))","v":35},"Ejecutivo Comercial y Servicio al cliente","x","4207_35",null,null,"x","X","x"]
[4207,"Cañas","Nahualt Chorotega","Abangares",{"$f":"INDEX([5]Hoja4!$F$2:$F$1672,MATCH(F171,[5]Hoja4!$G$2:$G$1672,0))","v":40},"Electrónica Industrial","x","4207_40",null,null,"x","X","x","x","x","x"]
[4207,"Cañas","Nahualt Chorotega","Abangares",{"$f":"INDEX([5]Hoja4!$F$2:$F$1672,MATCH(F172,[5]Hoja4!$G$2:$G$1672,0))","v":45},"Informática en Desarrollo de Software","x","4207_45",null,null,null,null,null,null,"x","x"]
[4207,"Cañas","Nahualt Chorotega","Abangares",{"$f":"INDEX([5]Hoja4!$F$2:$F$1672,MATCH(F173,[5]Hoja4!$G$2:$G$1672,0))","v":62},"Secretariado Ejecutivo","x","4207_62",null,null,null,null,null,"x","x","x"]
[4207,"Cañas","Nahualt Chorotega","Abangares",{"$f":"INDEX([5]Hoja4!$F$2:$F$1672,MATCH(F174,[5]Hoja4!$G$2:$G$1672,0))","v":34},"Ecoturismo","x","4207_34",null,null,"x","X","x"]
[4207,"Cañas","Nahualt Chorotega","Abangares",{"$f":"INDEX([5]Hoja4!$F$2:$F$1672,MATCH(F175,[5]Hoja4!$G$2:$G$1672,0))","v":65},"Turismo en Alimentos y Bebidas","x","4207_65",null,null,null,"X","x",null,"x","x"]
[4207,"Cañas","Nahualt Chorotega","Abangares",{"$f":"INDEX([5]Hoja4!$F$2:$F$1672,MATCH(F176,[5]Hoja4!$G$2:$G$1672,0))","v":73},"Gerencia y producción en cocina ","x","4207_73",null,null,"x",null,null,"x"]
[4207,"Cañas","Nahualt Chorotega","Abangares",{"$f":"INDEX([5]Hoja4!$F$2:$F$1672,MATCH(F177,[5]Hoja4!$G$2:$G$1672,0))","v":72},"Desarrollo de aplicaciones móviles","x","4207_72",null,null,null,null,null,"x"]
[4208,"Cañas","Nahualt Chorotega","Abangares",{"$f":"INDEX([5]Hoja4!$F$2:$F$1672,MATCH(F178,[5]Hoja4!$G$2:$G$1672,0))","v":23},"Contabilidad y Costos","x","4208_23",null,null,"x","x",null,"x","x"]
[6538,"Cañas","Nahualt Chorotega","Cañas",{"$f":"INDEX([5]Hoja4!$F$2:$F$1672,MATCH(F179,[5]Hoja4!$G$2:$G$1672,0))","v":19},"Construcción Civil","x","6538_19",null,null,"x",null,"x"]
[6538,"Cañas","Nahualt Chorotega","Cañas",{"$f":"INDEX([5]Hoja4!$F$2:$F$1672,MATCH(F180,[5]Hoja4!$G$2:$G$1672,0))","v":28},"Dibujo y Modelado para Edificaciones","x","6538_28",null,null,null,"x","x"]
[6538,"Cañas","Nahualt Chorotega","Cañas",{"$f":"INDEX([5]Hoja4!$F$2:$F$1672,MATCH(F181,[5]Hoja4!$G$2:$G$1672,0))","v":15},"Ciberseguridad","x","6538_15",null,null,"x","x"]
[6538,"Cañas","Nahualt Chorotega","Cañas",{"$f":"INDEX([5]Hoja4!$F$2:$F$1672,MATCH(F182,[5]Hoja4!$G$2:$G$1672,0))","v":33},"Diseño y Desarrollo Digital","x","6538_33",null,null,null,null,"x"]
[6538,"Cañas","Nahualt Chorotega","Cañas",{"$f":"INDEX([5]Hoja4!$F$2:$F$1672,MATCH(F183,[5]Hoja4!$G$2:$G$1672,0))","v":35},"Ejecutivo Comercial y Servicio al Cliente","x","6538_35",null,null,null,"x","x",null,"x","x"]
[6538,"Cañas","Nahualt Chorotega","Cañas",{"$f":"INDEX([5]Hoja4!$F$2:$F$1672,MATCH(F184,[5]Hoja4!$G$2:$G$1672,0))","v":37},"Electromecánica","x","6538_37",null,null,"x","x"]
[6538,"Cañas","Nahualt Chorotega","Cañas",{"$f":"INDEX([5]Hoja4!$F$2:$F$1672,MATCH(F185,[5]Hoja4!$G$2:$G$1672,0))","v":39},"Electrónica En Telecomunicaciones","x","6538_39",null,null,null,"x",null,null,"x"]
[6538,"Cañas","Nahualt Chorotega","Cañas",{"$f":"INDEX([5]Hoja4!$F$2:$F$1672,MATCH(F186,[5]Hoja4!$G$2:$G$1672,0))","v":44},"Informática Empresarial","x","6538_44",null,null,null,null,"x",null,null,"x"]
[6538,"Cañas","Nahualt Chorotega","Cañas",{"$f":"INDEX([5]Hoja4!$F$2:$F$1672,MATCH(F187,[5]Hoja4!$G$2:$G$1672,0))","v":45},"Informática en Desarrollo de Software","x","6538_45",null,null,null,null,null,null,"x"]
[6538,"Cañas","Nahualt Chorotega","Cañas",{"$f":"INDEX([5]Hoja4!$F$2:$F$1672,MATCH(F188,[5]Hoja4!$G$2:$G$1672,0))","v":58},"Refrigeración y Aire Acondicionado","x","6538_58",null,null,"x","x","x","x",null,"x"]
[6538,"Cañas","Nahualt Chorotega","Cañas",{"$f":"INDEX([5]Hoja4!$F$2:$F$1672,MATCH(F189,[5]Hoja4!$G$2:$G$1672,0))","v":69},"Instalación y mantenimiento de sistemas eléctricos indutriales ","x","6538_69",null,null,null,null,null,"x"]
[6538,"Cañas","Nahualt Chorotega","Cañas",{"$f":"INDEX([5]Hoja4!$F$2:$F$1672,MATCH(F190,[5]Hoja4!$G$2:$G$1672,0))","v":72},"Desarrollo de aplicaciones móviles","x","6538_72",null,null,"x"]
[6538,"Cañas","Nahualt Chorotega","Cañas",{"$f":"INDEX([5]Hoja4!$F$2:$F$1672,MATCH(F191,[5]Hoja4!$G$2:$G$1672,0))","v":61},"Salud Ocupacional","x","6538_61",null,null,null,null,"x",null,"x","x"]
[6539,"Cañas","Nahualt Chorotega","Cañas",{"$f":"INDEX([5]Hoja4!$F$2:$F$1672,MATCH(F192,[5]Hoja4!$G$2:$G$1672,0))","v":18},"Configuración y soporte de redes de comunicación y sistemas operativos","x","6539_18",null,null,null,"x"]
[6727,"Cañas","Nahualt Chorotega","CINDEA Bebedero (Central)",{"$f":"INDEX([5]Hoja4!$F$2:$F$1672,MATCH(F193,[5]Hoja4!$G$2:$G$1672,0))","v":20},"Contabilidad","x","6727_20",null,null,null,null,null,null,"x","x"]
[6727,"Cañas","Nahualt Chorotega","CINDEA Bebedero (Central)",{"$f":"INDEX([5]Hoja4!$F$2:$F$1672,MATCH(F194,[5]Hoja4!$G$2:$G$1672,0))","v":35},"Ejecutivo Comercial y Servicio al cliente","x","6727_35",null,null,null,null,null,"x","x"]
[6727,"Cañas","Nahualt Chorotega","CINDEA Bebedero (Central)",{"$f":"INDEX([5]Hoja4!$F$2:$F$1672,MATCH(F195,[5]Hoja4!$G$2:$G$1672,0))","v":53},"Mercadeo","x","6727_53",null,null,null,null,null,"x","x","x"]
[6727,"Cañas","Nahualt Chorotega","CINDEA Bebedero (Central)",{"$f":"INDEX([5]Hoja4!$F$2:$F$1672,MATCH(F196,[5]Hoja4!$G$2:$G$1672,0))","v":44},"Informática Empresarial","x","6727_44",null,null,null,null,null,"x"]
[6727,"Cañas","Nahualt Chorotega","CINDEA Bebedero (Central)",{"$f":"INDEX([5]Hoja4!$F$2:$F$1672,MATCH(F197,[5]Hoja4!$G$2:$G$1672,0))","v":62},"Secretariado Ejecutivo","x","6727_62",null,null,null,null,null,null,"x","x"]
[5676,"Cañas","Nahualt Chorotega","CINDEA de Abangares (Central)",{"$f":"INDEX([5]Hoja4!$F$2:$F$1672,MATCH(F198,[5]Hoja4!$G$2:$G$1672,0))","v":13},"Banca y Finanzas","x","5676_13",null,null,"x",null,null,null,"X","x"]
[5676,"Cañas","Nahualt Chorotega","CINDEA de Abangares (Central)",{"$f":"INDEX([5]Hoja4!$F$2:$F$1672,MATCH(F199,[5]Hoja4!$G$2:$G$1672,0))","v":45},"Informática en Desarrollo de Software","x","5676_45",null,null,null,null,null,null,null,"x"]
[5676,"Cañas","Nahualt Chorotega","CINDEA de Abangares (Central)",{"$f":"INDEX([5]Hoja4!$F$2:$F$1672,MATCH(F200,[5]Hoja4!$G$2:$G$1672,0))","v":72},"Desarrollo de aplicaciones móviles","x","5676_72",null,null,"x"]
[5676,"Cañas","Nahualt Chorotega","CINDEA de Abangares (Central)",{"$f":"INDEX([5]Hoja4!$F$2:$F$1672,MATCH(F201,[5]Hoja4!$G$2:$G$1672,0))","v":67},"Turismo Rural","x","5676_67",null,null,"x","x"]
[5676,"Cañas","Nahualt Chorotega","CINDEA de Abangares (Central)",{"$f":"INDEX([5]Hoja4!$F$2:$F$1672,MATCH(F202,[5]Hoja4!$G$2:$G$1672,0))","v":53},"Mercadeo","x","5676_53",null,null,"x",null,null,null,"x"]
[5676,"Cañas","Nahualt Chorotega","CINDEA de Abangares (Central)",{"$f":"INDEX([5]Hoja4!$F$2:$F$1672,MATCH(F203,[5]Hoja4!$G$2:$G$1672,0))","v":62},"Secretariado Ejecutivo","x","5676_62",null,null,"x",null,null,null,null,"x"]
[6729,"Cañas","Nahualt Chorotega","CINDEA La Palma (Central)",{"$f":"INDEX([5]Hoja4!$F$2:$F$1672,MATCH(F204,[5]Hoja4!$G$2:$G$1672,0))","v":20},"Contabilidad","x","6729_20",null,null,null,null,null,null,"x"]
[6729,"Cañas","Nahualt Chorotega","CINDEA La Palma (Central)",{"$f":"INDEX([5]Hoja4!$F$2:$F$1672,MATCH(F205,[5]Hoja4!$G$2:$G$1672,0))","v":35},"Ejecutivo Comercial y Servicio al cliente","x","6729_35",null,null,null,null,null,null,"x"]
[6729,"Cañas","Nahualt Chorotega","CINDEA La Palma (Central)",{"$f":"INDEX([5]Hoja4!$F$2:$F$1672,MATCH(F206,[5]Hoja4!$G$2:$G$1672,0))","v":72},"Desarrollo de aplicaciones móviles","x","6729_72",null,null,"x"]
[6730,"Cañas","Nahualt Chorotega","CINDEA La Palma (Central)",{"$f":"INDEX([5]Hoja4!$F$2:$F$1672,MATCH(F207,[5]Hoja4!$G$2:$G$1672,0))","v":45},"Informática en Desarrollo de Software","x","6730_45",null,null,null,null,null,null,"x"]
[6729,"Cañas","Nahualt Chorotega","CINDEA La Palma (Central)",{"$f":"INDEX([5]Hoja4!$F$2:$F$1672,MATCH(F208,[5]Hoja4!$G$2:$G$1672,0))","v":62},"Secretariado Ejecutivo","x","6729_62",null,null,null,null,null,null,null,"x"]
[6729,"Cañas","Nahualt Chorotega","CINDEA La Palma (San Buenaventura)",{"$f":"INDEX([5]Hoja4!$F$2:$F$1672,MATCH(F209,[5]Hoja4!$G$2:$G$1672,0))","v":45},"Informática en Desarrollo de Software","x","6729_45",null,null,null,null,"x"]
[6728,"Cañas","Nahualt Chorotega","CINDEA Tilarán (Central)",{"$f":"INDEX([5]Hoja4!$F$2:$F$1672,MATCH(F210,[5]Hoja4!$G$2:$G$1672,0))","v":20},"Contabilidad","x","6728_20",null,null,null,"x","x","x",null,"x"]
[6728,"Cañas","Nahualt Chorotega","CINDEA Tilarán (Central)",{"$f":"INDEX([5]Hoja4!$F$2:$F$1672,MATCH(F211,[5]Hoja4!$G$2:$G$1672,0))","v":24},"Contabilidad y Finanzas","x","6728_24",null,null,null,"x",null,"x","x"]
[6728,"Cañas","Nahualt Chorotega","CINDEA Tilarán (Central)",{"$f":"INDEX([5]Hoja4!$F$2:$F$1672,MATCH(F212,[5]Hoja4!$G$2:$G$1672,0))","v":72},"Desarrollo de aplicaciones móviles","x","6728_72",null,null,"x",null,null,"x"]
[6728,"Cañas","Nahualt Chorotega","CINDEA Tilarán (Central)",{"$f":"INDEX([5]Hoja4!$F$2:$F$1672,MATCH(F213,[5]Hoja4!$G$2:$G$1672,0))","v":45},"Informática en Desarrollo de Software","x","6728_45",null,null,null,"x"]
[6728,"Cañas","Nahualt Chorotega","CINDEA Tilarán (Central)",{"$f":"INDEX([5]Hoja4!$F$2:$F$1672,MATCH(F214,[5]Hoja4!$G$2:$G$1672,0))","v":62},"Secretariado Ejecutivo","x","6728_62",null,null,null,"x",null,null,null,"x"]
[6728,"Cañas","Nahualt Chorotega","CINDEA Tilarán (Nuevo Arenal)",{"$f":"INDEX([5]Hoja4!$F$2:$F$1672,MATCH(F215,[5]Hoja4!$G$2:$G$1672,0))","v":24},"Contabilidad y Finanzas","x","6728_24",null,null,null,null,null,null,"X "]
[6728,"Cañas","Nahualt Chorotega","CINDEA Tilarán (Nuevo Arenal)",{"$f":"INDEX([5]Hoja4!$F$2:$F$1672,MATCH(F216,[5]Hoja4!$G$2:$G$1672,0))","v":45},"Informática en Desarrollo de Software","x","6728_45",null,null,null,null,null,null,null,"x"]
[4876,"Cañas","Nahualt Chorotega","IPEC de Cañas (Central)",{"$f":"INDEX([5]Hoja4!$F$2:$F$1672,MATCH(F217,[5]Hoja4!$G$2:$G$1672,0))","v":14},"Bilingual Secretary","x","4876_14",null,null,null,null,null,null,null,"x"]
[4876,"Cañas","Nahualt Chorotega","IPEC de Cañas (Central)",{"$f":"INDEX([5]Hoja4!$F$2:$F$1672,MATCH(F218,[5]Hoja4!$G$2:$G$1672,0))","v":20},"Contabilidad","x","4876_20",null,"x","x","x",null,"x","x","x"]
[4876,"Cañas","Nahualt Chorotega","IPEC de Cañas (Central)",{"$f":"INDEX([5]Hoja4!$F$2:$F$1672,MATCH(F219,[5]Hoja4!$G$2:$G$1672,0))","v":51},"Mecánica General","x","4876_51",null,null,null,null,null,null,"x","x"]
[4876,"Cañas","Nahualt Chorotega","IPEC de Cañas (Central)",{"$f":"INDEX([5]Hoja4!$F$2:$F$1672,MATCH(F220,[5]Hoja4!$G$2:$G$1672,0))","v":61},"Salud Ocupacional","x","4876_61",null,null,"x","x","x","x","x","x"]
[4876,"Cañas","Nahualt Chorotega","IPEC de Cañas (Central)",{"$f":"INDEX([5]Hoja4!$F$2:$F$1672,MATCH(F221,[5]Hoja4!$G$2:$G$1672,0))","v":62},"Secretariado Ejecutivo","x","4876_62",null,null,"x","x",null,"x","x"]
[6034,"Cañas","Nahualt Chorotega","Tronadora",{"$f":"INDEX([5]Hoja4!$F$2:$F$1672,MATCH(F222,[5]Hoja4!$G$2:$G$1672,0))","v":18},"Configuración y soporte de redes de comunicación y sistemas operativos","x","6034_18",null,null,null,null,null,"x","x","x"]
[6034,"Cañas","Nahualt Chorotega","Tronadora",{"$f":"INDEX([5]Hoja4!$F$2:$F$1672,MATCH(F223,[5]Hoja4!$G$2:$G$1672,0))","v":35},"Ejecutivo Comercial y Servicio al cliente","x","6034_35",null,null,"x","x","x"]
[6034,"Cañas","Nahualt Chorotega","Tronadora",{"$f":"INDEX([5]Hoja4!$F$2:$F$1672,MATCH(F224,[5]Hoja4!$G$2:$G$1672,0))","v":40},"Electrónica Industrial","x","6034_40",null,null,"x","x","x","x","x","x"]
[6034,"Cañas","Nahualt Chorotega","Tronadora",{"$f":"INDEX([5]Hoja4!$F$2:$F$1672,MATCH(F225,[5]Hoja4!$G$2:$G$1672,0))","v":68},"Gestión de la Producción","x","6034_68",null,null,null,null,null,"x","x"]
[6034,"Cañas","Nahualt Chorotega","Tronadora",{"$f":"INDEX([5]Hoja4!$F$2:$F$1672,MATCH(F226,[5]Hoja4!$G$2:$G$1672,0))","v":54},"Operación de Empresas de Alojamiento","x",{"$f":"IF(A226=\"\",\"\",A226&\"_\"&E226)","v":"6034_54"},null,null,"x","x",null,"x","x"]
[6034,"Cañas","Nahualt Chorotega","Tronadora",{"$f":"INDEX([5]Hoja4!$F$2:$F$1672,MATCH(F227,[5]Hoja4!$G$2:$G$1672,0))","v":67},"Turismo Rural","x","6034_67",null,null,"x","x","x"]
[4184,"Cartago","Entre Volcanes y Café","COVAO Diurno",{"$f":"INDEX([5]Hoja4!$F$2:$F$1672,MATCH(F228,[5]Hoja4!$G$2:$G$1672,0))","v":1},"Accounting","x","4184_1",null,null,"x","x","x"]
[4184,"Cartago","Entre Volcanes y Café","COVAO Diurno",{"$f":"INDEX([5]Hoja4!$F$2:$F$1672,MATCH(F229,[5]Hoja4!$G$2:$G$1672,0))","v":14},"Bilingual Secretary","x","4184_14",null,null,null,"x","x"]
[4184,"Cartago","Entre Volcanes y Café","COVAO Diurno",{"$f":"INDEX([5]Hoja4!$F$2:$F$1672,MATCH(F230,[5]Hoja4!$G$2:$G$1672,0))","v":24},"Contabilidad y Finanzas","x","4184_24",null,null,"x","x","x"]
[4184,"Cartago","Entre Volcanes y Café","COVAO Diurno",{"$f":"INDEX([5]Hoja4!$F$2:$F$1672,MATCH(F231,[5]Hoja4!$G$2:$G$1672,0))","v":25},"Desarrollo Web","x","4184_25",null,null,"x","x","x"]
[4184,"Cartago","Entre Volcanes y Café","COVAO Diurno",{"$f":"INDEX([5]Hoja4!$F$2:$F$1672,MATCH(F232,[5]Hoja4!$G$2:$G$1672,0))","v":30},"Diseño Publicitario","x","4184_30",null,null,"x","x","x"]
[4184,"Cartago","Entre Volcanes y Café","COVAO Diurno",{"$f":"INDEX([5]Hoja4!$F$2:$F$1672,MATCH(F233,[5]Hoja4!$G$2:$G$1672,0))","v":40},"Electrónica Industrial","x","4184_40",null,null,"x","x","x"]
[4184,"Cartago","Entre Volcanes y Café","COVAO Diurno",{"$f":"INDEX([5]Hoja4!$F$2:$F$1672,MATCH(F234,[5]Hoja4!$G$2:$G$1672,0))","v":45},"Informática en Desarrollo de Software","x","4184_45",null,null,null,null,"x"]
[4184,"Cartago","Entre Volcanes y Café","COVAO Diurno",{"$f":"INDEX([5]Hoja4!$F$2:$F$1672,MATCH(F235,[5]Hoja4!$G$2:$G$1672,0))","v":49},"Mantenimiento Industrial","x","4184_49",null,null,null,"x","x"]
[4184,"Cartago","Entre Volcanes y Café","COVAO Diurno",{"$f":"INDEX([5]Hoja4!$F$2:$F$1672,MATCH(F236,[5]Hoja4!$G$2:$G$1672,0))","v":50},"Mecánica de Precisión","x","4184_50",null,null,"x","x","x"]
[4184,"Cartago","Entre Volcanes y Café","COVAO Diurno",{"$f":"INDEX([5]Hoja4!$F$2:$F$1672,MATCH(F237,[5]Hoja4!$G$2:$G$1672,0))","v":59},"Reparación de los Sistemas de Vehículos Livianos","x","4184_59",null,null,"x","x","x"]
[4184,"Cartago","Entre Volcanes y Café","COVAO Diurno",{"$f":"INDEX([5]Hoja4!$F$2:$F$1672,MATCH(F238,[5]Hoja4!$G$2:$G$1672,0))","v":37},"Electromecánica","x","4184_37",null,null,"x"]
[4857,"Cartago","Entre Volcanes y Café","COVAO Nocturno",{"$f":"INDEX([5]Hoja4!$F$2:$F$1672,MATCH(F239,[5]Hoja4!$G$2:$G$1672,0))","v":1},"Accounting","x","4857_1",null,null,null,null,null,null,"x","x"]
[4857,"Cartago","Entre Volcanes y Café","COVAO Nocturno",{"$f":"INDEX([5]Hoja4!$F$2:$F$1672,MATCH(F240,[5]Hoja4!$G$2:$G$1672,0))","v":14},"Bilingual Secretary","x","4857_14",null,null,null,null,null,null,"x","x"]
[4857,"Cartago","Entre Volcanes y Café","COVAO Nocturno",{"$f":"INDEX([5]Hoja4!$F$2:$F$1672,MATCH(F241,[5]Hoja4!$G$2:$G$1672,0))","v":24},"Contabilidad y Finanzas","x","4857_24",null,null,null,null,null,null,"x","x"]
[4857,"Cartago","Entre Volcanes y Café","COVAO Nocturno",{"$f":"INDEX([5]Hoja4!$F$2:$F$1672,MATCH(F242,[5]Hoja4!$G$2:$G$1672,0))","v":25},"Desarrollo Web","x","4857_25",null,null,null,null,null,null,"x","x"]
[4857,"Cartago","Entre Volcanes y Café","COVAO Nocturno",{"$f":"INDEX([5]Hoja4!$F$2:$F$1672,MATCH(F243,[5]Hoja4!$G$2:$G$1672,0))","v":28},"Dibujo y Modelado para Edificaciones","x","4857_28",null,null,null,null,null,null,"x","x"]
[4857,"Cartago","Entre Volcanes y Café","COVAO Nocturno",{"$f":"INDEX([5]Hoja4!$F$2:$F$1672,MATCH(F244,[5]Hoja4!$G$2:$G$1672,0))","v":30},"Diseño Publicitario","x","4857_30",null,null,null,null,null,null,null,"X"]
[4857,"Cartago","Entre Volcanes y Café","COVAO Nocturno",{"$f":"INDEX([5]Hoja4!$F$2:$F$1672,MATCH(F245,[5]Hoja4!$G$2:$G$1672,0))","v":35},"Ejecutivo Comercial y Servicio al Cliente","x","4857_35",null,null,null,null,null,null,null,"X"]
[4857,"Cartago","Entre Volcanes y Café","COVAO Nocturno",{"$f":"INDEX([5]Hoja4!$F$2:$F$1672,MATCH(F246,[5]Hoja4!$G$2:$G$1672,0))","v":39},"Electrónica En Telecomunicaciones","x","4857_39",null,null,null,null,null,null,"x","x"]
[4857,"Cartago","Entre Volcanes y Café","COVAO Nocturno",{"$f":"INDEX([5]Hoja4!$F$2:$F$1672,MATCH(F247,[5]Hoja4!$G$2:$G$1672,0))","v":40},"Electrónica Industrial","x","4857_40",null,null,null,null,null,null,"x","x",null,"x"]
[4857,"Cartago","Entre Volcanes y Café","COVAO Nocturno",{"$f":"INDEX([5]Hoja4!$F$2:$F$1672,MATCH(F248,[5]Hoja4!$G$2:$G$1672,0))","v":49},"Mantenimiento Industrial","x","4857_49",null,null,null,null,null,null,"x","x"]
[4857,"Cartago","Entre Volcanes y Café","COVAO Nocturno",{"$f":"INDEX([5]Hoja4!$F$2:$F$1672,MATCH(F249,[5]Hoja4!$G$2:$G$1672,0))","v":50},"Mecánica de Precisión","x","4857_50",null,null,null,null,null,null,"x","x"]
[4857,"Cartago","Entre Volcanes y Café","COVAO Nocturno",{"$f":"INDEX([5]Hoja4!$F$2:$F$1672,MATCH(F250,[5]Hoja4!$G$2:$G$1672,0))","v":37},"Electromecánica","x","4857_37"]
[4857,"Cartago","Entre Volcanes y Café","COVAO Nocturno",{"$f":"INDEX([5]Hoja4!$F$2:$F$1672,MATCH(F251,[5]Hoja4!$G$2:$G$1672,0))","v":59},"Reparación de los Sistemas de Vehículos Livianos","x","4857_59",null,null,null,null,null,null,"x","x"]
[6503,"Cartago","Entre Volcanes y Café","Dulce Nombre",{"$f":"INDEX([5]Hoja4!$F$2:$F$1672,MATCH(F252,[5]Hoja4!$G$2:$G$1672,0))","v":2},"Administración y Operación Aduanera","x","6503_2",null,null,null,null,null,null,"x"]
[6503,"Cartago","Entre Volcanes y Café","Dulce Nombre",{"$f":"INDEX([5]Hoja4!$F$2:$F$1672,MATCH(F253,[5]Hoja4!$G$2:$G$1672,0))","v":3},"Administración, Logística y Distribución",null,"6503_3",null,null,null,null,"x",null,null,"x"]
[6503,"Cartago","Entre Volcanes y Café","Dulce Nombre",{"$f":"INDEX([5]Hoja4!$F$2:$F$1672,MATCH(F254,[5]Hoja4!$G$2:$G$1672,0))","v":15},"Ciberseguridad",null,"6503_15",null,null,"x","x","x"]
[6503,"Cartago","Entre Volcanes y Café","Dulce Nombre",{"$f":"INDEX([5]Hoja4!$F$2:$F$1672,MATCH(F255,[5]Hoja4!$G$2:$G$1672,0))","v":18},"Configuración y soporte de redes de comunicación y sistemas operativos","x","6503_18",null,null,"x",null,"x",null,"x","X"]
[6503,"Cartago","Entre Volcanes y Café","Dulce Nombre",{"$f":"INDEX([5]Hoja4!$F$2:$F$1672,MATCH(F256,[5]Hoja4!$G$2:$G$1672,0))","v":20},"Contabilidad","x","6503_20",null,null,"x","x","x","x","x","x"]
[6503,"Dulce Nombre",null,"Dulce Nombre",{"$f":"INDEX([5]Hoja4!$F$2:$F$1672,MATCH(F257,[5]Hoja4!$G$2:$G$1672,0))","v":62},"Secretariado Ejecutivo","x","6503_62",null,null,null,null,null,"x",null,"x"]
[6503,"Cartago","Entre Volcanes y Café","Dulce Nombre",{"$f":"INDEX([5]Hoja4!$F$2:$F$1672,MATCH(F258,[5]Hoja4!$G$2:$G$1672,0))","v":28},"Dibujo y Modelado para Edificaciones","x","6503_28",null,null,"x","x",null,"x","x"]
[6503,"Cartago","Entre Volcanes y Café","Dulce Nombre",{"$f":"INDEX([5]Hoja4!$F$2:$F$1672,MATCH(F259,[5]Hoja4!$G$2:$G$1672,0))","v":35},"Ejecutivo Comercial y Servicio al cliente","x","6503_35",null,null,"x","x","x"]
[6503,"Cartago","Entre Volcanes y Café","Dulce Nombre",{"$f":"INDEX([5]Hoja4!$F$2:$F$1672,MATCH(F260,[5]Hoja4!$G$2:$G$1672,0))","v":40},"Electrónica Industrial","x","6503_40",null,null,"x","x","x"]
[6503,"Cartago","Entre Volcanes y Café","Dulce Nombre",{"$f":"INDEX([5]Hoja4!$F$2:$F$1672,MATCH(F261,[5]Hoja4!$G$2:$G$1672,0))","v":41},"Electrotecnia","x","6503_41",null,null,null,null,"x",null,null,"x"]
[6503,"Cartago","Entre Volcanes y Café","Dulce Nombre",{"$f":"INDEX([5]Hoja4!$F$2:$F$1672,MATCH(F262,[5]Hoja4!$G$2:$G$1672,0))","v":45},"Informática en Desarrollo de Software","x","6503_45",null,null,null,"x"]
[6503,"Cartago","Entre Volcanes y Café","Dulce Nombre",{"$f":"INDEX([5]Hoja4!$F$2:$F$1672,MATCH(F263,[5]Hoja4!$G$2:$G$1672,0))","v":72},"Desarrollo de aplicaciones móviles","x","6503_72",null,null,"x"]
[6503,"Cartago","Entre Volcanes y Café","Dulce Nombre",{"$f":"INDEX([5]Hoja4!$F$2:$F$1672,MATCH(F264,[5]Hoja4!$G$2:$G$1672,0))","v":69},"Instalación y mantenimiento de sistemas eléctricos indutriales ","x","6503_69",null,null,null,null,null,"x","x"]
[6032,"Cartago","Entre Volcanes y Café","Fernando Volio Jiménez",{"$f":"INDEX([5]Hoja4!$F$2:$F$1672,MATCH(F265,[5]Hoja4!$G$2:$G$1672,0))","v":13},"Banca y Finanzas","x","6032_13",null,null,"x","x","x"]
[6032,"Cartago","Entre Volcanes y Café","Fernando Volio Jiménez",{"$f":"INDEX([5]Hoja4!$F$2:$F$1672,MATCH(F266,[5]Hoja4!$G$2:$G$1672,0))","v":18},"Configuración y soporte de redes de comunicación y sistemas operativos","x","6032_18",null,null,"x","x","x"]
[6032,"Cartago","Entre Volcanes y Café","Fernando Volio Jiménez",{"$f":"INDEX([5]Hoja4!$F$2:$F$1672,MATCH(F267,[5]Hoja4!$G$2:$G$1672,0))","v":20},"Contabilidad","x","6032_20",null,null,"x","x","x"]
[6032,"Cartago","Entre Volcanes y Café","Fernando Volio Jiménez",{"$f":"INDEX([5]Hoja4!$F$2:$F$1672,MATCH(F268,[5]Hoja4!$G$2:$G$1672,0))","v":27},"Dibujo Técnico","x","6032_27",null,null,"x","x","x"]
[6032,"Cartago","Entre Volcanes y Café","Fernando Volio Jiménez",{"$f":"INDEX([5]Hoja4!$F$2:$F$1672,MATCH(F269,[5]Hoja4!$G$2:$G$1672,0))","v":37},"Electromecánica","x","6032_37",null,null,"x","x","x"]
[6032,"Cartago","Entre Volcanes y Café","Fernando Volio Jiménez",{"$f":"INDEX([5]Hoja4!$F$2:$F$1672,MATCH(F270,[5]Hoja4!$G$2:$G$1672,0))","v":69},"Instalación y mantenimiento de sistemas eléctricos indutriales ","x","6032_69",null,null,"x","x"]
[6032,"Cartago",null,"Fernando Volio Jiménez",{"$f":"INDEX([5]Hoja4!$F$2:$F$1672,MATCH(F271,[5]Hoja4!$G$2:$G$1672,0))","v":68},"Gestión de la Producción","x","6032_68",null,null,"x","x"]
[6032,"Cartago","Entre Volcanes y Café","Fernando Volio Jiménez",{"$f":"INDEX([5]Hoja4!$F$2:$F$1672,MATCH(F272,[5]Hoja4!$G$2:$G$1672,0))","v":56},"Productividad y Calidad",null,"6032_56",null,null,null,null,"x"]
[6032,"Cartago","Entre Volcanes y Café","Fernando Volio Jiménez",{"$f":"INDEX([5]Hoja4!$F$2:$F$1672,MATCH(F273,[5]Hoja4!$G$2:$G$1672,0))","v":62},"Secretariado Ejecutivo","x","6032_62",null,null,"x","x","x"]
[5082,"Cartago","Entre Volcanes y Café","Mario Quirós Sasso",{"$f":"INDEX([5]Hoja4!$F$2:$F$1672,MATCH(F274,[5]Hoja4!$G$2:$G$1672,0))","v":1},"Accounting",null,"5082_1",null,null,"x","x","x",null,"x"]
[5082,"Cartago","Entre Volcanes y Café","Mario Quirós Sasso",{"$f":"INDEX([5]Hoja4!$F$2:$F$1672,MATCH(F275,[5]Hoja4!$G$2:$G$1672,0))","v":2},"Administración y Operación Aduanera","x","5082_2",null,null,"x",null,"x"]
[5082,"Cartago","Entre Volcanes y Café","Mario Quirós Sasso",{"$f":"INDEX([5]Hoja4!$F$2:$F$1672,MATCH(F276,[5]Hoja4!$G$2:$G$1672,0))","v":18},"Configuración y soporte de redes de comunicación y sistemas operativos",null,"5082_18",null,null,"x","x","x","x","x","x"]
[5082,"Cartago","Entre Volcanes y Café","Mario Quirós Sasso",{"$f":"INDEX([5]Hoja4!$F$2:$F$1672,MATCH(F277,[5]Hoja4!$G$2:$G$1672,0))","v":20},"Contabilidad",null,"5082_20",null,null,"x","x","x","x","x","x"]
[5082,"Cartago","Entre Volcanes y Café","Mario Quirós Sasso",{"$f":"INDEX([5]Hoja4!$F$2:$F$1672,MATCH(F278,[5]Hoja4!$G$2:$G$1672,0))","v":22},"Contabilidad y Control Interno","x","5082_22",null,null,"x","x","x"]
[5082,"Cartago","Entre Volcanes y Café","Mario Quirós Sasso",{"$f":"INDEX([5]Hoja4!$F$2:$F$1672,MATCH(F279,[5]Hoja4!$G$2:$G$1672,0))","v":24},"Contabilidad y Finanzas",null,"5082_24",null,null,"x","x","x","x","x","x"]
[5082,"Cartago","Entre Volcanes y Café","Mario Quirós Sasso",{"$f":"INDEX([5]Hoja4!$F$2:$F$1672,MATCH(F280,[5]Hoja4!$G$2:$G$1672,0))","v":25},"Desarrollo Web",null,"5082_25",null,null,"x",null,"x",null,null,"x"]
[5082,"Cartago","Entre Volcanes y Café","Mario Quirós Sasso",{"$f":"INDEX([5]Hoja4!$F$2:$F$1672,MATCH(F281,[5]Hoja4!$G$2:$G$1672,0))","v":27},"Dibujo Técnico",null,"5082_27",null,null,null,null,"x",null,null,"x"]
[5082,"Cartago","Entre Volcanes y Café","Mario Quirós Sasso",{"$f":"INDEX([5]Hoja4!$F$2:$F$1672,MATCH(F282,[5]Hoja4!$G$2:$G$1672,0))","v":31},"Diseño y Confección de la Moda",null,"5082_31",null,null,"x",null,null,"x"]
[5082,"Cartago","Entre Volcanes y Café","Mario Quirós Sasso",{"$f":"INDEX([5]Hoja4!$F$2:$F$1672,MATCH(F283,[5]Hoja4!$G$2:$G$1672,0))","v":35},"Ejecutivo Comercial y Servicio al Cliente","x","5082_35",null,null,"x","x","x","x","x","x"]
[5082,"Cartago","Entre Volcanes y Café","Mario Quirós Sasso",{"$f":"INDEX([5]Hoja4!$F$2:$F$1672,MATCH(F284,[5]Hoja4!$G$2:$G$1672,0))","v":45},"Informática en Desarrollo de Software","x","5082_45",null,null,null,"x","x"]
[5082,"Cartago","Entre Volcanes y Café","Mario Quirós Sasso",{"$f":"INDEX([5]Hoja4!$F$2:$F$1672,MATCH(F285,[5]Hoja4!$G$2:$G$1672,0))","v":28},"Dibujo y modelado para Edificaciones",null,"5082_28",null,null,"x","x",null,"x"]
[5082,"Cartago","Entre Volcanes y Café","Mario Quirós Sasso",{"$f":"INDEX([5]Hoja4!$F$2:$F$1672,MATCH(F286,[5]Hoja4!$G$2:$G$1672,0))","v":51},"Mecánica General","x","5082_51",null,null,"x"]
[5082,"Cartago","Entre Volcanes y Café","Mario Quirós Sasso",{"$f":"INDEX([5]Hoja4!$F$2:$F$1672,MATCH(F287,[5]Hoja4!$G$2:$G$1672,0))","v":15},"Ciberseguridad","x","5082_15",null,null,"x"]
[5082,"Cartago","Entre Volcanes y Café","Mario Quirós Sasso",{"$f":"INDEX([5]Hoja4!$F$2:$F$1672,MATCH(F288,[5]Hoja4!$G$2:$G$1672,0))","v":70},"Inteligencia Artificial","x","5082_70",null,null,"x"]
[5082,"Cartago","Entre Volcanes y Café","Mario Quirós Sasso",{"$f":"INDEX([5]Hoja4!$F$2:$F$1672,MATCH(F289,[5]Hoja4!$G$2:$G$1672,0))","v":62},"Secretariado Ejecutivo","x","5082_62",null,null,"x","x","x","x","x","x"]
[6533,"Cartago","Entre Volcanes y Café","Oreamuno",{"$f":"INDEX([5]Hoja4!$F$2:$F$1672,MATCH(F290,[5]Hoja4!$G$2:$G$1672,0))","v":1},"Accounting","x",{"$f":"IF(A290=\"\",\"\",A290&\"_\"&E290)","v":"6533_1"},null,null,"x"]
[6533,"Cartago","Entre Volcanes y Café","Oreamuno",{"$f":"INDEX([5]Hoja4!$F$2:$F$1672,MATCH(F291,[5]Hoja4!$G$2:$G$1672,0))","v":3},"Administración, Logística y Distribución","x","6533_3",null,null,"x","x","x"]
[6533,"Cartago","Entre Volcanes y Café","Oreamuno",{"$f":"INDEX([5]Hoja4!$F$2:$F$1672,MATCH(F292,[5]Hoja4!$G$2:$G$1672,0))","v":20},"Contabilidad","x","6533_20",null,null,"x","x","x"]
[6533,"Cartago","Entre Volcanes y Café","Oreamuno",{"$f":"INDEX([5]Hoja4!$F$2:$F$1672,MATCH(F293,[5]Hoja4!$G$2:$G$1672,0))","v":28},"Dibujo y Modelado para Edificaciones","x","6533_28",null,null,"x","x","x"]
[6533,"Cartago","Entre Volcanes y Café","Oreamuno",{"$f":"INDEX([5]Hoja4!$F$2:$F$1672,MATCH(F294,[5]Hoja4!$G$2:$G$1672,0))","v":39},"Electrónica En Telecomunicaciones","x","6533_39",null,null,"x","x","x"]
[6533,"Cartago","Entre Volcanes y Café","Oreamuno",{"$f":"INDEX([5]Hoja4!$F$2:$F$1672,MATCH(F295,[5]Hoja4!$G$2:$G$1672,0))","v":44},"Informática Empresarial","x","6533_44",null,null,null,"x","x"]
[6533,"Cartago","Entre Volcanes y Café","Oreamuno",{"$f":"INDEX([5]Hoja4!$F$2:$F$1672,MATCH(F296,[5]Hoja4!$G$2:$G$1672,0))","v":45},"Informática en Desarrollo de Software","x","6533_45",null,null,null,"x","x"]
[6533,"Cartago","Entre Volcanes y Café","Oreamuno",{"$f":"INDEX([5]Hoja4!$F$2:$F$1672,MATCH(F297,[5]Hoja4!$G$2:$G$1672,0))","v":56},"Productividad y Calidad",null,"6533_56",null,null,null,null,"x"]
[6534,"Cartago","Entre Volcanes y Café","Oreamuno",{"$f":"INDEX([5]Hoja4!$F$2:$F$1672,MATCH(F298,[5]Hoja4!$G$2:$G$1672,0))","v":68},"Gestión de la Producción",null,"6534_68",null,null,"x","X"]
[6534,"Cartago","Entre Volcanes y Café","Oreamuno",{"$f":"INDEX([5]Hoja4!$F$2:$F$1672,MATCH(F299,[5]Hoja4!$G$2:$G$1672,0))","v":72},"Desarrollo de aplicaciones móviles",null,"6534_72",null,null,"x"]
[6534,"Cartago","Entre Volcanes y Café","Oreamuno",{"$f":"INDEX([5]Hoja4!$F$2:$F$1672,MATCH(F300,[5]Hoja4!$G$2:$G$1672,0))","v":15},"Ciberseguridad","x","6534_15",null,null,"x"]
[6534,"Cartago","Entre Volcanes y Café","Oreamuno",{"$f":"INDEX([5]Hoja4!$F$2:$F$1672,MATCH(F301,[5]Hoja4!$G$2:$G$1672,0))","v":40},"Electrónica Industrial","x","6534_40",null,null,"x"]
[6581,"Cartago","Entre Volcanes y Café","Orosí",{"$f":"INDEX([5]Hoja4!$F$2:$F$1672,MATCH(F302,[5]Hoja4!$G$2:$G$1672,0))","v":28},"Dibujo y Modelado para Edificaciones","x","6581_28",null,null,"x","X","x"]
[6581,"Cartago","Entre Volcanes y Café","Orosí",{"$f":"INDEX([5]Hoja4!$F$2:$F$1672,MATCH(F303,[5]Hoja4!$G$2:$G$1672,0))","v":41},"Electrotecnia","x","6581_41",null,null,null,null,"x"]
[6581,"Cartago","Entre Volcanes y Café","Orosí",{"$f":"INDEX([5]Hoja4!$F$2:$F$1672,MATCH(F304,[5]Hoja4!$G$2:$G$1672,0))","v":45},"Informática en Desarrollo de Software","x","6581_45",null,null,null,"X","x"]
[6581,"Cartago","Entre Volcanes y Café","Orosí",{"$f":"INDEX([5]Hoja4!$F$2:$F$1672,MATCH(F305,[5]Hoja4!$G$2:$G$1672,0))","v":62},"Secretariado Ejecutivo","x","6581_62",null,null,"x","X"]
[6581,"Cartago","Entre Volcanes y Café","Orosí",{"$f":"INDEX([5]Hoja4!$F$2:$F$1672,MATCH(F306,[5]Hoja4!$G$2:$G$1672,0))","v":65},"Turismo en Alimentos y Bebidas","x","6581_65",null,null,null,"X","x"]
[6581,"Cartago","Entre Volcanes y Café","Orosí",{"$f":"INDEX([5]Hoja4!$F$2:$F$1672,MATCH(F307,[5]Hoja4!$G$2:$G$1672,0))","v":67},"Turismo Rural","x","6581_67",null,null,"x","X"]
[6581,"Cartago","Entre Volcanes y Café","Orosí",{"$f":"INDEX([5]Hoja4!$F$2:$F$1672,MATCH(F308,[5]Hoja4!$G$2:$G$1672,0))","v":72},"Desarrollo de aplicaciones móviles","x","6581_72",null,null,"x"]
[6581,"Cartago","Entre Volcanes y Café","Orosí",{"$f":"INDEX([5]Hoja4!$F$2:$F$1672,MATCH(F309,[5]Hoja4!$G$2:$G$1672,0))","v":71},"Organización de operaciones y servicios de alimentos y bebidas","x","6581_71",null,null,"x"]
[6582,"Cartago","Entre Volcanes y Café","Orosí",{"$f":"INDEX([5]Hoja4!$F$2:$F$1672,MATCH(F310,[5]Hoja4!$G$2:$G$1672,0))","v":69},"Instalación y mantenimiento de sistemas eléctricos indutriales ","x","6582_69",null,null,"x","x"]
[4185,"Cartago","Entre Volcanes y Café","Pacayas",{"$f":"INDEX([5]Hoja4!$F$2:$F$1672,MATCH(F311,[5]Hoja4!$G$2:$G$1672,0))","v":5},"Agroecología","x","4185_5",null,null,"x","x","x"]
[4185,"Cartago","Entre Volcanes y Café","Pacayas",{"$f":"INDEX([5]Hoja4!$F$2:$F$1672,MATCH(F312,[5]Hoja4!$G$2:$G$1672,0))","v":6},"Agroindustria Alimentaria con Tecnología Agrícola","x","4185_6",null,null,"x","x","x",null,"x","x"]
[4185,"Cartago","Entre Volcanes y Café","Pacayas",{"$f":"INDEX([5]Hoja4!$F$2:$F$1672,MATCH(F313,[5]Hoja4!$G$2:$G$1672,0))","v":6},"Agroindustria Alimentaria con Tecnología Pecuaria","x","4185_6",null,null,"x","x","x"]
[4185,"Cartago","Entre Volcanes y Café","Pacayas",{"$f":"INDEX([5]Hoja4!$F$2:$F$1672,MATCH(F314,[5]Hoja4!$G$2:$G$1672,0))","v":9},"Agropecuaria en Producción Agrícola","x","4185_9",null,null,null,null,"x "]
[4185,"Cartago","Entre Volcanes y Café","Pacayas",{"$f":"INDEX([5]Hoja4!$F$2:$F$1672,MATCH(F315,[5]Hoja4!$G$2:$G$1672,0))","v":20},"Contabilidad",null,"4185_20",null,null,null,null,null,"x","x","x"]
[4185,"Cartago","Entre Volcanes y Café","Pacayas",{"$f":"INDEX([5]Hoja4!$F$2:$F$1672,MATCH(F316,[5]Hoja4!$G$2:$G$1672,0))","v":54},"Operación de Empresas de Alojamiento","x","4185_54",null,null,null,"x","x"]
[4185,"Cartago","Entre Volcanes y Café","Pacayas",{"$f":"INDEX([5]Hoja4!$F$2:$F$1672,MATCH(F317,[5]Hoja4!$G$2:$G$1672,0))","v":55},"Producción Agrícola y Pecuaria","x","4185_55",null,null,"x","x","x"]
[4185,"Cartago","Entre Volcanes y Café","Pacayas",{"$f":"INDEX([5]Hoja4!$F$2:$F$1672,MATCH(F318,[5]Hoja4!$G$2:$G$1672,0))","v":62},"Secretariado Ejecutivo","x","4185_62",null,null,null,null,null,"x","x","x"]
[4185,"Cartago","Entre Volcanes y Café","Pacayas",{"$f":"INDEX([5]Hoja4!$F$2:$F$1672,MATCH(F319,[5]Hoja4!$G$2:$G$1672,0))","v":65},"Turismo en Alimentos y Bebidas","x","4185_65",null,null,null,null,null,null,"x","x"]
[4185,"Cartago","Entre Volcanes y Café","Pacayas",{"$f":"INDEX([5]Hoja4!$F$2:$F$1672,MATCH(F320,[5]Hoja4!$G$2:$G$1672,0))","v":71},"Organización de operaciones y servicios de alimentos y bebidas","x","4185_71",null,null,"x",null,null,"x"]
[4185,"Cartago","Entre Volcanes y Café","Pacayas",{"$f":"INDEX([5]Hoja4!$F$2:$F$1672,MATCH(F321,[5]Hoja4!$G$2:$G$1672,0))","v":67},"Turismo Rural","x","4185_67",null,null,"x","x","x"]
["n/a1","Cartago","Entre Volcanes y Café","San Agustín Ciudad de los Niños",{"$f":"INDEX([5]Hoja4!$F$2:$F$1672,MATCH(F322,[5]Hoja4!$G$2:$G$1672,0))","v":6},"Agroindustria Alimentaria con Tecnología Pecuaria","x","n/a1_6",null,null,"x","X","x"]
["n/a1","Cartago","Entre Volcanes y Café","San Agustín Ciudad de los Niños",{"$f":"INDEX([5]Hoja4!$F$2:$F$1672,MATCH(F323,[5]Hoja4!$G$2:$G$1672,0))","v":37},"Electromecánica","x","n/a1_37",null,null,"x","X","x"]
["n/a1","Cartago","Entre Volcanes y Café","San Agustín Ciudad de los Niños",{"$f":"INDEX([5]Hoja4!$F$2:$F$1672,MATCH(F324,[5]Hoja4!$G$2:$G$1672,0))","v":50},"Mecánica de Precisión","x","n/a1_50",null,null,"x","X","x"]
["n/a1","Cartago","Entre Volcanes y Café","San Agustín Ciudad de los Niños",{"$f":"INDEX([5]Hoja4!$F$2:$F$1672,MATCH(F325,[5]Hoja4!$G$2:$G$1672,0))","v":59},"Reparación de los Sistemas de Vehículos Livianos","x","n/a1_59",null,null,"x","X","x"]
[6534,"Cartago","Entre Volcanes y Café","Santa Lucía",{"$f":"INDEX([5]Hoja4!$F$2:$F$1672,MATCH(F326,[5]Hoja4!$G$2:$G$1672,0))","v":25},"Desarrollo Web","x","6534_25",null,null,"x","X",null,"x","X",null,null,"x"]
[6534,"Cartago","Entre Volcanes y Café","Santa Lucía",{"$f":"INDEX([5]Hoja4!$F$2:$F$1672,MATCH(F327,[5]Hoja4!$G$2:$G$1672,0))","v":20},"Contabilidad","x","6534_20",null,null,"x","X","x","x","X","x"]
[6534,"Cartago","Entre Volcanes y Café","Santa Lucía",{"$f":"INDEX([5]Hoja4!$F$2:$F$1672,MATCH(F328,[5]Hoja4!$G$2:$G$1672,0))","v":37},"Electromecánica","x","6534_37",null,null,"x","X","x","x","X","x"]
[6534,"Cartago","Entre Volcanes y Café","Santa Lucía",{"$f":"INDEX([5]Hoja4!$F$2:$F$1672,MATCH(F329,[5]Hoja4!$G$2:$G$1672,0))","v":40},"Electrónica Industrial","x","6534_40",null,null,"x","X","x","x","X","x"]
[6534,"Cartago","Entre Volcanes y Café","Santa Lucía",{"$f":"INDEX([5]Hoja4!$F$2:$F$1672,MATCH(F330,[5]Hoja4!$G$2:$G$1672,0))","v":44},"Informática Empresarial","x","6534_44",null,null,null,null,null,null,"X","x"]
[6534,"Cartago","Entre Volcanes y Café","Santa Lucía",{"$f":"INDEX([5]Hoja4!$F$2:$F$1672,MATCH(F331,[5]Hoja4!$G$2:$G$1672,0))","v":45},"Informática en Desarrollo de Software","x","6534_45",null,null,null,"X","x"]
[6534,"Cartago","Entre Volcanes y Café","Santa Lucía",{"$f":"INDEX([5]Hoja4!$F$2:$F$1672,MATCH(F332,[5]Hoja4!$G$2:$G$1672,0))","v":56},"Productividad y Calidad","x","6534_56",null,null,null,null,"x",null,null,"x"]
[6534,"Cartago","Entre Volcanes y Café","Santa Lucía",{"$f":"INDEX([5]Hoja4!$F$2:$F$1672,MATCH(F333,[5]Hoja4!$G$2:$G$1672,0))","v":62},"Secretariado Ejecutivo","x","6534_62",null,null,"x","X","x","x","X","x"]
[6534,"Cartago","Entre Volcanes y Café","Santa Lucía",{"$f":"INDEX([5]Hoja4!$F$2:$F$1672,MATCH(F334,[5]Hoja4!$G$2:$G$1672,0))","v":72},"Desarrollo de aplicaciones móviles","x","6534_72",null,null,"x"]
[6535,"Cartago","Entre Volcanes y Café","Santa Lucía",{"$f":"INDEX([5]Hoja4!$F$2:$F$1672,MATCH(F335,[5]Hoja4!$G$2:$G$1672,0))","v":68},"Gestión de la Producción","x","6535_68",null,null,"x","X",null,"x","X"]
[4214,"Coto","Fetsur","Carlos Manuel Vicente Castro",{"$f":"INDEX([5]Hoja4!$F$2:$F$1672,MATCH(F336,[5]Hoja4!$G$2:$G$1672,0))","v":13},"Banca y Finanzas","x","4214_13",null,null,null,null,"x",null,null,"x"]
[4214,"Coto","Fetsur","Carlos Manuel Vicente Castro",{"$f":"INDEX([5]Hoja4!$F$2:$F$1672,MATCH(F337,[5]Hoja4!$G$2:$G$1672,0))","v":15},"Ciberseguridad","x","4214_15",null,null,null,"X","x",null,"X","x"]
[4214,"Coto","Fetsur","Carlos Manuel Vicente Castro",{"$f":"INDEX([5]Hoja4!$F$2:$F$1672,MATCH(F338,[5]Hoja4!$G$2:$G$1672,0))","v":20},"Contabilidad","x","4214_20",null,null,"x","X","x",null,"X"]
[4214,"Coto","Fetsur","Carlos Manuel Vicente Castro",{"$f":"INDEX([5]Hoja4!$F$2:$F$1672,MATCH(F339,[5]Hoja4!$G$2:$G$1672,0))","v":30},"Diseño Publicitario","x","4214_30",null,null,null,"X","x",null,"X"]
[4214,"Coto","Fetsur","Carlos Manuel Vicente Castro",{"$f":"INDEX([5]Hoja4!$F$2:$F$1672,MATCH(F340,[5]Hoja4!$G$2:$G$1672,0))","v":35},"Ejecutivo Comercial y Servicio al cliente","x","4214_35",null,null,null,null,"x"]
[4214,"Coto","Fetsur","Carlos Manuel Vicente Castro",{"$f":"INDEX([5]Hoja4!$F$2:$F$1672,MATCH(F341,[5]Hoja4!$G$2:$G$1672,0))","v":44},"Informática Empresarial","x","4214_44",null,null,null,null,null,null,"X"]
[4214,"Coto","Fetsur","Carlos Manuel Vicente Castro",{"$f":"INDEX([5]Hoja4!$F$2:$F$1672,MATCH(F342,[5]Hoja4!$G$2:$G$1672,0))","v":59},"Reparación de los Sistemas de Vehículos Livianos","x","4214_59",null,null,"x","X",null,"x"]
[4214,"Coto","Fetsur","Carlos Manuel Vicente Castro",{"$f":"INDEX([5]Hoja4!$F$2:$F$1672,MATCH(F343,[5]Hoja4!$G$2:$G$1672,0))","v":62},"Secretariado Ejecutivo","x","4214_62",null,null,"x",null,null,"x"]
[4214,"Coto","Fetsur","Carlos Manuel Vicente Castro",{"$f":"INDEX([5]Hoja4!$F$2:$F$1672,MATCH(F344,[5]Hoja4!$G$2:$G$1672,0))","v":65},"Turismo en Alimentos y Bebidas","x","4214_65",null,null,null,"X","x",null,"X"]
[4214,"Coto","Fetsur","Carlos Manuel Vicente Castro",{"$f":"INDEX([5]Hoja4!$F$2:$F$1672,MATCH(F345,[5]Hoja4!$G$2:$G$1672,0))","v":18},"Configuración y soporte de redes de comunicación y sistemas operativos","x","4214_18",null,null,"x"]
[4214,"Coto","Fetsur","Carlos Manuel Vicente Castro",{"$f":"INDEX([5]Hoja4!$F$2:$F$1672,MATCH(F346,[5]Hoja4!$G$2:$G$1672,0))","v":73},"Gerencia y producción en cocina ","x","4214_73",null,null,"x"]
[4214,"Coto","Fetsur","Carlos Manuel Vicente Castro",{"$f":"INDEX([5]Hoja4!$F$2:$F$1672,MATCH(F347,[5]Hoja4!$G$2:$G$1672,0))","v":25},"Desarrollo web","x","4214_25",null,null,null,null,null,"x"]
[4214,"Coto","Fetsur","Carlos Manuel Vicente Castro",{"$f":"INDEX([5]Hoja4!$F$2:$F$1672,MATCH(F348,[5]Hoja4!$G$2:$G$1672,0))","v":71},"Organización de operaciones y servicios de alimentos y bebidas","x","4214_71",null,null,null,null,null,"x"]
[4214,"Coto","Fetsur","Carlos Manuel Vicente Castro",{"$f":"INDEX([5]Hoja4!$F$2:$F$1672,MATCH(F349,[5]Hoja4!$G$2:$G$1672,0))","v":53},"Mercadeo","x","4214_53",null,null,null,null,null,"x"]
[4218,"Coto","Fetsur","Corredores",{"$f":"INDEX([5]Hoja4!$F$2:$F$1672,MATCH(F350,[5]Hoja4!$G$2:$G$1672,0))","v":3},"Administración, Logística y Distribución","x","4218_3",null,null,null,null,null,"x","X"]
[4218,"Coto","Fetsur","Corredores",{"$f":"INDEX([5]Hoja4!$F$2:$F$1672,MATCH(F351,[5]Hoja4!$G$2:$G$1672,0))","v":2},"Administración y Operación Aduanera","x","4218_2",null,null,null,null,null,"x"]
[4218,"Coto","Fetsur","Corredores",{"$f":"INDEX([5]Hoja4!$F$2:$F$1672,MATCH(F352,[5]Hoja4!$G$2:$G$1672,0))","v":6},"Agroindustria Alimentaria con Tecnología Pecuaria","x","4218_6",null,null,null,null,"x",null,null,"x"]
[4218,"Coto","Fetsur","Corredores",{"$f":"INDEX([5]Hoja4!$F$2:$F$1672,MATCH(F353,[5]Hoja4!$G$2:$G$1672,0))","v":15},"Ciberseguridad","x","4218_15",null,null,"x",null,"x",null,"X"]
[4218,"Coto","Fetsur","Corredores",{"$f":"INDEX([5]Hoja4!$F$2:$F$1672,MATCH(F354,[5]Hoja4!$G$2:$G$1672,0))","v":20},"Contabilidad","x",{"$f":"IF(A354=\"\",\"\",A354&\"_\"&E354)","v":"4218_20"},null,null,"x",null,null,"x"]
[4218,"Coto","Fetsur","Corredores",{"$f":"INDEX([5]Hoja4!$F$2:$F$1672,MATCH(F355,[5]Hoja4!$G$2:$G$1672,0))","v":18},"Configuración y soporte de redes de comunicación y sistemas operativos","x","4218_18",null,null,null,"X",null,"x",null,"x"]
[4218,"Coto","Fetsur","Corredores",{"$f":"INDEX([5]Hoja4!$F$2:$F$1672,MATCH(F356,[5]Hoja4!$G$2:$G$1672,0))","v":20},"Contabilidad","x","4218_20",null,null,null,"X","x",null,"X","x"]
[4218,"Coto","Fetsur","Corredores",{"$f":"INDEX([5]Hoja4!$F$2:$F$1672,MATCH(F357,[5]Hoja4!$G$2:$G$1672,0))","v":35},"Ejecutivo Comercial y Servicio al Cliente","x","4218_35",null,null,null,null,null,null,null,"x"]
[4218,"Coto","Fetsur","Corredores",{"$f":"INDEX([5]Hoja4!$F$2:$F$1672,MATCH(F358,[5]Hoja4!$G$2:$G$1672,0))","v":53},"Mercadeo","x","4218_53",null,null,null,null,null,null,"X","x"]
[4218,"Coto","Fetsur","Corredores",{"$f":"INDEX([5]Hoja4!$F$2:$F$1672,MATCH(F359,[5]Hoja4!$G$2:$G$1672,0))","v":54},"Operación de Empresas de Alojamiento","x","4218_54",null,null,null,null,null,"x",null,"x"]
[4218,"Coto","Fetsur","Corredores",{"$f":"INDEX([5]Hoja4!$F$2:$F$1672,MATCH(F360,[5]Hoja4!$G$2:$G$1672,0))","v":55},"Producción Agrícola y Pecuaria","x","4218_55",null,null,"x","X","x"]
[4218,"Coto","Fetsur","Corredores",{"$f":"INDEX([5]Hoja4!$F$2:$F$1672,MATCH(F361,[5]Hoja4!$G$2:$G$1672,0))","v":62},"Secretariado Ejecutivo","x","4218_62",null,null,"x","X","x","x","X"]
[4218,"Coto","Fetsur","Corredores",{"$f":"INDEX([5]Hoja4!$F$2:$F$1672,MATCH(F362,[5]Hoja4!$G$2:$G$1672,0))","v":65},"Turismo en Alimentos y Bebidas","x","4218_65",null,null,null,null,"x",null,"X"]
[4218,"Coto","Fetsur","Corredores",{"$f":"INDEX([5]Hoja4!$F$2:$F$1672,MATCH(F363,[5]Hoja4!$G$2:$G$1672,0))","v":70},"Inteligencia Artificial","x","4218_70",null,null,"x"]
[4218,"Coto","Fetsur","Corredores",{"$f":"INDEX([5]Hoja4!$F$2:$F$1672,MATCH(F364,[5]Hoja4!$G$2:$G$1672,0))","v":34},"Ecoturismo","x","4218_34",null,null,"x"]
[4218,"Coto","Fetsur","Corredores",{"$f":"INDEX([5]Hoja4!$F$2:$F$1672,MATCH(F365,[5]Hoja4!$G$2:$G$1672,0))","v":67},"Turismo Rural","x","4218_67",null,null,null,"X"]
[4217,"Coto","Fetsur","Guaycara",{"$f":"INDEX([5]Hoja4!$F$2:$F$1672,MATCH(F366,[5]Hoja4!$G$2:$G$1672,0))","v":2},"Administración y Operación Aduanera","x","4217_2",null,null,"x",null,null,null,null,"x"]
[4217,"Coto","Fetsur","Guaycara",{"$f":"INDEX([5]Hoja4!$F$2:$F$1672,MATCH(F367,[5]Hoja4!$G$2:$G$1672,0))","v":5},"Agroecología","x","4217_5",null,null,"x","X","x"]
[4217,"Coto","Fetsur","Guaycara",{"$f":"INDEX([5]Hoja4!$F$2:$F$1672,MATCH(F368,[5]Hoja4!$G$2:$G$1672,0))","v":13},"Banca y Finanzas","x","4217_13",null,null,null,null,null,"x"]
[4218,"Coto","Fetsur","Guaycara",{"$f":"INDEX([5]Hoja4!$F$2:$F$1672,MATCH(F369,[5]Hoja4!$G$2:$G$1672,0))","v":6},"Agroindustria Alimentaria con Tecnología Agrícola","x","4218_6",null,null,null,"X"]
[4217,"Coto","Fetsur","Guaycara",{"$f":"INDEX([5]Hoja4!$F$2:$F$1672,MATCH(F370,[5]Hoja4!$G$2:$G$1672,0))","v":6},"Agroindustria Alimentaria con Tecnología Pecuaria","x","4217_6",null,null,"x",null,"x"]
[4217,"Coto","Fetsur","Guaycara",{"$f":"INDEX([5]Hoja4!$F$2:$F$1672,MATCH(F371,[5]Hoja4!$G$2:$G$1672,0))","v":18},"Configuración y soporte de redes de comunicación y sistemas operativos","x","4217_18",null,null,null,null,null,"x","x"]
[4217,"Coto","Fetsur","Guaycara",{"$f":"INDEX([5]Hoja4!$F$2:$F$1672,MATCH(F372,[5]Hoja4!$G$2:$G$1672,0))","v":20},"Contabilidad","x","4217_20",null,null,"x","X","x",null,"x","x"]
[4217,"Coto","Fetsur","Guaycara",{"$f":"INDEX([5]Hoja4!$F$2:$F$1672,MATCH(F373,[5]Hoja4!$G$2:$G$1672,0))","v":44},"Informática Empresarial","x","4217_44",null,null,null,"X","x"]
[4217,"Coto","Fetsur","Guaycara",{"$f":"INDEX([5]Hoja4!$F$2:$F$1672,MATCH(F374,[5]Hoja4!$G$2:$G$1672,0))","v":68},"Gestión de la Producción","x","4217_68",null,null,null,"x",null,null,"x"]
[4217,"Coto","Fetsur","Guaycara",{"$f":"INDEX([5]Hoja4!$F$2:$F$1672,MATCH(F375,[5]Hoja4!$G$2:$G$1672,0))","v":55},"Producción Agrícola y Pecuaria","x","4217_55",null,null,"x","X","x"]
[4217,"Coto","Fetsur","Guaycara",{"$f":"INDEX([5]Hoja4!$F$2:$F$1672,MATCH(F376,[5]Hoja4!$G$2:$G$1672,0))","v":56},"Productividad y Calidad","x","4217_56",null,null,null,null,null,null,null,"x"]
[4217,"Coto","Fetsur","Guaycara",{"$f":"INDEX([5]Hoja4!$F$2:$F$1672,MATCH(F377,[5]Hoja4!$G$2:$G$1672,0))","v":61},"Salud Ocupacional","x","4217_61",null,null,null,"X",null,null,"x"]
[4217,"Coto","Fetsur","Guaycara",{"$f":"INDEX([5]Hoja4!$F$2:$F$1672,MATCH(F378,[5]Hoja4!$G$2:$G$1672,0))","v":65},"Turismo en Alimentos y Bebidas","x","4217_65",null,null,null,"X","x"]
[4217,"Coto","Fetsur","Guaycara",{"$f":"INDEX([5]Hoja4!$F$2:$F$1672,MATCH(F379,[5]Hoja4!$G$2:$G$1672,0))","v":25},"Desarrollo Web","x","4217_25",null,null,"x"]
[4217,"Coto","Fetsur","Guaycara",{"$f":"INDEX([5]Hoja4!$F$2:$F$1672,MATCH(F380,[5]Hoja4!$G$2:$G$1672,0))","v":71},"Organización de operaciones y servicios de alimentos y bebidas","x","4217_71",null,null,"x"]
[4217,"Coto","Fetsur","Guaycara",{"$f":"INDEX([5]Hoja4!$F$2:$F$1672,MATCH(F381,[5]Hoja4!$G$2:$G$1672,0))","v":54},"Operación de Empresas de Alojamiento","x","4217_54",null,null,null,null,null,"x","x"]
[6576,"Coto","Fetsur","Henri Francois Pittier",{"$f":"INDEX([5]Hoja4!$F$2:$F$1672,MATCH(F382,[5]Hoja4!$G$2:$G$1672,0))","v":73},"Gerencia y producción en cocina ","x","6576_73",null,null,"x"]
[6576,"Coto","Fetsur","Henri Francois Pittier",{"$f":"INDEX([5]Hoja4!$F$2:$F$1672,MATCH(F383,[5]Hoja4!$G$2:$G$1672,0))","v":72},"Desarrollo de aplicaciones móviles","x","6576_72",null,null,"x"]
[6576,"Coto","Fetsur","Henri Francois Pittier",{"$f":"INDEX([5]Hoja4!$F$2:$F$1672,MATCH(F384,[5]Hoja4!$G$2:$G$1672,0))","v":34},"Ecoturismo","x","6576_34",null,null,"x"]
[6576,"Coto","Fetsur","Henri Francois Pittier",{"$f":"INDEX([5]Hoja4!$F$2:$F$1672,MATCH(F385,[5]Hoja4!$G$2:$G$1672,0))","v":20},"Contabilidad","x","6576_20"]
[6576,"Coto","Fetsur","Henri Francois Pittier",{"$f":"INDEX([5]Hoja4!$F$2:$F$1672,MATCH(F386,[5]Hoja4!$G$2:$G$1672,0))","v":35},"Ejecutivo Comercial y Servicio al Cliente","x","6576_35",null,null,null,null,"x"]
[6576,"Coto","Fetsur","Henri Francois Pittier",{"$f":"INDEX([5]Hoja4!$F$2:$F$1672,MATCH(F387,[5]Hoja4!$G$2:$G$1672,0))","v":69},"Instalación y mantenimiento de sistemas eléctricos indutriales ","x","6576_69",null,null,null,"x"]
[6576,"Coto","Fetsur","Henri Francois Pittier",{"$f":"INDEX([5]Hoja4!$F$2:$F$1672,MATCH(F388,[5]Hoja4!$G$2:$G$1672,0))","v":45},"Informática en Desarrollo de Software","x","6576_45",null,null,null,null,"x"]
[6576,"Coto","Fetsur","Henri Francois Pittier",{"$f":"INDEX([5]Hoja4!$F$2:$F$1672,MATCH(F389,[5]Hoja4!$G$2:$G$1672,0))","v":65},"Turismo en Alimentos y Bebidas","x","6576_65",null,null,null,"x","X"]
[6576,"Coto","Fetsur","Henri Francois Pittier",{"$f":"INDEX([5]Hoja4!$F$2:$F$1672,MATCH(F390,[5]Hoja4!$G$2:$G$1672,0))","v":67},"Turismo Rural","x","6576_67",null,null,null,"x","X"]
[4887,"Coto","Fetsur","IPEC de Agua Buena (Central)",{"$f":"INDEX([5]Hoja4!$F$2:$F$1672,MATCH(F391,[5]Hoja4!$G$2:$G$1672,0))","v":19},"Construcción Civil","x","4887_19",null,null,null,null,null,"x","x"]
[4887,"Coto","Fetsur","IPEC de Agua Buena (Central)",{"$f":"INDEX([5]Hoja4!$F$2:$F$1672,MATCH(F392,[5]Hoja4!$G$2:$G$1672,0))","v":20},"Contabilidad","x","4887_20",null,null,null,null,null,"x","x"]
[4887,"Coto","Fetsur","IPEC de Agua Buena (Central)",{"$f":"INDEX([5]Hoja4!$F$2:$F$1672,MATCH(F393,[5]Hoja4!$G$2:$G$1672,0))","v":31},"Diseño y Confección de la Moda","x","4887_31",null,null,null,null,null,null,null,"x"]
[4887,"Coto","Fetsur","IPEC de Agua Buena (Central)",{"$f":"INDEX([5]Hoja4!$F$2:$F$1672,MATCH(F394,[5]Hoja4!$G$2:$G$1672,0))","v":61},"Salud Ocupacional","x","4887_61",null,null,null,null,null,null,null,"x"]
[4887,"Coto","Fetsur","IPEC de Agua Buena (Central)",{"$f":"INDEX([5]Hoja4!$F$2:$F$1672,MATCH(F395,[5]Hoja4!$G$2:$G$1672,0))","v":62},"Secretariado Ejecutivo","x","4887_62",null,null,null,null,null,"x","x","x"]
[4888,"Coto","Fetsur","IPEC de Agua Buena (Central)",{"$f":"INDEX([5]Hoja4!$F$2:$F$1672,MATCH(F396,[5]Hoja4!$G$2:$G$1672,0))","v":34},"Ecoturismo","x","4888_34","x",null,null,"x"]
[4888,"Coto","Fetsur","IPEC de Agua Buena (Central)",{"$f":"INDEX([5]Hoja4!$F$2:$F$1672,MATCH(F397,[5]Hoja4!$G$2:$G$1672,0))","v":73},"Gerencia y producción en cocina ","x","4888_73",null,null,null,null,null,"x"]
[4887,"Coto","Fetsur","IPEC de Agua Buena (Central)",{"$f":"INDEX([5]Hoja4!$F$2:$F$1672,MATCH(F398,[5]Hoja4!$G$2:$G$1672,0))","v":65},"Turismo en Alimentos y Bebidas","x","4887_65",null,null,null,null,null,null,"x","x"]
[4220,"Coto","Fetsur","Puerto Jiménez",{"$f":"INDEX([5]Hoja4!$F$2:$F$1672,MATCH(F399,[5]Hoja4!$G$2:$G$1672,0))","v":20},"Contabilidad","x","4220_20",null,null,"x",null,"x","x","x","x"]
[4220,"Coto","Fetsur","Puerto Jiménez",{"$f":"INDEX([5]Hoja4!$F$2:$F$1672,MATCH(F400,[5]Hoja4!$G$2:$G$1672,0))","v":41},"Electrotecnia","x","4220_41",null,null,null,null,"x"]
[4220,"Coto","Fetsur","Puerto Jiménez",{"$f":"INDEX([5]Hoja4!$F$2:$F$1672,MATCH(F401,[5]Hoja4!$G$2:$G$1672,0))","v":44},"Informática Empresarial","x","4220_44",null,null,null,"X","x",null,"x","x"]
[4220,"Coto","Fetsur","Puerto Jiménez",{"$f":"INDEX([5]Hoja4!$F$2:$F$1672,MATCH(F402,[5]Hoja4!$G$2:$G$1672,0))","v":69},"Instalación y mantenimiento de sistemas eléctricos indutriales ","x","4220_69",null,null,"x","x"]
[4220,"Coto","Fetsur","Puerto Jiménez",{"$f":"INDEX([5]Hoja4!$F$2:$F$1672,MATCH(F403,[5]Hoja4!$G$2:$G$1672,0))","v":62},"Secretariado Ejecutivo","x","4220_62",null,null,"x","X","x",null,null,"x"]
[4220,"Coto","Fetsur","Puerto Jiménez",{"$f":"INDEX([5]Hoja4!$F$2:$F$1672,MATCH(F404,[5]Hoja4!$G$2:$G$1672,0))","v":65},"Turismo en Alimentos y Bebidas","x","4220_65",null,null,null,"X","x",null,"x"]
[4220,"Coto","Fetsur","Puerto Jiménez",{"$f":"INDEX([5]Hoja4!$F$2:$F$1672,MATCH(F405,[5]Hoja4!$G$2:$G$1672,0))","v":71},"Organización de operaciones y servicios de alimentos y bebidas","x","4220_71",null,null,"x"]
[4220,"Coto","Fetsur","Puerto Jiménez",{"$f":"INDEX([5]Hoja4!$F$2:$F$1672,MATCH(F406,[5]Hoja4!$G$2:$G$1672,0))","v":25},"Desarrollo Web","x","4220_25",null,null,"x"]
[4220,"Coto","Fetsur","Puerto Jiménez",{"$f":"INDEX([5]Hoja4!$F$2:$F$1672,MATCH(F407,[5]Hoja4!$G$2:$G$1672,0))","v":54},"Operación de Empresas de Alojamiento","x","4220_54",null,null,"x",null,null,"x"]
[4220,"Coto","Fetsur","Puerto Jiménez",{"$f":"INDEX([5]Hoja4!$F$2:$F$1672,MATCH(F408,[5]Hoja4!$G$2:$G$1672,0))","v":72},"Desarrollo de aplicaciones móviles","x","4220_72",null,null,"x",null,null,"x"]
[4216,"Coto","Fetsur","Sabalito",{"$f":"INDEX([5]Hoja4!$F$2:$F$1672,MATCH(F409,[5]Hoja4!$G$2:$G$1672,0))","v":6},"Agroindustria Alimentaria con Tecnología Agrícola","x","4216_6",null,null,"x",null,"x"]
[4216,"Coto","Fetsur","Sabalito",{"$f":"INDEX([5]Hoja4!$F$2:$F$1672,MATCH(F410,[5]Hoja4!$G$2:$G$1672,0))","v":6},"Agroindustria Alimentaria con Tecnología Pecuaria","x","4216_6",null,null,null,"x"]
[4216,"Coto","Fetsur","Sabalito",{"$f":"INDEX([5]Hoja4!$F$2:$F$1672,MATCH(F411,[5]Hoja4!$G$2:$G$1672,0))","v":20},"Contabilidad","x","4216_20",null,null,"x","X","x"]
[4216,"Coto","Fetsur","Sabalito",{"$f":"INDEX([5]Hoja4!$F$2:$F$1672,MATCH(F412,[5]Hoja4!$G$2:$G$1672,0))","v":55},"Producción Agrícola y Pecuaria","x","4216_55",null,null,"x","X","x"]
[4216,"Coto","Fetsur","Sabalito",{"$f":"INDEX([5]Hoja4!$F$2:$F$1672,MATCH(F413,[5]Hoja4!$G$2:$G$1672,0))","v":67},"Turismo Rural","x","4216_67",null,null,"x","X","x"]
[4215,"Coto","Fetsur","Umberto Melloni Campanini",{"$f":"INDEX([5]Hoja4!$F$2:$F$1672,MATCH(F414,[5]Hoja4!$G$2:$G$1672,0))","v":13},"Banca y Finanzas","x","4215_13",null,null,null,null,null,"x"]
[4215,"Coto","Fetsur","Umberto Melloni Campanini",{"$f":"INDEX([5]Hoja4!$F$2:$F$1672,MATCH(F415,[5]Hoja4!$G$2:$G$1672,0))","v":18},"Configuración y soporte de redes de comunicación y sistemas operativos","x","4215_18",null,null,"x","X","x","x","X","x"]
[4215,"Coto","Fetsur","Umberto Melloni Campanini",{"$f":"INDEX([5]Hoja4!$F$2:$F$1672,MATCH(F416,[5]Hoja4!$G$2:$G$1672,0))","v":20},"Contabilidad","x","4215_20",null,null,"x","X","x","x","X","x"]
[4215,"Coto","Fetsur","Umberto Melloni Campanini",{"$f":"INDEX([5]Hoja4!$F$2:$F$1672,MATCH(F417,[5]Hoja4!$G$2:$G$1672,0))","v":36},"Ejecutivo para Centros de Servicios","x","4215_36",null,null,"x"]
[4215,"Coto","Fetsur","Umberto Melloni Campanini",{"$f":"INDEX([5]Hoja4!$F$2:$F$1672,MATCH(F418,[5]Hoja4!$G$2:$G$1672,0))","v":37},"Electromecánica","x",{"$f":"IF(A418=\"\",\"\",A418&\"_\"&E418)","v":"4215_37"},null,null,"x","X","x","x","X"]
[4215,"Coto","Fetsur","Umberto Melloni Campanini",{"$f":"INDEX([5]Hoja4!$F$2:$F$1672,MATCH(F419,[5]Hoja4!$G$2:$G$1672,0))","v":53},"Mercadeo","x","4215_53",null,null,null,null,null,null,"X"]
[4215,"Coto","Fetsur","Umberto Melloni Campanini",{"$f":"INDEX([5]Hoja4!$F$2:$F$1672,MATCH(F420,[5]Hoja4!$G$2:$G$1672,0))","v":55},"Producción Agrícola y Pecuaria","x","4215_55",null,null,"x","X","x"]
[4215,"Coto","Fetsur","Umberto Melloni Campanini",{"$f":"INDEX([5]Hoja4!$F$2:$F$1672,MATCH(F421,[5]Hoja4!$G$2:$G$1672,0))","v":62},"Secretariado Ejecutivo","x","4215_62",null,null,"x","X","x","x","X","x"]
[4215,"Coto","Fetsur","Umberto Melloni Campanini",{"$f":"INDEX([5]Hoja4!$F$2:$F$1672,MATCH(F422,[5]Hoja4!$G$2:$G$1672,0))","v":25},"Desarrollo Web","x","4215_25",null,null,"x"]
[4215,"Coto","Fetsur","Umberto Melloni Campanini",{"$f":"INDEX([5]Hoja4!$F$2:$F$1672,MATCH(F423,[5]Hoja4!$G$2:$G$1672,0))","v":67},"Turismo Rural","x","4215_67",null,null,"x",null,"x"]
[4162,"Desamparados","Unidos por la Excelencia","Acosta",{"$f":"INDEX([5]Hoja4!$F$2:$F$1672,MATCH(F424,[5]Hoja4!$G$2:$G$1672,0))","v":6},"Agroindustria Alimentaria con Tecnología Pecuaria","x","4162_6",null,null,"x","x","x","x","x"]
[4162,"Desamparados","Unidos por la Excelencia","Acosta",{"$f":"INDEX([5]Hoja4!$F$2:$F$1672,MATCH(F425,[5]Hoja4!$G$2:$G$1672,0))","v":13},"Banca y Finanzas","x","4162_13",null,null,"x","x","x"]
[4162,"Desamparados","Unidos por la Excelencia","Acosta",{"$f":"INDEX([5]Hoja4!$F$2:$F$1672,MATCH(F426,[5]Hoja4!$G$2:$G$1672,0))","v":14},"Bilingual Secretary","x","4162_14",null,null,"x",null,"x"]
[4162,"Desamparados","Unidos por la Excelencia","Acosta",{"$f":"INDEX([5]Hoja4!$F$2:$F$1672,MATCH(F427,[5]Hoja4!$G$2:$G$1672,0))","v":18},"Configuración y soporte de redes de comunicación y sistemas operativos","x","4162_18",null,null,"x","x","x",null,null,"x"]
[4162,"Desamparados","Unidos por la Excelencia","Acosta",{"$f":"INDEX([5]Hoja4!$F$2:$F$1672,MATCH(F428,[5]Hoja4!$G$2:$G$1672,0))","v":20},"Contabilidad","x","4162_20",null,null,"x",null,null,"x",null,"x"]
[4162,"Desamparados","Unidos por la Excelencia","Acosta",{"$f":"INDEX([5]Hoja4!$F$2:$F$1672,MATCH(F429,[5]Hoja4!$G$2:$G$1672,0))","v":23},"Contabilidad y Costos","x","4162_23",null,null,"x","x"]
[4162,"Desamparados","Unidos por la Excelencia","Acosta",{"$f":"INDEX([5]Hoja4!$F$2:$F$1672,MATCH(F430,[5]Hoja4!$G$2:$G$1672,0))","v":24},"Contabilidad y Finanzas","x","4162_24",null,null,"x","x","x"]
[4162,"Desamparados","Unidos por la Excelencia","Acosta",{"$f":"INDEX([5]Hoja4!$F$2:$F$1672,MATCH(F431,[5]Hoja4!$G$2:$G$1672,0))","v":34},"Ecoturismo","x","4162_34",null,null,"x","x"]
[4162,"Desamparados","Unidos por la Excelencia","Acosta",{"$f":"INDEX([5]Hoja4!$F$2:$F$1672,MATCH(F432,[5]Hoja4!$G$2:$G$1672,0))","v":40},"Electrónica Industrial","x","4162_40",null,null,"x","x",null,"x"]
[4162,"Desamparados","Unidos por la Excelencia","Acosta",{"$f":"INDEX([5]Hoja4!$F$2:$F$1672,MATCH(F433,[5]Hoja4!$G$2:$G$1672,0))","v":15},"Ciberseguridad","x","4162_15",null,null,null,null,null,null,"x"]
[4162,"Desamparados","Unidos por la Excelencia","Acosta",{"$f":"INDEX([5]Hoja4!$F$2:$F$1672,MATCH(F434,[5]Hoja4!$G$2:$G$1672,0))","v":35},"Ejecutivo Comercial y Servicio al cliente","x","4162_35",null,null,"x","x"]
[4162,"Acosta",null,"Acosta",{"$f":"INDEX([5]Hoja4!$F$2:$F$1672,MATCH(F435,[5]Hoja4!$G$2:$G$1672,0))","v":1},"Accounting","x","4162_1",null,null,null,null,null,"x","x "]
[4162,"Desamparados","Unidos por la Excelencia","Acosta",{"$f":"INDEX([5]Hoja4!$F$2:$F$1672,MATCH(F436,[5]Hoja4!$G$2:$G$1672,0))","v":55},"Producción Agrícola y Pecuaria","x","4162_55",null,null,"x","x"]
[4162,"Desamparados","Unidos por la Excelencia","Acosta",{"$f":"INDEX([5]Hoja4!$F$2:$F$1672,MATCH(F437,[5]Hoja4!$G$2:$G$1672,0))","v":30},"Diseño Publicitario","x","4162_30",null,null,"x"]
[4162,"Desamparados","Unidos por la Excelencia","Acosta",{"$f":"INDEX([5]Hoja4!$F$2:$F$1672,MATCH(F438,[5]Hoja4!$G$2:$G$1672,0))","v":74},"Gestión de la calidad","x","4162_74",null,null,null,null,null,"x"]
[4162,"Desamparados","Unidos por la Excelencia","Acosta",{"$f":"INDEX([5]Hoja4!$F$2:$F$1672,MATCH(F439,[5]Hoja4!$G$2:$G$1672,0))","v":62},"Secretariado Ejecutivo","x","4162_62",null,null,"x","x","x",null,"x","x"]
[6531,"Desamparados","Unidos por la Excelencia","Aserrí",{"$f":"INDEX([5]Hoja4!$F$2:$F$1672,MATCH(F440,[5]Hoja4!$G$2:$G$1672,0))","v":3},"Administración, Logística y Distribución","x","6531_3",null,null,"x",null,"x","x","X","x"]
[6531,"Desamparados","Unidos por la Excelencia","Aserrí",{"$f":"INDEX([5]Hoja4!$F$2:$F$1672,MATCH(F441,[5]Hoja4!$G$2:$G$1672,0))","v":19},"Construcción Civil","x","6531_19",null,null,"x",null,"x",null,null,"x"]
[6531,"Desamparados","Unidos por la Excelencia","Aserrí",{"$f":"INDEX([5]Hoja4!$F$2:$F$1672,MATCH(F442,[5]Hoja4!$G$2:$G$1672,0))","v":24},"Contabilidad y Finanzas","x","6531_24",null,null,"x","x","x","x","X","x"]
[6531,"Desamparados","Unidos por la Excelencia","Aserrí",{"$f":"INDEX([5]Hoja4!$F$2:$F$1672,MATCH(F443,[5]Hoja4!$G$2:$G$1672,0))","v":25},"Desarrollo Web","x","6531_25",null,null,"x","x","x","x","x"]
[6531,"Desamparados","Unidos por la Excelencia","Aserrí",{"$f":"INDEX([5]Hoja4!$F$2:$F$1672,MATCH(F444,[5]Hoja4!$G$2:$G$1672,0))","v":28},"Dibujo y Modelado para Edificaciones","x","6531_28",null,null,"x","x","x"]
[6531,"Desamparados","Unidos por la Excelencia","Aserrí",{"$f":"INDEX([5]Hoja4!$F$2:$F$1672,MATCH(F445,[5]Hoja4!$G$2:$G$1672,0))","v":29},"Diseño Gráfico","x","6531_29",null,null,"x","x","x"]
[6531,"Desamparados","Unidos por la Excelencia","Aserrí",{"$f":"INDEX([5]Hoja4!$F$2:$F$1672,MATCH(F446,[5]Hoja4!$G$2:$G$1672,0))","v":30},"Diseño Publicitario","x","6531_30",null,null,"x","x",null,"x",null,"x"]
[6531,"Desamparados","Unidos por la Excelencia","Aserrí",{"$f":"INDEX([5]Hoja4!$F$2:$F$1672,MATCH(F447,[5]Hoja4!$G$2:$G$1672,0))","v":35},"Ejecutivo Comercial y Servicio al cliente","x","6531_35",null,null,"x","x","x","x"]
[6531,"Desamparados","Unidos por la Excelencia","Aserrí",{"$f":"INDEX([5]Hoja4!$F$2:$F$1672,MATCH(F448,[5]Hoja4!$G$2:$G$1672,0))","v":62},"Secretariado Ejecutivo","x","6531_62",null,null,null,"X",null,null,"x"]
[6531,"Desamparados","Unidos por la Excelencia","Aserrí",{"$f":"INDEX([5]Hoja4!$F$2:$F$1672,MATCH(F449,[5]Hoja4!$G$2:$G$1672,0))","v":40},"Electrónica Industrial","x","6531_40",null,null,"x","x",null,null,"X"]
[6532,"Desamparados","Unidos por la Excelencia","Aserrí",{"$f":"INDEX([5]Hoja4!$F$2:$F$1672,MATCH(F450,[5]Hoja4!$G$2:$G$1672,0))","v":68},"Gestión de la Producción","x","6532_68",null,null,"x","X"]
[6531,"Desamparados","Unidos por la Excelencia","Aserrí",{"$f":"INDEX([5]Hoja4!$F$2:$F$1672,MATCH(F451,[5]Hoja4!$G$2:$G$1672,0))","v":45},"Informática en Desarrollo de Software","x","6531_45",null,null,null,null,null,null,"X","x"]
[6531,"Desamparados","Unidos por la Excelencia","Aserrí",{"$f":"INDEX([5]Hoja4!$F$2:$F$1672,MATCH(F452,[5]Hoja4!$G$2:$G$1672,0))","v":65},"Turismo en Alimentos y Bebidas","x","6531_65",null,null,null,null,null,null,"X","x"]
[6583,"Desamparados","Unidos por la Excelencia","Braulio Odio Herrera",{"$f":"INDEX([5]Hoja4!$F$2:$F$1672,MATCH(F453,[5]Hoja4!$G$2:$G$1672,0))","v":18},"Configuración y soporte de redes de comunicación y sistemas operativos","x","6583_18",null,null,null,null,"x","x","x","x"]
[6583,"Desamparados","Unidos por la Excelencia","Braulio Odio Herrera",{"$f":"INDEX([5]Hoja4!$F$2:$F$1672,MATCH(F454,[5]Hoja4!$G$2:$G$1672,0))","v":22},"Contabilidad y Control Interno","x","6583_22",null,null,"x","x","x","x","x"]
[6583,"Desamparados","Unidos por la Excelencia","Braulio Odio Herrera",{"$f":"INDEX([5]Hoja4!$F$2:$F$1672,MATCH(F455,[5]Hoja4!$G$2:$G$1672,0))","v":35},"Ejecutivo Comercial y Servicio al cliente","x","6583_35",null,null,"x","x","x","x","x","x"]
[6583,"Desamparados",null,"Braulio Odio Herrera",{"$f":"INDEX([5]Hoja4!$F$2:$F$1672,MATCH(F456,[5]Hoja4!$G$2:$G$1672,0))","v":15},"Ciberseguridad ","x","6583_15",null,null,"x","x"]
[null,null,null,null,{"$f":"INDEX([5]Hoja4!$F$2:$F$1672,MATCH(F457,[5]Hoja4!$G$2:$G$1672,0))","v":15},"Ciberseguridad ","x","",null,null,null,"x"]
[4158,"Desamparados","Unidos por la Excelencia","Dos Cercas",{"$f":"INDEX([5]Hoja4!$F$2:$F$1672,MATCH(F458,[5]Hoja4!$G$2:$G$1672,0))","v":1},"Accounting","x","4158_1",null,null,null,"x","x"]
[4158,"Desamparados","Unidos por la Excelencia","Dos Cercas",{"$f":"INDEX([5]Hoja4!$F$2:$F$1672,MATCH(F459,[5]Hoja4!$G$2:$G$1672,0))","v":13},"Banca y Finanzas","x","4158_13",null,null,"x","x","x"]
[4158,"Desamparados","Unidos por la Excelencia","Dos Cercas",{"$f":"INDEX([5]Hoja4!$F$2:$F$1672,MATCH(F460,[5]Hoja4!$G$2:$G$1672,0))","v":20},"Contabilidad","x","4158_20",null,null,"x","x","x"]
[4158,"Desamparados","Unidos por la Excelencia","Dos Cercas",{"$f":"INDEX([5]Hoja4!$F$2:$F$1672,MATCH(F461,[5]Hoja4!$G$2:$G$1672,0))","v":26},"Dibujo Arquitectónico","x","4158_26",null,null,null,null,"x"]
[4158,"Desamparados","Unidos por la Excelencia","Dos Cercas",{"$f":"INDEX([5]Hoja4!$F$2:$F$1672,MATCH(F462,[5]Hoja4!$G$2:$G$1672,0))","v":28},"Dibujo y Modelado para Edificaciones","x","4158_28",null,null,"x","x","x"]
[4158,"Desamparados","Unidos por la Excelencia","Dos Cercas",{"$f":"INDEX([5]Hoja4!$F$2:$F$1672,MATCH(F463,[5]Hoja4!$G$2:$G$1672,0))","v":33},"Diseño y Desarrollo Digital","x","4158_33",null,null,"x","x","x"]
[4158,"Desamparados","Unidos por la Excelencia","Dos Cercas",{"$f":"INDEX([5]Hoja4!$F$2:$F$1672,MATCH(F464,[5]Hoja4!$G$2:$G$1672,0))","v":35},"Ejecutivo Comercial y Servicio al Cliente","x","4158_35",null,null,"x","x","x"]
[4158,"Desamparados","Unidos por la Excelencia","Dos Cercas",{"$f":"INDEX([5]Hoja4!$F$2:$F$1672,MATCH(F465,[5]Hoja4!$G$2:$G$1672,0))","v":53},"Mercadeo","x","4158_53",null,null,null,"x","x"]
[4158,"Desamparados","Unidos por la Excelencia","Dos Cercas",{"$f":"INDEX([5]Hoja4!$F$2:$F$1672,MATCH(F466,[5]Hoja4!$G$2:$G$1672,0))","v":61},"Salud Ocupacional","x","4158_61",null,null,"x",null,"x"]
[6104,"Desamparados","Unidos por la Excelencia","José Albertazzi Avendaño",{"$f":"INDEX([5]Hoja4!$F$2:$F$1672,MATCH(F467,[5]Hoja4!$G$2:$G$1672,0))","v":18},"Configuración y soporte de redes de comunicación y sistemas operativos","x","6104_18",null,null,"x","x","x"]
[6104,"Desamparados","Unidos por la Excelencia","José Albertazzi Avendaño",{"$f":"INDEX([5]Hoja4!$F$2:$F$1672,MATCH(F468,[5]Hoja4!$G$2:$G$1672,0))","v":20},"Contabilidad","x","6104_20",null,null,"x","X","x","x","X","x"]
[6104,"Desamparados","Unidos por la Excelencia","José Albertazzi Avendaño",{"$f":"INDEX([5]Hoja4!$F$2:$F$1672,MATCH(F469,[5]Hoja4!$G$2:$G$1672,0))","v":22},"Contabilidad y control interno ","x","6104_22",null,null,null,null,null,"x","X","x"]
[6104,"Desamparados","Unidos por la Excelencia","José Albertazzi Avendaño",{"$f":"INDEX([5]Hoja4!$F$2:$F$1672,MATCH(F470,[5]Hoja4!$G$2:$G$1672,0))","v":30},"Diseño Publicitario","x","6104_30",null,null,"x","x","x","x","X","x"]
[6104,"Desamparados","Unidos por la Excelencia","José Albertazzi Avendaño",{"$f":"INDEX([5]Hoja4!$F$2:$F$1672,MATCH(F471,[5]Hoja4!$G$2:$G$1672,0))","v":35},"Ejecutivo Comercial y Servicio al Cliente","x","6104_35",null,null,"x","X","x","x","X","x"]
[6104,"Desamparados","Unidos por la Excelencia","José Albertazzi Avendaño",{"$f":"INDEX([5]Hoja4!$F$2:$F$1672,MATCH(F472,[5]Hoja4!$G$2:$G$1672,0))","v":40},"Electrónica Industrial","x","6104_40",null,null,"x","X","x"]
[6104,"Desamparados","Unidos por la Excelencia","José Albertazzi Avendaño",{"$f":"INDEX([5]Hoja4!$F$2:$F$1672,MATCH(F473,[5]Hoja4!$G$2:$G$1672,0))","v":44},"Informática Empresarial","x","6104_44",null,null,null,null,null,null,null,"x"]
[6104,"Desamparados","Unidos por la Excelencia","José Albertazzi Avendaño",{"$f":"INDEX([5]Hoja4!$F$2:$F$1672,MATCH(F474,[5]Hoja4!$G$2:$G$1672,0))","v":15},"Ciberseguridad","x","6104_15",null,null,"x","X",null,"x","X"]
[6104,"Desamparados","Unidos por la Excelencia","José Albertazzi Avendaño",{"$f":"INDEX([5]Hoja4!$F$2:$F$1672,MATCH(F475,[5]Hoja4!$G$2:$G$1672,0))","v":54},"Operación de Empresas de Alojamiento","x","6104_54",null,null,"x","X","x","x","X","x"]
[6104,"Desamparados","Unidos por la Excelencia","José Albertazzi Avendaño",{"$f":"INDEX([5]Hoja4!$F$2:$F$1672,MATCH(F476,[5]Hoja4!$G$2:$G$1672,0))","v":71},"Organización de operaciones y servicios de alimentos y bebidas","x","6104_71",null,null,"x"]
[6104,"Desamparados","Unidos por la Excelencia","José Albertazzi Avendaño",{"$f":"INDEX([5]Hoja4!$F$2:$F$1672,MATCH(F477,[5]Hoja4!$G$2:$G$1672,0))","v":62},"Secretariado Ejecutivo","x","6104_62",null,null,"x","X","x","x","X","x"]
[6104,"Desamparados","Unidos por la Excelencia","José Albertazzi Avendaño",{"$f":"INDEX([5]Hoja4!$F$2:$F$1672,MATCH(F478,[5]Hoja4!$G$2:$G$1672,0))","v":72},"Desarrollo de aplicaciones móviles","x","6104_72",null,null,"x"]
[6104,"Desamparados","Unidos por la Excelencia","José Albertazzi Avendaño",{"$f":"INDEX([5]Hoja4!$F$2:$F$1672,MATCH(F479,[5]Hoja4!$G$2:$G$1672,0))","v":53},"Mercadeo","x","6104_53",null,null,"x"]
[4160,"Desamparados","Unidos por la Excelencia","José Figueres Ferrer",{"$f":"INDEX([5]Hoja4!$F$2:$F$1672,MATCH(F480,[5]Hoja4!$G$2:$G$1672,0))","v":15},"Ciberseguridad","x","4160_15",null,null,null,"X","x","x","X","x"]
[4160,"Desamparados","Unidos por la Excelencia","José Figueres Ferrer",{"$f":"INDEX([5]Hoja4!$F$2:$F$1672,MATCH(F481,[5]Hoja4!$G$2:$G$1672,0))","v":20},"Contabilidad","x","4160_20",null,null,"x","X","x","x","X","x"]
[4160,"Desamparados","Unidos por la Excelencia","José Figueres Ferrer",{"$f":"INDEX([5]Hoja4!$F$2:$F$1672,MATCH(F482,[5]Hoja4!$G$2:$G$1672,0))","v":35},"Ejecutivo Comercial y Servicio al Cliente","x",{"$f":"IF(A482=\"\",\"\",A482&\"_\"&E482)","v":"4160_35"},null,null,"x","X","x","x","X","x"]
[4160,"Desamparados","Unidos por la Excelencia","José Figueres Ferrer",{"$f":"INDEX([5]Hoja4!$F$2:$F$1672,MATCH(F483,[5]Hoja4!$G$2:$G$1672,0))","v":41},"Electrotecnia","x","4160_41",null,null,null,null,"x",null,null,"x"]
[4160,"Desamparados","Unidos por la Excelencia","José Figueres Ferrer",{"$f":"INDEX([5]Hoja4!$F$2:$F$1672,MATCH(F484,[5]Hoja4!$G$2:$G$1672,0))","v":69},"Instalación y mantenimiento de sistemas eléctricos indutriales ","x","4160_69",null,null,"x","x",null,null,"X"]
[4160,"Desamparados","Unidos por la Excelencia","José Figueres Ferrer",{"$f":"INDEX([5]Hoja4!$F$2:$F$1672,MATCH(F485,[5]Hoja4!$G$2:$G$1672,0))","v":50},"Mecánica de Precisión","x","4160_50",null,null,"x","X","x","x","X","x"]
[4160,"Desamparados","Unidos por la Excelencia","José Figueres Ferrer",{"$f":"INDEX([5]Hoja4!$F$2:$F$1672,MATCH(F486,[5]Hoja4!$G$2:$G$1672,0))","v":62},"Secretariado Ejecutivo","x","4160_62",null,null,"x","X","x",null,"X"]
[4160,"Desamparados","Unidos por la Excelencia","José Figueres Ferrer",{"$f":"INDEX([5]Hoja4!$F$2:$F$1672,MATCH(F487,[5]Hoja4!$G$2:$G$1672,0))","v":65},"Turismo en Alimentos y Bebidas","x","4160_65",null,null,null,"X",null,null,"X","x"]
[4160,"Desamparados","Unidos por la Excelencia","José Figueres Ferrer",{"$f":"INDEX([5]Hoja4!$F$2:$F$1672,MATCH(F488,[5]Hoja4!$G$2:$G$1672,0))","v":72},"Desarrollo de aplicaciones móviles","x","4160_72",null,null,"x"]
[4160,"Desamparados","Unidos por la Excelencia","José Figueres Ferrer",{"$f":"INDEX([5]Hoja4!$F$2:$F$1672,MATCH(F489,[5]Hoja4!$G$2:$G$1672,0))","v":37},"Electromecánica","x","4160_37",null,null,"x","X",null,"x","X"]
[6574,"Desamparados","Unidos por la Excelencia","José María Zeledón Brenes",{"$f":"INDEX([5]Hoja4!$F$2:$F$1672,MATCH(F490,[5]Hoja4!$G$2:$G$1672,0))","v":2},"Administración y Operación Aduanera","x","6574_2",null,null,"x","X","x"]
[6574,"Desamparados","Unidos por la Excelencia","José María Zeledón Brenes",{"$f":"INDEX([5]Hoja4!$F$2:$F$1672,MATCH(F491,[5]Hoja4!$G$2:$G$1672,0))","v":3},"Administración, Logística y Distribución","x","6574_3",null,null,"x","X","x"]
[6574,"Desamparados","Unidos por la Excelencia","José María Zeledón Brenes",{"$f":"INDEX([5]Hoja4!$F$2:$F$1672,MATCH(F492,[5]Hoja4!$G$2:$G$1672,0))","v":35},"Ejecutivo Comercial y Servicio al Cliente","x","6574_35",null,null,"x","X","x"]
[6574,"Desamparados","Unidos por la Excelencia","José María Zeledón Brenes",{"$f":"INDEX([5]Hoja4!$F$2:$F$1672,MATCH(F493,[5]Hoja4!$G$2:$G$1672,0))","v":74},"Gestión de la calidad","x","6574_74",null,null,"x"]
[6574,"Desamparados","Unidos por la Excelencia","José María Zeledón Brenes",{"$f":"INDEX([5]Hoja4!$F$2:$F$1672,MATCH(F494,[5]Hoja4!$G$2:$G$1672,0))","v":44},"Informática Empresarial","x","6574_44",null,null,null,"X","x"]
[6574,"Desamparados","Unidos por la Excelencia","José María Zeledón Brenes",{"$f":"INDEX([5]Hoja4!$F$2:$F$1672,MATCH(F495,[5]Hoja4!$G$2:$G$1672,0))","v":61},"Salud Ocupacional","x","6574_61",null,null,null,"X"]
[6527,"Desamparados","Unidos por la Excelencia","Máximo Quesada",{"$f":"INDEX([5]Hoja4!$F$2:$F$1672,MATCH(F496,[5]Hoja4!$G$2:$G$1672,0))","v":3},"Administración, Logística y Distribución","x","6527_3",null,null,"x","x"]
[6527,"Desamparados","Unidos por la Excelencia","Máximo Quesada",{"$f":"INDEX([5]Hoja4!$F$2:$F$1672,MATCH(F497,[5]Hoja4!$G$2:$G$1672,0))","v":13},"Banca y Finanzas","x","6527_13",null,null,null,null,"x"]
[6527,"Desamparados","Unidos por la Excelencia","Máximo Quesada",{"$f":"INDEX([5]Hoja4!$F$2:$F$1672,MATCH(F498,[5]Hoja4!$G$2:$G$1672,0))","v":20},"Contabilidad","x","6527_20",null,null,"x","x","x"]
[6527,"Desamparados","Unidos por la Excelencia","Máximo Quesada",{"$f":"INDEX([5]Hoja4!$F$2:$F$1672,MATCH(F499,[5]Hoja4!$G$2:$G$1672,0))","v":25},"Desarrollo Web","x","6527_25",null,null,"x",null,"x"]
[6527,"Desamparados","Unidos por la Excelencia","Máximo Quesada",{"$f":"INDEX([5]Hoja4!$F$2:$F$1672,MATCH(F500,[5]Hoja4!$G$2:$G$1672,0))","v":35},"Ejecutivo Comercial y Servicio al cliente","x","6527_35",null,null,"x","x","x"]
[6527,"Desamparados","Unidos por la Excelencia","Máximo Quesada",{"$f":"INDEX([5]Hoja4!$F$2:$F$1672,MATCH(F501,[5]Hoja4!$G$2:$G$1672,0))","v":39},"Electrónica en Telecomunicaciones","x","6527_39",null,null,"x","x","x"]
[6527,"Desamparados","Unidos por la Excelencia","Máximo Quesada",{"$f":"INDEX([5]Hoja4!$F$2:$F$1672,MATCH(F502,[5]Hoja4!$G$2:$G$1672,0))","v":40},"Electrónica Industrial","x","6527_40",null,null,"x","x"]
[6527,"Desamparados","Unidos por la Excelencia","Máximo Quesada",{"$f":"INDEX([5]Hoja4!$F$2:$F$1672,MATCH(F503,[5]Hoja4!$G$2:$G$1672,0))","v":73},"Gerencia y producción en cocina ","x","6527_73",null,null,"x"]
[6527,"Desamparados","Unidos por la Excelencia","Máximo Quesada",{"$f":"INDEX([5]Hoja4!$F$2:$F$1672,MATCH(F504,[5]Hoja4!$G$2:$G$1672,0))","v":65},"Turismo en Alimentos y Bebidas","x","6527_65",null,null,null,"x","x"]
[4159,"Desamparados","Unidos por la Excelencia","Monseñor Víctor Manuel Sanabria",{"$f":"INDEX([5]Hoja4!$F$2:$F$1672,MATCH(F505,[5]Hoja4!$G$2:$G$1672,0))","v":2},"Administración y Operación Aduanera","x","4159_2",null,null,"x","X","x",null,"x"]
[4159,"Desamparados","Unidos por la Excelencia","Monseñor Víctor Manuel Sanabria",{"$f":"INDEX([5]Hoja4!$F$2:$F$1672,MATCH(F506,[5]Hoja4!$G$2:$G$1672,0))","v":3},"Administración, Logística y Distribución","x","4159_3",null,null,"x","x",null,null,null,"x"]
[4159,"Desamparados","Unidos por la Excelencia","Monseñor Víctor Manuel Sanabria",{"$f":"INDEX([5]Hoja4!$F$2:$F$1672,MATCH(F507,[5]Hoja4!$G$2:$G$1672,0))","v":68},"Gestión de la Producción","x","4159_68",null,null,"x","x",null,null,"x"]
[4159,"Desamparados","Unidos por la Excelencia","Monseñor Víctor Manuel Sanabria",{"$f":"INDEX([5]Hoja4!$F$2:$F$1672,MATCH(F508,[5]Hoja4!$G$2:$G$1672,0))","v":18},"Configuración y soporte de redes de comunicación y sistemas operativos","x","4159_18",null,null,null,null,"x",null,"x"]
[4159,"Desamparados","Unidos por la Excelencia","Monseñor Víctor Manuel Sanabria",{"$f":"INDEX([5]Hoja4!$F$2:$F$1672,MATCH(F509,[5]Hoja4!$G$2:$G$1672,0))","v":20},"Contabilidad","x","4159_20",null,null,"x","X","x","x",null,"x"]
[4159,"Desamparados","Unidos por la Excelencia","Monseñor Víctor Manuel Sanabria",{"$f":"INDEX([5]Hoja4!$F$2:$F$1672,MATCH(F510,[5]Hoja4!$G$2:$G$1672,0))","v":27},"Dibujo Técnico","x","4159_27",null,null,"x","X","x"]
[4159,"Desamparados","Unidos por la Excelencia","Monseñor Víctor Manuel Sanabria",{"$f":"INDEX([5]Hoja4!$F$2:$F$1672,MATCH(F511,[5]Hoja4!$G$2:$G$1672,0))","v":28},"Dibujo y Modelado para Edificaciones","x","4159_28",null,null,"x","X","x",null,null,"x"]
[4159,"Desamparados","Unidos por la Excelencia","Monseñor Víctor Manuel Sanabria",{"$f":"INDEX([5]Hoja4!$F$2:$F$1672,MATCH(F512,[5]Hoja4!$G$2:$G$1672,0))","v":31},"Diseño y Confección de la Moda","x","4159_31",null,null,null,"X","x"]
[4159,"Desamparados","Unidos por la Excelencia","Monseñor Víctor Manuel Sanabria",{"$f":"INDEX([5]Hoja4!$F$2:$F$1672,MATCH(F513,[5]Hoja4!$G$2:$G$1672,0))","v":33},"Diseño y Desarrollo Digital","x","4159_33",null,null,"x","X","x"]
[4159,"Desamparados","Unidos por la Excelencia","Monseñor Víctor Manuel Sanabria",{"$f":"INDEX([5]Hoja4!$F$2:$F$1672,MATCH(F514,[5]Hoja4!$G$2:$G$1672,0))","v":39},"Electrónica en Telecomunicaciones","x","4159_39",null,null,null,null,null,"x"]
[4159,"Desamparados","Unidos por la Excelencia","Monseñor Víctor Manuel Sanabria",{"$f":"INDEX([5]Hoja4!$F$2:$F$1672,MATCH(F515,[5]Hoja4!$G$2:$G$1672,0))","v":40},"Electrónica Industrial","x","4159_40",null,null,"x","X","x"]
[4159,"Desamparados","Unidos por la Excelencia","Monseñor Víctor Manuel Sanabria",{"$f":"INDEX([5]Hoja4!$F$2:$F$1672,MATCH(F516,[5]Hoja4!$G$2:$G$1672,0))","v":41},"Electrotecnia","x","4159_41",null,null,null,null,"x"]
[4160,"Desamparados","Unidos por la Excelencia","Monseñor Víctor Manuel Sanabria",{"$f":"INDEX([5]Hoja4!$F$2:$F$1672,MATCH(F517,[5]Hoja4!$G$2:$G$1672,0))","v":37},"Electromecánica","x","4160_37",null,null,"x","x"]
[4159,"Desamparados","Unidos por la Excelencia","Monseñor Víctor Manuel Sanabria",{"$f":"INDEX([5]Hoja4!$F$2:$F$1672,MATCH(F518,[5]Hoja4!$G$2:$G$1672,0))","v":69},"Instalación y mantenimiento de sistemas eléctricos indutriales ","x","4159_69",null,null,"x","x"]
[4159,"Desamparados","Unidos por la Excelencia","Monseñor Víctor Manuel Sanabria",{"$f":"INDEX([5]Hoja4!$F$2:$F$1672,MATCH(F519,[5]Hoja4!$G$2:$G$1672,0))","v":50},"Mecánica de Precisión","x","4159_50",null,null,"x","X","x"]
[4159,"Desamparados","Unidos por la Excelencia","Monseñor Víctor Manuel Sanabria",{"$f":"INDEX([5]Hoja4!$F$2:$F$1672,MATCH(F520,[5]Hoja4!$G$2:$G$1672,0))","v":25},"Desarrollo Web","x","4159_25",null,null,"x"]
[4159,"Desamparados","Unidos por la Excelencia","Monseñor Víctor Manuel Sanabria",{"$f":"INDEX([5]Hoja4!$F$2:$F$1672,MATCH(F521,[5]Hoja4!$G$2:$G$1672,0))","v":59},"Reparación de los Sistemas de Vehículos Livianos","x","4159_59",null,null,"x","X","x"]
[4159,"Desamparados","Unidos por la Excelencia","Monseñor Víctor Manuel Sanabria",{"$f":"INDEX([5]Hoja4!$F$2:$F$1672,MATCH(F522,[5]Hoja4!$G$2:$G$1672,0))","v":15},"Ciberseguridad","x","4159_15",null,null,null,null,null,"x"]
[4159,"Desamparados","Unidos por la Excelencia","Monseñor Víctor Manuel Sanabria",{"$f":"INDEX([5]Hoja4!$F$2:$F$1672,MATCH(F523,[5]Hoja4!$G$2:$G$1672,0))","v":62},"Secretariado Ejecutivo","x","4159_62",null,null,"x","X","x","x","x"]
[6582,"Desamparados","Unidos por la Excelencia","Roberto Gamboa Valverde",{"$f":"INDEX([5]Hoja4!$F$2:$F$1672,MATCH(F524,[5]Hoja4!$G$2:$G$1672,0))","v":3},"Administración, Logística y Distribución","x","6582_3",null,null,"x","x","x"]
[6582,"Desamparados","Unidos por la Excelencia","Roberto Gamboa Valverde",{"$f":"INDEX([5]Hoja4!$F$2:$F$1672,MATCH(F525,[5]Hoja4!$G$2:$G$1672,0))","v":18},"Configuración y soporte de redes de comunicación y sistemas operativos","x","6582_18",null,null,"x","X","x"]
[6582,"Desamparados","Unidos por la Excelencia","Roberto Gamboa Valverde",{"$f":"INDEX([5]Hoja4!$F$2:$F$1672,MATCH(F526,[5]Hoja4!$G$2:$G$1672,0))","v":24},"Contabilidad y Finanzas","x","6582_24",null,null,"x","X","x"]
[6582,"Desamparados","Unidos por la Excelencia","Roberto Gamboa Valverde",{"$f":"INDEX([5]Hoja4!$F$2:$F$1672,MATCH(F527,[5]Hoja4!$G$2:$G$1672,0))","v":28},"Dibujo y Modelado para Edificaciones","x","6582_28",null,null,"x","X","x"]
[6582,"Desamparados","Unidos por la Excelencia","Roberto Gamboa Valverde",{"$f":"INDEX([5]Hoja4!$F$2:$F$1672,MATCH(F528,[5]Hoja4!$G$2:$G$1672,0))","v":35},"Ejecutivo Comercial y Servicio al Cliente",null,"6582_35",null,null,"x","X","x"]
[6582,"Desamparados","Unidos por la Excelencia","Roberto Gamboa Valverde",{"$f":"INDEX([5]Hoja4!$F$2:$F$1672,MATCH(F529,[5]Hoja4!$G$2:$G$1672,0))","v":69},"Instalación y mantenimiento de sistemas eléctricos indutriales ","x","6582_69",null,null,"x","X"]
[4161,"Desamparados","Unidos por la Excelencia","San Juan Sur",{"$f":"INDEX([5]Hoja4!$F$2:$F$1672,MATCH(F530,[5]Hoja4!$G$2:$G$1672,0))","v":6},"Agroindustria Alimentaria con Tecnología Agrícola","x","4161_6",null,null,"x",null,"x"]
[4161,"Desamparados","Unidos por la Excelencia","San Juan Sur",{"$f":"INDEX([5]Hoja4!$F$2:$F$1672,MATCH(F531,[5]Hoja4!$G$2:$G$1672,0))","v":18},"Configuración y soporte de redes de comunicación y sistemas operativos","x","4161_18",null,null,"x","X","x","x","x"]
[4161,"Desamparados","Unidos por la Excelencia","San Juan Sur",{"$f":"INDEX([5]Hoja4!$F$2:$F$1672,MATCH(F532,[5]Hoja4!$G$2:$G$1672,0))","v":20},"Contabilidad","x","4161_20",null,null,"x","X","x","x","x","x"]
[4161,"Desamparados","Unidos por la Excelencia","San Juan Sur",{"$f":"INDEX([5]Hoja4!$F$2:$F$1672,MATCH(F533,[5]Hoja4!$G$2:$G$1672,0))","v":30},"Diseño Publicitario","x","4161_30",null,null,"x","x"]
[4161,"Desamparados","Unidos por la Excelencia","San Juan Sur",{"$f":"INDEX([5]Hoja4!$F$2:$F$1672,MATCH(F534,[5]Hoja4!$G$2:$G$1672,0))","v":35},"Ejecutivo Comercial y Servicio al Cliente","x","4161_35",null,null,"x","X","x"]
[4161,"Desamparados","Unidos por la Excelencia","San Juan Sur",{"$f":"INDEX([5]Hoja4!$F$2:$F$1672,MATCH(F535,[5]Hoja4!$G$2:$G$1672,0))","v":40},"Electrónica Industrial","x","4161_40",null,null,"x","x","x","x","x","x"]
[4161,"Desamparados","Unidos por la Excelencia","San Juan Sur",{"$f":"INDEX([5]Hoja4!$F$2:$F$1672,MATCH(F536,[5]Hoja4!$G$2:$G$1672,0))","v":6},"Agroindustria Alimentaria con Tecnología Pecuaria","x","4161_6",null,null,null,"x"]
[4161,"Desamparados","Unidos por la Excelencia","San Juan Sur",{"$f":"INDEX([5]Hoja4!$F$2:$F$1672,MATCH(F537,[5]Hoja4!$G$2:$G$1672,0))","v":62},"Secretariado Ejecutivo","x","4161_62",null,null,"x","X","x","x","x","x"]
[4170,"Grande de Térraba","La Amistad","Buenos Aires",{"$f":"INDEX([5]Hoja4!$F$2:$F$1672,MATCH(F538,[5]Hoja4!$G$2:$G$1672,0))","v":18},"Configuración y soporte de redes de comunicación y sistemas operativos","x","4170_18",null,null,"x","x","x"]
[4170,"Grande de Térraba","La Amistad","Buenos Aires",{"$f":"INDEX([5]Hoja4!$F$2:$F$1672,MATCH(F539,[5]Hoja4!$G$2:$G$1672,0))","v":19},"Construcción Civil","x","4170_19",null,null,"x",null,null,null,null,"x"]
[4170,"Grande de Térraba","La Amistad","Buenos Aires",{"$f":"INDEX([5]Hoja4!$F$2:$F$1672,MATCH(F540,[5]Hoja4!$G$2:$G$1672,0))","v":20},"Contabilidad","x","4170_20",null,null,"x","x","x","x","x"]
[4170,"Grande de Térraba","La Amistad","Buenos Aires",{"$f":"INDEX([5]Hoja4!$F$2:$F$1672,MATCH(F541,[5]Hoja4!$G$2:$G$1672,0))","v":35},"Ejecutivo Comercial y Servicio al Cliente","x","4170_35",null,null,"x","x","x"]
[4170,"Grande de Térraba","La Amistad","Buenos Aires",{"$f":"INDEX([5]Hoja4!$F$2:$F$1672,MATCH(F542,[5]Hoja4!$G$2:$G$1672,0))","v":41},"Electrotecnia","x","4170_41",null,null,null,null,"x"]
[4170,"Grande de Térraba","La Amistad","Buenos Aires",{"$f":"INDEX([5]Hoja4!$F$2:$F$1672,MATCH(F543,[5]Hoja4!$G$2:$G$1672,0))","v":44},"Informática Empresarial","x","4170_44",null,null,null,"x","x",null,"x","x"]
[4170,"Grande de Térraba","La Amistad","Buenos Aires",{"$f":"INDEX([5]Hoja4!$F$2:$F$1672,MATCH(F544,[5]Hoja4!$G$2:$G$1672,0))","v":55},"Producción Agrícola y Pecuaria","x","4170_55",null,null,"x","x","x"]
[4170,"Grande de Térraba","La Amistad","Buenos Aires",{"$f":"INDEX([5]Hoja4!$F$2:$F$1672,MATCH(F545,[5]Hoja4!$G$2:$G$1672,0))","v":58},"Refrigeración y Aire Acondicionado","x","4170_58",null,null,"x",null,null,null,"x"]
[4170,"Grande de Térraba","La Amistad","Buenos Aires",{"$f":"INDEX([5]Hoja4!$F$2:$F$1672,MATCH(F546,[5]Hoja4!$G$2:$G$1672,0))","v":62},"Secretariado Ejecutivo","x",{"$f":"IF(A546=\"\",\"\",A546&\"_\"&E546)","v":"4170_62"},null,null,"x","x","x","x","x","x"]
[4170,"Grande de Térraba","La Amistad","Buenos Aires",{"$f":"INDEX([5]Hoja4!$F$2:$F$1672,MATCH(F547,[5]Hoja4!$G$2:$G$1672,0))","v":65},"Turismo en Alimentos y Bebidas","x","4170_65",null,null,null,"x",null,null,"x"]
[4170,"Grande de Térraba","La Amistad","Buenos Aires",{"$f":"INDEX([5]Hoja4!$F$2:$F$1672,MATCH(F548,[5]Hoja4!$G$2:$G$1672,0))","v":72},"Desarrollo de aplicaciones móviles","x","4170_72",null,null,null,null,null,"x"]
[4170,"Grande de Térraba","La Amistad","Buenos Aires",{"$f":"INDEX([5]Hoja4!$F$2:$F$1672,MATCH(F549,[5]Hoja4!$G$2:$G$1672,0))","v":67},"Turismo Rural","x","4170_67",null,null,"x",null,"x"]
[4213,"Grande de Térraba","Fetsur","Osa",{"$f":"INDEX([5]Hoja4!$F$2:$F$1672,MATCH(F550,[5]Hoja4!$G$2:$G$1672,0))","v":18},"Configuración y soporte de redes de comunicación y sistemas operativos","x","4213_18",null,null,null,null,"x","x"]
[4213,"Grande de Térraba","Fetsur","Osa",{"$f":"INDEX([5]Hoja4!$F$2:$F$1672,MATCH(F551,[5]Hoja4!$G$2:$G$1672,0))","v":19},"Construcción Civil","x","4213_19",null,null,"x",null,"x"]
[4213,"Grande de Térraba","Fetsur","Osa",{"$f":"INDEX([5]Hoja4!$F$2:$F$1672,MATCH(F552,[5]Hoja4!$G$2:$G$1672,0))","v":20},"Contabilidad","x","4213_20",null,null,null,null,null,"x","X"]
[4213,"Grande de Térraba","Fetsur","Osa",{"$f":"INDEX([5]Hoja4!$F$2:$F$1672,MATCH(F553,[5]Hoja4!$G$2:$G$1672,0))","v":25},"Desarrollo Web","x","4213_25",null,null,null,null,null,null,null,"x"]
[4213,"Grande de Térraba","Fetsur","Osa",{"$f":"INDEX([5]Hoja4!$F$2:$F$1672,MATCH(F554,[5]Hoja4!$G$2:$G$1672,0))","v":24},"Contabilidad y Finanzas","x","4213_24",null,null,null,"x"]
[4213,"Grande de Térraba","Fetsur","Osa",{"$f":"INDEX([5]Hoja4!$F$2:$F$1672,MATCH(F555,[5]Hoja4!$G$2:$G$1672,0))","v":35},"Ejecutivo Comercial y Servicio al cliente","x","4213_35",null,null,"x",null,"x"]
[4213,"Grande de Térraba","Fetsur","Osa",{"$f":"INDEX([5]Hoja4!$F$2:$F$1672,MATCH(F556,[5]Hoja4!$G$2:$G$1672,0))","v":34},"Ecoturismo","x","4213_34",null,null,null,"x"]
[4213,"Grande de Térraba","Fetsur","Osa",{"$f":"INDEX([5]Hoja4!$F$2:$F$1672,MATCH(F557,[5]Hoja4!$G$2:$G$1672,0))","v":36},"Ejecutivo para Centros de Servicios","x","4213_36",null,null,null,null,null,null,null,"X"]
[4213,null,null,"Osa",{"$f":"INDEX([5]Hoja4!$F$2:$F$1672,MATCH(F558,[5]Hoja4!$G$2:$G$1672,0))","v":37},"Electromecánica","x","4213_37",null,null,null,null,"x"]
[4213,"Grande de Térraba","Fetsur","Osa",{"$f":"INDEX([5]Hoja4!$F$2:$F$1672,MATCH(F559,[5]Hoja4!$G$2:$G$1672,0))","v":55},"Producción Agrícola y Pecuaria","x","4213_55",null,null,"x","x"]
[4213,"Grande de Térraba","Fetsur","Osa",{"$f":"INDEX([5]Hoja4!$F$2:$F$1672,MATCH(F560,[5]Hoja4!$G$2:$G$1672,0))","v":15},"Ciberseguridad","x","4213_15",null,null,"x","X",null,null,"X"]
[4213,"Grande de Térraba","Fetsur","Osa",{"$f":"INDEX([5]Hoja4!$F$2:$F$1672,MATCH(F561,[5]Hoja4!$G$2:$G$1672,0))","v":54},"Operación de Empresas de Alojamiento","x","4213_54",null,null,null,"x"]
[4213,"Grande de Térraba","Fetsur","Osa",{"$f":"INDEX([5]Hoja4!$F$2:$F$1672,MATCH(F562,[5]Hoja4!$G$2:$G$1672,0))","v":61},"Salud Ocupacional","x","4213_61",null,null,"x",null,"x","x",null,"x"]
[4213,"Grande de Térraba","Fetsur","Osa",{"$f":"INDEX([5]Hoja4!$F$2:$F$1672,MATCH(F563,[5]Hoja4!$G$2:$G$1672,0))","v":62},"Secretariado Ejecutivo","x","4213_62",null,null,null,"x",null,"x","X","x"]
[4213,"Grande de Térraba","Fetsur","Osa",{"$f":"INDEX([5]Hoja4!$F$2:$F$1672,MATCH(F564,[5]Hoja4!$G$2:$G$1672,0))","v":65},"Turismo en Alimentos y Bebidas","x","4213_65",null,null,null,null,"x",null,"X","x"]
[4213,"Grande de Térraba","Fetsur","Osa",{"$f":"INDEX([5]Hoja4!$F$2:$F$1672,MATCH(F565,[5]Hoja4!$G$2:$G$1672,0))","v":69},"Instalación y mantenimiento de sistemas eléctricos indutriales ","x","4213_69",null,null,"x"]
[4213,"Grande de Térraba","Fetsur","Osa",{"$f":"INDEX([5]Hoja4!$F$2:$F$1672,MATCH(F566,[5]Hoja4!$G$2:$G$1672,0))","v":67},"Turismo Rural","x","4213_67",null,null,"x"]
[6580,"Guápiles","Caribe","Agroportica",{"$f":"INDEX([5]Hoja4!$F$2:$F$1672,MATCH(F567,[5]Hoja4!$G$2:$G$1672,0))","v":15},"Ciberseguridad","x","6580_15",null,null,"x","X"]
[6580,"Guápiles","Caribe","Agroportica",{"$f":"INDEX([5]Hoja4!$F$2:$F$1672,MATCH(F568,[5]Hoja4!$G$2:$G$1672,0))","v":24},"Contabilidad y Finanzas","x","6580_24",null,null,"x","X","x"]
[6580,"Guápiles","Caribe","Agroportica",{"$f":"INDEX([5]Hoja4!$F$2:$F$1672,MATCH(F569,[5]Hoja4!$G$2:$G$1672,0))","v":30},"Diseño Publicitario","x","6580_30",null,null,"x","X","x"]
[6580,"Guápiles","Caribe","Agroportica",{"$f":"INDEX([5]Hoja4!$F$2:$F$1672,MATCH(F570,[5]Hoja4!$G$2:$G$1672,0))","v":44},"Informática Empresarial","x","6580_44",null,null,"x","X","x"]
[6581,"Guápiles","Caribe","Agroportica",{"$f":"INDEX([5]Hoja4!$F$2:$F$1672,MATCH(F571,[5]Hoja4!$G$2:$G$1672,0))","v":53},"Mercadeo","x","6581_53",null,null,"x","X"]
[6580,"Guápiles","Caribe","Agroportica",{"$f":"INDEX([5]Hoja4!$F$2:$F$1672,MATCH(F572,[5]Hoja4!$G$2:$G$1672,0))","v":62},"Secretariado Ejecutivo","x","6580_62",null,null,"x","X"]
[4228,"Guápiles","Caribe","Guácimo",{"$f":"INDEX([5]Hoja4!$F$2:$F$1672,MATCH(F573,[5]Hoja4!$G$2:$G$1672,0))","v":5},"Agroecología","x","4228_5",null,null,"x"]
[4228,"Guápiles",null,"Guácimo",{"$f":"INDEX([5]Hoja4!$F$2:$F$1672,MATCH(F574,[5]Hoja4!$G$2:$G$1672,0))","v":25},"Desarrollo Web","x","4228_25",null,null,"x"]
[4228,"Guápiles","Caribe","Guácimo",{"$f":"INDEX([5]Hoja4!$F$2:$F$1672,MATCH(F575,[5]Hoja4!$G$2:$G$1672,0))","v":14},"Bilingual Secretary","x","4228_14",null,null,"x",null,"x"]
[4228,"Guápiles","Caribe","Guácimo",{"$f":"INDEX([5]Hoja4!$F$2:$F$1672,MATCH(F576,[5]Hoja4!$G$2:$G$1672,0))","v":18},"Configuración y soporte de redes de comunicación y sistemas operativos","x","4228_18",null,null,"x","X","x"]
[4228,"Guápiles","Caribe","Guácimo",{"$f":"INDEX([5]Hoja4!$F$2:$F$1672,MATCH(F577,[5]Hoja4!$G$2:$G$1672,0))","v":24},"Contabilidad y Finanzas",null,"4228_24",null,null,"x","X","x"]
[4228,"Guápiles","Caribe","Guácimo",{"$f":"INDEX([5]Hoja4!$F$2:$F$1672,MATCH(F578,[5]Hoja4!$G$2:$G$1672,0))","v":23},"Contabilidad y Costos","x","4228_23",null,null,null,"X"]
[4228,"Guápiles","Caribe","Guácimo",{"$f":"INDEX([5]Hoja4!$F$2:$F$1672,MATCH(F579,[5]Hoja4!$G$2:$G$1672,0))","v":55},"Producción Agrícola y Pecuaria","x","4228_55",null,null,"x","X","x"]
[4228,"Guápiles","Caribe","Guácimo",{"$f":"INDEX([5]Hoja4!$F$2:$F$1672,MATCH(F580,[5]Hoja4!$G$2:$G$1672,0))","v":62},"Secretariado Ejecutivo","x","4228_62",null,null,null,"X","x"]
[4228,"Guápiles","Caribe","Guácimo",{"$f":"INDEX([5]Hoja4!$F$2:$F$1672,MATCH(F581,[5]Hoja4!$G$2:$G$1672,0))","v":67},"Turismo Rural","x","4228_67",null,null,"x","X","x"]
[6584,"Guápiles","Caribe","Las Palmitas",{"$f":"INDEX([5]Hoja4!$F$2:$F$1672,MATCH(F582,[5]Hoja4!$G$2:$G$1672,0))","v":25},"Desarrollo Web","x","6584_25",null,null,null,"X","x","x",null,"x"]
[6584,"Guápiles","Caribe","Las Palmitas",{"$f":"INDEX([5]Hoja4!$F$2:$F$1672,MATCH(F583,[5]Hoja4!$G$2:$G$1672,0))","v":40},"Electrónica Industrial","x","6584_40",null,null,null,null,"x"]
[6585,"Guápiles","Caribe","Las Palmitas",{"$f":"INDEX([5]Hoja4!$F$2:$F$1672,MATCH(F584,[5]Hoja4!$G$2:$G$1672,0))","v":23},"Contabilidad y Costos","x","6585_23",null,null,null,"X",null,"x"]
[6586,"Guápiles","Caribe","Las Palmitas",{"$f":"INDEX([5]Hoja4!$F$2:$F$1672,MATCH(F585,[5]Hoja4!$G$2:$G$1672,0))","v":68},"Gestión de la Producción","x","6586_68",null,null,"x","X"]
[6587,"Guápiles","Caribe","Las Palmitas",{"$f":"INDEX([5]Hoja4!$F$2:$F$1672,MATCH(F586,[5]Hoja4!$G$2:$G$1672,0))","v":65},"Turismo en Alimentos y Bebidas","x","6587_65",null,null,null,"x",null,null,"x"]
[6584,"Guápiles","Caribe","Las Palmitas",{"$f":"INDEX([5]Hoja4!$F$2:$F$1672,MATCH(F587,[5]Hoja4!$G$2:$G$1672,0))","v":62},"Secretariado Ejecutivo","x","6584_62",null,null,null,null,"x",null,"x","x"]
[6584,"Guápiles","Caribe","Las Palmitas",{"$f":"INDEX([5]Hoja4!$F$2:$F$1672,MATCH(F588,[5]Hoja4!$G$2:$G$1672,0))","v":74},"Gestión de la calidad","x","6584_74",null,null,"x"]
[6584,"Guápiles","Caribe","Las Palmitas",{"$f":"INDEX([5]Hoja4!$F$2:$F$1672,MATCH(F589,[5]Hoja4!$G$2:$G$1672,0))","v":67},"Turismo Rural","x","6584_67",null,null,"x"]
[4227,"Guápiles","Caribe","Pococí",{"$f":"INDEX([5]Hoja4!$F$2:$F$1672,MATCH(F590,[5]Hoja4!$G$2:$G$1672,0))","v":5},"Agroecología","x","4227_5",null,null,"x","X","x"]
[4227,"Guápiles","Caribe","Pococí",{"$f":"INDEX([5]Hoja4!$F$2:$F$1672,MATCH(F591,[5]Hoja4!$G$2:$G$1672,0))","v":6},"Agroindustria Alimentaria con Tecnología Agrícola","x","4227_6",null,null,"x","X","x"]
[4227,"Guápiles","Caribe","Pococí",{"$f":"INDEX([5]Hoja4!$F$2:$F$1672,MATCH(F592,[5]Hoja4!$G$2:$G$1672,0))","v":71},"Organización de operaciones y servicios de alimentos y bebidas","x","4227_71",null,null,"x",null,null,"x"]
[4227,"Guápiles","Caribe","Pococí",{"$f":"INDEX([5]Hoja4!$F$2:$F$1672,MATCH(F593,[5]Hoja4!$G$2:$G$1672,0))","v":13},"Banca y Finanzas","x","4227_13",null,null,"x","X","x"]
[4227,"Guápiles","Caribe","Pococí",{"$f":"INDEX([5]Hoja4!$F$2:$F$1672,MATCH(F594,[5]Hoja4!$G$2:$G$1672,0))","v":18},"Configuración y soporte de redes de comunicación y sistemas operativos","x","4227_18",null,null,"x","X","x"]
[4227,"Guápiles","Caribe","Pococí",{"$f":"INDEX([5]Hoja4!$F$2:$F$1672,MATCH(F595,[5]Hoja4!$G$2:$G$1672,0))","v":20},"Contabilidad","x","4227_20",null,null,null,null,null,"x","X","x"]
[4227,"Guápiles","Caribe","Pococí",{"$f":"INDEX([5]Hoja4!$F$2:$F$1672,MATCH(F596,[5]Hoja4!$G$2:$G$1672,0))","v":24},"Contabilidad y Finanzas","x","4227_24",null,null,"x","X","x"]
[4227,"Guápiles","Caribe","Pococí",{"$f":"INDEX([5]Hoja4!$F$2:$F$1672,MATCH(F597,[5]Hoja4!$G$2:$G$1672,0))","v":30},"Diseño Publicitario","x","4227_30",null,null,null,"X","x"]
[4227,"Guápiles","Caribe","Pococí",{"$f":"INDEX([5]Hoja4!$F$2:$F$1672,MATCH(F598,[5]Hoja4!$G$2:$G$1672,0))","v":35},"Ejecutivo Comercial y Servicio al cliente","x","4227_35",null,null,null,null,null,"x","X","X"]
[4227,"Guápiles","Caribe","Pococí",{"$f":"INDEX([5]Hoja4!$F$2:$F$1672,MATCH(F599,[5]Hoja4!$G$2:$G$1672,0))","v":72},"Desarrollo de aplicaciones móviles","x","4227_72",null,null,"x"]
[4227,"Guápiles","Caribe","Pococí",{"$f":"INDEX([5]Hoja4!$F$2:$F$1672,MATCH(F600,[5]Hoja4!$G$2:$G$1672,0))","v":44},"Informática Empresarial","x","4227_44",null,null,null,null,null,null,"X","x"]
[4227,"Guápiles","Caribe","Pococí",{"$f":"INDEX([5]Hoja4!$F$2:$F$1672,MATCH(F601,[5]Hoja4!$G$2:$G$1672,0))","v":6},"Agroindustria Alimentaria con Tecnología Pecuaria","x","4227_6",null,null,null,"x"]
[4227,"Guápiles","Caribe","Pococí",{"$f":"INDEX([5]Hoja4!$F$2:$F$1672,MATCH(F602,[5]Hoja4!$G$2:$G$1672,0))","v":51},"Mecánica General","x","4227_51",null,null,"x","X","x",null,"x"]
[4227,"Guápiles","Caribe","Pococí",{"$f":"INDEX([5]Hoja4!$F$2:$F$1672,MATCH(F603,[5]Hoja4!$G$2:$G$1672,0))","v":55},"Producción Agrícola y Pecuaria","x","4227_55",null,null,"x","X","x"]
[4227,"Guápiles","Caribe","Pococí",{"$f":"INDEX([5]Hoja4!$F$2:$F$1672,MATCH(F604,[5]Hoja4!$G$2:$G$1672,0))","v":60},"Riego y Drenaje","x","4227_60",null,null,"x","X","x"]
[4227,"Guápiles","Caribe","Pococí",{"$f":"INDEX([5]Hoja4!$F$2:$F$1672,MATCH(F605,[5]Hoja4!$G$2:$G$1672,0))","v":61},"Salud Ocupacional","x","4227_61",null,null,"x","X","x"]
[4227,"Guápiles","Caribe","Pococí",{"$f":"INDEX([5]Hoja4!$F$2:$F$1672,MATCH(F606,[5]Hoja4!$G$2:$G$1672,0))","v":62},"Secretariado Ejecutivo","x","4227_62",null,null,"x","X","x"]
[4227,"Guápiles","Caribe","Pococí",{"$f":"INDEX([5]Hoja4!$F$2:$F$1672,MATCH(F607,[5]Hoja4!$G$2:$G$1672,0))","v":65},"Turismo en Alimentos y Bebidas","x","4227_65",null,null,null,"X","x",null,"X","X"]
[6633,"Heredia","Heredia","Belén",{"$f":"INDEX([5]Hoja4!$F$2:$F$1672,MATCH(F608,[5]Hoja4!$G$2:$G$1672,0))","v":18},"Configuración y soporte de redes de comunicación y sistemas operativos","x","6633_18",null,null,"x","X","x"]
[6633,"Heredia","Heredia","Belén",{"$f":"INDEX([5]Hoja4!$F$2:$F$1672,MATCH(F609,[5]Hoja4!$G$2:$G$1672,0))","v":20},"Contabilidad","x","6633_20",null,null,"x","X","x"]
[6633,"Heredia","Heredia","Belén",{"$f":"INDEX([5]Hoja4!$F$2:$F$1672,MATCH(F610,[5]Hoja4!$G$2:$G$1672,0))","v":35},"Ejecutivo Comercial y Servicio al Cliente","x",{"$f":"IF(A610=\"\",\"\",A610&\"_\"&E610)","v":"6633_35"},null,null,"x","X","x"]
[6633,"Heredia","Heredia","Belén",{"$f":"INDEX([5]Hoja4!$F$2:$F$1672,MATCH(F611,[5]Hoja4!$G$2:$G$1672,0))","v":74},"Gestión de la calidad","x","6633_74",null,null,"x"]
[6633,"Heredia","Heredia","Belén",{"$f":"INDEX([5]Hoja4!$F$2:$F$1672,MATCH(F612,[5]Hoja4!$G$2:$G$1672,0))","v":40},"Electrónica Industrial","x","6633_40",null,null,"x","X","x"]
[6633,"Heredia","Heredia","Belén",{"$f":"INDEX([5]Hoja4!$F$2:$F$1672,MATCH(F613,[5]Hoja4!$G$2:$G$1672,0))","v":56},"Productividad y Calidad","x","6633_56",null,null,null,null,"x"]
[6634,"Heredia","Heredia","Belén",{"$f":"INDEX([5]Hoja4!$F$2:$F$1672,MATCH(F614,[5]Hoja4!$G$2:$G$1672,0))","v":68},"Gestión de la Producción","x","6634_68",null,null,null,"X"]
["n/a2","Heredia","Heredia","C.I.T.",{"$f":"INDEX([5]Hoja4!$F$2:$F$1672,MATCH(F615,[5]Hoja4!$G$2:$G$1672,0))","v":3},"Administración, Logística y Distribución","x","n/a2_3",null,null,"x","X"]
["n/a2","Heredia","Heredia","C.I.T.",{"$f":"INDEX([5]Hoja4!$F$2:$F$1672,MATCH(F616,[5]Hoja4!$G$2:$G$1672,0))","v":15},"Ciberseguridad","x","n/a2_15",null,null,"x","X","x"]
["n/a2","Heredia","Heredia","C.I.T.",{"$f":"INDEX([5]Hoja4!$F$2:$F$1672,MATCH(F617,[5]Hoja4!$G$2:$G$1672,0))","v":33},"Diseño y Desarrollo Digital","x","n/a2_33",null,null,"x","X","x"]
["n/a2","Heredia","Heredia","C.I.T.",{"$f":"INDEX([5]Hoja4!$F$2:$F$1672,MATCH(F618,[5]Hoja4!$G$2:$G$1672,0))","v":40},"Electrónica Industrial","x","n/a2_40",null,null,"x","X","x"]
["n/a2","Heredia","Heredia","C.I.T.",{"$f":"INDEX([5]Hoja4!$F$2:$F$1672,MATCH(F619,[5]Hoja4!$G$2:$G$1672,0))","v":45},"Informática en Desarrollo de Software","x","n/a2_45",null,null,null,"X","x"]
["n/a2","Heredia","Heredia","C.I.T.",{"$f":"INDEX([5]Hoja4!$F$2:$F$1672,MATCH(F620,[5]Hoja4!$G$2:$G$1672,0))","v":68},"Gestión de la producción ","x","n/a2_68",null,null,"x"]
["n/a2","Heredia","Heredia","C.I.T.",{"$f":"INDEX([5]Hoja4!$F$2:$F$1672,MATCH(F621,[5]Hoja4!$G$2:$G$1672,0))","v":72},"Desarrollo de aplicaciones móviles","x","n/a2_72",null,null,"x"]
["n/a2","Heredia","Heredia","C.I.T.",{"$f":"INDEX([5]Hoja4!$F$2:$F$1672,MATCH(F622,[5]Hoja4!$G$2:$G$1672,0))","v":56},"Productividad y Calidad","x","n/a2_56",null,null,null,null,"x"]
[6639,"Heredia","Heredia","Del Este",{"$f":"INDEX([5]Hoja4!$F$2:$F$1672,MATCH(F623,[5]Hoja4!$G$2:$G$1672,0))","v":1},"Accounting","x","6639_1",null,null,"x","x","x"]
[6639,"Heredia","Heredia","Del Este",{"$f":"INDEX([5]Hoja4!$F$2:$F$1672,MATCH(F624,[5]Hoja4!$G$2:$G$1672,0))","v":3},"Administración, Logística y Distribución","x","6639_3",null,null,"x","x","x"]
[6639,"Heredia","Heredia","Del Este",{"$f":"INDEX([5]Hoja4!$F$2:$F$1672,MATCH(F625,[5]Hoja4!$G$2:$G$1672,0))","v":18},"Configuración y soporte de redes de comunicación y sistemas operativos","x","6639_18",null,null,"x","x","x"]
[6639,"Heredia","Heredia","Del Este",{"$f":"INDEX([5]Hoja4!$F$2:$F$1672,MATCH(F626,[5]Hoja4!$G$2:$G$1672,0))","v":24},"Contabilidad y Finanzas","x","6639_24",null,null,"x","x","x"]
[6639,"Heredia","Heredia","Del Este",{"$f":"INDEX([5]Hoja4!$F$2:$F$1672,MATCH(F627,[5]Hoja4!$G$2:$G$1672,0))","v":35},"Ejecutivo Comercial y Servicio al Cliente","x","6639_35",null,null,"x","x","x"]
[6639,"Heredia","Heredia","Del Este",{"$f":"INDEX([5]Hoja4!$F$2:$F$1672,MATCH(F628,[5]Hoja4!$G$2:$G$1672,0))","v":71},"Organización de operaciones y servicios de alimentos y bebidas","x","6639_71",null,null,"x"]
[6639,"Heredia","Heredia","Del Este",{"$f":"INDEX([5]Hoja4!$F$2:$F$1672,MATCH(F629,[5]Hoja4!$G$2:$G$1672,0))","v":45},"Informática en Desarrollo de Software","x","6639_45",null,null,null,"x"]
[6639,"Heredia","Heredia","Del Este",{"$f":"INDEX([5]Hoja4!$F$2:$F$1672,MATCH(F630,[5]Hoja4!$G$2:$G$1672,0))","v":1},"Accounting","x","6639_1",null,null,null,"x"]
[6639,"Heredia","Heredia","Del Este",{"$f":"INDEX([5]Hoja4!$F$2:$F$1672,MATCH(F631,[5]Hoja4!$G$2:$G$1672,0))","v":68},"Gestión de la Producción","x","6639_68",null,null,"x","x"]
[6639,"Heredia","Heredia","Del Este",{"$f":"INDEX([5]Hoja4!$F$2:$F$1672,MATCH(F632,[5]Hoja4!$G$2:$G$1672,0))","v":56},"Productividad y Calidad","x","6639_56",null,null,"x"]
[6639,"Heredia","Heredia","Del Este",{"$f":"INDEX([5]Hoja4!$F$2:$F$1672,MATCH(F633,[5]Hoja4!$G$2:$G$1672,0))","v":65},"Turismo en Alimentos y Bebidas","x","6639_65",null,null,null,"x","x"]
[4190,"Heredia","Heredia","Flores",{"$f":"INDEX([5]Hoja4!$F$2:$F$1672,MATCH(F634,[5]Hoja4!$G$2:$G$1672,0))","v":1},"Accounting","x","4190_1",null,null,"x","x","x"]
[4190,"Heredia","Heredia","Flores",{"$f":"INDEX([5]Hoja4!$F$2:$F$1672,MATCH(F635,[5]Hoja4!$G$2:$G$1672,0))","v":3},"Administración, Logística y Distribución","x","4190_3",null,null,null,null,"x"]
[4190,"Heredia","Heredia","Flores",{"$f":"INDEX([5]Hoja4!$F$2:$F$1672,MATCH(F636,[5]Hoja4!$G$2:$G$1672,0))","v":20},"Contabilidad","x","4190_20",null,null,"x","x","x"]
[4190,"Heredia","Heredia","Flores",{"$f":"INDEX([5]Hoja4!$F$2:$F$1672,MATCH(F637,[5]Hoja4!$G$2:$G$1672,0))","v":35},"Ejecutivo Comercial y Servicio al cliente","x","4190_35",null,null,"x","x","x"]
[4190,"Heredia","Heredia","Flores",{"$f":"INDEX([5]Hoja4!$F$2:$F$1672,MATCH(F638,[5]Hoja4!$G$2:$G$1672,0))","v":72},"Desarrollo de aplicaciones móviles","x","4190_72",null,null,"x"]
[4190,"Heredia","Heredia","Flores",{"$f":"INDEX([5]Hoja4!$F$2:$F$1672,MATCH(F639,[5]Hoja4!$G$2:$G$1672,0))","v":44},"Informática Empresarial","x","4190_44",null,null,null,"X","x"]
[4190,"Heredia","Heredia","Flores",{"$f":"INDEX([5]Hoja4!$F$2:$F$1672,MATCH(F640,[5]Hoja4!$G$2:$G$1672,0))","v":68},"Gestión de la Producción","x","4190_68",null,null,null,"X"]
[4190,"Heredia","Heredia","Flores",{"$f":"INDEX([5]Hoja4!$F$2:$F$1672,MATCH(F641,[5]Hoja4!$G$2:$G$1672,0))","v":56},"Productividad y Calidad","x","4190_56",null,null,null,null,"x"]
[4190,"Heredia","Heredia","Flores",{"$f":"INDEX([5]Hoja4!$F$2:$F$1672,MATCH(F642,[5]Hoja4!$G$2:$G$1672,0))","v":74},"Gestión de la calidad","x","4190_74",null,null,"x"]
[4190,"Heredia","Heredia","Flores",{"$f":"INDEX([5]Hoja4!$F$2:$F$1672,MATCH(F643,[5]Hoja4!$G$2:$G$1672,0))","v":70},"Inteligencia Artificial","x","4190_70",null,null,"x"]
[4190,"Heredia","Heredia","Flores",{"$f":"INDEX([5]Hoja4!$F$2:$F$1672,MATCH(F644,[5]Hoja4!$G$2:$G$1672,0))","v":65},"Turismo en Alimentos y Bebidas","x","4190_65",null,null,"x","X","x"]
[4191,"Heredia","Heredia","Heredia",{"$f":"INDEX([5]Hoja4!$F$2:$F$1672,MATCH(F645,[5]Hoja4!$G$2:$G$1672,0))","v":18},"Configuración y soporte de redes de comunicación y sistemas operativos","x","4191_18",null,null,"x","x","x"]
[4191,"Heredia","Heredia","Heredia",{"$f":"INDEX([5]Hoja4!$F$2:$F$1672,MATCH(F646,[5]Hoja4!$G$2:$G$1672,0))","v":24},"Contabilidad y Finanzas","x","4191_24",null,null,"x","X","x","x","x","x"]
[4191,"Heredia","Heredia","Heredia",{"$f":"INDEX([5]Hoja4!$F$2:$F$1672,MATCH(F647,[5]Hoja4!$G$2:$G$1672,0))","v":27},"Dibujo Técnico","x","4191_27",null,null,"x","X","x"]
[4191,"Heredia","Heredia","Heredia",{"$f":"INDEX([5]Hoja4!$F$2:$F$1672,MATCH(F648,[5]Hoja4!$G$2:$G$1672,0))","v":41},"Electrotecnia","x","4191_41",null,null,null,null,"x"]
[4191,"Heredia","Heredia","Heredia",{"$f":"INDEX([5]Hoja4!$F$2:$F$1672,MATCH(F649,[5]Hoja4!$G$2:$G$1672,0))","v":25},"Desarrollo Web","x","4191_25",null,null,null,null,null,"x","X"]
[4191,"Heredia","Heredia","Heredia",{"$f":"INDEX([5]Hoja4!$F$2:$F$1672,MATCH(F650,[5]Hoja4!$G$2:$G$1672,0))","v":44},"Informática Empresarial","x","4191_44",null,null,null,null,null,null,null,"x"]
[4191,"Heredia","Heredia","Heredia",{"$f":"INDEX([5]Hoja4!$F$2:$F$1672,MATCH(F651,[5]Hoja4!$G$2:$G$1672,0))","v":69},"Instalación y mantenimiento de sistemas eléctricos indutriales ","x","4191_69",null,null,"x","x"]
[4191,"Heredia","Heredia","Heredia",{"$f":"INDEX([5]Hoja4!$F$2:$F$1672,MATCH(F652,[5]Hoja4!$G$2:$G$1672,0))","v":50},"Mecánica de Precisión","x","4191_50",null,null,"x","X","x"]
[4191,"Heredia","Heredia","Heredia",{"$f":"INDEX([5]Hoja4!$F$2:$F$1672,MATCH(F653,[5]Hoja4!$G$2:$G$1672,0))","v":62},"Secretariado Ejecutivo","x","4191_62",null,null,"x","X","x","x","x","x"]
[4866,"Heredia","Heredia","IPEC de Barva (Central)",{"$f":"INDEX([5]Hoja4!$F$2:$F$1672,MATCH(F654,[5]Hoja4!$G$2:$G$1672,0))","v":15},"Ciberseguridad","x","4866_15","X","x",null,null,null,"x","X","x"]
[4866,"Heredia","Heredia","IPEC de Barva (Central)",{"$f":"INDEX([5]Hoja4!$F$2:$F$1672,MATCH(F655,[5]Hoja4!$G$2:$G$1672,0))","v":20},"Contabilidad","x","4866_20",null,"x",null,null,null,null,"X","x"]
[4866,"Heredia","Heredia","IPEC de Barva (Central)",{"$f":"INDEX([5]Hoja4!$F$2:$F$1672,MATCH(F656,[5]Hoja4!$G$2:$G$1672,0))","v":24},"Contabilidad y Finanzas","x","4866_24","x"]
[4866,"Heredia","Heredia","IPEC de Barva (Central)",{"$f":"INDEX([5]Hoja4!$F$2:$F$1672,MATCH(F657,[5]Hoja4!$G$2:$G$1672,0))","v":35},"Ejecutivo Comercial y Servicio al Cliente","x","4866_35","X","x",null,null,null,"x","X","x"]
[4866,"Heredia","Heredia","IPEC de Barva (Central)",{"$f":"INDEX([5]Hoja4!$F$2:$F$1672,MATCH(F658,[5]Hoja4!$G$2:$G$1672,0))","v":13},"Banca y Finanzas","x","4866_13",null,null,null,null,null,"x"]
[4866,"Heredia","Heredia","IPEC de Barva (Central)",{"$f":"INDEX([5]Hoja4!$F$2:$F$1672,MATCH(F659,[5]Hoja4!$G$2:$G$1672,0))","v":71},"Organización de operaciones y servicios de alimentos y bebidas","x","4866_71",null,null,null,null,null,"x"]
[4866,"Heredia","Heredia","IPEC de Barva (Central)",{"$f":"INDEX([5]Hoja4!$F$2:$F$1672,MATCH(F660,[5]Hoja4!$G$2:$G$1672,0))","v":73},"Gerencia y producción en cocina ","x","4866_73","x"]
[4866,"Heredia","Heredia","IPEC de Barva (Central)",{"$f":"INDEX([5]Hoja4!$F$2:$F$1672,MATCH(F661,[5]Hoja4!$G$2:$G$1672,0))","v":65},"Turismo en Alimentos y Bebidas","x","4866_65",null,"x",null,null,null,null,null,"x"]
[4864,"Heredia","Heredia","IPEC de Santo Domingo (Central)",{"$f":"INDEX([5]Hoja4!$F$2:$F$1672,MATCH(F662,[5]Hoja4!$G$2:$G$1672,0))","v":3},"Administración, Logística y Distribución","x","4864_3",null,null,"x",null,null,null,null,"x"]
[4864,"Heredia","Heredia","IPEC de Santo Domingo (Central)",{"$f":"INDEX([5]Hoja4!$F$2:$F$1672,MATCH(F663,[5]Hoja4!$G$2:$G$1672,0))","v":24},"Contabilidad y Finanzas","x","4864_24",null,null,"x",null,null,"x","x","x"]
[4864,"Heredia","Heredia","IPEC de Santo Domingo (Central)",{"$f":"INDEX([5]Hoja4!$F$2:$F$1672,MATCH(F664,[5]Hoja4!$G$2:$G$1672,0))","v":45},"Informática en Desarrollo de Software","x","4864_45",null,null,null,null,null,null,null,"x"]
[4864,"Heredia","Heredia","IPEC de Santo Domingo (Central)",{"$f":"INDEX([5]Hoja4!$F$2:$F$1672,MATCH(F665,[5]Hoja4!$G$2:$G$1672,0))","v":61},"Salud Ocupacional","x","4864_61",null,null,null,"x",null,"x"]
[4864,"Heredia","Heredia","IPEC de Santo Domingo (Central)",{"$f":"INDEX([5]Hoja4!$F$2:$F$1672,MATCH(F666,[5]Hoja4!$G$2:$G$1672,0))","v":62},"Secretariado Ejecutivo","x","4864_62",null,null,"x","x",null,null,"x","x"]
[4864,"Heredia","Heredia","IPEC de Santo Domingo (Central)",{"$f":"INDEX([5]Hoja4!$F$2:$F$1672,MATCH(F667,[5]Hoja4!$G$2:$G$1672,0))","v":25},"Desarrollo Web","x","4864_25",null,null,null,"x",null,"x"]
[6526,"Heredia","Heredia","Mercedes Norte",{"$f":"INDEX([5]Hoja4!$F$2:$F$1672,MATCH(F668,[5]Hoja4!$G$2:$G$1672,0))","v":3},"Administración, Logística y Distribución","x","6526_3",null,null,"x","X"]
[6526,"Heredia","Heredia","Mercedes Norte",{"$f":"INDEX([5]Hoja4!$F$2:$F$1672,MATCH(F669,[5]Hoja4!$G$2:$G$1672,0))","v":15},"Ciberseguridad","x","6526_15",null,null,"x","X","x"]
[6526,"Heredia","Heredia","Mercedes Norte",{"$f":"INDEX([5]Hoja4!$F$2:$F$1672,MATCH(F670,[5]Hoja4!$G$2:$G$1672,0))","v":20},"Contabilidad","x","6526_20",null,null,"x","X","x"]
[6526,"Heredia","Heredia","Mercedes Norte",{"$f":"INDEX([5]Hoja4!$F$2:$F$1672,MATCH(F671,[5]Hoja4!$G$2:$G$1672,0))","v":25},"Desarrollo Web","x","6526_25",null,null,"x","X","x"]
[6526,"Heredia","Heredia","Mercedes Norte",{"$f":"INDEX([5]Hoja4!$F$2:$F$1672,MATCH(F672,[5]Hoja4!$G$2:$G$1672,0))","v":35},"Ejecutivo Comercial y Servicio al Cliente","x","6526_35",null,null,"x","X","x"]
[6526,"Heredia","Heredia","Mercedes Norte",{"$f":"INDEX([5]Hoja4!$F$2:$F$1672,MATCH(F673,[5]Hoja4!$G$2:$G$1672,0))","v":40},"Electrónica Industrial","x","6526_40",null,null,"x","X","x"]
[6524,"Heredia","Heredia","San Isidro de Heredia",{"$f":"INDEX([5]Hoja4!$F$2:$F$1672,MATCH(F674,[5]Hoja4!$G$2:$G$1672,0))","v":3},"Administración, Logística y Distribución","x",{"$f":"IF(A674=\"\",\"\",A674&\"_\"&E674)","v":"6524_3"},null,null,"x","X","x","x","X","x"]
[6524,"Heredia","Heredia","San Isidro de Heredia",{"$f":"INDEX([5]Hoja4!$F$2:$F$1672,MATCH(F675,[5]Hoja4!$G$2:$G$1672,0))","v":15},"Ciberseguridad","x","6524_15",null,null,"x","X","x","x","X"]
[6524,"Heredia","Heredia","San Isidro de Heredia",{"$f":"INDEX([5]Hoja4!$F$2:$F$1672,MATCH(F676,[5]Hoja4!$G$2:$G$1672,0))","v":18},"Configuración y soporte de redes de comunicación y sistemas operativos","x","6524_18",null,null,"x","X","x","x","X","x"]
[6524,"Heredia","Heredia","San Isidro de Heredia",{"$f":"INDEX([5]Hoja4!$F$2:$F$1672,MATCH(F677,[5]Hoja4!$G$2:$G$1672,0))","v":23},"Contabilidad y Costos","x","6524_23",null,null,null,"X","x"]
[6524,"Heredia","Heredia","San Isidro de Heredia",{"$f":"INDEX([5]Hoja4!$F$2:$F$1672,MATCH(F678,[5]Hoja4!$G$2:$G$1672,0))","v":24},"Contabilidad y Finanzas","x","6524_24",null,null,"x",null,"x","x","X","x"]
[6524,"Heredia","Heredia","San Isidro de Heredia",{"$f":"INDEX([5]Hoja4!$F$2:$F$1672,MATCH(F679,[5]Hoja4!$G$2:$G$1672,0))","v":29},"Diseño Gráfico","x","6524_29",null,null,"x","X","x","x","X","x"]
[6524,"Heredia","Heredia","San Isidro de Heredia",{"$f":"INDEX([5]Hoja4!$F$2:$F$1672,MATCH(F680,[5]Hoja4!$G$2:$G$1672,0))","v":33},"Diseño y Desarrollo Digital","x","6524_33",null,null,"x","X","x"]
[6524,"Heredia","Heredia","San Isidro de Heredia",{"$f":"INDEX([5]Hoja4!$F$2:$F$1672,MATCH(F681,[5]Hoja4!$G$2:$G$1672,0))","v":35},"Ejecutivo Comercial y Servicio al Cliente","x","6524_35",null,null,"x","X","x","x","X","x"]
[6524,"Heredia","Heredia","San Isidro de Heredia",{"$f":"INDEX([5]Hoja4!$F$2:$F$1672,MATCH(F682,[5]Hoja4!$G$2:$G$1672,0))","v":40},"Electrónica Industrial","x","6524_40",null,null,"x","X","x","x","X","x"]
[6504,"Heredia","Heredia","San Pedro de Barva",{"$f":"INDEX([5]Hoja4!$F$2:$F$1672,MATCH(F683,[5]Hoja4!$G$2:$G$1672,0))","v":18},"Configuración y soporte de redes de comunicación y sistemas operativos","x","6504_18",null,null,"x","X","x"]
[6504,"Heredia","Heredia","San Pedro de Barva",{"$f":"INDEX([5]Hoja4!$F$2:$F$1672,MATCH(F684,[5]Hoja4!$G$2:$G$1672,0))","v":20},"Contabilidad","x","6504_20",null,null,"x","X","x","x","X","x"]
[6504,"Heredia","Heredia","San Pedro de Barva",{"$f":"INDEX([5]Hoja4!$F$2:$F$1672,MATCH(F685,[5]Hoja4!$G$2:$G$1672,0))","v":25},"Desarrollo Web","x","6504_25",null,null,null,null,null,"x","X","x",null,null,"x"]
[6504,"Heredia","Heredia","San Pedro de Barva",{"$f":"INDEX([5]Hoja4!$F$2:$F$1672,MATCH(F686,[5]Hoja4!$G$2:$G$1672,0))","v":30},"Diseño Publicitario","x","6504_30",null,null,"x","X","x"]
[6504,"Heredia","Heredia","San Pedro de Barva",{"$f":"INDEX([5]Hoja4!$F$2:$F$1672,MATCH(F687,[5]Hoja4!$G$2:$G$1672,0))","v":35},"Ejecutivo Comercial y Servicio al Cliente","x","6504_35",null,null,"x","X","x"]
[6505,"Heredia","Heredia","San Pedro de Barva",{"$f":"INDEX([5]Hoja4!$F$2:$F$1672,MATCH(F688,[5]Hoja4!$G$2:$G$1672,0))","v":17},"Computer Science In Software Development","x","6505_17",null,null,null,"X"]
[6504,"Heredia","Heredia","San Pedro de Barva",{"$f":"INDEX([5]Hoja4!$F$2:$F$1672,MATCH(F689,[5]Hoja4!$G$2:$G$1672,0))","v":40},"Electrónica Industrial","x","6504_40",null,null,"x","X","x","x","X","x"]
[6504,"Heredia","Heredia","San Pedro de Barva",{"$f":"INDEX([5]Hoja4!$F$2:$F$1672,MATCH(F690,[5]Hoja4!$G$2:$G$1672,0))","v":62},"Secretariado Ejecutivo","x","6504_62",null,null,null,null,null,"x","X","x"]
[6525,"Heredia","Heredia","Santo Domingo",{"$f":"INDEX([5]Hoja4!$F$2:$F$1672,MATCH(F691,[5]Hoja4!$G$2:$G$1672,0))","v":18},"Configuración y soporte de redes de comunicación y sistemas operativos","x","6525_18",null,null,null,null,null,"x","X","x"]
[6525,"Heredia","Heredia","Santo Domingo",{"$f":"INDEX([5]Hoja4!$F$2:$F$1672,MATCH(F692,[5]Hoja4!$G$2:$G$1672,0))","v":20},"Contabilidad","x","6525_20",null,null,null,null,null,"x","X","x"]
[6525,"Heredia","Heredia","Santo Domingo",{"$f":"INDEX([5]Hoja4!$F$2:$F$1672,MATCH(F693,[5]Hoja4!$G$2:$G$1672,0))","v":24},"Contabilidad y Finanzas","x","6525_24",null,null,"x","X","x"]
[6525,"Heredia","Heredia","Santo Domingo",{"$f":"INDEX([5]Hoja4!$F$2:$F$1672,MATCH(F694,[5]Hoja4!$G$2:$G$1672,0))","v":72},"Desarrollo de aplicaciones móviles","x","6525_72",null,null,"x"]
[6525,"Heredia","Heredia","Santo Domingo",{"$f":"INDEX([5]Hoja4!$F$2:$F$1672,MATCH(F695,[5]Hoja4!$G$2:$G$1672,0))","v":28},"Dibujo y Modelado para Edificaciones","x","6525_28",null,null,"x","X"]
[6525,"Heredia","Heredia","Santo Domingo",{"$f":"INDEX([5]Hoja4!$F$2:$F$1672,MATCH(F696,[5]Hoja4!$G$2:$G$1672,0))","v":30},"Diseño Publicitario","x","6525_30",null,null,"x","X","x"]
[6525,"Heredia","Heredia","Santo Domingo",{"$f":"INDEX([5]Hoja4!$F$2:$F$1672,MATCH(F697,[5]Hoja4!$G$2:$G$1672,0))","v":35},"Ejecutivo Comercial y Servicio al cliente","x","6525_35",null,null,"x","X","x"]
[6525,"Heredia","Heredia","Santo Domingo",{"$f":"INDEX([5]Hoja4!$F$2:$F$1672,MATCH(F698,[5]Hoja4!$G$2:$G$1672,0))","v":36},"Ejecutivo para Centros de Servicios","x","6525_36"]
[6525,"Heredia","Heredia","Santo Domingo",{"$f":"INDEX([5]Hoja4!$F$2:$F$1672,MATCH(F699,[5]Hoja4!$G$2:$G$1672,0))","v":39},"Electrónica En Telecomunicaciones","x","6525_39",null,null,"x","X","x"]
[6525,"Heredia","Heredia","Santo Domingo",{"$f":"INDEX([5]Hoja4!$F$2:$F$1672,MATCH(F700,[5]Hoja4!$G$2:$G$1672,0))","v":45},"Informática en Desarrollo de Software","x","6525_45",null,null,null,"X","x"]
[6525,"Heredia","Heredia","Santo Domingo",{"$f":"INDEX([5]Hoja4!$F$2:$F$1672,MATCH(F701,[5]Hoja4!$G$2:$G$1672,0))","v":68},"Gestión de la Producción",null,"6525_68",null,null,"x","X"]
[6525,"Heredia","Heredia","Santo Domingo",{"$f":"INDEX([5]Hoja4!$F$2:$F$1672,MATCH(F702,[5]Hoja4!$G$2:$G$1672,0))","v":56},"Productividad y Calidad","x","6525_56",null,null,null,null,"x"]
[6525,"Heredia","Heredia","Santo Domingo",{"$f":"INDEX([5]Hoja4!$F$2:$F$1672,MATCH(F703,[5]Hoja4!$G$2:$G$1672,0))","v":59},"Reparación de los Sistemas de Vehículos Livianos","x","6525_59",null,null,"x",null,"x","x","X","x"]
[6525,"Heredia","Heredia","Santo Domingo",{"$f":"INDEX([5]Hoja4!$F$2:$F$1672,MATCH(F704,[5]Hoja4!$G$2:$G$1672,0))","v":62},"Secretariado Ejecutivo","x","6525_62",null,null,null,null,null,"x","X","x"]
[4192,"Heredia","Heredia","Ulloa",{"$f":"INDEX([5]Hoja4!$F$2:$F$1672,MATCH(F705,[5]Hoja4!$G$2:$G$1672,0))","v":18},"Configuración y soporte de redes de comunicación y sistemas operativos","x","4192_18",null,null,"x","X","x"]
[4192,"Heredia","Heredia","Ulloa",{"$f":"INDEX([5]Hoja4!$F$2:$F$1672,MATCH(F706,[5]Hoja4!$G$2:$G$1672,0))","v":30},"Diseño Publicitario","x","4192_30",null,null,"x"]
[4192,"Heredia","Heredia","Ulloa",{"$f":"INDEX([5]Hoja4!$F$2:$F$1672,MATCH(F707,[5]Hoja4!$G$2:$G$1672,0))","v":28},"Dibujo y Modelado para Edificaciones","x","4192_28",null,null,"x","X","x"]
[4192,"Heredia","Heredia","Ulloa",{"$f":"INDEX([5]Hoja4!$F$2:$F$1672,MATCH(F708,[5]Hoja4!$G$2:$G$1672,0))","v":33},"Diseño y Desarrollo Digital","x","4192_33",null,null,null,"X","x"]
[4192,"Heredia","Heredia","Ulloa",{"$f":"INDEX([5]Hoja4!$F$2:$F$1672,MATCH(F709,[5]Hoja4!$G$2:$G$1672,0))","v":35},"Ejecutivo Comercial y Servicio al Cliente","x","4192_35",null,null,"x","X","x"]
[4192,"Heredia","Heredia","Ulloa",{"$f":"INDEX([5]Hoja4!$F$2:$F$1672,MATCH(F710,[5]Hoja4!$G$2:$G$1672,0))","v":37},"Electromecánica","x","4192_37",null,null,"x","X","x"]
[4192,"Heredia","Heredia","Ulloa",{"$f":"INDEX([5]Hoja4!$F$2:$F$1672,MATCH(F711,[5]Hoja4!$G$2:$G$1672,0))","v":40},"Electrónica Industrial","x","4192_40",null,null,"x","X","x"]
[4192,"Heredia","Heredia","Ulloa",{"$f":"INDEX([5]Hoja4!$F$2:$F$1672,MATCH(F712,[5]Hoja4!$G$2:$G$1672,0))","v":62},"Secretariado Ejecutivo","x","4192_62",null,null,"x","X","x"]
[6578,"Liberia","Nahualt Chorotega","Barrio Irvin",{"$f":"INDEX([5]Hoja4!$F$2:$F$1672,MATCH(F713,[5]Hoja4!$G$2:$G$1672,0))","v":2},"Administración y Operación Aduanera","x","6578_2",null,null,"x",null,"x","x"]
[6578,"Liberia","Nahualt Chorotega","Barrio Irvin",{"$f":"INDEX([5]Hoja4!$F$2:$F$1672,MATCH(F714,[5]Hoja4!$G$2:$G$1672,0))","v":20},"Contabilidad","x","6578_20",null,null,"x",null,"x"]
[6578,"Liberia","Nahualt Chorotega","Barrio Irvin",{"$f":"INDEX([5]Hoja4!$F$2:$F$1672,MATCH(F715,[5]Hoja4!$G$2:$G$1672,0))","v":25},"Desarrollo Web","x","6578_25",null,null,"x","X","x"]
[6578,"Liberia","Nahualt Chorotega","Barrio Irvin",{"$f":"INDEX([5]Hoja4!$F$2:$F$1672,MATCH(F716,[5]Hoja4!$G$2:$G$1672,0))","v":3},"Administración, Logística y Distribución","x","6578_3",null,null,null,"x"]
[6578,"Liberia","Nahualt Chorotega","Barrio Irvin",{"$f":"INDEX([5]Hoja4!$F$2:$F$1672,MATCH(F717,[5]Hoja4!$G$2:$G$1672,0))","v":54},"Operación de Empresas de Alojamiento","x","6578_54",null,null,"x","x","x","x"]
[6578,"Liberia","Nahualt Chorotega","Barrio Irvin",{"$f":"INDEX([5]Hoja4!$F$2:$F$1672,MATCH(F718,[5]Hoja4!$G$2:$G$1672,0))","v":56},"Productividad y Calidad","x","6578_56"]
[6578,"Liberia","Nahualt Chorotega","Barrio Irvin",{"$f":"INDEX([5]Hoja4!$F$2:$F$1672,MATCH(F719,[5]Hoja4!$G$2:$G$1672,0))","v":71},"Organización de operaciones y servicios de alimentos y bebidas","x","6578_71",null,null,"x"]
[6578,"Liberia","Nahualt Chorotega","Barrio Irvin",{"$f":"INDEX([5]Hoja4!$F$2:$F$1672,MATCH(F720,[5]Hoja4!$G$2:$G$1672,0))","v":62},"Secretariado Ejecutivo","x","6578_62",null,null,null,"x"]
[6578,"Liberia","Nahualt Chorotega","Barrio Irvin",{"$f":"INDEX([5]Hoja4!$F$2:$F$1672,MATCH(F721,[5]Hoja4!$G$2:$G$1672,0))","v":34},"Ecoturismo","x","6578_34",null,null,null,"x","x"]
[6578,"Liberia","Nahualt Chorotega","Barrio Irvin",{"$f":"INDEX([5]Hoja4!$F$2:$F$1672,MATCH(F722,[5]Hoja4!$G$2:$G$1672,0))","v":72},"Desarrollo de aplicaciones móviles","x","6578_72",null,null,null,null,null,"x"]
[6578,"Liberia","Nahualt Chorotega","Barrio Irvin",{"$f":"INDEX([5]Hoja4!$F$2:$F$1672,MATCH(F723,[5]Hoja4!$G$2:$G$1672,0))","v":65},"Turismo en Alimentos y Bebidas","x","6578_65",null,null,null,null,"x"]
[6578,"Liberia","Nahualt Chorotega","Barrio Irvin",{"$f":"INDEX([5]Hoja4!$F$2:$F$1672,MATCH(F724,[5]Hoja4!$G$2:$G$1672,0))","v":68},"Gestión de la Producción","x","6578_68",null,null,"x","X"]
[4870,"Liberia","Nahualt Chorotega","IPEC de Liberia (Central)",{"$f":"INDEX([5]Hoja4!$F$2:$F$1672,MATCH(F725,[5]Hoja4!$G$2:$G$1672,0))","v":2},"Administración y Operación Aduanera","x","4870_2",null,null,null,null,null,"x"]
[4870,"Liberia","Nahualt Chorotega","IPEC de Liberia (Central)",{"$f":"INDEX([5]Hoja4!$F$2:$F$1672,MATCH(F726,[5]Hoja4!$G$2:$G$1672,0))","v":24},"Contabilidad y Finanzas","x","4870_24",null,null,"x","x","x",null,"x","x"]
[4870,"Liberia","Nahualt Chorotega","IPEC de Liberia (Central)",{"$f":"INDEX([5]Hoja4!$F$2:$F$1672,MATCH(F727,[5]Hoja4!$G$2:$G$1672,0))","v":73},"Gerencia y producción en cocina ",null,"4870_73",null,null,"x"]
[4870,"Liberia","Nahualt Chorotega","IPEC de Liberia (Central)",{"$f":"INDEX([5]Hoja4!$F$2:$F$1672,MATCH(F728,[5]Hoja4!$G$2:$G$1672,0))","v":72},"Desarrollo de aplicaciones móviles","x","4870_72",null,null,"x",null,null,"x"]
[4871,"Liberia","Nahualt Chorotega","IPEC de Liberia (Central)",{"$f":"INDEX([5]Hoja4!$F$2:$F$1672,MATCH(F729,[5]Hoja4!$G$2:$G$1672,0))","v":15},"Ciberseguridad","x","4871_15",null,null,null,null,null,null,"X"]
[4872,"Liberia","Nahualt Chorotega","IPEC de Liberia (Central)",{"$f":"INDEX([5]Hoja4!$F$2:$F$1672,MATCH(F730,[5]Hoja4!$G$2:$G$1672,0))","v":13},"Banca y Finanzas","x","4872_13",null,null,null,null,null,null,"X"]
[4870,"Liberia","Nahualt Chorotega","IPEC de Liberia (Central)",{"$f":"INDEX([5]Hoja4!$F$2:$F$1672,MATCH(F731,[5]Hoja4!$G$2:$G$1672,0))","v":61},"Salud Ocupacional","x","4870_61","x","x"]
[4870,"Liberia","Nahualt Chorotega","IPEC de Liberia (Central)",{"$f":"INDEX([5]Hoja4!$F$2:$F$1672,MATCH(F732,[5]Hoja4!$G$2:$G$1672,0))","v":62},"Secretariado Ejecutivo","x","4870_62",null,null,null,null,"x","x","x"]
[4870,"Liberia","Nahualt Chorotega","IPEC de Liberia (Central)",{"$f":"INDEX([5]Hoja4!$F$2:$F$1672,MATCH(F733,[5]Hoja4!$G$2:$G$1672,0))","v":65},"Turismo en Alimentos y Bebidas","x","4870_65","x",null,null,"x",null,null,"x"]
[4195,"Liberia","Nahualt Chorotega","La Fortuna de Bagaces",{"$f":"INDEX([5]Hoja4!$F$2:$F$1672,MATCH(F734,[5]Hoja4!$G$2:$G$1672,0))","v":6},"Agroindustria Alimentaria con Tecnología Pecuaria","x","4195_6",null,null,"x","x","x"]
[4195,"Liberia","Nahualt Chorotega","La Fortuna de Bagaces",{"$f":"INDEX([5]Hoja4!$F$2:$F$1672,MATCH(F735,[5]Hoja4!$G$2:$G$1672,0))","v":44},"Informática Empresarial","x","4195_44",null,null,null,"X","x"]
[4195,"Liberia","Nahualt Chorotega","La Fortuna de Bagaces",{"$f":"INDEX([5]Hoja4!$F$2:$F$1672,MATCH(F736,[5]Hoja4!$G$2:$G$1672,0))","v":35},"Ejecutivo Comercial y Servicio al Cliente","x","4195_35",null,null,"x","x",null,"x"]
[4195,"Liberia","Nahualt Chorotega","La Fortuna de Bagaces",{"$f":"INDEX([5]Hoja4!$F$2:$F$1672,MATCH(F737,[5]Hoja4!$G$2:$G$1672,0))","v":62},"Secretariado Ejecutivo","x","4195_62",null,null,null,null,"x"]
[4196,"Liberia","Nahualt Chorotega","La Fortuna de Bagaces",{"$f":"INDEX([5]Hoja4!$F$2:$F$1672,MATCH(F738,[5]Hoja4!$G$2:$G$1672,0))","v":24},"Contabilidad y Finanzas","x",{"$f":"IF(A738=\"\",\"\",A738&\"_\"&E738)","v":"4196_24"},null,null,null,"x"]
[4195,"Liberia","Nahualt Chorotega","La Fortuna de Bagaces",{"$f":"INDEX([5]Hoja4!$F$2:$F$1672,MATCH(F739,[5]Hoja4!$G$2:$G$1672,0))","v":34},"Ecoturismo","x","4195_34",null,null,"x","X","x"]
[4195,"Liberia","Nahualt Chorotega","La Fortuna de Bagaces",{"$f":"INDEX([5]Hoja4!$F$2:$F$1672,MATCH(F740,[5]Hoja4!$G$2:$G$1672,0))","v":23},"Contabilidad y Costos","x","4195_23",null,null,null,null,null,"x"]
[4195,"Liberia","Nahualt Chorotega","La Fortuna de Bagaces",{"$f":"INDEX([5]Hoja4!$F$2:$F$1672,MATCH(F741,[5]Hoja4!$G$2:$G$1672,0))","v":20},"Contabilidad","x","4195_20",null,null,null,null,null,"x"]
[4195,"Liberia","Nahualt Chorotega","La Fortuna de Bagaces",{"$f":"INDEX([5]Hoja4!$F$2:$F$1672,MATCH(F742,[5]Hoja4!$G$2:$G$1672,0))","v":73},"Gerencia y producción en cocina ","x","4195_73",null,null,"x",null,null,"x"]
[4195,"Liberia","Nahualt Chorotega","La Fortuna de Bagaces",{"$f":"INDEX([5]Hoja4!$F$2:$F$1672,MATCH(F743,[5]Hoja4!$G$2:$G$1672,0))","v":65},"Turismo en Alimentos y Bebidas","x","4195_65",null,null,null,"X","x"]
[4194,"Liberia","Nahualt Chorotega","Liberia",{"$f":"INDEX([5]Hoja4!$F$2:$F$1672,MATCH(F744,[5]Hoja4!$G$2:$G$1672,0))","v":6},"Agroindustria Alimentaria con Tecnología Agrícola","x","4194_6",null,null,null,"x","x","x",null,"x"]
[4194,"Liberia","Nahualt Chorotega","Liberia",{"$f":"INDEX([5]Hoja4!$F$2:$F$1672,MATCH(F745,[5]Hoja4!$G$2:$G$1672,0))","v":6},"Agroindustria Alimentaria con Tecnología Pecuaria","x","4194_6",null,null,"x",null,null,null,"x"]
[4194,"Liberia","Nahualt Chorotega","Liberia",{"$f":"INDEX([5]Hoja4!$F$2:$F$1672,MATCH(F746,[5]Hoja4!$G$2:$G$1672,0))","v":54},"Operación de Empresas de Alojamiento","x","4194_54",null,null,null,"x",null,null,"x"]
[4194,"Liberia","Nahualt Chorotega","Liberia",{"$f":"INDEX([5]Hoja4!$F$2:$F$1672,MATCH(F747,[5]Hoja4!$G$2:$G$1672,0))","v":5},"Agroecología","x","4194_5",null,null,"x"]
[4194,"Liberia","Nahualt Chorotega","Liberia",{"$f":"INDEX([5]Hoja4!$F$2:$F$1672,MATCH(F748,[5]Hoja4!$G$2:$G$1672,0))","v":18},"Configuración y soporte de redes de comunicación y sistemas operativos","x","4194_18",null,null,"x",null,null,"x",null,"x"]
[4194,"Liberia","Nahualt Chorotega","Liberia",{"$f":"INDEX([5]Hoja4!$F$2:$F$1672,MATCH(F749,[5]Hoja4!$G$2:$G$1672,0))","v":20},"Contabilidad","x","4194_20",null,null,null,null,"x","x",null,"x"]
[4195,"Liberia","Nahualt Chorotega","Liberia",{"$f":"INDEX([5]Hoja4!$F$2:$F$1672,MATCH(F750,[5]Hoja4!$G$2:$G$1672,0))","v":24},"Contabilidad y Finanzas","x","4195_24",null,null,null,null,null,null,"x"]
[4195,"Liberia","Nahualt Chorotega","Liberia",{"$f":"INDEX([5]Hoja4!$F$2:$F$1672,MATCH(F751,[5]Hoja4!$G$2:$G$1672,0))","v":73},"Gerencia y producción en cocina ","x","4195_73",null,null,"x",null,null,"x"]
[4194,"Liberia","Nahualt Chorotega","Liberia",{"$f":"INDEX([5]Hoja4!$F$2:$F$1672,MATCH(F752,[5]Hoja4!$G$2:$G$1672,0))","v":25},"Desarrollo Web","x","4194_25",null,null,null,null,"x"]
[4194,"Liberia","Nahualt Chorotega","Liberia",{"$f":"INDEX([5]Hoja4!$F$2:$F$1672,MATCH(F753,[5]Hoja4!$G$2:$G$1672,0))","v":35},"Ejecutivo Comercial y Servicio al cliente","x","4194_35",null,null,"x","x","x",null,null,"x"]
[4194,"Liberia","Nahualt Chorotega","Liberia",{"$f":"INDEX([5]Hoja4!$F$2:$F$1672,MATCH(F754,[5]Hoja4!$G$2:$G$1672,0))","v":3},"Administración, Logística y Distribución","x","4194_3",null,null,"x","x",null,"x"]
[4194,"Liberia","Nahualt Chorotega","Liberia",{"$f":"INDEX([5]Hoja4!$F$2:$F$1672,MATCH(F755,[5]Hoja4!$G$2:$G$1672,0))","v":37},"Electromecánica","x","4194_37",null,null,"x","x",null,"x","x","x"]
[4194,"Liberia","Nahualt Chorotega","Liberia",{"$f":"INDEX([5]Hoja4!$F$2:$F$1672,MATCH(F756,[5]Hoja4!$G$2:$G$1672,0))","v":44},"Informática Empresarial","x","4194_44",null,null,null,null,null,null,"x"]
[4194,"Liberia","Nahualt Chorotega","Liberia",{"$f":"INDEX([5]Hoja4!$F$2:$F$1672,MATCH(F757,[5]Hoja4!$G$2:$G$1672,0))","v":22},"Contabilidad y Control Interno ","x","4194_22",null,null,"x","x"]
[4194,"Liberia","Nahualt Chorotega","Liberia",{"$f":"INDEX([5]Hoja4!$F$2:$F$1672,MATCH(F758,[5]Hoja4!$G$2:$G$1672,0))","v":50},"Mecánica de Precisión","x","4194_50",null,null,null,null,"x"]
[4194,"Liberia","Nahualt Chorotega","Liberia",{"$f":"INDEX([5]Hoja4!$F$2:$F$1672,MATCH(F759,[5]Hoja4!$G$2:$G$1672,0))","v":55},"Producción Agrícola y Pecuaria","x","4194_55",null,null,"x","x","x"]
[4194,"Liberia","Nahualt Chorotega","Liberia",{"$f":"INDEX([5]Hoja4!$F$2:$F$1672,MATCH(F760,[5]Hoja4!$G$2:$G$1672,0))","v":62},"Secretariado Ejecutivo","x","4194_62",null,null,null,null,"x",null,"x"]
[4194,"Liberia","Nahualt Chorotega","Liberia",{"$f":"INDEX([5]Hoja4!$F$2:$F$1672,MATCH(F761,[5]Hoja4!$G$2:$G$1672,0))","v":65},"Turismo en Alimentos y Bebidas","x","4194_65",null,null,null,null,"x",null,null,"x"]
[4222,"Limón","Caribe","Bataan",{"$f":"INDEX([5]Hoja4!$F$2:$F$1672,MATCH(F762,[5]Hoja4!$G$2:$G$1672,0))","v":2},"Administración y Operación Aduanera","x","4222_2",null,null,"x",null,null,null,"x"]
[4222,"Limón","Caribe","Bataan",{"$f":"INDEX([5]Hoja4!$F$2:$F$1672,MATCH(F763,[5]Hoja4!$G$2:$G$1672,0))","v":5},"Agroecología","x","4222_5",null,null,"x","x","x"]
[4222,"Limón","Caribe","Bataan",{"$f":"INDEX([5]Hoja4!$F$2:$F$1672,MATCH(F764,[5]Hoja4!$G$2:$G$1672,0))","v":6},"Agroindustria Alimentaria con Tecnología Agrícola","x","4222_6",null,null,"x","x","x"]
[4222,"Limón","Caribe","Bataan",{"$f":"INDEX([5]Hoja4!$F$2:$F$1672,MATCH(F765,[5]Hoja4!$G$2:$G$1672,0))","v":72},"Desarrollo de aplicaciones móviles","x","4222_72",null,null,"x",null,null,"x"]
[4222,"Limón","Caribe","Bataan",{"$f":"INDEX([5]Hoja4!$F$2:$F$1672,MATCH(F766,[5]Hoja4!$G$2:$G$1672,0))","v":71},"Organización de operaciones y servicios de alimentos y bebidas","x","4222_71",null,null,"x"]
[4222,"Limón","Caribe","Bataan",{"$f":"INDEX([5]Hoja4!$F$2:$F$1672,MATCH(F767,[5]Hoja4!$G$2:$G$1672,0))","v":20},"Contabilidad","x","4222_20",null,null,"x","x","x","x",null,"x"]
[4222,"Limón","Caribe","Bataan",{"$f":"INDEX([5]Hoja4!$F$2:$F$1672,MATCH(F768,[5]Hoja4!$G$2:$G$1672,0))","v":31},"Diseño y Confección de la Moda","x","4222_31",null,null,"x","x","x","x","x","x"]
[4222,"Limón","Caribe","Bataan",{"$f":"INDEX([5]Hoja4!$F$2:$F$1672,MATCH(F769,[5]Hoja4!$G$2:$G$1672,0))","v":44},"Informática Empresarial","x","4222_44",null,null,null,null,"x"]
[4222,"Limón","Caribe","Bataan",{"$f":"INDEX([5]Hoja4!$F$2:$F$1672,MATCH(F770,[5]Hoja4!$G$2:$G$1672,0))","v":55},"Producción Agrícola y Pecuaria","x","4222_55",null,null,"x","x","x"]
[4222,"Limón","Caribe","Bataan",{"$f":"INDEX([5]Hoja4!$F$2:$F$1672,MATCH(F771,[5]Hoja4!$G$2:$G$1672,0))","v":61},"Salud Ocupacional","x","4222_61",null,null,"x","x","x","x",null,"x"]
[4222,"Limón","Caribe","Bataan",{"$f":"INDEX([5]Hoja4!$F$2:$F$1672,MATCH(F772,[5]Hoja4!$G$2:$G$1672,0))","v":62},"Secretariado Ejecutivo","x","4222_62",null,null,"x","x","x","x","x","x"]
[4222,"Limón","Caribe","Bataan",{"$f":"INDEX([5]Hoja4!$F$2:$F$1672,MATCH(F773,[5]Hoja4!$G$2:$G$1672,0))","v":66},"Turismo en Hotelería y Eventos Especiales","x","4222_66"]
[4223,"Limón","Caribe","Bataan",{"$f":"INDEX([5]Hoja4!$F$2:$F$1672,MATCH(F774,[5]Hoja4!$G$2:$G$1672,0))","v":65},"Turismo en Alimentos y Bebidas","x","4223_65",null,null,null,"x"]
[4222,"Limón","Caribe","Bataan",{"$f":"INDEX([5]Hoja4!$F$2:$F$1672,MATCH(F775,[5]Hoja4!$G$2:$G$1672,0))","v":67},"Turismo Rural","x","4222_67",null,null,"x","x","x"]
[5889,"Limón","Caribe","CINDEA La Florida de Siquirres (Central)",{"$f":"INDEX([5]Hoja4!$F$2:$F$1672,MATCH(F776,[5]Hoja4!$G$2:$G$1672,0))","v":20},"Contabilidad","x","5889_20"]
[5889,"Limón","Caribe","CINDEA La Florida de Siquirres (Central)",{"$f":"INDEX([5]Hoja4!$F$2:$F$1672,MATCH(F777,[5]Hoja4!$G$2:$G$1672,0))","v":62},"Secretariado Ejecutivo","x","5889_62",null,null,null,"x"]
[7026,"Heredia",null,"CTP Guarari",{"$f":"INDEX([5]Hoja4!$F$2:$F$1672,MATCH(F778,[5]Hoja4!$G$2:$G$1672,0))","v":25},"Desarrollo Web",null,"7026_25",null,null,"x"]
[5889,"Limón","Caribe","CINDEA La Florida de Siquirres (Central)",{"$f":"INDEX([5]Hoja4!$F$2:$F$1672,MATCH(F779,[5]Hoja4!$G$2:$G$1672,0))","v":25},"Desarrollo Web","x","5889_25",null,null,null,null,null,null,null,"x"]
[5889,"Limón","Caribe","CINDEA La Florida de Siquirres (Central)",{"$f":"INDEX([5]Hoja4!$F$2:$F$1672,MATCH(F780,[5]Hoja4!$G$2:$G$1672,0))","v":22},"Contabilidad y Control Interno","x","5889_22",null,null,null,"x"]
[5889,"Limón","Caribe","CINDEA La Florida de Siquirres (La Alegría)",{"$f":"INDEX([5]Hoja4!$F$2:$F$1672,MATCH(F781,[5]Hoja4!$G$2:$G$1672,0))","v":23},"Contabilidad y Costos","x","5889_23",null,null,null,null,null,"x"]
[5889,"Limón","Caribe","CINDEA La Florida de Siquirres (La Alegría)",{"$f":"INDEX([5]Hoja4!$F$2:$F$1672,MATCH(F782,[5]Hoja4!$G$2:$G$1672,0))","v":35},"Ejecutivo Comercial y Servicio al cliente","x","5889_35",null,null,null,null,null,"x"]
[7026,"Heredia",null,"CTP Guarari",{"$f":"INDEX([5]Hoja4!$F$2:$F$1672,MATCH(F783,[5]Hoja4!$G$2:$G$1672,0))","v":2},"Administración y Operación Aduanera","X","7026_2",null,null,"X"]
[4221,"Limón","Caribe","Limón",{"$f":"INDEX([5]Hoja4!$F$2:$F$1672,MATCH(F784,[5]Hoja4!$G$2:$G$1672,0))","v":2},"Administración y Operación Aduanera","x","4221_2",null,null,"x","x",null,"x","x","x"]
[4221,"Limón","Caribe","Limón",{"$f":"INDEX([5]Hoja4!$F$2:$F$1672,MATCH(F785,[5]Hoja4!$G$2:$G$1672,0))","v":18},"Configuración y soporte de redes de comunicación y sistemas operativos","x","4221_18",null,null,"x","x","x"]
[4221,"Limón","Caribe","Limón",{"$f":"INDEX([5]Hoja4!$F$2:$F$1672,MATCH(F786,[5]Hoja4!$G$2:$G$1672,0))","v":24},"Contabilidad y Finanzas","x","4221_24",null,null,"x","x","x","x","x","x"]
[4221,"Limón","Caribe","Limón",{"$f":"INDEX([5]Hoja4!$F$2:$F$1672,MATCH(F787,[5]Hoja4!$G$2:$G$1672,0))","v":35},"Ejecutivo Comercial y Servicio al cliente","x","4221_35",null,null,"x","x","x"]
[4221,"Limón","Caribe","Limón",{"$f":"INDEX([5]Hoja4!$F$2:$F$1672,MATCH(F788,[5]Hoja4!$G$2:$G$1672,0))","v":72},"Desarrollo de aplicaciones móviles","x","4221_72",null,null,null,null,null,"x"]
[4221,"Limón","Caribe","Limón",{"$f":"INDEX([5]Hoja4!$F$2:$F$1672,MATCH(F789,[5]Hoja4!$G$2:$G$1672,0))","v":37},"Electromecánica","x","4221_37",null,null,null,null,null,"x","x"]
[4221,"Limón","Caribe","Limón",{"$f":"INDEX([5]Hoja4!$F$2:$F$1672,MATCH(F790,[5]Hoja4!$G$2:$G$1672,0))","v":49},"Mantenimiento Industrial","x","4221_49",null,null,null,null,"x",null,null,"x"]
[4221,"Limón","Caribe","Limón",{"$f":"INDEX([5]Hoja4!$F$2:$F$1672,MATCH(F791,[5]Hoja4!$G$2:$G$1672,0))","v":50},"Mecánica de Precisión","x","4221_50",null,null,"x",null,"x"]
[4221,"Limón","Caribe","Limón",{"$f":"INDEX([5]Hoja4!$F$2:$F$1672,MATCH(F792,[5]Hoja4!$G$2:$G$1672,0))","v":51},"Mecánica General","x","4221_51",null,null,"x",null,"x",null,"x"]
[4221,"Limón","Caribe","Limón",{"$f":"INDEX([5]Hoja4!$F$2:$F$1672,MATCH(F793,[5]Hoja4!$G$2:$G$1672,0))","v":58},"Refrigeración y Aire Acondicionado","x","4221_58",null,null,"x","x",null,"x",null,"x"]
[4221,"Limón","Caribe","Limón",{"$f":"INDEX([5]Hoja4!$F$2:$F$1672,MATCH(F794,[5]Hoja4!$G$2:$G$1672,0))","v":59},"Reparación de los Sistemas de Vehículos Livianos","x","4221_59",null,null,"x","x","x"]
[4221,"Limón","Caribe","Limón",{"$f":"INDEX([5]Hoja4!$F$2:$F$1672,MATCH(F795,[5]Hoja4!$G$2:$G$1672,0))","v":62},"Secretariado Ejecutivo","x","4221_62",null,null,"x","x","x","x","x","x"]
[6579,"Limón","Caribe","Liverpool",{"$f":"INDEX([5]Hoja4!$F$2:$F$1672,MATCH(F796,[5]Hoja4!$G$2:$G$1672,0))","v":2},"Administración y Operación Aduanera","x","6579_2",null,null,"x","x","x"]
[6579,"Limón","Caribe","Liverpool",{"$f":"INDEX([5]Hoja4!$F$2:$F$1672,MATCH(F797,[5]Hoja4!$G$2:$G$1672,0))","v":3},"Administración, Logística y Distribución","x","6579_3",null,null,"x","x","x","x",null,"x"]
[4230,"Aguirre",null,"Parrita",{"$f":"INDEX([5]Hoja4!$F$2:$F$1672,MATCH(F798,[5]Hoja4!$G$2:$G$1672,0))","v":18},"Configuración y soporte de redes de comunicación y sistemas operativos","x","4230_18",null,null,"X"]
[7025,"Heredia",null,"Ing. Carlos Pascua Zuñiga",{"$f":"INDEX([5]Hoja4!$F$2:$F$1672,MATCH(F799,[5]Hoja4!$G$2:$G$1672,0))","v":74},"Gestión de la calidad","X","7025_74",null,null,"X"]
[6579,"Limón","Caribe","Liverpool",{"$f":"INDEX([5]Hoja4!$F$2:$F$1672,MATCH(F800,[5]Hoja4!$G$2:$G$1672,0))","v":74},"Gestión de la calidad","x","6579_74",null,null,"x"]
[6579,"Limón","Caribe","Liverpool",{"$f":"INDEX([5]Hoja4!$F$2:$F$1672,MATCH(F801,[5]Hoja4!$G$2:$G$1672,0))","v":44},"Informática Empresarial","x","6579_44",null,null,null,null,"x",null,null,"x"]
[6579,"Limón","Caribe","Liverpool",{"$f":"INDEX([5]Hoja4!$F$2:$F$1672,MATCH(F802,[5]Hoja4!$G$2:$G$1672,0))","v":68},"Gestión de la Producción","x",{"$f":"IF(A802=\"\",\"\",A802&\"_\"&E802)","v":"6579_68"},null,null,null,"x",null,"x","x"]
[null,null,null,null,{"$f":"INDEX([5]Hoja4!$F$2:$F$1672,MATCH(F803,[5]Hoja4!$G$2:$G$1672,0))","v":56},"Productividad y Calidad","x",""]
[6579,"Limón","Caribe","Liverpool",{"$f":"INDEX([5]Hoja4!$F$2:$F$1672,MATCH(F804,[5]Hoja4!$G$2:$G$1672,0))","v":61},"Salud Ocupacional","x","6579_61",null,null,"x",null,null,"x"]
[4226,"Limón","Caribe","Padre Roberto Evans Sauders",{"$f":"INDEX([5]Hoja4!$F$2:$F$1672,MATCH(F805,[5]Hoja4!$G$2:$G$1672,0))","v":5},"Agroecología","x","4226_5",null,null,"x",null,"x"]
[4226,"Limón","Caribe","Padre Roberto Evans Sauders",{"$f":"INDEX([5]Hoja4!$F$2:$F$1672,MATCH(F806,[5]Hoja4!$G$2:$G$1672,0))","v":9},"Agropecuaria en Producción Agrícola","x","4226_9",null,null,null,null,"X"]
[4226,"Limón","Caribe","Padre Roberto Evans Sauders",{"$f":"INDEX([5]Hoja4!$F$2:$F$1672,MATCH(F807,[5]Hoja4!$G$2:$G$1672,0))","v":25},"Desarrollo web","x","4226_25",null,null,null,null,null,"x"]
[4226,"Limón","Caribe","Padre Roberto Evans Sauders",{"$f":"INDEX([5]Hoja4!$F$2:$F$1672,MATCH(F808,[5]Hoja4!$G$2:$G$1672,0))","v":22},"Contabilidad y control interno ","x","4226_22",null,null,null,null,null,"x"]
[4226,"Limón","Caribe","Padre Roberto Evans Sauders",{"$f":"INDEX([5]Hoja4!$F$2:$F$1672,MATCH(F809,[5]Hoja4!$G$2:$G$1672,0))","v":18},"Configuración y soporte de redes de comunicación y sistemas operativos","x","4226_18",null,null,"x","x","x"]
[4226,"Limón","Caribe","Padre Roberto Evans Sauders",{"$f":"INDEX([5]Hoja4!$F$2:$F$1672,MATCH(F810,[5]Hoja4!$G$2:$G$1672,0))","v":24},"Contabilidad y Finanzas","x","4226_24",null,null,"x","x","x",null,"x","x"]
[4226,"Limón","Caribe","Padre Roberto Evans Sauders",{"$f":"INDEX([5]Hoja4!$F$2:$F$1672,MATCH(F811,[5]Hoja4!$G$2:$G$1672,0))","v":41},"Electrotecnia","x","4226_41",null,null,null,null,"x",null,null,"x"]
[4226,"Limón","Caribe","Padre Roberto Evans Sauders",{"$f":"INDEX([5]Hoja4!$F$2:$F$1672,MATCH(F812,[5]Hoja4!$G$2:$G$1672,0))","v":44},"Informática Empresarial","x","4226_44",null,null,null,null,null,null,"x","x"]
[4226,"Limón","Caribe","Padre Roberto Evans Sauders",{"$f":"INDEX([5]Hoja4!$F$2:$F$1672,MATCH(F813,[5]Hoja4!$G$2:$G$1672,0))","v":69},"Instalación y mantenimiento de sistemas eléctricos indutriales ","x","4226_69",null,null,"x","x",null,"x","x"]
[4226,"Limón","Caribe","Padre Roberto Evans Sauders",{"$f":"INDEX([5]Hoja4!$F$2:$F$1672,MATCH(F814,[5]Hoja4!$G$2:$G$1672,0))","v":58},"Refrigeración y Aire Acondicionado","x","4226_58",null,null,null,"x"]
[4226,"Limón","Caribe","Padre Roberto Evans Sauders",{"$f":"INDEX([5]Hoja4!$F$2:$F$1672,MATCH(F815,[5]Hoja4!$G$2:$G$1672,0))","v":55},"Producción Agrícola y Pecuaria","x","4226_55",null,null,"x","x","x"]
[4226,"Limón","Caribe","Padre Roberto Evans Sauders",{"$f":"INDEX([5]Hoja4!$F$2:$F$1672,MATCH(F816,[5]Hoja4!$G$2:$G$1672,0))","v":61},"Salud Ocupacional","x","4226_61",null,null,"x","x","x","x","x"]
[4226,"Limón","Caribe","Padre Roberto Evans Sauders",{"$f":"INDEX([5]Hoja4!$F$2:$F$1672,MATCH(F817,[5]Hoja4!$G$2:$G$1672,0))","v":62},"Secretariado Ejecutivo","x","4226_62",null,null,"x","x","x","x","x","x"]
[4226,"Limón","Caribe","Padre Roberto Evans Sauders",{"$f":"INDEX([5]Hoja4!$F$2:$F$1672,MATCH(F818,[5]Hoja4!$G$2:$G$1672,0))","v":65},"Turismo en Alimentos y Bebidas","x","4226_65",null,null,null,null,"x"]
[4226,"Limón","Caribe","Padre Roberto Evans Sauders",{"$f":"INDEX([5]Hoja4!$F$2:$F$1672,MATCH(F819,[5]Hoja4!$G$2:$G$1672,0))","v":67},"Turismo Rural","x","4226_67",null,null,"x","x"]
[4224,"Limón","Caribe","Valle La Estrella",{"$f":"INDEX([5]Hoja4!$F$2:$F$1672,MATCH(F820,[5]Hoja4!$G$2:$G$1672,0))","v":5},"Agroecología","x","4224_5",null,null,"x","x","x"]
[4224,"Limón","Caribe","Valle La Estrella",{"$f":"INDEX([5]Hoja4!$F$2:$F$1672,MATCH(F821,[5]Hoja4!$G$2:$G$1672,0))","v":6},"Agroindustria Alimentaria con Tecnología Pecuaria","x","4224_6",null,null,"x"]
[4224,"Limón","Caribe","Valle La Estrella",{"$f":"INDEX([5]Hoja4!$F$2:$F$1672,MATCH(F822,[5]Hoja4!$G$2:$G$1672,0))","v":65},"Turismo en Alimentos y Bebidas","x","4224_65",null,null,null,"x"]
[4224,"Limón","Caribe","Valle La Estrella",{"$f":"INDEX([5]Hoja4!$F$2:$F$1672,MATCH(F823,[5]Hoja4!$G$2:$G$1672,0))","v":10},"Agropecuaria en Producción Pecuaria","x","4224_10"]
[4224,"Limón","Caribe","Valle La Estrella",{"$f":"INDEX([5]Hoja4!$F$2:$F$1672,MATCH(F824,[5]Hoja4!$G$2:$G$1672,0))","v":18},"Configuración y soporte de redes de comunicación y sistemas operativos","x","4224_18",null,null,"x","x","x"]
[4224,"Limón","Caribe","Valle La Estrella",{"$f":"INDEX([5]Hoja4!$F$2:$F$1672,MATCH(F825,[5]Hoja4!$G$2:$G$1672,0))","v":55},"Producción Agrícola y Pecuaria","x","4224_55",null,null,"x","x","x"]
[4224,"Limón","Caribe","Valle La Estrella",{"$f":"INDEX([5]Hoja4!$F$2:$F$1672,MATCH(F826,[5]Hoja4!$G$2:$G$1672,0))","v":60},"Riego y Drenaje","x","4224_60",null,null,null,null,"x"]
[4224,"Limón","Caribe","Valle La Estrella",{"$f":"INDEX([5]Hoja4!$F$2:$F$1672,MATCH(F827,[5]Hoja4!$G$2:$G$1672,0))","v":71},"Organización de operaciones y servicios de alimentos y bebidas","x","4224_71",null,null,"x"]
[4224,"Limón","Caribe","Valle La Estrella",{"$f":"INDEX([5]Hoja4!$F$2:$F$1672,MATCH(F828,[5]Hoja4!$G$2:$G$1672,0))","v":62},"Secretariado Ejecutivo","x","4224_62",null,null,"x","x","x"]
[4224,"Limón","Caribe","Valle La Estrella",{"$f":"INDEX([5]Hoja4!$F$2:$F$1672,MATCH(F829,[5]Hoja4!$G$2:$G$1672,0))","v":67},"Turismo Rural","x","4224_67"]
[4186,"Los Santos","Entre Volcanes y Café","José Daniel Flores Zavaleta",{"$f":"INDEX([5]Hoja4!$F$2:$F$1672,MATCH(F830,[5]Hoja4!$G$2:$G$1672,0))","v":6},"Agroindustria Alimentaria con Tecnología Agrícola","x","4186_6",null,null,"x","X","x"]
[4186,"Los Santos","Entre Volcanes y Café","José Daniel Flores Zavaleta",{"$f":"INDEX([5]Hoja4!$F$2:$F$1672,MATCH(F831,[5]Hoja4!$G$2:$G$1672,0))","v":20},"Contabilidad","x","4186_20",null,null,null,null,null,"x","X","x"]
[4186,"Los Santos","Entre Volcanes y Café","José Daniel Flores Zavaleta",{"$f":"INDEX([5]Hoja4!$F$2:$F$1672,MATCH(F832,[5]Hoja4!$G$2:$G$1672,0))","v":23},"Contabilidad y Costos","x","4186_23",null,null,"x","X","x"]
[4186,"Los Santos","Entre Volcanes y Café","José Daniel Flores Zavaleta",{"$f":"INDEX([5]Hoja4!$F$2:$F$1672,MATCH(F833,[5]Hoja4!$G$2:$G$1672,0))","v":29},"Diseño Gráfico","x","4186_29",null,null,null,null,null,"x","X","x"]
[4186,"Los Santos","Entre Volcanes y Café","José Daniel Flores Zavaleta",{"$f":"INDEX([5]Hoja4!$F$2:$F$1672,MATCH(F834,[5]Hoja4!$G$2:$G$1672,0))","v":30},"Diseño Publicitario","x","4186_30",null,null,"x","X","x"]
[4186,"Los Santos","Entre Volcanes y Café","José Daniel Flores Zavaleta",{"$f":"INDEX([5]Hoja4!$F$2:$F$1672,MATCH(F835,[5]Hoja4!$G$2:$G$1672,0))","v":35},"Ejecutivo Comercial y Servicio al Cliente","x","4186_35",null,null,null,null,null,"x","X","x"]
[4186,"Los Santos","Entre Volcanes y Café","José Daniel Flores Zavaleta",{"$f":"INDEX([5]Hoja4!$F$2:$F$1672,MATCH(F836,[5]Hoja4!$G$2:$G$1672,0))","v":73},"Gerencia y producción en cocina ",null,"4186_73",null,null,null,null,null,"x"]
[4186,"Los Santos","Entre Volcanes y Café","José Daniel Flores Zavaleta",{"$f":"INDEX([5]Hoja4!$F$2:$F$1672,MATCH(F837,[5]Hoja4!$G$2:$G$1672,0))","v":55},"Producción Agrícola y Pecuaria",null,"4186_55",null,null,"x","X","x"]
[4186,"Los Santos","Entre Volcanes y Café","José Daniel Flores Zavaleta",{"$f":"INDEX([5]Hoja4!$F$2:$F$1672,MATCH(F838,[5]Hoja4!$G$2:$G$1672,0))","v":61},"Salud Ocupacional","x","4186_61",null,null,null,null,null,"x","X","x"]
[4186,"Los Santos","Entre Volcanes y Café","José Daniel Flores Zavaleta",{"$f":"INDEX([5]Hoja4!$F$2:$F$1672,MATCH(F839,[5]Hoja4!$G$2:$G$1672,0))","v":65},"Turismo en Alimentos y Bebidas",null,"4186_65",null,null,null,null,null,null,"X","x"]
[4186,"Los Santos","Entre Volcanes y Café","José Daniel Flores Zavaleta",{"$f":"INDEX([5]Hoja4!$F$2:$F$1672,MATCH(F840,[5]Hoja4!$G$2:$G$1672,0))","v":67},"Turismo Rural","x","4186_67",null,null,"x","X","x"]
[4188,"Los Santos","Entre Volcanes y Café","San Pablo de León Cortés",{"$f":"INDEX([5]Hoja4!$F$2:$F$1672,MATCH(F841,[5]Hoja4!$G$2:$G$1672,0))","v":18},"Configuración y soporte de redes de comunicación y sistemas operativos","x","4188_18",null,null,"x","X","x","x","X"]
[4188,"Los Santos","Entre Volcanes y Café","San Pablo de León Cortés",{"$f":"INDEX([5]Hoja4!$F$2:$F$1672,MATCH(F842,[5]Hoja4!$G$2:$G$1672,0))","v":20},"Contabilidad","x","4188_20",null,null,"x","X","x",null,"X","x"]
[4188,"Los Santos","Entre Volcanes y Café","San Pablo de León Cortés",{"$f":"INDEX([5]Hoja4!$F$2:$F$1672,MATCH(F843,[5]Hoja4!$G$2:$G$1672,0))","v":28},"Dibujo y Modelado para Edificaciones","x","4188_28",null,null,"x","X","x",null,null,"x"]
[4188,"Los Santos","Entre Volcanes y Café","San Pablo de León Cortés",{"$f":"INDEX([5]Hoja4!$F$2:$F$1672,MATCH(F844,[5]Hoja4!$G$2:$G$1672,0))","v":32},"Diseño y Construcción de Muebles y Estructuras","x","4188_32",null,null,null,null,"x","x","x"]
[4188,"Los Santos","Entre Volcanes y Café","San Pablo de León Cortés",{"$f":"INDEX([5]Hoja4!$F$2:$F$1672,MATCH(F845,[5]Hoja4!$G$2:$G$1672,0))","v":33},"Diseño y Desarrollo Digital","x","4188_33",null,null,"x","X"]
[4188,"Los Santos","Entre Volcanes y Café","San Pablo de León Cortés",{"$f":"INDEX([5]Hoja4!$F$2:$F$1672,MATCH(F846,[5]Hoja4!$G$2:$G$1672,0))","v":37},"Electromecánica","x","4188_37",null,null,"x","X",null,null,"X","x"]
[4188,"Los Santos","Entre Volcanes y Café","San Pablo de León Cortés",{"$f":"INDEX([5]Hoja4!$F$2:$F$1672,MATCH(F847,[5]Hoja4!$G$2:$G$1672,0))","v":44},"Informática Empresarial","x","4188_44",null,null,null,null,null,null,null,"x"]
[4188,"Los Santos","Entre Volcanes y Café","San Pablo de León Cortés",{"$f":"INDEX([5]Hoja4!$F$2:$F$1672,MATCH(F848,[5]Hoja4!$G$2:$G$1672,0))","v":68},"Gestión de la Producción","x","4188_68",null,null,"x","x"]
[4188,"Los Santos","Entre Volcanes y Café","San Pablo de León Cortés",{"$f":"INDEX([5]Hoja4!$F$2:$F$1672,MATCH(F849,[5]Hoja4!$G$2:$G$1672,0))","v":56},"Productividad y Calidad","x","4188_56",null,null,null,null,"x"]
[4188,"Los Santos","Entre Volcanes y Café","San Pablo de León Cortés",{"$f":"INDEX([5]Hoja4!$F$2:$F$1672,MATCH(F850,[5]Hoja4!$G$2:$G$1672,0))","v":62},"Secretariado Ejecutivo","x","4188_62",null,null,"x","X","x","x","X","x"]
[6640,"Nicoya","Chorotega Peninsular","Copal",{"$f":"INDEX([5]Hoja4!$F$2:$F$1672,MATCH(F851,[5]Hoja4!$G$2:$G$1672,0))","v":25},"Desarrollo web",null,"6640_25",null,null,"x"]
[6640,"Nicoya","Chorotega Peninsular","Copal",{"$f":"INDEX([5]Hoja4!$F$2:$F$1672,MATCH(F852,[5]Hoja4!$G$2:$G$1672,0))","v":34},"Ecoturismo","x","6640_34",null,null,null,"X"]
[6640,"Nicoya","Chorotega Peninsular","Copal",{"$f":"INDEX([5]Hoja4!$F$2:$F$1672,MATCH(F853,[5]Hoja4!$G$2:$G$1672,0))","v":69},"Instalación y mantenimiento de sistemas eléctricos indutriales ","x","6640_69",null,null,"x","x"]
[6640,"Nicoya","Chorotega Peninsular","Copal",{"$f":"INDEX([5]Hoja4!$F$2:$F$1672,MATCH(F854,[5]Hoja4!$G$2:$G$1672,0))","v":22},"Contabilidad y Control Interno",null,"6640_22"]
[6640,"Nicoya","Chorotega Peninsular","Copal",{"$f":"INDEX([5]Hoja4!$F$2:$F$1672,MATCH(F855,[5]Hoja4!$G$2:$G$1672,0))","v":41},"Electrotecnia","x","6640_41",null,null,null,null,"x"]
[6640,"Nicoya","Chorotega Peninsular","Copal",{"$f":"INDEX([5]Hoja4!$F$2:$F$1672,MATCH(F856,[5]Hoja4!$G$2:$G$1672,0))","v":44},"Informática Empresarial","x","6640_44"]
[6640,"Nicoya","Chorotega Peninsular","Copal",{"$f":"INDEX([5]Hoja4!$F$2:$F$1672,MATCH(F857,[5]Hoja4!$G$2:$G$1672,0))","v":67},"Turismo Rural","x","6640_67",null,null,null,null,"x"]
[4200,"Nicoya","Chorotega Peninsular","Corralillo",{"$f":"INDEX([5]Hoja4!$F$2:$F$1672,MATCH(F858,[5]Hoja4!$G$2:$G$1672,0))","v":20},"Contabilidad","x","4200_20",null,null,null,null,null,null,"x","x"]
[4200,"Nicoya","Chorotega Peninsular","Corralillo",{"$f":"INDEX([5]Hoja4!$F$2:$F$1672,MATCH(F859,[5]Hoja4!$G$2:$G$1672,0))","v":35},"Ejecutivo Comercial y Servicio al cliente","x","4200_35",null,null,null,null,null,"x","x","x"]
[4200,"Nicoya","Chorotega Peninsular","Corralillo",{"$f":"INDEX([5]Hoja4!$F$2:$F$1672,MATCH(F860,[5]Hoja4!$G$2:$G$1672,0))","v":18},"Configuración y soporte de redes de comunicación y sistemas operativos","x","4200_18",null,null,"x"]
[4200,"Nicoya","Chorotega Peninsular","Corralillo",{"$f":"INDEX([5]Hoja4!$F$2:$F$1672,MATCH(F861,[5]Hoja4!$G$2:$G$1672,0))","v":37},"Electromecánica","x","4200_37",null,null,"x","x","x"]
[4200,"Nicoya","Chorotega Peninsular","Corralillo",{"$f":"INDEX([5]Hoja4!$F$2:$F$1672,MATCH(F862,[5]Hoja4!$G$2:$G$1672,0))","v":44},"Informática Empresarial","x","4200_44",null,null,null,"x","x",null,"x","x"]
[4200,"Nicoya","Chorotega Peninsular","Corralillo",{"$f":"INDEX([5]Hoja4!$F$2:$F$1672,MATCH(F863,[5]Hoja4!$G$2:$G$1672,0))","v":15},"Ciberseguridad","x","4200_15",null,null,null,null,null,"x","x"]
[4200,"Nicoya","Chorotega Peninsular","Corralillo",{"$f":"INDEX([5]Hoja4!$F$2:$F$1672,MATCH(F864,[5]Hoja4!$G$2:$G$1672,0))","v":24},"Contabilidad y Finanzas","x","4200_24",null,null,null,null,null,"x"]
[4200,"Nicoya","Chorotega Peninsular","Corralillo",{"$f":"INDEX([5]Hoja4!$F$2:$F$1672,MATCH(F865,[5]Hoja4!$G$2:$G$1672,0))","v":58},"Refrigeración y Aire Acondicionado","x","4200_58",null,null,null,null,null,"x","x","x"]
[4200,"Nicoya","Chorotega Peninsular","Corralillo",{"$f":"INDEX([5]Hoja4!$F$2:$F$1672,MATCH(F866,[5]Hoja4!$G$2:$G$1672,0))","v":73},"Gerencia y producción en cocina ","x",{"$f":"IF(A866=\"\",\"\",A866&\"_\"&E866)","v":"4200_73"},null,null,"x",null,null,"x"]
[4200,"Nicoya","Chorotega Peninsular","Corralillo",{"$f":"INDEX([5]Hoja4!$F$2:$F$1672,MATCH(F867,[5]Hoja4!$G$2:$G$1672,0))","v":62},"Secretariado Ejecutivo","x","4200_62",null,null,"x","x","x"]
[4200,"Nicoya","Chorotega Peninsular","Corralillo",{"$f":"INDEX([5]Hoja4!$F$2:$F$1672,MATCH(F868,[5]Hoja4!$G$2:$G$1672,0))","v":65},"Turismo en Alimentos y Bebidas","x","4200_65",null,null,null,"x","x",null,"x","x"]
[4197,"Nicoya","Chorotega Peninsular","Hojancha",{"$f":"INDEX([5]Hoja4!$F$2:$F$1672,MATCH(F869,[5]Hoja4!$G$2:$G$1672,0))","v":5},"Agroecología","x","4197_5",null,null,"x",null,"x"]
[4197,"Nicoya","Chorotega Peninsular","Hojancha",{"$f":"INDEX([5]Hoja4!$F$2:$F$1672,MATCH(F870,[5]Hoja4!$G$2:$G$1672,0))","v":6},"Agroindustria Alimentaria con Tecnología Agrícola","x","4197_6",null,null,"x","x","x"]
[4197,"Nicoya","Chorotega Peninsular","Hojancha",{"$f":"INDEX([5]Hoja4!$F$2:$F$1672,MATCH(F871,[5]Hoja4!$G$2:$G$1672,0))","v":71},"Organización de operaciones y servicios de alimentos y bebidas","x","4197_71",null,null,"x",null,null,"x"]
[4197,"Nicoya","Chorotega Peninsular","Hojancha",{"$f":"INDEX([5]Hoja4!$F$2:$F$1672,MATCH(F872,[5]Hoja4!$G$2:$G$1672,0))","v":15},"Ciberseguridad","x","4197_15",null,null,"x","x","x"]
[4197,"Nicoya","Chorotega Peninsular","Hojancha",{"$f":"INDEX([5]Hoja4!$F$2:$F$1672,MATCH(F873,[5]Hoja4!$G$2:$G$1672,0))","v":18},"Configuración y soporte de redes de comunicación y sistemas operativos","x","4197_18",null,null,null,null,null,"x","x","x"]
[4197,"Nicoya","Chorotega Peninsular","Hojancha",{"$f":"INDEX([5]Hoja4!$F$2:$F$1672,MATCH(F874,[5]Hoja4!$G$2:$G$1672,0))","v":24},"Contabilidad y Finanzas","x","4197_24",null,null,null,null,null,"x"]
[4197,"Nicoya","Chorotega Peninsular","Hojancha",{"$f":"INDEX([5]Hoja4!$F$2:$F$1672,MATCH(F875,[5]Hoja4!$G$2:$G$1672,0))","v":55},"Producción Agrícola y Pecuaria","x","4197_55",null,null,null,"x","x"]
[4197,"Nicoya","Chorotega Peninsular","Hojancha",{"$f":"INDEX([5]Hoja4!$F$2:$F$1672,MATCH(F876,[5]Hoja4!$G$2:$G$1672,0))","v":62},"Secretariado Ejecutivo","x","4197_62",null,null,"x","x","x","x","x","x"]
[4197,"Nicoya","Chorotega Peninsular","Hojancha",{"$f":"INDEX([5]Hoja4!$F$2:$F$1672,MATCH(F877,[5]Hoja4!$G$2:$G$1672,0))","v":34},"Ecoturismo","x","4197_34",null,null,"x","x","x"]
[4197,"Nicoya","Chorotega Peninsular","Hojancha",{"$f":"INDEX([5]Hoja4!$F$2:$F$1672,MATCH(F878,[5]Hoja4!$G$2:$G$1672,0))","v":64},"Turismo Ecológico","x","4197_64"]
[4197,"Nicoya","Chorotega Peninsular","Hojancha",{"$f":"INDEX([5]Hoja4!$F$2:$F$1672,MATCH(F879,[5]Hoja4!$G$2:$G$1672,0))","v":65},"Turismo en Alimentos y Bebidas","x","4197_65",null,null,null,"x","x",null,"x","x"]
[4197,"Nicoya","Chorotega Peninsular","Hojancha",{"$f":"INDEX([5]Hoja4!$F$2:$F$1672,MATCH(F880,[5]Hoja4!$G$2:$G$1672,0))","v":66},"Turismo en Hotelería y Eventos Especiales","x","4197_66"]
[4199,"Nicoya","Chorotega Peninsular","La Mansión",{"$f":"INDEX([5]Hoja4!$F$2:$F$1672,MATCH(F881,[5]Hoja4!$G$2:$G$1672,0))","v":69},"Instalación y mantenimiento de sistemas eléctricos indutriales ","x","4199_69",null,null,"x","X"]
[4199,null,null,"La Mansión",{"$f":"INDEX([5]Hoja4!$F$2:$F$1672,MATCH(F882,[5]Hoja4!$G$2:$G$1672,0))","v":41},"Electrotecnia","x","4199_41",null,null,null,null,"x"]
[4199,"Nicoya","Chorotega Peninsular","La Mansión",{"$f":"INDEX([5]Hoja4!$F$2:$F$1672,MATCH(F883,[5]Hoja4!$G$2:$G$1672,0))","v":22},"Contabilidad y control interno ","x","4199_22",null,null,"x"]
[4199,"Nicoya","Chorotega Peninsular","La Mansión",{"$f":"INDEX([5]Hoja4!$F$2:$F$1672,MATCH(F884,[5]Hoja4!$G$2:$G$1672,0))","v":73},"Gerencia y producción en cocina ","x","4199_73",null,null,"x"]
[4199,"Nicoya","Chorotega Peninsular","La Mansión",{"$f":"INDEX([5]Hoja4!$F$2:$F$1672,MATCH(F885,[5]Hoja4!$G$2:$G$1672,0))","v":62},"Secretariado Ejecutivo","x","4199_62",null,null,"x","x","x"]
[4199,"Nicoya","Chorotega Peninsular","La Mansión",{"$f":"INDEX([5]Hoja4!$F$2:$F$1672,MATCH(F886,[5]Hoja4!$G$2:$G$1672,0))","v":65},"Turismo en Alimentos y Bebidas","x","4199_65",null,null,null,"x","x"]
[4196,"Nicoya","Chorotega Peninsular","Nandayure",{"$f":"INDEX([5]Hoja4!$F$2:$F$1672,MATCH(F887,[5]Hoja4!$G$2:$G$1672,0))","v":18},"Configuración y soporte de redes de comunicación y sistemas operativos","x","4196_18",null,null,"x","X","x"]
[4196,"Nicoya","Chorotega Peninsular","Nandayure",{"$f":"INDEX([5]Hoja4!$F$2:$F$1672,MATCH(F888,[5]Hoja4!$G$2:$G$1672,0))","v":20},"Contabilidad","x","4196_20",null,null,null,null,null,"x","X","x"]
[4196,"Nicoya","Chorotega Peninsular","Nandayure",{"$f":"INDEX([5]Hoja4!$F$2:$F$1672,MATCH(F889,[5]Hoja4!$G$2:$G$1672,0))","v":24},"Contabilidad y Finanzas","x","4196_24",null,null,"x","X","x"]
[4196,"Nicoya","Chorotega Peninsular","Nandayure",{"$f":"INDEX([5]Hoja4!$F$2:$F$1672,MATCH(F890,[5]Hoja4!$G$2:$G$1672,0))","v":31},"Diseño y Confección de la Moda","x","4196_31",null,null,null,null,null,"x","X","x"]
[4196,"Nicoya","Chorotega Peninsular","Nandayure",{"$f":"INDEX([5]Hoja4!$F$2:$F$1672,MATCH(F891,[5]Hoja4!$G$2:$G$1672,0))","v":73},"Gerencia y producción en cocina ","x","4196_73",null,null,"x","X","x","x"]
[4196,"Nicoya","Chorotega Peninsular","Nandayure",{"$f":"INDEX([5]Hoja4!$F$2:$F$1672,MATCH(F892,[5]Hoja4!$G$2:$G$1672,0))","v":40},"Electrónica Industrial","x","4196_40"]
[4196,"Nicoya","Chorotega Peninsular","Nandayure",{"$f":"INDEX([5]Hoja4!$F$2:$F$1672,MATCH(F893,[5]Hoja4!$G$2:$G$1672,0))","v":41},"Electrotecnia",null,"4196_41",null,null,null,null,"x",null,null,"x"]
[4196,"Nicoya","Chorotega Peninsular","Nandayure",{"$f":"INDEX([5]Hoja4!$F$2:$F$1672,MATCH(F894,[5]Hoja4!$G$2:$G$1672,0))","v":44},"Informática Empresarial","x","4196_44",null,null,null,null,null,null,"X","x"]
[4196,"Nicoya","Chorotega Peninsular","Nandayure",{"$f":"INDEX([5]Hoja4!$F$2:$F$1672,MATCH(F895,[5]Hoja4!$G$2:$G$1672,0))","v":69},"Instalación y mantenimiento de sistemas eléctricos indutriales ","x","4196_69",null,null,"x","X",null,"x","X"]
[4196,"Nicoya","Chorotega Peninsular","Nandayure",{"$f":"INDEX([5]Hoja4!$F$2:$F$1672,MATCH(F896,[5]Hoja4!$G$2:$G$1672,0))","v":55},"Producción Agrícola y Pecuaria","x","4196_55",null,null,"x","X","x"]
[4196,"Nicoya","Chorotega Peninsular","Nandayure",{"$f":"INDEX([5]Hoja4!$F$2:$F$1672,MATCH(F897,[5]Hoja4!$G$2:$G$1672,0))","v":62},"Secretariado Ejecutivo","x","4196_62",null,null,null,null,null,"x","X","x"]
[4196,"Nicoya","Chorotega Peninsular","Nandayure",{"$f":"INDEX([5]Hoja4!$F$2:$F$1672,MATCH(F898,[5]Hoja4!$G$2:$G$1672,0))","v":65},"Turismo en Alimentos y Bebidas","x","4196_65",null,null,null,"X","x",null,"X","x"]
[4198,"Nicoya","Chorotega Peninsular","Nicoya",{"$f":"INDEX([5]Hoja4!$F$2:$F$1672,MATCH(F899,[5]Hoja4!$G$2:$G$1672,0))","v":3},"Administración, Logística y Distribución",null,"4198_3",null,null,"x","X","x"]
[4198,"Nicoya","Chorotega Peninsular","Nicoya",{"$f":"INDEX([5]Hoja4!$F$2:$F$1672,MATCH(F900,[5]Hoja4!$G$2:$G$1672,0))","v":18},"Configuración y soporte de redes de comunicación y sistemas operativos","x","4198_18",null,null,"x","X","x","x","X","x"]
[4198,"Nicoya","Chorotega Peninsular","Nicoya",{"$f":"INDEX([5]Hoja4!$F$2:$F$1672,MATCH(F901,[5]Hoja4!$G$2:$G$1672,0))","v":20},"Contabilidad","x","4198_20",null,null,null,null,null,"x","X","x"]
[4198,"Nicoya","Chorotega Peninsular","Nicoya",{"$f":"INDEX([5]Hoja4!$F$2:$F$1672,MATCH(F902,[5]Hoja4!$G$2:$G$1672,0))","v":24},"Contabilidad y Finanzas","x","4198_24",null,null,"x","X","x"]
[4198,"Nicoya","Chorotega Peninsular","Nicoya",{"$f":"INDEX([5]Hoja4!$F$2:$F$1672,MATCH(F903,[5]Hoja4!$G$2:$G$1672,0))","v":31},"Diseño y Confección de la Moda","x","4198_31",null,null,"x","X","x","x","X","x"]
[4198,"Nicoya","Chorotega Peninsular","Nicoya",{"$f":"INDEX([5]Hoja4!$F$2:$F$1672,MATCH(F904,[5]Hoja4!$G$2:$G$1672,0))","v":68},"Gestión de la Producción","x","4198_68",null,null,null,null,null,"x","X"]
[4198,"Nicoya","Chorotega Peninsular","Nicoya",{"$f":"INDEX([5]Hoja4!$F$2:$F$1672,MATCH(F905,[5]Hoja4!$G$2:$G$1672,0))","v":54},"Operación de Empresas de Alojamiento","x","4198_54",null,null,"x","X","x"]
[4198,"Nicoya","Chorotega Peninsular","Nicoya",{"$f":"INDEX([5]Hoja4!$F$2:$F$1672,MATCH(F906,[5]Hoja4!$G$2:$G$1672,0))","v":56},"Productividad y Calidad","x","4198_56",null,null,null,null,null,null,null,"x"]
[4198,"Nicoya","Chorotega Peninsular","Nicoya",{"$f":"INDEX([5]Hoja4!$F$2:$F$1672,MATCH(F907,[5]Hoja4!$G$2:$G$1672,0))","v":58},"Refrigeración y Aire Acondicionado","x","4198_58",null,null,"x","X","x","x","X","x"]
[4198,"Nicoya","Chorotega Peninsular","Nicoya",{"$f":"INDEX([5]Hoja4!$F$2:$F$1672,MATCH(F908,[5]Hoja4!$G$2:$G$1672,0))","v":62},"Secretariado Ejecutivo","x","4198_62",null,null,null,null,null,"x","X","x"]
[4198,"Nicoya","Chorotega Peninsular","Nicoya",{"$f":"INDEX([5]Hoja4!$F$2:$F$1672,MATCH(F909,[5]Hoja4!$G$2:$G$1672,0))","v":66},"Turismo en Hotelería y Eventos Especiales","x","4198_66"]
[4181,"Norte Norte","Llanuras y Montañas del Norte","Guatuso",{"$f":"INDEX([5]Hoja4!$F$2:$F$1672,MATCH(F910,[5]Hoja4!$G$2:$G$1672,0))","v":6},"Agroindustria Alimentaria con Tecnología Agrícola","x","4181_6",null,null,null,"X"]
[4181,"Norte Norte","Llanuras y Montañas del Norte","Guatuso",{"$f":"INDEX([5]Hoja4!$F$2:$F$1672,MATCH(F911,[5]Hoja4!$G$2:$G$1672,0))","v":6},"Agroindustria Alimentaria con Tecnología Pecuaria","x","4181_6",null,null,"x",null,"x"]
[4181,"Norte Norte","Llanuras y Montañas del Norte","Guatuso",{"$f":"INDEX([5]Hoja4!$F$2:$F$1672,MATCH(F912,[5]Hoja4!$G$2:$G$1672,0))","v":20},"Contabilidad","x","4181_20",null,null,"x","X","x","x","X","x"]
[4181,"Norte Norte","Llanuras y Montañas del Norte","Guatuso",{"$f":"INDEX([5]Hoja4!$F$2:$F$1672,MATCH(F913,[5]Hoja4!$G$2:$G$1672,0))","v":34},"Ecoturismo","x","4181_34",null,null,null,"X"]
[4181,"Norte Norte","Llanuras y Montañas del Norte","Guatuso",{"$f":"INDEX([5]Hoja4!$F$2:$F$1672,MATCH(F914,[5]Hoja4!$G$2:$G$1672,0))","v":35},"Ejecutivo Comercial y Servicio al cliente","x","4181_35",null,null,null,null,null,"x","X","x"]
[4181,"Norte Norte","Llanuras y Montañas del Norte","Guatuso",{"$f":"INDEX([5]Hoja4!$F$2:$F$1672,MATCH(F915,[5]Hoja4!$G$2:$G$1672,0))","v":72},"Desarrollo de aplicaciones móviles","x","4181_72",null,null,null,null,null,"x"]
[4181,"Norte Norte","Llanuras y Montañas del Norte","Guatuso",{"$f":"INDEX([5]Hoja4!$F$2:$F$1672,MATCH(F916,[5]Hoja4!$G$2:$G$1672,0))","v":44},"Informática Empresarial","x","4181_44",null,null,null,"X",null,null,"X","x"]
[4181,"Norte Norte","Llanuras y Montañas del Norte","Guatuso",{"$f":"INDEX([5]Hoja4!$F$2:$F$1672,MATCH(F917,[5]Hoja4!$G$2:$G$1672,0))","v":55},"Producción Agrícola y Pecuaria","x","4181_55",null,null,"x","X","x"]
[4181,"Norte Norte","Llanuras y Montañas del Norte","Guatuso",{"$f":"INDEX([5]Hoja4!$F$2:$F$1672,MATCH(F918,[5]Hoja4!$G$2:$G$1672,0))","v":62},"Secretariado Ejecutivo","x","4181_62",null,null,"x","X","x"]
[4232,"Norte Norte","Nahualt Chorotega","Upala",{"$f":"INDEX([5]Hoja4!$F$2:$F$1672,MATCH(F919,[5]Hoja4!$G$2:$G$1672,0))","v":5},"Agroecología","x","4232_5",null,null,"x","X","x"]
[4232,"Norte Norte","Nahualt Chorotega","Upala",{"$f":"INDEX([5]Hoja4!$F$2:$F$1672,MATCH(F920,[5]Hoja4!$G$2:$G$1672,0))","v":6},"Agroindustria Alimentaria con Tecnología Agrícola","x","4232_6",null,null,null,null,"x",null,null,"x"]
[4232,"Norte Norte","Nahualt Chorotega","Upala",{"$f":"INDEX([5]Hoja4!$F$2:$F$1672,MATCH(F921,[5]Hoja4!$G$2:$G$1672,0))","v":6},"Agroindustria Alimentaria con Tecnología Pecuaria","x","4232_6",null,null,"x","X","x"]
[4232,"Norte Norte","Nahualt Chorotega","Upala",{"$f":"INDEX([5]Hoja4!$F$2:$F$1672,MATCH(F922,[5]Hoja4!$G$2:$G$1672,0))","v":72},"Desarrollo de aplicaciones móviles","x","4232_72",null,null,"x",null,null,"x"]
[4232,"Norte Norte","Nahualt Chorotega","Upala",{"$f":"INDEX([5]Hoja4!$F$2:$F$1672,MATCH(F923,[5]Hoja4!$G$2:$G$1672,0))","v":15},"Ciberseguridad","x","4232_15",null,null,null,"X",null,null,"X","x"]
[4232,"Norte Norte","Nahualt Chorotega","Upala",{"$f":"INDEX([5]Hoja4!$F$2:$F$1672,MATCH(F924,[5]Hoja4!$G$2:$G$1672,0))","v":20},"Contabilidad","x","4232_20",null,null,"x","X",null,"x"]
[4232,"Norte Norte","Nahualt Chorotega","Upala",{"$f":"INDEX([5]Hoja4!$F$2:$F$1672,MATCH(F925,[5]Hoja4!$G$2:$G$1672,0))","v":44},"Informática Empresarial","x","4232_44",null,null,null,"X","x",null,"X"]
[4232,"Norte Norte","Nahualt Chorotega","Upala",{"$f":"INDEX([5]Hoja4!$F$2:$F$1672,MATCH(F926,[5]Hoja4!$G$2:$G$1672,0))","v":55},"Producción Agrícola y Pecuaria","x","4232_55",null,null,"x","X","x"]
[4232,"Norte Norte","Nahualt Chorotega","Upala",{"$f":"INDEX([5]Hoja4!$F$2:$F$1672,MATCH(F927,[5]Hoja4!$G$2:$G$1672,0))","v":62},"Secretariado Ejecutivo","x","4232_62",null,null,"x","X","x","x",null,"x"]
[4232,"Norte Norte","Nahualt Chorotega","Upala",{"$f":"INDEX([5]Hoja4!$F$2:$F$1672,MATCH(F928,[5]Hoja4!$G$2:$G$1672,0))","v":34},"Ecoturismo","x","4232_34",null,null,"x","X","x"]
[4232,"Norte Norte","Nahualt Chorotega","Upala",{"$f":"INDEX([5]Hoja4!$F$2:$F$1672,MATCH(F929,[5]Hoja4!$G$2:$G$1672,0))","v":54},"Operación de Empresas de Alojamiento","x","4232_54",null,null,"x","X"]
[4232,"Norte Norte","Nahualt Chorotega","Upala",{"$f":"INDEX([5]Hoja4!$F$2:$F$1672,MATCH(F930,[5]Hoja4!$G$2:$G$1672,0))","v":35},"Ejecutivo Comercial y Servicio al cliente","x",{"$f":"IF(A930=\"\",\"\",A930&\"_\"&E930)","v":"4232_35"},null,null,null,null,null,null,"x"]
[4232,"Norte Norte","Nahualt Chorotega","Upala",{"$f":"INDEX([5]Hoja4!$F$2:$F$1672,MATCH(F931,[5]Hoja4!$G$2:$G$1672,0))","v":67},"Turismo Rural","x","4232_67",null,null,"x","X","x"]
[6535,"Occidente","Técnicos de Occidente","Calle Zamora",{"$f":"INDEX([5]Hoja4!$F$2:$F$1672,MATCH(F932,[5]Hoja4!$G$2:$G$1672,0))","v":3},"Administración, Logística y Distribución","x","6535_3",null,null,"X","x","x","x"]
[6535,"Occidente","Técnicos de Occidente","Calle Zamora",{"$f":"INDEX([5]Hoja4!$F$2:$F$1672,MATCH(F933,[5]Hoja4!$G$2:$G$1672,0))","v":29},"Diseño Gráfico","x","6535_29",null,null,"X","x","x","x",null,"x"]
[6535,"Occidente","Técnicos de Occidente","Calle Zamora",{"$f":"INDEX([5]Hoja4!$F$2:$F$1672,MATCH(F934,[5]Hoja4!$G$2:$G$1672,0))","v":15},"Ciberseguridad","x","6535_15",null,null,"x"]
[6535,"Occidente","Técnicos de Occidente","Calle Zamora",{"$f":"INDEX([5]Hoja4!$F$2:$F$1672,MATCH(F935,[5]Hoja4!$G$2:$G$1672,0))","v":20},"Contabilidad","x","6535_20",null,null,null,null,null,"x"]
[6535,"Occidente","Técnicos de Occidente","Calle Zamora",{"$f":"INDEX([5]Hoja4!$F$2:$F$1672,MATCH(F936,[5]Hoja4!$G$2:$G$1672,0))","v":40},"Electrónica Industrial","x","6535_40",null,null,"X","x","x",null,"x"]
[6535,"Occidente","Técnicos de Occidente","Calle Zamora",{"$f":"INDEX([5]Hoja4!$F$2:$F$1672,MATCH(F937,[5]Hoja4!$G$2:$G$1672,0))","v":44},"Informática Empresarial","x","6535_44"]
[6535,"Occidente","Técnicos de Occidente","Calle Zamora",{"$f":"INDEX([5]Hoja4!$F$2:$F$1672,MATCH(F938,[5]Hoja4!$G$2:$G$1672,0))","v":45},"Informática en Desarrollo de Software","x","6535_45",null,null,null,null,"x",null,null,"x"]
[6535,"Occidente","Técnicos de Occidente","Calle Zamora",{"$f":"INDEX([5]Hoja4!$F$2:$F$1672,MATCH(F939,[5]Hoja4!$G$2:$G$1672,0))","v":25},"Desarrollo Web","x","6535_25",null,null,null,"x",null,null,"x"]
[6535,"Occidente","Técnicos de Occidente","Calle Zamora",{"$f":"INDEX([5]Hoja4!$F$2:$F$1672,MATCH(F940,[5]Hoja4!$G$2:$G$1672,0))","v":56},"Productividad y Calidad","x","6535_56",null,null,null,null,"x",null,null,"x"]
[6536,"Occidente","Técnicos de Occidente","Calle Zamora",{"$f":"INDEX([5]Hoja4!$F$2:$F$1672,MATCH(F941,[5]Hoja4!$G$2:$G$1672,0))","v":35},"Ejecutivo Comercial y Servicio al cliente","x","6536_35",null,null,"X","x",null,"x"]
[6537,"Occidente","Técnicos de Occidente","Calle Zamora",{"$f":"INDEX([5]Hoja4!$F$2:$F$1672,MATCH(F942,[5]Hoja4!$G$2:$G$1672,0))","v":53},"Mercadeo","x","6537_53",null,null,null,null,null,null,"x"]
[6538,"Occidente","Técnicos de Occidente","Calle Zamora",{"$f":"INDEX([5]Hoja4!$F$2:$F$1672,MATCH(F943,[5]Hoja4!$G$2:$G$1672,0))","v":68},"Gestión de la Producción","x","6538_68",null,null,"X","x",null,null,"x"]
[6535,"Occidente","Técnicos de Occidente","Calle Zamora",{"$f":"INDEX([5]Hoja4!$F$2:$F$1672,MATCH(F944,[5]Hoja4!$G$2:$G$1672,0))","v":62},"Secretariado Ejecutivo","x","6535_62",null,null,null,null,"x",null,null,"x"]
[6573,"Occidente","Técnicos de Occidente","CINDEA La Paz (Central)",{"$f":"INDEX([5]Hoja4!$F$2:$F$1672,MATCH(F945,[5]Hoja4!$G$2:$G$1672,0))","v":3},"Administración, Logística y Distribución","x","6573_3",null,null,null,null,null,null,null,"x"]
[6574,"Occidente","Técnicos de Occidente","CINDEA La Paz (Central)",{"$f":"INDEX([5]Hoja4!$F$2:$F$1672,MATCH(F946,[5]Hoja4!$G$2:$G$1672,0))","v":62},"Secretariado Ejecutivo","x","6574_62","x"]
[6575,"Occidente","Técnicos de Occidente","CINDEA La Paz (Central)",{"$f":"INDEX([5]Hoja4!$F$2:$F$1672,MATCH(F947,[5]Hoja4!$G$2:$G$1672,0))","v":35},"Ejecutivo Comercial y Servicio al cliente","x","6575_35","x"]
[6573,"Occidente","Técnicos de Occidente","CINDEA La Paz (Central)",{"$f":"INDEX([5]Hoja4!$F$2:$F$1672,MATCH(F948,[5]Hoja4!$G$2:$G$1672,0))","v":20},"Contabilidad","x","6573_20"]
[6573,"Occidente","Técnicos de Occidente","CINDEA La Paz (Central)",{"$f":"INDEX([5]Hoja4!$F$2:$F$1672,MATCH(F949,[5]Hoja4!$G$2:$G$1672,0))","v":22},"Contabilidad y control interno ","x","6573_22",null,null,null,null,null,"x"]
[6573,"Occidente","Técnicos de Occidente","CINDEA La Paz (Central)",{"$f":"INDEX([5]Hoja4!$F$2:$F$1672,MATCH(F950,[5]Hoja4!$G$2:$G$1672,0))","v":25},"Desarrollo Web","x","6573_25",null,null,null,null,null,"x"]
[6573,"Occidente","Técnicos de Occidente","CINDEA La Paz (Central)",{"$f":"INDEX([5]Hoja4!$F$2:$F$1672,MATCH(F951,[5]Hoja4!$G$2:$G$1672,0))","v":74},"Gestión de la calidad","x","6573_74",null,null,null,null,null,"x"]
[6573,"Occidente","Técnicos de Occidente","CINDEA La Paz (Central)",{"$f":"INDEX([5]Hoja4!$F$2:$F$1672,MATCH(F952,[5]Hoja4!$G$2:$G$1672,0))","v":44},"Informática Empresarial","x","6573_44",null,null,null,null,null,null,null,"x"]
[6573,"Occidente","Técnicos de Occidente","CINDEA La Paz (Central)",{"$f":"INDEX([5]Hoja4!$F$2:$F$1672,MATCH(F953,[5]Hoja4!$G$2:$G$1672,0))","v":45},"Informática en Desarrollo de Software","x","6573_45"]
[6573,"Occidente","Técnicos de Occidente","CINDEA La Paz (Central)",{"$f":"INDEX([5]Hoja4!$F$2:$F$1672,MATCH(F954,[5]Hoja4!$G$2:$G$1672,0))","v":56},"Productividad y Calidad","x","6573_56"]
[6573,"Occidente","Técnicos de Occidente","CINDEA La Paz (Volio)",{"$f":"INDEX([5]Hoja4!$F$2:$F$1672,MATCH(F955,[5]Hoja4!$G$2:$G$1672,0))","v":3},"Administración, Logística y Distribución","x","6573_3",null,null,null,null,null,null,null,"x"]
[6573,"Occidente","Técnicos de Occidente","CINDEA La Paz (Volio)",{"$f":"INDEX([5]Hoja4!$F$2:$F$1672,MATCH(F956,[5]Hoja4!$G$2:$G$1672,0))","v":20},"Contabilidad","x","6573_20"]
[6573,"Occidente","Técnicos de Occidente","CINDEA La Paz (Volio)",{"$f":"INDEX([5]Hoja4!$F$2:$F$1672,MATCH(F957,[5]Hoja4!$G$2:$G$1672,0))","v":56},"Productividad y Calidad","x","6573_56"]
[6572,"Occidente","Técnicos de Occidente","CINDEA San Isidro de Peñas Blancas (Central)",{"$f":"INDEX([5]Hoja4!$F$2:$F$1672,MATCH(F958,[5]Hoja4!$G$2:$G$1672,0))","v":20},"Contabilidad","x","6572_20",null,null,null,null,null,null,"x","x"]
[6572,"Occidente","Técnicos de Occidente","CINDEA San Isidro de Peñas Blancas (Central)",{"$f":"INDEX([5]Hoja4!$F$2:$F$1672,MATCH(F959,[5]Hoja4!$G$2:$G$1672,0))","v":18},"Configuración y soporte de redes de comunicación y sistemas operativos","x","6572_18",null,null,null,null,null,null,"x"]
[6572,"Occidente","Técnicos de Occidente","CINDEA San Isidro de Peñas Blancas (Central)",{"$f":"INDEX([5]Hoja4!$F$2:$F$1672,MATCH(F960,[5]Hoja4!$G$2:$G$1672,0))","v":53},"Mercadeo","x","6572_53",null,null,null,null,null,null,"X"]
[6572,"Occidente","Técnicos de Occidente","CINDEA San Isidro de Peñas Blancas (Central)",{"$f":"INDEX([5]Hoja4!$F$2:$F$1672,MATCH(F961,[5]Hoja4!$G$2:$G$1672,0))","v":34},"Ecoturismo","x","6572_34",null,null,"x","X"]
[6572,"Occidente","Técnicos de Occidente","CINDEA San Isidro de Peñas Blancas (Central)",{"$f":"INDEX([5]Hoja4!$F$2:$F$1672,MATCH(F962,[5]Hoja4!$G$2:$G$1672,0))","v":20},"Contabilidad","x","6572_20",null,null,null,null,null,"x"]
[6572,"Occidente","Técnicos de Occidente","CINDEA San Isidro de Peñas Blancas (Central)",{"$f":"INDEX([5]Hoja4!$F$2:$F$1672,MATCH(F963,[5]Hoja4!$G$2:$G$1672,0))","v":62},"Secretariado Ejecutivo","x","6572_62"]
[6572,"Occidente","Técnicos de Occidente","CINDEA San Isidro de Peñas Blancas (Central)",{"$f":"INDEX([5]Hoja4!$F$2:$F$1672,MATCH(F964,[5]Hoja4!$G$2:$G$1672,0))","v":64},"Turismo Ecológico","x","6572_64",null,"x"]
[4175,"Occidente","Técnicos de Occidente","Francisco J. Orlich",{"$f":"INDEX([5]Hoja4!$F$2:$F$1672,MATCH(F965,[5]Hoja4!$G$2:$G$1672,0))","v":3},"Administración, Logística y Distribución","x","4175_3",null,null,"x",null,"x"]
[4175,"Occidente","Técnicos de Occidente","Francisco J. Orlich",{"$f":"INDEX([5]Hoja4!$F$2:$F$1672,MATCH(F966,[5]Hoja4!$G$2:$G$1672,0))","v":24},"Contabilidad y Finanzas","x","4175_24",null,null,"x","x","x"]
[4175,"Occidente","Técnicos de Occidente","Francisco J. Orlich",{"$f":"INDEX([5]Hoja4!$F$2:$F$1672,MATCH(F967,[5]Hoja4!$G$2:$G$1672,0))","v":31},"Diseño y Confección de la Moda","x","4175_31"]
[4175,"Occidente","Técnicos de Occidente","Francisco J. Orlich",{"$f":"INDEX([5]Hoja4!$F$2:$F$1672,MATCH(F968,[5]Hoja4!$G$2:$G$1672,0))","v":33},"Diseño y Desarrollo Digital","x","4175_33",null,null,"x","X","x"]
[4175,"Occidente","Técnicos de Occidente","Francisco J. Orlich",{"$f":"INDEX([5]Hoja4!$F$2:$F$1672,MATCH(F969,[5]Hoja4!$G$2:$G$1672,0))","v":35},"Ejecutivo Comercial y Servicio al Cliente","x","4175_35",null,null,"x","X","x"]
[4175,"Occidente","Técnicos de Occidente","Francisco J. Orlich",{"$f":"INDEX([5]Hoja4!$F$2:$F$1672,MATCH(F970,[5]Hoja4!$G$2:$G$1672,0))","v":68},"Gestión de la Producción","x","4175_68",null,null,null,"X"]
[4175,"Occidente","Técnicos de Occidente","Francisco J. Orlich",{"$f":"INDEX([5]Hoja4!$F$2:$F$1672,MATCH(F971,[5]Hoja4!$G$2:$G$1672,0))","v":45},"Informática en Desarrollo de Software","x","4175_45"]
[4175,"Occidente","Técnicos de Occidente","Francisco J. Orlich",{"$f":"INDEX([5]Hoja4!$F$2:$F$1672,MATCH(F972,[5]Hoja4!$G$2:$G$1672,0))","v":18},"Configuración y soporte de redes de comunicación y sistemas operativos","x","4175_18",null,null,"x","X"]
[4176,"Occidente","Técnicos de Occidente","Francisco J. Orlich",{"$f":"INDEX([5]Hoja4!$F$2:$F$1672,MATCH(F973,[5]Hoja4!$G$2:$G$1672,0))","v":25},"Desarrollo Web","x","4176_25",null,null,null,"X"]
[4175,"Occidente","Técnicos de Occidente","Francisco J. Orlich",{"$f":"INDEX([5]Hoja4!$F$2:$F$1672,MATCH(F974,[5]Hoja4!$G$2:$G$1672,0))","v":51},"Mecánica General","x","4175_51",null,null,"x",null,"x"]
[4175,"Occidente","Técnicos de Occidente","Francisco J. Orlich",{"$f":"INDEX([5]Hoja4!$F$2:$F$1672,MATCH(F975,[5]Hoja4!$G$2:$G$1672,0))","v":56},"Productividad y Calidad","x","4175_56",null,null,null,null,"x"]
[4175,"Occidente","Técnicos de Occidente","Francisco J. Orlich",{"$f":"INDEX([5]Hoja4!$F$2:$F$1672,MATCH(F976,[5]Hoja4!$G$2:$G$1672,0))","v":62},"Secretariado Ejecutivo","x","4175_62",null,null,"x","X","x"]
[4175,"Occidente","Técnicos de Occidente","Francisco J. Orlich",{"$f":"INDEX([5]Hoja4!$F$2:$F$1672,MATCH(F977,[5]Hoja4!$G$2:$G$1672,0))","v":73},"Gerencia y producción en cocina ","x","4175_73",null,null,"x"]
[4175,"Occidente","Técnicos de Occidente","Francisco J. Orlich",{"$f":"INDEX([5]Hoja4!$F$2:$F$1672,MATCH(F978,[5]Hoja4!$G$2:$G$1672,0))","v":23},"Contabilidad y Costos","x","4175_23",null,null,"x"]
[4175,"Occidente","Técnicos de Occidente","Francisco J. Orlich",{"$f":"INDEX([5]Hoja4!$F$2:$F$1672,MATCH(F979,[5]Hoja4!$G$2:$G$1672,0))","v":65},"Turismo en Alimentos y Bebidas",null,"4175_65",null,null,null,"X","x"]
[4174,"Occidente","Técnicos de Occidente","Piedades Sur",{"$f":"INDEX([5]Hoja4!$F$2:$F$1672,MATCH(F980,[5]Hoja4!$G$2:$G$1672,0))","v":5},"Agroecología",null,"4174_5",null,null,"x","X","x"]
[4174,"Occidente","Técnicos de Occidente","Piedades Sur",{"$f":"INDEX([5]Hoja4!$F$2:$F$1672,MATCH(F981,[5]Hoja4!$G$2:$G$1672,0))","v":6},"Agroindustria Alimentaria con Tecnología Agrícola","x","4174_6",null,null,"x","X","x"]
[4174,"Occidente","Técnicos de Occidente","Piedades Sur",{"$f":"INDEX([5]Hoja4!$F$2:$F$1672,MATCH(F982,[5]Hoja4!$G$2:$G$1672,0))","v":23},"Contabilidad y Costos","x","4174_23",null,null,"x"]
[4174,"Occidente","Técnicos de Occidente","Piedades Sur",{"$f":"INDEX([5]Hoja4!$F$2:$F$1672,MATCH(F983,[5]Hoja4!$G$2:$G$1672,0))","v":20},"Contabilidad","x","4174_20",null,null,null,"X","x"]
[4174,"Occidente","Técnicos de Occidente","Piedades Sur",{"$f":"INDEX([5]Hoja4!$F$2:$F$1672,MATCH(F984,[5]Hoja4!$G$2:$G$1672,0))","v":74},"Gestión de la calidad","x","4174_74",null,null,"x"]
[4174,"Occidente","Técnicos de Occidente","Piedades Sur",{"$f":"INDEX([5]Hoja4!$F$2:$F$1672,MATCH(F985,[5]Hoja4!$G$2:$G$1672,0))","v":55},"Producción Agrícola y Pecuaria","x","4174_55",null,null,"x","X","x"]
[6536,"Occidente","Técnicos de Occidente","Rosario de Naranjo",{"$f":"INDEX([5]Hoja4!$F$2:$F$1672,MATCH(F986,[5]Hoja4!$G$2:$G$1672,0))","v":3},"Administración, Logística y Distribución","x","6536_3",null,null,"x","X","x","x","X","x"]
[6536,"Occidente","Técnicos de Occidente","Rosario de Naranjo",{"$f":"INDEX([5]Hoja4!$F$2:$F$1672,MATCH(F987,[5]Hoja4!$G$2:$G$1672,0))","v":18},"Configuración y soporte de redes de comunicación y sistemas operativos","x","6536_18",null,null,null,null,null,null,null,"x"]
[6536,"Occidente","Técnicos de Occidente","Rosario de Naranjo",{"$f":"INDEX([5]Hoja4!$F$2:$F$1672,MATCH(F988,[5]Hoja4!$G$2:$G$1672,0))","v":20},"Contabilidad","x","6536_20",null,null,"x",null,"x"]
[null,null,"Técnicos de Occidente","Rosario de Naranjo",{"$f":"INDEX([5]Hoja4!$F$2:$F$1672,MATCH(F989,[5]Hoja4!$G$2:$G$1672,0))","v":23},"Contabilidad y Costos","x","",null,null,null,"x"]
[6536,"Occidente","Técnicos de Occidente","Rosario de Naranjo",{"$f":"INDEX([5]Hoja4!$F$2:$F$1672,MATCH(F990,[5]Hoja4!$G$2:$G$1672,0))","v":22},"Contabilidad y control interno ","x","6536_22",null,null,null,null,null,"x","X","x"]
[6536,"Occidente","Técnicos de Occidente","Rosario de Naranjo",{"$f":"INDEX([5]Hoja4!$F$2:$F$1672,MATCH(F991,[5]Hoja4!$G$2:$G$1672,0))","v":35},"Ejecutivo Comercial y Servicio al cliente","x","6536_35",null,null,"x","X","x","x","X","x"]
[6536,"Occidente","Técnicos de Occidente","Rosario de Naranjo",{"$f":"INDEX([5]Hoja4!$F$2:$F$1672,MATCH(F992,[5]Hoja4!$G$2:$G$1672,0))","v":70},"Inteligencia Artificial","x","6536_70",null,null,"x"]
[6536,"Occidente","Técnicos de Occidente","Rosario de Naranjo",{"$f":"INDEX([5]Hoja4!$F$2:$F$1672,MATCH(F993,[5]Hoja4!$G$2:$G$1672,0))","v":44},"Informática Empresarial","x","6536_44",null,null,null,null,"x"]
[6536,"Occidente","Técnicos de Occidente","Rosario de Naranjo",{"$f":"INDEX([5]Hoja4!$F$2:$F$1672,MATCH(F994,[5]Hoja4!$G$2:$G$1672,0))","v":15},"Ciberseguridad","x",{"$f":"IF(A994=\"\",\"\",A994&\"_\"&E994)","v":"6536_15"},null,null,null,"X",null,"x","X"]
[6502,"Occidente","Técnicos de Occidente","Santo Cristo de Esquipulas",{"$f":"INDEX([5]Hoja4!$F$2:$F$1672,MATCH(F995,[5]Hoja4!$G$2:$G$1672,0))","v":2},"Administración y Operación Aduanera","x","6502_2",null,null,null,null,null,null,null,"x"]
[6502,"Occidente","Técnicos de Occidente","Santo Cristo de Esquipulas",{"$f":"INDEX([5]Hoja4!$F$2:$F$1672,MATCH(F996,[5]Hoja4!$G$2:$G$1672,0))","v":14},"Bilingual Secretary","x","6502_14"]
[6502,"Occidente","Técnicos de Occidente","Santo Cristo de Esquipulas",{"$f":"INDEX([5]Hoja4!$F$2:$F$1672,MATCH(F997,[5]Hoja4!$G$2:$G$1672,0))","v":20},"Contabilidad","x","6502_20",null,null,"x","x","x"]
[6502,"Occidente","Técnicos de Occidente","Santo Cristo de Esquipulas",{"$f":"INDEX([5]Hoja4!$F$2:$F$1672,MATCH(F998,[5]Hoja4!$G$2:$G$1672,0))","v":24},"Contabilidad y Finanzas","x","6502_24"]
[6503,"Occidente","Técnicos de Occidente","Santo Cristo de Esquipulas",{"$f":"INDEX([5]Hoja4!$F$2:$F$1672,MATCH(F999,[5]Hoja4!$G$2:$G$1672,0))","v":39},"Electrónica en Telecomunicaciones","x","6503_39",null,null,null,null,null,null,"x"]
[6502,"Occidente","Técnicos de Occidente","Santo Cristo de Esquipulas",{"$f":"INDEX([5]Hoja4!$F$2:$F$1672,MATCH(F1000,[5]Hoja4!$G$2:$G$1672,0))","v":35},"Ejecutivo Comercial y Servicio al Cliente","x","6502_35",null,null,null,null,null,null,null,"x"]
[6502,"Occidente","Técnicos de Occidente","Santo Cristo de Esquipulas",{"$f":"INDEX([5]Hoja4!$F$2:$F$1672,MATCH(F1001,[5]Hoja4!$G$2:$G$1672,0))","v":28},"Dibujo y Modelado para Edificaciones","x","6502_28",null,null,null,"x",null,null,"x"]
[6502,"Occidente","Técnicos de Occidente","Santo Cristo de Esquipulas",{"$f":"INDEX([5]Hoja4!$F$2:$F$1672,MATCH(F1002,[5]Hoja4!$G$2:$G$1672,0))","v":40},"Electrónica Industrial","x","6502_40",null,null,null,null,null,null,null,"x"]
[6502,"Occidente","Técnicos de Occidente","Santo Cristo de Esquipulas",{"$f":"INDEX([5]Hoja4!$F$2:$F$1672,MATCH(F1003,[5]Hoja4!$G$2:$G$1672,0))","v":44},"Informática Empresarial","x","6502_44",null,null,null,"x","x",null,"x"]
[6502,"Occidente","Técnicos de Occidente","Santo Cristo de Esquipulas",{"$f":"INDEX([5]Hoja4!$F$2:$F$1672,MATCH(F1004,[5]Hoja4!$G$2:$G$1672,0))","v":45},"Informática en Desarrollo de Software","x","6502_45",null,null,null,null,null,null,null,"x"]
[6502,"Occidente","Técnicos de Occidente","Santo Cristo de Esquipulas",{"$f":"INDEX([5]Hoja4!$F$2:$F$1672,MATCH(F1005,[5]Hoja4!$G$2:$G$1672,0))","v":50},"Mecánica de Precisión","x","6502_50",null,null,"x",null,"x","x"]
[7026,"Heredia",null,"CTP Guarari",{"$f":"INDEX([5]Hoja4!$F$2:$F$1672,MATCH(F1006,[5]Hoja4!$G$2:$G$1672,0))","v":53},"Mercadeo",null,"7026_53",null,null,"X"]
[6502,"Occidente","Técnicos de Occidente","Santo Cristo de Esquipulas",{"$f":"INDEX([5]Hoja4!$F$2:$F$1672,MATCH(F1007,[5]Hoja4!$G$2:$G$1672,0))","v":53},"Mercadeo","x","6502_53",null,null,null,null,null,null,"x"]
[6502,"Occidente","Técnicos de Occidente","Santo Cristo de Esquipulas",{"$f":"INDEX([5]Hoja4!$F$2:$F$1672,MATCH(F1008,[5]Hoja4!$G$2:$G$1672,0))","v":73},"Gerencia y producción en cocina ","x","6502_73",null,null,"x"]
[6502,"Occidente","Técnicos de Occidente","Santo Cristo de Esquipulas",{"$f":"INDEX([5]Hoja4!$F$2:$F$1672,MATCH(F1009,[5]Hoja4!$G$2:$G$1672,0))","v":72},"Desarrollo de aplicaciones móviles","x","6502_72",null,null,"x"]
[6502,"Occidente","Técnicos de Occidente","Santo Cristo de Esquipulas",{"$f":"INDEX([5]Hoja4!$F$2:$F$1672,MATCH(F1010,[5]Hoja4!$G$2:$G$1672,0))","v":13},"Banca y Finanzas","x","6502_13",null,null,null,null,null,"x"]
[6502,"Occidente","Técnicos de Occidente","Santo Cristo de Esquipulas",{"$f":"INDEX([5]Hoja4!$F$2:$F$1672,MATCH(F1011,[5]Hoja4!$G$2:$G$1672,0))","v":22},"Contabilidad y control interno ","x","6502_22",null,null,null,null,null,"x"]
[6502,"Occidente","Técnicos de Occidente","Santo Cristo de Esquipulas",{"$f":"INDEX([5]Hoja4!$F$2:$F$1672,MATCH(F1012,[5]Hoja4!$G$2:$G$1672,0))","v":15},"Ciberseguridad","x","6502_15",null,null,null,null,null,"x"]
[6502,"Occidente","Técnicos de Occidente","Santo Cristo de Esquipulas",{"$f":"INDEX([5]Hoja4!$F$2:$F$1672,MATCH(F1013,[5]Hoja4!$G$2:$G$1672,0))","v":65},"Turismo en Alimentos y Bebidas","x","6502_65",null,null,null,"x","x",null,"x"]
[6549,"Occidente","Técnicos de Occidente","Zarcero",{"$f":"INDEX([5]Hoja4!$F$2:$F$1672,MATCH(F1014,[5]Hoja4!$G$2:$G$1672,0))","v":20},"Contabilidad","x","6549_20",null,null,"x","x","x"]
[6549,"Occidente","Técnicos de Occidente","Zarcero",{"$f":"INDEX([5]Hoja4!$F$2:$F$1672,MATCH(F1015,[5]Hoja4!$G$2:$G$1672,0))","v":35},"Ejecutivo Comercial y Servicio al cliente","x","6549_35",null,null,"x","x","x"]
[6549,"Occidente","Técnicos de Occidente","Zarcero",{"$f":"INDEX([5]Hoja4!$F$2:$F$1672,MATCH(F1016,[5]Hoja4!$G$2:$G$1672,0))","v":40},"Electrónica Industrial","x","6549_40",null,null,"x","x","x"]
[6549,"Occidente","Técnicos de Occidente","Zarcero",{"$f":"INDEX([5]Hoja4!$F$2:$F$1672,MATCH(F1017,[5]Hoja4!$G$2:$G$1672,0))","v":55},"Producción Agrícola y Pecuaria","x","6549_55",null,null,"x","x","x"]
[6549,"Occidente","Técnicos de Occidente","Zarcero",{"$f":"INDEX([5]Hoja4!$F$2:$F$1672,MATCH(F1018,[5]Hoja4!$G$2:$G$1672,0))","v":56},"Productividad y Calidad","x","6549_56",null,null,null,null,"x"]
[6549,"Occidente","Técnicos de Occidente","Zarcero",{"$f":"INDEX([5]Hoja4!$F$2:$F$1672,MATCH(F1019,[5]Hoja4!$G$2:$G$1672,0))","v":68},"Gestión de la Producción","x","6549_68",null,null,null,"x"]
[4211,"Peninsular","Chorotega Peninsular","Cóbano",{"$f":"INDEX([5]Hoja4!$F$2:$F$1672,MATCH(F1020,[5]Hoja4!$G$2:$G$1672,0))","v":5},"Agroecología","x","4211_5",null,null,null,null,"x"]
[4211,"Peninsular","Chorotega Peninsular","Cóbano",{"$f":"INDEX([5]Hoja4!$F$2:$F$1672,MATCH(F1021,[5]Hoja4!$G$2:$G$1672,0))","v":71},"Organización de operaciones y servicios de alimentos y bebidas","x","4211_71",null,null,null,null,null,"x"]
[4211,"Peninsular","Chorotega Peninsular","Cóbano",{"$f":"INDEX([5]Hoja4!$F$2:$F$1672,MATCH(F1022,[5]Hoja4!$G$2:$G$1672,0))","v":20},"Contabilidad","x","4211_20",null,null,"x","x","x",null,"x","x"]
[4211,"Peninsular","Chorotega Peninsular","Cóbano",{"$f":"INDEX([5]Hoja4!$F$2:$F$1672,MATCH(F1023,[5]Hoja4!$G$2:$G$1672,0))","v":54},"Operación de Empresas de Alojamiento","x","4211_54",null,null,"x","X",null,null,"X"]
[4211,"Peninsular","Chorotega Peninsular","Cóbano",{"$f":"INDEX([5]Hoja4!$F$2:$F$1672,MATCH(F1024,[5]Hoja4!$G$2:$G$1672,0))","v":18},"Configuración y soporte de redes de comunicación y sistemas operativos","x","4211_18",null,null,null,null,null,null,"X"]
[4211,"Peninsular","Chorotega Peninsular","Cóbano",{"$f":"INDEX([5]Hoja4!$F$2:$F$1672,MATCH(F1025,[5]Hoja4!$G$2:$G$1672,0))","v":25},"Desarrollo Web","x","4211_25",null,null,"x","X","x"]
[4211,"Peninsular",null,"Cóbano",{"$f":"INDEX([5]Hoja4!$F$2:$F$1672,MATCH(F1026,[5]Hoja4!$G$2:$G$1672,0))","v":72},"Desarrollo de aplicaciones móviles","x","4211_72",null,null,"x",null,null,"x"]
[4211,"Peninsular","Chorotega Peninsular","Cóbano",{"$f":"INDEX([5]Hoja4!$F$2:$F$1672,MATCH(F1027,[5]Hoja4!$G$2:$G$1672,0))","v":55},"Producción Agrícola y Pecuaria","x","4211_55",null,null,"x","X","x"]
[4211,"Peninsular","Chorotega Peninsular","Cóbano",{"$f":"INDEX([5]Hoja4!$F$2:$F$1672,MATCH(F1028,[5]Hoja4!$G$2:$G$1672,0))","v":62},"Secretariado Ejecutivo","x","4211_62",null,null,null,null,null,null,"X","x"]
[4211,"Peninsular","Chorotega Peninsular","Cóbano",{"$f":"INDEX([5]Hoja4!$F$2:$F$1672,MATCH(F1029,[5]Hoja4!$G$2:$G$1672,0))","v":65},"Turismo en Alimentos y Bebidas","x","4211_65",null,null,null,null,"x",null,null,"x"]
[4211,"Peninsular","Chorotega Peninsular","Cóbano",{"$f":"INDEX([5]Hoja4!$F$2:$F$1672,MATCH(F1030,[5]Hoja4!$G$2:$G$1672,0))","v":66},"Turismo en Hotelería y Eventos Especiales","x","4211_66"]
[4208,"Peninsular","Chorotega Peninsular","Jicaral",{"$f":"INDEX([5]Hoja4!$F$2:$F$1672,MATCH(F1031,[5]Hoja4!$G$2:$G$1672,0))","v":6},"Agroindustria Alimentaria con Tecnología Agrícola","x","4208_6",null,null,"x","X","x","x","X","x"]
[4208,"Peninsular","Chorotega Peninsular","Jicaral",{"$f":"INDEX([5]Hoja4!$F$2:$F$1672,MATCH(F1032,[5]Hoja4!$G$2:$G$1672,0))","v":6},"Agroindustria Alimentaria con Tecnología Pecuaria","x","4208_6",null,null,"x","X","x","x","X"]
[4208,"Peninsular","Chorotega Peninsular","Jicaral",{"$f":"INDEX([5]Hoja4!$F$2:$F$1672,MATCH(F1033,[5]Hoja4!$G$2:$G$1672,0))","v":73},"Gerencia y producción en cocina ","x","4208_73",null,null,"x",null,null,"x"]
[4208,"Peninsular","Chorotega Peninsular","Jicaral",{"$f":"INDEX([5]Hoja4!$F$2:$F$1672,MATCH(F1034,[5]Hoja4!$G$2:$G$1672,0))","v":18},"Configuración y soporte de redes de comunicación y sistemas operativos","x","4208_18",null,null,"x","X","x",null,"X"]
[4208,"Peninsular","Chorotega Peninsular","Jicaral",{"$f":"INDEX([5]Hoja4!$F$2:$F$1672,MATCH(F1035,[5]Hoja4!$G$2:$G$1672,0))","v":20},"Contabilidad","x","4208_20",null,null,"x","X","x","x","X","x"]
[4208,"Peninsular","Chorotega Peninsular","Jicaral",{"$f":"INDEX([5]Hoja4!$F$2:$F$1672,MATCH(F1036,[5]Hoja4!$G$2:$G$1672,0))","v":25},"Desarrollo web","x","4208_25",null,null,"x"]
[4208,"Peninsular","Chorotega Peninsular","Jicaral",{"$f":"INDEX([5]Hoja4!$F$2:$F$1672,MATCH(F1037,[5]Hoja4!$G$2:$G$1672,0))","v":44},"Informática Empresarial","x","4208_44",null,null,null,null,null,null,"X","x"]
[4208,"Peninsular","Chorotega Peninsular","Jicaral",{"$f":"INDEX([5]Hoja4!$F$2:$F$1672,MATCH(F1038,[5]Hoja4!$G$2:$G$1672,0))","v":55},"Producción Agrícola y Pecuaria","x","4208_55",null,null,"x","X","x"]
[4208,"Peninsular","Chorotega Peninsular","Jicaral",{"$f":"INDEX([5]Hoja4!$F$2:$F$1672,MATCH(F1039,[5]Hoja4!$G$2:$G$1672,0))","v":62},"Secretariado Ejecutivo","x","4208_62",null,null,null,null,null,"x","X","x"]
[4208,"Peninsular","Chorotega Peninsular","Jicaral",{"$f":"INDEX([5]Hoja4!$F$2:$F$1672,MATCH(F1040,[5]Hoja4!$G$2:$G$1672,0))","v":65},"Turismo en Alimentos y Bebidas","x","4208_65",null,null,null,"X","x",null,"X","x"]
[4210,"Peninsular","Chorotega Peninsular","Paquera",{"$f":"INDEX([5]Hoja4!$F$2:$F$1672,MATCH(F1041,[5]Hoja4!$G$2:$G$1672,0))","v":5},"Agroecología","x","4210_5",null,null,"x","X","x"]
[4210,"Peninsular","Chorotega Peninsular","Paquera",{"$f":"INDEX([5]Hoja4!$F$2:$F$1672,MATCH(F1042,[5]Hoja4!$G$2:$G$1672,0))","v":20},"Contabilidad","x","4210_20",null,null,"x","X","x","x","X","x"]
[4210,"Peninsular","Chorotega Peninsular","Paquera",{"$f":"INDEX([5]Hoja4!$F$2:$F$1672,MATCH(F1043,[5]Hoja4!$G$2:$G$1672,0))","v":44},"Informática Empresarial","x","4210_44",null,null,null,null,null,null,"X","x"]
[4210,"Peninsular","Chorotega Peninsular","Paquera",{"$f":"INDEX([5]Hoja4!$F$2:$F$1672,MATCH(F1044,[5]Hoja4!$G$2:$G$1672,0))","v":62},"Secretariado Ejecutivo","x","4210_62",null,null,null,null,null,"x","X","x"]
[4210,"Peninsular","Chorotega Peninsular","Paquera",{"$f":"INDEX([5]Hoja4!$F$2:$F$1672,MATCH(F1045,[5]Hoja4!$G$2:$G$1672,0))","v":34},"Ecoturismo","x","4210_34",null,null,"x","X","x"]
[4210,"Peninsular","Chorotega Peninsular","Paquera",{"$f":"INDEX([5]Hoja4!$F$2:$F$1672,MATCH(F1046,[5]Hoja4!$G$2:$G$1672,0))","v":64},"Turismo Ecológico","x","4210_64"]
[4210,"Peninsular","Chorotega Peninsular","Paquera",{"$f":"INDEX([5]Hoja4!$F$2:$F$1672,MATCH(F1047,[5]Hoja4!$G$2:$G$1672,0))","v":73},"Gerencia y producción en cocina ","x","4210_73",null,null,"x"]
[4210,"Peninsular","Chorotega Peninsular","Paquera",{"$f":"INDEX([5]Hoja4!$F$2:$F$1672,MATCH(F1048,[5]Hoja4!$G$2:$G$1672,0))","v":72},"Desarrollo de aplicaciones móviles","x","4210_72",null,null,"x"]
[4210,"Peninsular","Chorotega Peninsular","Paquera",{"$f":"INDEX([5]Hoja4!$F$2:$F$1672,MATCH(F1049,[5]Hoja4!$G$2:$G$1672,0))","v":71},"Organización de operaciones y servicios de alimentos y bebidas","x","4210_71",null,null,"x"]
[4210,"Peninsular","Chorotega Peninsular","Paquera",{"$f":"INDEX([5]Hoja4!$F$2:$F$1672,MATCH(F1050,[5]Hoja4!$G$2:$G$1672,0))","v":65},"Turismo en Alimentos y Bebidas","x","4210_65",null,null,null,"X","x",null,"X","x"]
[4210,"Peninsular","Chorotega Peninsular","Paquera",{"$f":"INDEX([5]Hoja4!$F$2:$F$1672,MATCH(F1051,[5]Hoja4!$G$2:$G$1672,0))","v":66},"Turismo en Hotelería y Eventos Especiales","x","4210_66"]
[4169,"Pérez Zeledón","La Amistad","General Viejo",{"$f":"INDEX([5]Hoja4!$F$2:$F$1672,MATCH(F1052,[5]Hoja4!$G$2:$G$1672,0))","v":2},"Administración y Operación Aduanera","x","4169_2"]
[4169,"Pérez Zeledón","La Amistad","General Viejo",{"$f":"INDEX([5]Hoja4!$F$2:$F$1672,MATCH(F1053,[5]Hoja4!$G$2:$G$1672,0))","v":68},"Gestión de la Producción","x","4169_68",null,null,null,"X"]
[4169,"Pérez Zeledón","La Amistad","General Viejo",{"$f":"INDEX([5]Hoja4!$F$2:$F$1672,MATCH(F1054,[5]Hoja4!$G$2:$G$1672,0))","v":15},"Ciberseguridad","x","4169_15",null,null,"x"]
[4169,"Pérez Zeledón","La Amistad","General Viejo",{"$f":"INDEX([5]Hoja4!$F$2:$F$1672,MATCH(F1055,[5]Hoja4!$G$2:$G$1672,0))","v":18},"Configuración y soporte de redes de comunicación y sistemas operativos","x","4169_18",null,null,"x","X","x",null,"X","x"]
[4169,"Pérez Zeledón","La Amistad","General Viejo",{"$f":"INDEX([5]Hoja4!$F$2:$F$1672,MATCH(F1056,[5]Hoja4!$G$2:$G$1672,0))","v":19},"Construcción Civil","x","4169_19",null,null,null,"X","x"]
[4169,"Pérez Zeledón","La Amistad","General Viejo",{"$f":"INDEX([5]Hoja4!$F$2:$F$1672,MATCH(F1057,[5]Hoja4!$G$2:$G$1672,0))","v":20},"Contabilidad","x","4169_20",null,null,null,"x","x","x"]
[4169,"Pérez Zeledón","La Amistad","General Viejo",{"$f":"INDEX([5]Hoja4!$F$2:$F$1672,MATCH(F1058,[5]Hoja4!$G$2:$G$1672,0))","v":24},"Contabilidad y Finanzas","x",{"$f":"IF(A1058=\"\",\"\",A1058&\"_\"&E1058)","v":"4169_24"},null,null,null,null,null,null,null,"x"]
[4169,"Pérez Zeledón","La Amistad","General Viejo",{"$f":"INDEX([5]Hoja4!$F$2:$F$1672,MATCH(F1059,[5]Hoja4!$G$2:$G$1672,0))","v":28},"Dibujo y Modelado para Edificaciones","x","4169_28",null,null,"x","X","x","x","X","x"]
[4169,"Pérez Zeledón","La Amistad","General Viejo",{"$f":"INDEX([5]Hoja4!$F$2:$F$1672,MATCH(F1060,[5]Hoja4!$G$2:$G$1672,0))","v":35},"Ejecutivo Comercial y Servicio al Cliente","x","4169_35",null,null,"x","X","x",null,"X","x"]
[4169,"Pérez Zeledón","La Amistad","General Viejo",{"$f":"INDEX([5]Hoja4!$F$2:$F$1672,MATCH(F1061,[5]Hoja4!$G$2:$G$1672,0))","v":46},"Informática en Redes de Computadoras","x","4169_46"]
[4169,"Pérez Zeledón","La Amistad","General Viejo",{"$f":"INDEX([5]Hoja4!$F$2:$F$1672,MATCH(F1062,[5]Hoja4!$G$2:$G$1672,0))","v":56},"Productividad y Calidad","x","4169_56",null,null,null,null,"x"]
[4169,"Pérez Zeledón","La Amistad","General Viejo",{"$f":"INDEX([5]Hoja4!$F$2:$F$1672,MATCH(F1063,[5]Hoja4!$G$2:$G$1672,0))","v":61},"Salud Ocupacional","x","4169_61",null,null,"x",null,null,null,"X"]
[4169,"Pérez Zeledón","La Amistad","General Viejo",{"$f":"INDEX([5]Hoja4!$F$2:$F$1672,MATCH(F1064,[5]Hoja4!$G$2:$G$1672,0))","v":62},"Secretariado Ejecutivo","x","4169_62",null,null,"x","X",null,"x","X"]
[6532,"Pérez Zeledón","La Amistad","Isaías Retana Arias",{"$f":"INDEX([5]Hoja4!$F$2:$F$1672,MATCH(F1065,[5]Hoja4!$G$2:$G$1672,0))","v":5},"Agroecología","x","6532_5",null,null,"x","X","x"]
[6532,"Pérez Zeledón","La Amistad","Isaías Retana Arias",{"$f":"INDEX([5]Hoja4!$F$2:$F$1672,MATCH(F1066,[5]Hoja4!$G$2:$G$1672,0))","v":20},"Contabilidad","x","6532_20",null,null,"x","X","x","x","X","x"]
[6532,"Pérez Zeledón","La Amistad","Isaías Retana Arias",{"$f":"INDEX([5]Hoja4!$F$2:$F$1672,MATCH(F1067,[5]Hoja4!$G$2:$G$1672,0))","v":25},"Desarrollo Web","x","6532_25",null,null,null,null,null,"x","X","x"]
[6532,"Pérez Zeledón","La Amistad","Isaías Retana Arias",{"$f":"INDEX([5]Hoja4!$F$2:$F$1672,MATCH(F1068,[5]Hoja4!$G$2:$G$1672,0))","v":30},"Diseño Publicitario","x","6532_30",null,null,"x","X",null,"x","X"]
[6532,"Pérez Zeledón","La Amistad","Isaías Retana Arias",{"$f":"INDEX([5]Hoja4!$F$2:$F$1672,MATCH(F1069,[5]Hoja4!$G$2:$G$1672,0))","v":35},"Ejecutivo Comercial y Servicio al cliente","x","6532_35",null,null,"x","X","x"]
[6532,"Pérez Zeledón","La Amistad","Isaías Retana Arias",{"$f":"INDEX([5]Hoja4!$F$2:$F$1672,MATCH(F1070,[5]Hoja4!$G$2:$G$1672,0))","v":72},"Desarrollo de aplicaciones móviles","x","6532_72",null,null,"x"]
[6532,"Pérez Zeledón","La Amistad","Isaías Retana Arias",{"$f":"INDEX([5]Hoja4!$F$2:$F$1672,MATCH(F1071,[5]Hoja4!$G$2:$G$1672,0))","v":44},"Informática Empresarial","x","6532_44",null,null,null,"X","x"]
[6532,"Pérez Zeledón","La Amistad","Isaías Retana Arias",{"$f":"INDEX([5]Hoja4!$F$2:$F$1672,MATCH(F1072,[5]Hoja4!$G$2:$G$1672,0))","v":45},"Informática en Desarrollo de Software","x","6532_45"]
[6532,"Pérez Zeledón","La Amistad","Isaías Retana Arias",{"$f":"INDEX([5]Hoja4!$F$2:$F$1672,MATCH(F1073,[5]Hoja4!$G$2:$G$1672,0))","v":62},"Secretariado Ejecutivo","x","6532_62",null,null,null,null,null,"x","X","x"]
[6532,"Pérez Zeledón","La Amistad","Isaías Retana Arias",{"$f":"INDEX([5]Hoja4!$F$2:$F$1672,MATCH(F1074,[5]Hoja4!$G$2:$G$1672,0))","v":34},"Ecoturismo","x","6532_34",null,null,"x","X","x"]
[6532,"Pérez Zeledón","La Amistad","Isaías Retana Arias",{"$f":"INDEX([5]Hoja4!$F$2:$F$1672,MATCH(F1075,[5]Hoja4!$G$2:$G$1672,0))","v":64},"Turismo Ecológico","x","6532_64"]
[4168,"Pérez Zeledón","La Amistad","Pejibaye",{"$f":"INDEX([5]Hoja4!$F$2:$F$1672,MATCH(F1076,[5]Hoja4!$G$2:$G$1672,0))","v":5},"Agroecología","x","4168_5",null,null,null,null,"x"]
[4168,"Pérez Zeledón","La Amistad","Pejibaye",{"$f":"INDEX([5]Hoja4!$F$2:$F$1672,MATCH(F1077,[5]Hoja4!$G$2:$G$1672,0))","v":73},"Gerencia y producción en cocina ","x","4168_73",null,null,"x",null,"X","x"]
[4168,"Pérez Zeledón","La Amistad","Pejibaye",{"$f":"INDEX([5]Hoja4!$F$2:$F$1672,MATCH(F1078,[5]Hoja4!$G$2:$G$1672,0))","v":15},"Ciberseguridad","x","4168_15",null,null,"x",null,null,null,null,"x"]
[4168,"Pérez Zeledón","La Amistad","Pejibaye",{"$f":"INDEX([5]Hoja4!$F$2:$F$1672,MATCH(F1079,[5]Hoja4!$G$2:$G$1672,0))","v":20},"Contabilidad","x","4168_20",null,null,"x","X","x","x","x"]
[4168,"Pérez Zeledón","La Amistad","Pejibaye",{"$f":"INDEX([5]Hoja4!$F$2:$F$1672,MATCH(F1080,[5]Hoja4!$G$2:$G$1672,0))","v":44},"Informática Empresarial","x","4168_44",null,null,null,"X","x",null,"x","x"]
[4168,"Pérez Zeledón","La Amistad","Pejibaye",{"$f":"INDEX([5]Hoja4!$F$2:$F$1672,MATCH(F1081,[5]Hoja4!$G$2:$G$1672,0))","v":18},"Configuración y soporte de redes de comunicación y sistemas operativos","x","4168_18",null,null,null,null,null,"x","x"]
[4168,"Pérez Zeledón","La Amistad","Pejibaye",{"$f":"INDEX([5]Hoja4!$F$2:$F$1672,MATCH(F1082,[5]Hoja4!$G$2:$G$1672,0))","v":54},"Operación de Empresas de Alojamiento","x","4168_54",null,null,null,null,"x"]
[4168,"Pérez Zeledón","La Amistad","Pejibaye",{"$f":"INDEX([5]Hoja4!$F$2:$F$1672,MATCH(F1083,[5]Hoja4!$G$2:$G$1672,0))","v":55},"Producción Agrícola y Pecuaria","x","4168_55",null,null,"x",null,"x"]
[4168,"Pérez Zeledón","La Amistad","Pejibaye",{"$f":"INDEX([5]Hoja4!$F$2:$F$1672,MATCH(F1084,[5]Hoja4!$G$2:$G$1672,0))","v":62},"Secretariado Ejecutivo","x","4168_62",null,null,"x","X","x","x","x","x"]
[4168,"Pérez Zeledón","La Amistad","Pejibaye",{"$f":"INDEX([5]Hoja4!$F$2:$F$1672,MATCH(F1085,[5]Hoja4!$G$2:$G$1672,0))","v":65},"Turismo en Alimentos y Bebidas","x","4168_65",null,null,null,null,null,null,"x"]
[4168,"Pérez Zeledón","La Amistad","Pejibaye",{"$f":"INDEX([5]Hoja4!$F$2:$F$1672,MATCH(F1086,[5]Hoja4!$G$2:$G$1672,0))","v":66},"Turismo en Hotelería y Eventos Especiales","x","4168_66"]
[4167,"Pérez Zeledón","La Amistad","Platanares",{"$f":"INDEX([5]Hoja4!$F$2:$F$1672,MATCH(F1087,[5]Hoja4!$G$2:$G$1672,0))","v":71},"Organización de operaciones y servicios de alimentos y bebidas","x","4167_71",null,null,"x",null,null,"x"]
[4167,"Pérez Zeledón","La Amistad","Platanares",{"$f":"INDEX([5]Hoja4!$F$2:$F$1672,MATCH(F1088,[5]Hoja4!$G$2:$G$1672,0))","v":18},"Configuración y soporte de redes de comunicación y sistemas operativos","x","4167_18",null,null,"x","x","x"]
[4167,"Pérez Zeledón","La Amistad","Platanares",{"$f":"INDEX([5]Hoja4!$F$2:$F$1672,MATCH(F1089,[5]Hoja4!$G$2:$G$1672,0))","v":20},"Contabilidad","x","4167_20",null,null,"x","x","x","x","x","x"]
[4167,"Pérez Zeledón","La Amistad","Platanares",{"$f":"INDEX([5]Hoja4!$F$2:$F$1672,MATCH(F1090,[5]Hoja4!$G$2:$G$1672,0))","v":40},"Electrónica Industrial","x","4167_40",null,null,"x","x","x","x"]
[4167,"Pérez Zeledón","La Amistad","Platanares",{"$f":"INDEX([5]Hoja4!$F$2:$F$1672,MATCH(F1091,[5]Hoja4!$G$2:$G$1672,0))","v":44},"Informática Empresarial","x","4167_44",null,null,null,null,null,null,"x"]
[4167,"Pérez Zeledón","La Amistad","Platanares",{"$f":"INDEX([5]Hoja4!$F$2:$F$1672,MATCH(F1092,[5]Hoja4!$G$2:$G$1672,0))","v":55},"Producción Agrícola y Pecuaria","x","4167_55",null,null,"x","x","x"]
[4167,"Pérez Zeledón","La Amistad","Platanares",{"$f":"INDEX([5]Hoja4!$F$2:$F$1672,MATCH(F1093,[5]Hoja4!$G$2:$G$1672,0))","v":62},"Secretariado Ejecutivo","x","4167_62",null,null,null,"x","x","x","x","x"]
[4167,"Pérez Zeledón","La Amistad","Platanares",{"$f":"INDEX([5]Hoja4!$F$2:$F$1672,MATCH(F1094,[5]Hoja4!$G$2:$G$1672,0))","v":65},"Turismo en Alimentos y Bebidas","x","4167_65",null,null,null,"x","x",null,"x","x"]
[4167,"Pérez Zeledón","La Amistad","Platanares",{"$f":"INDEX([5]Hoja4!$F$2:$F$1672,MATCH(F1095,[5]Hoja4!$G$2:$G$1672,0))","v":72},"Desarrollo de aplicaciones móviles","x","4167_72",null,null,"x"]
[4167,"Pérez Zeledón","La Amistad","Platanares",{"$f":"INDEX([5]Hoja4!$F$2:$F$1672,MATCH(F1096,[5]Hoja4!$G$2:$G$1672,0))","v":67},"Turismo Rural","x","4167_67",null,null,"x","x"]
[4166,"Pérez Zeledón","La Amistad","San Isidro de Pérez Zeledón",{"$f":"INDEX([5]Hoja4!$F$2:$F$1672,MATCH(F1097,[5]Hoja4!$G$2:$G$1672,0))","v":20},"Contabilidad","x","4166_20",null,null,"x","X","x",null,"X","x"]
[4166,"Pérez Zeledón","La Amistad","San Isidro de Pérez Zeledón",{"$f":"INDEX([5]Hoja4!$F$2:$F$1672,MATCH(F1098,[5]Hoja4!$G$2:$G$1672,0))","v":24},"Contabilidad y Finanzas","x","4166_24",null,null,"x","X","x"]
[4166,"Pérez Zeledón","La Amistad","San Isidro de Pérez Zeledón",{"$f":"INDEX([5]Hoja4!$F$2:$F$1672,MATCH(F1099,[5]Hoja4!$G$2:$G$1672,0))","v":29},"Diseño Gráfico","x","4166_29",null,null,"x","x","x","x",null,"x"]
[4166,"Pérez Zeledón","La Amistad","San Isidro de Pérez Zeledón",{"$f":"INDEX([5]Hoja4!$F$2:$F$1672,MATCH(F1100,[5]Hoja4!$G$2:$G$1672,0))","v":53},"Mercadeo","x","4166_53",null,null,"x","x",null,"x"]
[4166,"Pérez Zeledón","La Amistad","San Isidro de Pérez Zeledón",{"$f":"INDEX([5]Hoja4!$F$2:$F$1672,MATCH(F1101,[5]Hoja4!$G$2:$G$1672,0))","v":37},"Electromecánica","x","4166_37",null,null,"x",null,"x",null,null,"x"]
[4166,"Pérez Zeledón","La Amistad","San Isidro de Pérez Zeledón",{"$f":"INDEX([5]Hoja4!$F$2:$F$1672,MATCH(F1102,[5]Hoja4!$G$2:$G$1672,0))","v":45},"Informática en Desarrollo de Software","x","4166_45",null,null,null,null,"x"]
[4166,"Pérez Zeledón","La Amistad","San Isidro de Pérez Zeledón",{"$f":"INDEX([5]Hoja4!$F$2:$F$1672,MATCH(F1103,[5]Hoja4!$G$2:$G$1672,0))","v":50},"Mecánica de Precisión","x","4166_50",null,null,"x",null,"x"]
[4166,"Pérez Zeledón","La Amistad","San Isidro de Pérez Zeledón",{"$f":"INDEX([5]Hoja4!$F$2:$F$1672,MATCH(F1104,[5]Hoja4!$G$2:$G$1672,0))","v":54},"Operación de Empresas de Alojamiento","x","4166_54",null,null,"x","X","x","x"]
[4166,"Pérez Zeledón","La Amistad","San Isidro de Pérez Zeledón",{"$f":"INDEX([5]Hoja4!$F$2:$F$1672,MATCH(F1105,[5]Hoja4!$G$2:$G$1672,0))","v":62},"Secretariado Ejecutivo","x","4166_62",null,null,"x","x","x","x","x","x"]
[4166,"Pérez Zeledón","La Amistad","San Isidro de Pérez Zeledón",{"$f":"INDEX([5]Hoja4!$F$2:$F$1672,MATCH(F1106,[5]Hoja4!$G$2:$G$1672,0))","v":72},"Desarrollo de aplicaciones móviles","x","4166_72",null,null,"x",null,null,"x"]
[4166,"Pérez Zeledón","La Amistad","San Isidro de Pérez Zeledón",{"$f":"INDEX([5]Hoja4!$F$2:$F$1672,MATCH(F1107,[5]Hoja4!$G$2:$G$1672,0))","v":73},"Gerencia y producción en cocina ","x","4166_73",null,null,"x",null,null,"x"]
[4166,"Pérez Zeledón","La Amistad","San Isidro de Pérez Zeledón",{"$f":"INDEX([5]Hoja4!$F$2:$F$1672,MATCH(F1108,[5]Hoja4!$G$2:$G$1672,0))","v":65},"Turismo en Alimentos y Bebidas","x","4166_65",null,null,null,"X","x",null,null,"x"]
[4166,"Pérez Zeledón","La Amistad","San Isidro de Pérez Zeledón",{"$f":"INDEX([5]Hoja4!$F$2:$F$1672,MATCH(F1109,[5]Hoja4!$G$2:$G$1672,0))","v":66},"Turismo en Hotelería y Eventos Especiales","x","4166_66"]
[6519,"Puntarenas","Pacífico Central","CINDEA Judas (Central)",{"$f":"INDEX([5]Hoja4!$F$2:$F$1672,MATCH(F1110,[5]Hoja4!$G$2:$G$1672,0))","v":3},"Administración, Logística y Distribución","x","6519_3",null,null,null,null,null,null,"X","x"]
[6519,"Puntarenas","Pacífico Central","CINDEA Judas (Central)",{"$f":"INDEX([5]Hoja4!$F$2:$F$1672,MATCH(F1111,[5]Hoja4!$G$2:$G$1672,0))","v":20},"Contabilidad","x","6519_20",null,null,null,null,null,null,"x","x"]
[6519,"Puntarenas","Pacífico Central","CINDEA Judas (Central)",{"$f":"INDEX([5]Hoja4!$F$2:$F$1672,MATCH(F1112,[5]Hoja4!$G$2:$G$1672,0))","v":25},"Desarrollo Web","x","6519_25",null,null,null,null,null,null,"X","x"]
[6519,"Puntarenas","Pacífico Central","CINDEA Judas (Central)",{"$f":"INDEX([5]Hoja4!$F$2:$F$1672,MATCH(F1113,[5]Hoja4!$G$2:$G$1672,0))","v":62},"Secretariado Ejecutivo","x","6519_62",null,null,null,null,null,null,"x","x"]
[6550,"Puntarenas","Pacífico Central","Esparza",{"$f":"INDEX([5]Hoja4!$F$2:$F$1672,MATCH(F1114,[5]Hoja4!$G$2:$G$1672,0))","v":3},"Administración, Logística y Distribución","x","6550_3",null,null,"x","X","x"]
[6550,"Puntarenas","Pacífico Central","Esparza",{"$f":"INDEX([5]Hoja4!$F$2:$F$1672,MATCH(F1115,[5]Hoja4!$G$2:$G$1672,0))","v":68},"Gestión de la Producción","x","6550_68",null,"x","x"]
[6550,"Puntarenas","Pacífico Central","Esparza",{"$f":"INDEX([5]Hoja4!$F$2:$F$1672,MATCH(F1116,[5]Hoja4!$G$2:$G$1672,0))","v":40},"Electrónica Industrial","x","6550_40",null,null,"x","X","x"]
[6550,"Puntarenas","Pacífico Central","Esparza",{"$f":"INDEX([5]Hoja4!$F$2:$F$1672,MATCH(F1117,[5]Hoja4!$G$2:$G$1672,0))","v":18},"Configuración y soporte de redes de comunicación y sistemas operativos","x","6550_18",null,null,"x"]
[6550,"Puntarenas","Pacífico Central","Esparza",{"$f":"INDEX([5]Hoja4!$F$2:$F$1672,MATCH(F1118,[5]Hoja4!$G$2:$G$1672,0))","v":44},"Informática Empresarial","x","6550_44",null,null,null,"X","x"]
[4866,"Puntarenas","Pacífico Central","IPEC de Puntarenas Fray Casiano de Madrid (Central)",{"$f":"INDEX([5]Hoja4!$F$2:$F$1672,MATCH(F1119,[5]Hoja4!$G$2:$G$1672,0))","v":3},"Administración, Logística y Distribución","x","4866_3",null,null,null,"x","x","x",null,"x"]
[4866,"Puntarenas","Pacífico Central","IPEC de Puntarenas Fray Casiano de Madrid (Central)",{"$f":"INDEX([5]Hoja4!$F$2:$F$1672,MATCH(F1120,[5]Hoja4!$G$2:$G$1672,0))","v":24},"Contabilidad y Finanzas","x","4866_24","x"]
[4866,"Puntarenas","Pacífico Central","IPEC de Puntarenas Fray Casiano de Madrid (Central)",{"$f":"INDEX([5]Hoja4!$F$2:$F$1672,MATCH(F1121,[5]Hoja4!$G$2:$G$1672,0))","v":74},"Gestión de la calidad","x","4866_74","x"]
[4866,"Puntarenas","Pacífico Central","IPEC de Puntarenas Fray Casiano de Madrid (Central)",{"$f":"INDEX([5]Hoja4!$F$2:$F$1672,MATCH(F1122,[5]Hoja4!$G$2:$G$1672,0))","v":13},"Banca y Finanzas","x",{"$f":"IF(A1122=\"\",\"\",A1122&\"_\"&E1122)","v":"4866_13"},null,null,null,"x","x","x","x","x"]
[4867,"Puntarenas","Pacífico Central","IPEC de Puntarenas Fray Casiano de Madrid (Central)",{"$f":"INDEX([5]Hoja4!$F$2:$F$1672,MATCH(F1123,[5]Hoja4!$G$2:$G$1672,0))","v":54},"Operación de Empresas de Alojamiento","x","4867_54",null,null,null,"x"]
[4867,"Puntarenas","Pacífico Central","IPEC de Puntarenas Fray Casiano de Madrid (Central)",{"$f":"INDEX([5]Hoja4!$F$2:$F$1672,MATCH(F1124,[5]Hoja4!$G$2:$G$1672,0))","v":68},"Gestión de la Producción","x","4867_68",null,null,null,"x",null,null,"x"]
[4867,"Puntarenas","Pacífico Central","IPEC de Puntarenas Fray Casiano de Madrid (Central)",{"$f":"INDEX([5]Hoja4!$F$2:$F$1672,MATCH(F1125,[5]Hoja4!$G$2:$G$1672,0))","v":71},"Organización de operaciones y servicios de alimentos y bebidas","x","4867_71","x",null,null,null,null,"x"]
[4866,"Puntarenas","Pacífico Central","IPEC de Puntarenas Fray Casiano de Madrid (Central)",{"$f":"INDEX([5]Hoja4!$F$2:$F$1672,MATCH(F1126,[5]Hoja4!$G$2:$G$1672,0))","v":56},"Productividad y Calidad","x","4866_56",null,null,null,null,"x",null,null,"x"]
[4866,"Puntarenas","Pacífico Central","IPEC de Puntarenas Fray Casiano de Madrid (Central)",{"$f":"INDEX([5]Hoja4!$F$2:$F$1672,MATCH(F1127,[5]Hoja4!$G$2:$G$1672,0))","v":61},"Salud Ocupacional","x","4866_61","x",null,null,null,"x","x","x","x"]
[4209,"Puntarenas","Pacífico Central","Puntarenas",{"$f":"INDEX([5]Hoja4!$F$2:$F$1672,MATCH(F1128,[5]Hoja4!$G$2:$G$1672,0))","v":2},"Administración y Operación Aduanera","x","4209_2",null,null,null,"x","x","x",null,"x"]
[4209,"Puntarenas","Pacífico Central","Puntarenas",{"$f":"INDEX([5]Hoja4!$F$2:$F$1672,MATCH(F1129,[5]Hoja4!$G$2:$G$1672,0))","v":3},"Administración, Logística y Distribución","x","4209_3"]
[4209,"Puntarenas","Pacífico Central","Puntarenas",{"$f":"INDEX([5]Hoja4!$F$2:$F$1672,MATCH(F1130,[5]Hoja4!$G$2:$G$1672,0))","v":18},"Configuración y soporte de redes de comunicación y sistemas operativos","x","4209_18",null,null,"x","X","x","x","x","x"]
[4209,"Puntarenas","Pacífico Central","Puntarenas",{"$f":"INDEX([5]Hoja4!$F$2:$F$1672,MATCH(F1131,[5]Hoja4!$G$2:$G$1672,0))","v":20},"Contabilidad","x","4209_20",null,null,"x","X",null,"x",null,"x"]
[4209,"Puntarenas","Pacífico Central","Puntarenas",{"$f":"INDEX([5]Hoja4!$F$2:$F$1672,MATCH(F1132,[5]Hoja4!$G$2:$G$1672,0))","v":30},"Diseño Publicitario","x","4209_30",null,null,"x","X","x","x","x"]
[4209,"Puntarenas","Pacífico Central","Puntarenas",{"$f":"INDEX([5]Hoja4!$F$2:$F$1672,MATCH(F1133,[5]Hoja4!$G$2:$G$1672,0))","v":35},"Ejecutivo Comercial y Servicio al cliente","x","4209_35",null,null,null,null,"x",null,null,"x"]
[4209,"Puntarenas","Pacífico Central","Puntarenas",{"$f":"INDEX([5]Hoja4!$F$2:$F$1672,MATCH(F1134,[5]Hoja4!$G$2:$G$1672,0))","v":39},"Electrónica en Telecomunicaciones","x","4209_39",null,null,"x",null,"x",null,null,"x"]
[4209,"Puntarenas","Pacífico Central","Puntarenas",{"$f":"INDEX([5]Hoja4!$F$2:$F$1672,MATCH(F1135,[5]Hoja4!$G$2:$G$1672,0))","v":40},"Electrónica Industrial","x","4209_40",null,null,"x","X","x","x","x"]
[4209,"Puntarenas","Pacífico Central","Puntarenas",{"$f":"INDEX([5]Hoja4!$F$2:$F$1672,MATCH(F1136,[5]Hoja4!$G$2:$G$1672,0))","v":50},"Mecánica de Precisión","x","4209_50",null,null,null,"X"]
[4209,"Puntarenas","Pacífico Central","Puntarenas",{"$f":"INDEX([5]Hoja4!$F$2:$F$1672,MATCH(F1137,[5]Hoja4!$G$2:$G$1672,0))","v":58},"Refrigeración y Aire Acondicionado","x","4209_58",null,null,null,"X",null,"x","x","x"]
[4209,"Puntarenas","Pacífico Central","Puntarenas",{"$f":"INDEX([5]Hoja4!$F$2:$F$1672,MATCH(F1138,[5]Hoja4!$G$2:$G$1672,0))","v":59},"Reparación de los Sistemas de Vehículos Livianos","x","4209_59",null,null,"x","X","x","x","x","x"]
[4209,"Puntarenas","Pacífico Central","Puntarenas",{"$f":"INDEX([5]Hoja4!$F$2:$F$1672,MATCH(F1139,[5]Hoja4!$G$2:$G$1672,0))","v":62},"Secretariado Ejecutivo","x","4209_62",null,null,"x","X","x",null,"x","x"]
[4209,"Puntarenas","Pacífico Central","Puntarenas",{"$f":"INDEX([5]Hoja4!$F$2:$F$1672,MATCH(F1140,[5]Hoja4!$G$2:$G$1672,0))","v":65},"Turismo en Alimentos y Bebidas","x","4209_65",null,null,null,null,"x",null,"x","x"]
[4212,"Puntarenas","Pacífico Central","Santa Elena de Monteverde",{"$f":"INDEX([5]Hoja4!$F$2:$F$1672,MATCH(F1141,[5]Hoja4!$G$2:$G$1672,0))","v":20},"Contabilidad","x","4212_20",null,null,null,"x","x","x"]
[4212,"Puntarenas","Pacífico Central","Santa Elena de Monteverde",{"$f":"INDEX([5]Hoja4!$F$2:$F$1672,MATCH(F1142,[5]Hoja4!$G$2:$G$1672,0))","v":34},"Ecoturismo","x","4212_34",null,null,"x","x","x"]
[4212,"Puntarenas","Pacífico Central","Santa Elena de Monteverde",{"$f":"INDEX([5]Hoja4!$F$2:$F$1672,MATCH(F1143,[5]Hoja4!$G$2:$G$1672,0))","v":64},"Turismo Ecológico","x","4212_64"]
[4212,"Puntarenas","Pacífico Central","Santa Elena de Monteverde",{"$f":"INDEX([5]Hoja4!$F$2:$F$1672,MATCH(F1144,[5]Hoja4!$G$2:$G$1672,0))","v":65},"Turismo en Alimentos y Bebidas","x","4212_65",null,null,null,"x","x"]
[4212,"Puntarenas","Pacífico Central","Santa Elena de Monteverde",{"$f":"INDEX([5]Hoja4!$F$2:$F$1672,MATCH(F1145,[5]Hoja4!$G$2:$G$1672,0))","v":71},"Organización de operaciones y servicios de alimentos y bebidas","x","4212_71",null,null,"x",null,null,"x"]
[4212,"Puntarenas","Pacífico Central","Santa Elena de Monteverde",{"$f":"INDEX([5]Hoja4!$F$2:$F$1672,MATCH(F1146,[5]Hoja4!$G$2:$G$1672,0))","v":29},"Diseño Gráfico","x","4212_29",null,null,null,null,null,"x"]
[4212,"Puntarenas","Pacífico Central","Santa Elena de Monteverde",{"$f":"INDEX([5]Hoja4!$F$2:$F$1672,MATCH(F1147,[5]Hoja4!$G$2:$G$1672,0))","v":54},"Operación de Empresas de Alojamiento","x","4212_54",null,null,"x"]
[4212,"Puntarenas","Pacífico Central","Santa Elena de Monteverde",{"$f":"INDEX([5]Hoja4!$F$2:$F$1672,MATCH(F1148,[5]Hoja4!$G$2:$G$1672,0))","v":66},"Turismo en Hotelería y Eventos Especiales","x","4212_66"]
[4212,"Puntarenas","Pacífico Central","Santa Elena de Monteverde",{"$f":"INDEX([5]Hoja4!$F$2:$F$1672,MATCH(F1149,[5]Hoja4!$G$2:$G$1672,0))","v":67},"Turismo Rural","x","4212_67",null,null,"x","x"]
[4165,"Puriscal","Puriscal Unido","La Gloria",{"$f":"INDEX([5]Hoja4!$F$2:$F$1672,MATCH(F1150,[5]Hoja4!$G$2:$G$1672,0))","v":6},"Agroindustria Alimentaria con Tecnología Agrícola","x","4165_6",null,null,"x","x","x"]
[4165,"Puriscal","Puriscal Unido","La Gloria",{"$f":"INDEX([5]Hoja4!$F$2:$F$1672,MATCH(F1151,[5]Hoja4!$G$2:$G$1672,0))","v":18},"Configuración y soporte de redes de comunicación y sistemas operativos","x","4165_18",null,null,"x",null,"x"]
[4165,"Puriscal","Puriscal Unido","La Gloria",{"$f":"INDEX([5]Hoja4!$F$2:$F$1672,MATCH(F1152,[5]Hoja4!$G$2:$G$1672,0))","v":20},"Contabilidad","x","4165_20",null,null,"x"]
[4165,"Puriscal","Puriscal Unido","La Gloria",{"$f":"INDEX([5]Hoja4!$F$2:$F$1672,MATCH(F1153,[5]Hoja4!$G$2:$G$1672,0))","v":55},"Producción Agrícola y Pecuaria","x","4165_55",null,null,"x","x"]
[4165,"Puriscal","Puriscal Unido","La Gloria",{"$f":"INDEX([5]Hoja4!$F$2:$F$1672,MATCH(F1154,[5]Hoja4!$G$2:$G$1672,0))","v":67},"Turismo Rural","x","4165_67",null,null,"x",null,"x"]
[6548,"Puriscal","Puriscal Unido","Mora",{"$f":"INDEX([5]Hoja4!$F$2:$F$1672,MATCH(F1155,[5]Hoja4!$G$2:$G$1672,0))","v":3},"Administración, Logística y Distribución","x","6548_3",null,null,"x","X","x"]
[6548,"Puriscal","Puriscal Unido","Mora",{"$f":"INDEX([5]Hoja4!$F$2:$F$1672,MATCH(F1156,[5]Hoja4!$G$2:$G$1672,0))","v":25},"Desarrollo Web","x","6548_25",null,null,"x","X","x"]
[6548,"Puriscal","Puriscal Unido","Mora",{"$f":"INDEX([5]Hoja4!$F$2:$F$1672,MATCH(F1157,[5]Hoja4!$G$2:$G$1672,0))","v":35},"Ejecutivo Comercial y Servicio al Cliente","x","6548_35",null,null,"x","X","x"]
[6548,"Puriscal","Puriscal Unido","Mora",{"$f":"INDEX([5]Hoja4!$F$2:$F$1672,MATCH(F1158,[5]Hoja4!$G$2:$G$1672,0))","v":40},"Electrónica Industrial","x","6548_40",null,null,"x","X","x"]
[6548,"Puriscal","Puriscal Unido","Mora",{"$f":"INDEX([5]Hoja4!$F$2:$F$1672,MATCH(F1159,[5]Hoja4!$G$2:$G$1672,0))","v":44},"Informática Empresarial","x","6548_44"]
[6505,"Puriscal","Puriscal Unido","Palmichal",{"$f":"INDEX([5]Hoja4!$F$2:$F$1672,MATCH(F1160,[5]Hoja4!$G$2:$G$1672,0))","v":3},"Administración, Logística y Distribución","x","6505_3",null,null,null,null,null,null,"X"]
[6505,"Puriscal","Puriscal Unido","Palmichal",{"$f":"INDEX([5]Hoja4!$F$2:$F$1672,MATCH(F1161,[5]Hoja4!$G$2:$G$1672,0))","v":18},"Configuración y soporte de redes de comunicación y sistemas operativos","x","6505_18",null,null,null,null,"x",null,null,"x"]
[6505,"Puriscal","Puriscal Unido","Palmichal",{"$f":"INDEX([5]Hoja4!$F$2:$F$1672,MATCH(F1162,[5]Hoja4!$G$2:$G$1672,0))","v":20},"Contabilidad","x","6505_20",null,null,null,"X","x",null,null,"x"]
[6505,"Puriscal","Puriscal Unido","Palmichal",{"$f":"INDEX([5]Hoja4!$F$2:$F$1672,MATCH(F1163,[5]Hoja4!$G$2:$G$1672,0))","v":71},"Organización de operaciones y servicios de alimentos y bebidas","x","6505_71",null,null,"x",null,null,"x"]
[6505,"Puriscal","Puriscal Unido","Palmichal",{"$f":"INDEX([5]Hoja4!$F$2:$F$1672,MATCH(F1164,[5]Hoja4!$G$2:$G$1672,0))","v":15},"Ciberseguridad","x","6505_15",null,null,"x"]
[6505,"Puriscal","Puriscal Unido","Palmichal",{"$f":"INDEX([5]Hoja4!$F$2:$F$1672,MATCH(F1165,[5]Hoja4!$G$2:$G$1672,0))","v":62},"Secretariado Ejecutivo",null,"6505_62",null,null,"x","X",null,"x","X"]
[6505,"Puriscal","Puriscal Unido","Palmichal",{"$f":"INDEX([5]Hoja4!$F$2:$F$1672,MATCH(F1166,[5]Hoja4!$G$2:$G$1672,0))","v":65},"Turismo en Alimentos y Bebidas",null,"6505_65",null,null,null,"X","x"]
[4163,"Puriscal","Puriscal Unido","Puriscal",{"$f":"INDEX([5]Hoja4!$F$2:$F$1672,MATCH(F1167,[5]Hoja4!$G$2:$G$1672,0))","v":1},"Accounting",null,"4163_1",null,null,"x","X"]
[4163,"Puriscal","Puriscal Unido","Puriscal",{"$f":"INDEX([5]Hoja4!$F$2:$F$1672,MATCH(F1168,[5]Hoja4!$G$2:$G$1672,0))","v":5},"Agroecología",null,"4163_5",null,null,"x","X","x"]
[4163,"Puriscal","Puriscal Unido","Puriscal",{"$f":"INDEX([5]Hoja4!$F$2:$F$1672,MATCH(F1169,[5]Hoja4!$G$2:$G$1672,0))","v":13},"Banca y Finanzas",null,"4163_13",null,null,"x",null,null,null,null,"x"]
[4163,"Puriscal","Puriscal Unido","Puriscal",{"$f":"INDEX([5]Hoja4!$F$2:$F$1672,MATCH(F1170,[5]Hoja4!$G$2:$G$1672,0))","v":15},"Ciberseguridad",null,"4163_15",null,null,"x","X","x"]
[4163,"Puriscal","Puriscal Unido","Puriscal",{"$f":"INDEX([5]Hoja4!$F$2:$F$1672,MATCH(F1171,[5]Hoja4!$G$2:$G$1672,0))","v":17},"Computer Science In Software Development",null,"4163_17",null,null,null,null,"x"]
[4163,"Puriscal","Puriscal Unido","Puriscal",{"$f":"INDEX([5]Hoja4!$F$2:$F$1672,MATCH(F1172,[5]Hoja4!$G$2:$G$1672,0))","v":18},"Configuración y soporte de redes de comunicación y sistemas operativos",null,"4163_18",null,null,"x","X","x","x","X","x"]
[4163,"Puriscal","Puriscal Unido","Puriscal",{"$f":"INDEX([5]Hoja4!$F$2:$F$1672,MATCH(F1173,[5]Hoja4!$G$2:$G$1672,0))","v":68},"Gestión de la Producción",null,"4163_68",null,null,null,"x",null,null,"X"]
[4163,"Puriscal","Puriscal Unido","Puriscal",{"$f":"INDEX([5]Hoja4!$F$2:$F$1672,MATCH(F1174,[5]Hoja4!$G$2:$G$1672,0))","v":20},"Contabilidad",null,"4163_20",null,null,"x","X","x","x","X"]
[4163,"Puriscal","Puriscal Unido","Puriscal",{"$f":"INDEX([5]Hoja4!$F$2:$F$1672,MATCH(F1175,[5]Hoja4!$G$2:$G$1672,0))","v":27},"Dibujo Técnico",null,"4163_27",null,null,"x","X"]
[4163,"Puriscal","Puriscal Unido","Puriscal",{"$f":"INDEX([5]Hoja4!$F$2:$F$1672,MATCH(F1176,[5]Hoja4!$G$2:$G$1672,0))","v":29},"Diseño Gráfico",null,"4163_29",null,null,"x","X","x"]
[4163,"Puriscal","Puriscal Unido","Puriscal",{"$f":"INDEX([5]Hoja4!$F$2:$F$1672,MATCH(F1177,[5]Hoja4!$G$2:$G$1672,0))","v":33},"Diseño y Desarrollo Digital",null,"4163_33",null,null,null,null,"x"]
[4163,"Puriscal","Puriscal Unido","Puriscal",{"$f":"INDEX([5]Hoja4!$F$2:$F$1672,MATCH(F1178,[5]Hoja4!$G$2:$G$1672,0))","v":42},"Executive Service Centers",null,"4163_42",null,null,"x","X","x","X"]
[4163,"Puriscal","Puriscal Unido","Puriscal",{"$f":"INDEX([5]Hoja4!$F$2:$F$1672,MATCH(F1179,[5]Hoja4!$G$2:$G$1672,0))","v":70},"Inteligencia Artificial",null,"4163_70",null,null,"x","x"]
[4163,"Puriscal","Puriscal Unido","Puriscal",{"$f":"INDEX([5]Hoja4!$F$2:$F$1672,MATCH(F1180,[5]Hoja4!$G$2:$G$1672,0))","v":55},"Producción Agrícola y Pecuaria",null,"4163_55",null,null,"x","X","X",null,null,"X"]
[4163,"Puriscal","Puriscal Unido","Puriscal",{"$f":"INDEX([5]Hoja4!$F$2:$F$1672,MATCH(F1181,[5]Hoja4!$G$2:$G$1672,0))","v":35},"Ejecutivo Comercial y Servicio al cliente",null,"4163_35",null,null,null,null,null,null,"x"]
[4163,"Puriscal","Puriscal Unido","Puriscal",{"$f":"INDEX([5]Hoja4!$F$2:$F$1672,MATCH(F1182,[5]Hoja4!$G$2:$G$1672,0))","v":56},"Productividad y Calidad",null,"4163_56",null,null,null,null,null,null,null,"x"]
[4163,"Puriscal","Puriscal Unido","Puriscal",{"$f":"INDEX([5]Hoja4!$F$2:$F$1672,MATCH(F1183,[5]Hoja4!$G$2:$G$1672,0))","v":62},"Secretariado Ejecutivo",null,"4163_62",null,null,"x","X","x","x","X","x"]
[4163,"Puriscal","Puriscal Unido","Puriscal",{"$f":"INDEX([5]Hoja4!$F$2:$F$1672,MATCH(F1184,[5]Hoja4!$G$2:$G$1672,0))","v":64},"Turismo Ecológico",null,"4163_64"]
[4163,"Puriscal","Puriscal Unido","Puriscal",{"$f":"INDEX([5]Hoja4!$F$2:$F$1672,MATCH(F1185,[5]Hoja4!$G$2:$G$1672,0))","v":65},"Turismo en Alimentos y Bebidas",null,"4163_65",null,null,null,"X",null,null,null,"x"]
[4163,"Puriscal","Puriscal Unido","Puriscal",{"$f":"INDEX([5]Hoja4!$F$2:$F$1672,MATCH(F1186,[5]Hoja4!$G$2:$G$1672,0))","v":34},"Ecoturismo",null,{"$f":"IF(A1186=\"\",\"\",A1186&\"_\"&E1186)","v":"4163_34"},null,null,"x"]
[4163,"Puriscal","Puriscal Unido","Puriscal",{"$f":"INDEX([5]Hoja4!$F$2:$F$1672,MATCH(F1187,[5]Hoja4!$G$2:$G$1672,0))","v":71},"Organización de operaciones y servicios de alimentos y bebidas",null,"4163_71",null,null,"x"]
[4163,"Puriscal","Puriscal Unido","Puriscal",{"$f":"INDEX([5]Hoja4!$F$2:$F$1672,MATCH(F1188,[5]Hoja4!$G$2:$G$1672,0))","v":73},"Gerencia y producción en cocina ",null,"4163_73",null,null,null,null,null,"x"]
[4163,"Puriscal","Puriscal Unido","Puriscal",{"$f":"INDEX([5]Hoja4!$F$2:$F$1672,MATCH(F1189,[5]Hoja4!$G$2:$G$1672,0))","v":67},"Turismo Rural",null,"4163_67",null,null,null,null,"x"]
[4164,"Puriscal","Puriscal Unido","Turrubares",{"$f":"INDEX([5]Hoja4!$F$2:$F$1672,MATCH(F1190,[5]Hoja4!$G$2:$G$1672,0))","v":67},"Turismo Rural",null,"4164_67",null,null,"x"]
[4164,"Puriscal","Puriscal Unido","Turrubares",{"$f":"INDEX([5]Hoja4!$F$2:$F$1672,MATCH(F1191,[5]Hoja4!$G$2:$G$1672,0))","v":20},"Contabilidad",null,"4164_20",null,null,"x",null,"x"]
[4164,"Puriscal","Puriscal Unido","Turrubares",{"$f":"INDEX([5]Hoja4!$F$2:$F$1672,MATCH(F1192,[5]Hoja4!$G$2:$G$1672,0))","v":25},"Desarrollo Web",null,"4164_25",null,null,null,"X","x"]
[4164,"Puriscal","Puriscal Unido","Turrubares",{"$f":"INDEX([5]Hoja4!$F$2:$F$1672,MATCH(F1193,[5]Hoja4!$G$2:$G$1672,0))","v":44},"Informática Empresarial",null,"4164_44"]
[4164,"Puriscal","Puriscal Unido","Turrubares",{"$f":"INDEX([5]Hoja4!$F$2:$F$1672,MATCH(F1194,[5]Hoja4!$G$2:$G$1672,0))","v":55},"Producción Agrícola y Pecuaria",null,"4164_55",null,null,"x","X","x"]
[4164,"Puriscal","Puriscal Unido","Turrubares",{"$f":"INDEX([5]Hoja4!$F$2:$F$1672,MATCH(F1195,[5]Hoja4!$G$2:$G$1672,0))","v":65},"Turismo en Alimentos y Bebidas",null,"4164_65",null,null,null,"X","x"]
["n/a3","San Carlos","Llanuras y Montañas del Norte","Agropecuario de San Carlos",{"$f":"INDEX([5]Hoja4!$F$2:$F$1672,MATCH(F1196,[5]Hoja4!$G$2:$G$1672,0))","v":6},"Agroindustria Alimentaria con Tecnología Pecuaria",null,"n/a3_6",null,null,"x","X","x"]
["n/a3","San Carlos","Llanuras y Montañas del Norte","Agropecuario de San Carlos",{"$f":"INDEX([5]Hoja4!$F$2:$F$1672,MATCH(F1197,[5]Hoja4!$G$2:$G$1672,0))","v":68},"Gestión de la producción ",null,"n/a3_68",null,null,"x"]
["n/a3","San Carlos","Llanuras y Montañas del Norte","Agropecuario de San Carlos",{"$f":"INDEX([5]Hoja4!$F$2:$F$1672,MATCH(F1198,[5]Hoja4!$G$2:$G$1672,0))","v":45},"Informática en Desarrollo de Software",null,"n/a3_45",null,null,null,null,"x"]
["n/a3","San Carlos","Llanuras y Montañas del Norte","Agropecuario de San Carlos",{"$f":"INDEX([5]Hoja4!$F$2:$F$1672,MATCH(F1199,[5]Hoja4!$G$2:$G$1672,0))","v":55},"Producción Agrícola y Pecuaria",null,"n/a3_55",null,null,"x","x","x"]
["n/a3","San Carlos","Llanuras y Montañas del Norte","Agropecuario de San Carlos",{"$f":"INDEX([5]Hoja4!$F$2:$F$1672,MATCH(F1200,[5]Hoja4!$G$2:$G$1672,0))","v":25},"Desarrollo Web",null,"n/a3_25",null,null,"x","x"]
["n/a3","San Carlos","Llanuras y Montañas del Norte","Agropecuario de San Carlos",{"$f":"INDEX([5]Hoja4!$F$2:$F$1672,MATCH(F1201,[5]Hoja4!$G$2:$G$1672,0))","v":65},"Turismo en Alimentos y Bebidas",null,"n/a3_65",null,null,null,"x"]
["n/a3","San Carlos","Llanuras y Montañas del Norte","Agropecuario de San Carlos",{"$f":"INDEX([5]Hoja4!$F$2:$F$1672,MATCH(F1202,[5]Hoja4!$G$2:$G$1672,0))","v":34},"Ecoturismo",null,"n/a3_34",null,null,"x","X","x"]
["n/a3","San Carlos","Llanuras y Montañas del Norte","Agropecuario de San Carlos",{"$f":"INDEX([5]Hoja4!$F$2:$F$1672,MATCH(F1203,[5]Hoja4!$G$2:$G$1672,0))","v":64},"Turismo Ecológico",null,"n/a3_64"]
[4179,"San Carlos","Llanuras y Montañas del Norte","La Fortuna de San Carlos",{"$f":"INDEX([5]Hoja4!$F$2:$F$1672,MATCH(F1204,[5]Hoja4!$G$2:$G$1672,0))","v":15},"Ciberseguridad",null,"4179_15",null,null,"x"]
[4179,"San Carlos","Llanuras y Montañas del Norte","La Fortuna de San Carlos",{"$f":"INDEX([5]Hoja4!$F$2:$F$1672,MATCH(F1205,[5]Hoja4!$G$2:$G$1672,0))","v":20},"Contabilidad",null,"4179_20",null,null,"x","X","x","x","X","x"]
[4179,"San Carlos","Llanuras y Montañas del Norte","La Fortuna de San Carlos",{"$f":"INDEX([5]Hoja4!$F$2:$F$1672,MATCH(F1206,[5]Hoja4!$G$2:$G$1672,0))","v":25},"Desarrollo Web",null,"4179_25",null,null,null,"X",null,"x","X","x"]
[4179,"San Carlos","Llanuras y Montañas del Norte","La Fortuna de San Carlos",{"$f":"INDEX([5]Hoja4!$F$2:$F$1672,MATCH(F1207,[5]Hoja4!$G$2:$G$1672,0))","v":30},"Diseño Publicitario",null,"4179_30",null,null,"x","X","x"]
[4179,"San Carlos","Llanuras y Montañas del Norte","La Fortuna de San Carlos",{"$f":"INDEX([5]Hoja4!$F$2:$F$1672,MATCH(F1208,[5]Hoja4!$G$2:$G$1672,0))","v":35},"Ejecutivo Comercial y Servicio al Cliente",null,"4179_35",null,null,"x","X","x","x","X"]
[4179,"San Carlos","Llanuras y Montañas del Norte","La Fortuna de San Carlos",{"$f":"INDEX([5]Hoja4!$F$2:$F$1672,MATCH(F1209,[5]Hoja4!$G$2:$G$1672,0))","v":73},"Gerencia y producción en cocina ",null,"4179_73",null,null,null,null,null,"x"]
[4179,"San Carlos","Llanuras y Montañas del Norte","La Fortuna de San Carlos",{"$f":"INDEX([5]Hoja4!$F$2:$F$1672,MATCH(F1210,[5]Hoja4!$G$2:$G$1672,0))","v":67},"Turismo rural",null,"4179_67",null,null,"x"]
[4179,"San Carlos","Llanuras y Montañas del Norte","La Fortuna de San Carlos",{"$f":"INDEX([5]Hoja4!$F$2:$F$1672,MATCH(F1211,[5]Hoja4!$G$2:$G$1672,0))","v":44},"Informática Empresarial",null,"4179_44"]
[4179,"San Carlos","Llanuras y Montañas del Norte","La Fortuna de San Carlos",{"$f":"INDEX([5]Hoja4!$F$2:$F$1672,MATCH(F1212,[5]Hoja4!$G$2:$G$1672,0))","v":54},"Operación de Empresas de Alojamiento",null,"4179_54",null,null,null,"X",null,null,"X","x"]
[4179,"San Carlos","Llanuras y Montañas del Norte","La Fortuna de San Carlos",{"$f":"INDEX([5]Hoja4!$F$2:$F$1672,MATCH(F1213,[5]Hoja4!$G$2:$G$1672,0))","v":55},"Producción Agrícola y Pecuaria",null,"4179_55",null,null,"x","x"]
[4179,"San Carlos","Llanuras y Montañas del Norte","La Fortuna de San Carlos",{"$f":"INDEX([5]Hoja4!$F$2:$F$1672,MATCH(F1214,[5]Hoja4!$G$2:$G$1672,0))","v":34},"Ecoturismo",null,"4179_34",null,null,null,"X","x"]
[4179,"San Carlos","Llanuras y Montañas del Norte","La Fortuna de San Carlos",{"$f":"INDEX([5]Hoja4!$F$2:$F$1672,MATCH(F1215,[5]Hoja4!$G$2:$G$1672,0))","v":64},"Turismo Ecológico",null,"4179_64"]
[4179,"San Carlos","Llanuras y Montañas del Norte","La Fortuna de San Carlos",{"$f":"INDEX([5]Hoja4!$F$2:$F$1672,MATCH(F1216,[5]Hoja4!$G$2:$G$1672,0))","v":71},"Organización de operaciones y servicios de alimentos y bebidas",null,"4179_71",null,null,"x"]
[4179,"San Carlos","Llanuras y Montañas del Norte","La Fortuna de San Carlos",{"$f":"INDEX([5]Hoja4!$F$2:$F$1672,MATCH(F1217,[5]Hoja4!$G$2:$G$1672,0))","v":65},"Turismo en Alimentos y Bebidas",null,"4179_65",null,null,null,"X","x"]
[4179,"San Carlos","Llanuras y Montañas del Norte","La Fortuna de San Carlos",{"$f":"INDEX([5]Hoja4!$F$2:$F$1672,MATCH(F1218,[5]Hoja4!$G$2:$G$1672,0))","v":66},"Turismo en Hotelería y Eventos Especiales",null,"4179_66"]
[6641,"San Carlos","Llanuras y Montañas del Norte","La Tigra",{"$f":"INDEX([5]Hoja4!$F$2:$F$1672,MATCH(F1219,[5]Hoja4!$G$2:$G$1672,0))","v":3},"Administración, Logística y Distribución",null,"6641_3",null,null,null,null,null,null,"X","x"]
[6641,"San Carlos","Llanuras y Montañas del Norte","La Tigra",{"$f":"INDEX([5]Hoja4!$F$2:$F$1672,MATCH(F1220,[5]Hoja4!$G$2:$G$1672,0))","v":20},"Contabilidad",null,"6641_20",null,null,null,null,null,"x","X","x"]
[6642,"San Carlos","Llanuras y Montañas del Norte","La Tigra",{"$f":"INDEX([5]Hoja4!$F$2:$F$1672,MATCH(F1221,[5]Hoja4!$G$2:$G$1672,0))","v":23},"Contabilidad y Costos",null,"6642_23",null,null,"x","x"]
[6643,"San Carlos","Llanuras y Montañas del Norte","La Tigra",{"$f":"INDEX([5]Hoja4!$F$2:$F$1672,MATCH(F1222,[5]Hoja4!$G$2:$G$1672,0))","v":8},"Agrojardinería",null,"6643_8",null,null,null,"x"]
[6641,"San Carlos","Llanuras y Montañas del Norte","La Tigra",{"$f":"INDEX([5]Hoja4!$F$2:$F$1672,MATCH(F1223,[5]Hoja4!$G$2:$G$1672,0))","v":44},"Informática Empresarial",null,"6641_44",null,null,null,"x","x",null,"x","x"]
[6641,"San Carlos","Llanuras y Montañas del Norte","La Tigra",{"$f":"INDEX([5]Hoja4!$F$2:$F$1672,MATCH(F1224,[5]Hoja4!$G$2:$G$1672,0))","v":56},"Productividad y Calidad",null,"6641_56",null,null,null,null,"x"]
[6641,"San Carlos","Llanuras y Montañas del Norte","La Tigra",{"$f":"INDEX([5]Hoja4!$F$2:$F$1672,MATCH(F1225,[5]Hoja4!$G$2:$G$1672,0))","v":72},"Desarrollo de aplicaciones móviles",null,"6641_72",null,null,null,null,null,"x"]
[6641,"San Carlos","Llanuras y Montañas del Norte","La Tigra",{"$f":"INDEX([5]Hoja4!$F$2:$F$1672,MATCH(F1226,[5]Hoja4!$G$2:$G$1672,0))","v":74},"Gestión de la calidad",null,"6641_74",null,null,null,null,null,"x"]
[6641,"San Carlos","Llanuras y Montañas del Norte","La Tigra",{"$f":"INDEX([5]Hoja4!$F$2:$F$1672,MATCH(F1227,[5]Hoja4!$G$2:$G$1672,0))","v":25},"Desarrollo Web",null,"6641_25",null,null,"x"]
[6641,"San Carlos","Llanuras y Montañas del Norte","La Tigra",{"$f":"INDEX([5]Hoja4!$F$2:$F$1672,MATCH(F1228,[5]Hoja4!$G$2:$G$1672,0))","v":68},"Gestión de la Producción",null,"6641_68",null,null,"x","x"]
[6641,"San Carlos","Llanuras y Montañas del Norte","La Tigra",{"$f":"INDEX([5]Hoja4!$F$2:$F$1672,MATCH(F1229,[5]Hoja4!$G$2:$G$1672,0))","v":62},"Secretariado Ejecutivo",null,"6641_62",null,null,"x","X","x","x","X","x"]
[4177,"San Carlos","Llanuras y Montañas del Norte","Los Chiles",{"$f":"INDEX([5]Hoja4!$F$2:$F$1672,MATCH(F1230,[5]Hoja4!$G$2:$G$1672,0))","v":2},"Administración y Operación Aduanera",null,"4177_2",null,null,"x","x","x","x",null,"x"]
[4177,"San Carlos","Llanuras y Montañas del Norte","Los Chiles",{"$f":"INDEX([5]Hoja4!$F$2:$F$1672,MATCH(F1231,[5]Hoja4!$G$2:$G$1672,0))","v":5},"Agroecología",null,"4177_5",null,null,null,"x"]
[4177,"San Carlos","Llanuras y Montañas del Norte","Los Chiles",{"$f":"INDEX([5]Hoja4!$F$2:$F$1672,MATCH(F1232,[5]Hoja4!$G$2:$G$1672,0))","v":15},"Ciberseguridad",null,"4177_15",null,null,null,null,"x",null,"X"]
[4177,"San Carlos","Llanuras y Montañas del Norte","Los Chiles",{"$f":"INDEX([5]Hoja4!$F$2:$F$1672,MATCH(F1233,[5]Hoja4!$G$2:$G$1672,0))","v":20},"Contabilidad",null,"4177_20",null,null,"x","X","x","x","X","x"]
[4177,"San Carlos","Llanuras y Montañas del Norte","Los Chiles",{"$f":"INDEX([5]Hoja4!$F$2:$F$1672,MATCH(F1234,[5]Hoja4!$G$2:$G$1672,0))","v":35},"Ejecutivo Comercial y Servicio al Cliente",null,"4177_35",null,null,null,"X","x"]
[4177,"San Carlos","Llanuras y Montañas del Norte","Los Chiles",{"$f":"INDEX([5]Hoja4!$F$2:$F$1672,MATCH(F1235,[5]Hoja4!$G$2:$G$1672,0))","v":54},"Operación de Empresas de Alojamiento",null,"4177_54",null,null,null,null,"x"]
[4177,"San Carlos","Llanuras y Montañas del Norte","Los Chiles",{"$f":"INDEX([5]Hoja4!$F$2:$F$1672,MATCH(F1236,[5]Hoja4!$G$2:$G$1672,0))","v":55},"Producción Agrícola y Pecuaria",null,"4177_55",null,null,"x","X","x"]
[4177,"San Carlos","Llanuras y Montañas del Norte","Los Chiles",{"$f":"INDEX([5]Hoja4!$F$2:$F$1672,MATCH(F1237,[5]Hoja4!$G$2:$G$1672,0))","v":62},"Secretariado Ejecutivo",null,"4177_62",null,null,"x",null,null,"x","X","x"]
[4177,"San Carlos","Llanuras y Montañas del Norte","Los Chiles",{"$f":"INDEX([5]Hoja4!$F$2:$F$1672,MATCH(F1238,[5]Hoja4!$G$2:$G$1672,0))","v":67},"Turismo Rural",null,"4177_67",null,null,"x","X"]
[4176,"San Carlos","Llanuras y Montañas del Norte","Nataniel Arias Murillo",{"$f":"INDEX([5]Hoja4!$F$2:$F$1672,MATCH(F1239,[5]Hoja4!$G$2:$G$1672,0))","v":5},"Agroecología",null,"4176_5",null,null,"x","X","x"]
[4176,"San Carlos","Llanuras y Montañas del Norte","Nataniel Arias Murillo",{"$f":"INDEX([5]Hoja4!$F$2:$F$1672,MATCH(F1240,[5]Hoja4!$G$2:$G$1672,0))","v":6},"Agroindustria Alimentaria con Tecnología Pecuaria",null,"4176_6",null,null,"x","x","x","x","x"]
[4176,"San Carlos","Llanuras y Montañas del Norte","Nataniel Arias Murillo",{"$f":"INDEX([5]Hoja4!$F$2:$F$1672,MATCH(F1241,[5]Hoja4!$G$2:$G$1672,0))","v":70},"Inteligencia Artificial",null,"4176_70",null,null,"x",null,"x"]
[4176,"San Carlos","Llanuras y Montañas del Norte","Nataniel Arias Murillo",{"$f":"INDEX([5]Hoja4!$F$2:$F$1672,MATCH(F1242,[5]Hoja4!$G$2:$G$1672,0))","v":13},"Banca y Finanzas",null,"4176_13",null,null,"x",null,"x"]
[4176,"San Carlos","Llanuras y Montañas del Norte","Nataniel Arias Murillo",{"$f":"INDEX([5]Hoja4!$F$2:$F$1672,MATCH(F1243,[5]Hoja4!$G$2:$G$1672,0))","v":18},"Configuración y soporte de redes de comunicación y sistemas operativos",null,"4176_18",null,null,"x","X"]
[4176,"San Carlos","Llanuras y Montañas del Norte","Nataniel Arias Murillo",{"$f":"INDEX([5]Hoja4!$F$2:$F$1672,MATCH(F1244,[5]Hoja4!$G$2:$G$1672,0))","v":20},"Contabilidad",null,"4176_20",null,null,null,null,null,"x","x","x"]
[4176,"San Carlos","Llanuras y Montañas del Norte","Nataniel Arias Murillo",{"$f":"INDEX([5]Hoja4!$F$2:$F$1672,MATCH(F1245,[5]Hoja4!$G$2:$G$1672,0))","v":25},"Desarrollo Web",null,"4176_25",null,null,null,"X","x","x"]
[4176,"San Carlos","Llanuras y Montañas del Norte","Nataniel Arias Murillo",{"$f":"INDEX([5]Hoja4!$F$2:$F$1672,MATCH(F1246,[5]Hoja4!$G$2:$G$1672,0))","v":40},"Electrónica Industrial",null,"4176_40",null,null,null,null,null,"x","X","x"]
[4176,"San Carlos","Llanuras y Montañas del Norte","Nataniel Arias Murillo",{"$f":"INDEX([5]Hoja4!$F$2:$F$1672,MATCH(F1247,[5]Hoja4!$G$2:$G$1672,0))","v":41},"Electrotecnia",null,"4176_41",null,null,null,null,"x"]
[4176,"San Carlos","Llanuras y Montañas del Norte","Nataniel Arias Murillo",{"$f":"INDEX([5]Hoja4!$F$2:$F$1672,MATCH(F1248,[5]Hoja4!$G$2:$G$1672,0))","v":42},"Executive Service Centers",null,"4176_42",null,null,null,"X","x"]
[4176,"San Carlos","Llanuras y Montañas del Norte","Nataniel Arias Murillo",{"$f":"INDEX([5]Hoja4!$F$2:$F$1672,MATCH(F1249,[5]Hoja4!$G$2:$G$1672,0))","v":69},"Instalación y mantenimiento de sistemas eléctricos indutriales ",null,"4176_69",null,null,"x","X"]
[4176,"San Carlos","Llanuras y Montañas del Norte","Nataniel Arias Murillo",{"$f":"INDEX([5]Hoja4!$F$2:$F$1672,MATCH(F1250,[5]Hoja4!$G$2:$G$1672,0))","v":24},"Contabilidad y Finanzas",null,{"$f":"IF(A1250=\"\",\"\",A1250&\"_\"&E1250)","v":"4176_24"},null,null,null,"x"]
[4176,"San Carlos","Llanuras y Montañas del Norte","Nataniel Arias Murillo",{"$f":"INDEX([5]Hoja4!$F$2:$F$1672,MATCH(F1251,[5]Hoja4!$G$2:$G$1672,0))","v":44},"Informática Empresarial",null,"4176_44",null,null,null,null,null,null,"x","x"]
[4176,"San Carlos","Llanuras y Montañas del Norte","Nataniel Arias Murillo",{"$f":"INDEX([5]Hoja4!$F$2:$F$1672,MATCH(F1252,[5]Hoja4!$G$2:$G$1672,0))","v":23},"Contabilidad y Costos",null,"4176_23",null,null,null,"x"]
[4176,"San Carlos","Llanuras y Montañas del Norte","Nataniel Arias Murillo",{"$f":"INDEX([5]Hoja4!$F$2:$F$1672,MATCH(F1253,[5]Hoja4!$G$2:$G$1672,0))","v":35},"Ejecutivo Comercial y Servicio al Cliente",null,"4176_35",null,null,"x","x"]
[4176,"San Carlos","Llanuras y Montañas del Norte","Nataniel Arias Murillo",{"$f":"INDEX([5]Hoja4!$F$2:$F$1672,MATCH(F1254,[5]Hoja4!$G$2:$G$1672,0))","v":55},"Producción Agrícola y Pecuaria",null,"4176_55",null,null,"x","X","x"]
[4176,"San Carlos","Llanuras y Montañas del Norte","Nataniel Arias Murillo",{"$f":"INDEX([5]Hoja4!$F$2:$F$1672,MATCH(F1255,[5]Hoja4!$G$2:$G$1672,0))","v":62},"Secretariado Ejecutivo",null,"4176_62",null,null,null,"X",null,"x","X","x"]
[4180,"San Carlos","Llanuras y Montañas del Norte","Pital",{"$f":"INDEX([5]Hoja4!$F$2:$F$1672,MATCH(F1256,[5]Hoja4!$G$2:$G$1672,0))","v":5},"Agroecología",null,"4180_5",null,null,"x","X","x"]
[4180,"San Carlos","Llanuras y Montañas del Norte","Pital",{"$f":"INDEX([5]Hoja4!$F$2:$F$1672,MATCH(F1257,[5]Hoja4!$G$2:$G$1672,0))","v":15},"Ciberseguridad",null,"4180_15",null,null,"x",null,"x"]
[4180,"San Carlos","Llanuras y Montañas del Norte","Pital",{"$f":"INDEX([5]Hoja4!$F$2:$F$1672,MATCH(F1258,[5]Hoja4!$G$2:$G$1672,0))","v":18},"Configuración y soporte de redes de comunicación y sistemas operativos",null,"4180_18",null,null,null,"X","x"]
[4180,"San Carlos","Llanuras y Montañas del Norte","Pital",{"$f":"INDEX([5]Hoja4!$F$2:$F$1672,MATCH(F1259,[5]Hoja4!$G$2:$G$1672,0))","v":20},"Contabilidad",null,"4180_20",null,null,"x","X","x","x","X","x"]
[4180,"San Carlos","Llanuras y Montañas del Norte","Pital",{"$f":"INDEX([5]Hoja4!$F$2:$F$1672,MATCH(F1260,[5]Hoja4!$G$2:$G$1672,0))","v":44},"Informática Empresarial",null,"4180_44",null,null,null,null,null,null,"X"]
[4180,"Pital",null,"Pital ",{"$f":"INDEX([5]Hoja4!$F$2:$F$1672,MATCH(F1261,[5]Hoja4!$G$2:$G$1672,0))","v":72},"Desarrollo de aplicaciones móviles",null,"4180_72",null,null,null,null,null,"x"]
[4180,"San Carlos","Llanuras y Montañas del Norte","Pital",{"$f":"INDEX([5]Hoja4!$F$2:$F$1672,MATCH(F1262,[5]Hoja4!$G$2:$G$1672,0))","v":55},"Producción Agrícola y Pecuaria",null,"4180_55",null,null,"x","X","x"]
[4180,"San Carlos","Llanuras y Montañas del Norte","Pital",{"$f":"INDEX([5]Hoja4!$F$2:$F$1672,MATCH(F1263,[5]Hoja4!$G$2:$G$1672,0))","v":61},"Salud Ocupacional",null,"4180_61",null,null,"x",null,"x","x",null,"x"]
[4180,"San Carlos","Llanuras y Montañas del Norte","Pital",{"$f":"INDEX([5]Hoja4!$F$2:$F$1672,MATCH(F1264,[5]Hoja4!$G$2:$G$1672,0))","v":62},"Secretariado Ejecutivo",null,"4180_62",null,null,"x","X","x",null,"X","x"]
[4180,"San Carlos","Llanuras y Montañas del Norte","Pital",{"$f":"INDEX([5]Hoja4!$F$2:$F$1672,MATCH(F1265,[5]Hoja4!$G$2:$G$1672,0))","v":34},"Ecoturismo",null,"4180_34",null,null,"x",null,"x"]
[4180,"San Carlos","Llanuras y Montañas del Norte","Pital",{"$f":"INDEX([5]Hoja4!$F$2:$F$1672,MATCH(F1266,[5]Hoja4!$G$2:$G$1672,0))","v":64},"Turismo Ecológico",null,"4180_64"]
[6577,"San Carlos","Llanuras y Montañas del Norte","Platanar",{"$f":"INDEX([5]Hoja4!$F$2:$F$1672,MATCH(F1267,[5]Hoja4!$G$2:$G$1672,0))","v":2},"Administración y Operación Aduanera",null,"6577_2"]
[6577,"San Carlos","Llanuras y Montañas del Norte","Platanar",{"$f":"INDEX([5]Hoja4!$F$2:$F$1672,MATCH(F1268,[5]Hoja4!$G$2:$G$1672,0))","v":3},"Administración, Logística y Distribución",null,"6577_3",null,null,null,null,"x"]
[6577,"San Carlos","Llanuras y Montañas del Norte","Platanar",{"$f":"INDEX([5]Hoja4!$F$2:$F$1672,MATCH(F1269,[5]Hoja4!$G$2:$G$1672,0))","v":15},"Ciberseguridad",null,"6577_15",null,null,null,null,"x"]
[6577,"San Carlos","Llanuras y Montañas del Norte","Platanar",{"$f":"INDEX([5]Hoja4!$F$2:$F$1672,MATCH(F1270,[5]Hoja4!$G$2:$G$1672,0))","v":20},"Contabilidad",null,"6577_20",null,null,null,null,null,null,"x","x"]
[6577,"San Carlos","Llanuras y Montañas del Norte","Platanar",{"$f":"INDEX([5]Hoja4!$F$2:$F$1672,MATCH(F1271,[5]Hoja4!$G$2:$G$1672,0))","v":35},"Ejecutivo Comercial y Servicio al Cliente",null,"6577_35",null,null,"x","x"]
[6577,"San Carlos","Llanuras y Montañas del Norte","Platanar",{"$f":"INDEX([5]Hoja4!$F$2:$F$1672,MATCH(F1272,[5]Hoja4!$G$2:$G$1672,0))","v":18},"Configuración y soporte de redes de comunicación y sistemas operativos",null,"6577_18",null,null,"x","x"]
[6577,"San Carlos","Llanuras y Montañas del Norte","Platanar",{"$f":"INDEX([5]Hoja4!$F$2:$F$1672,MATCH(F1273,[5]Hoja4!$G$2:$G$1672,0))","v":68},"Gestión de la Producción",null,"6577_68",null,null,"x","x",null,"x"]
[6577,"San Carlos","Llanuras y Montañas del Norte","Platanar",{"$f":"INDEX([5]Hoja4!$F$2:$F$1672,MATCH(F1274,[5]Hoja4!$G$2:$G$1672,0))","v":25},"Desarrollo Web",null,"6577_25",null,null,null,null,null,"x","x"]
[6577,"San Carlos","Llanuras y Montañas del Norte","Platanar",{"$f":"INDEX([5]Hoja4!$F$2:$F$1672,MATCH(F1275,[5]Hoja4!$G$2:$G$1672,0))","v":44},"Informática Empresarial",null,"6577_44"]
[6577,"San Carlos","Llanuras y Montañas del Norte","Platanar",{"$f":"INDEX([5]Hoja4!$F$2:$F$1672,MATCH(F1276,[5]Hoja4!$G$2:$G$1672,0))","v":56},"Productividad y Calidad",null,"6577_56",null,null,null,null,"x",null,null,"x"]
[4183,"San Carlos","Llanuras y Montañas del Norte","Regional de San Carlos",{"$f":"INDEX([5]Hoja4!$F$2:$F$1672,MATCH(F1277,[5]Hoja4!$G$2:$G$1672,0))","v":13},"Banca y Finanzas",null,"4183_13",null,null,"x",null,"x"]
[4183,"San Carlos","Llanuras y Montañas del Norte","Regional de San Carlos",{"$f":"INDEX([5]Hoja4!$F$2:$F$1672,MATCH(F1278,[5]Hoja4!$G$2:$G$1672,0))","v":18},"Configuración y soporte de redes de comunicación y sistemas operativos",null,"4183_18",null,null,"x","X","x",null,"X","x"]
[4183,"San Carlos","Llanuras y Montañas del Norte","Regional de San Carlos",{"$f":"INDEX([5]Hoja4!$F$2:$F$1672,MATCH(F1279,[5]Hoja4!$G$2:$G$1672,0))","v":20},"Contabilidad",null,"4183_20",null,null,"x","X","x","x","X","x"]
[4183,"San Carlos","Llanuras y Montañas del Norte","Regional de San Carlos",{"$f":"INDEX([5]Hoja4!$F$2:$F$1672,MATCH(F1280,[5]Hoja4!$G$2:$G$1672,0))","v":29},"Diseño Gráfico",null,"4183_29",null,null,"x","x",null,null,"X"]
[4183,"San Carlos","Llanuras y Montañas del Norte","Regional de San Carlos",{"$f":"INDEX([5]Hoja4!$F$2:$F$1672,MATCH(F1281,[5]Hoja4!$G$2:$G$1672,0))","v":24},"Contabilidad y Finanzas",null,"4183_24",null,null,null,null,"X","x"]
[4183,"San Carlos","Llanuras y Montañas del Norte","Regional de San Carlos",{"$f":"INDEX([5]Hoja4!$F$2:$F$1672,MATCH(F1282,[5]Hoja4!$G$2:$G$1672,0))","v":40},"Electrónica Industrial",null,"4183_40",null,null,null,"X","x"]
[4183,"San Carlos","Llanuras y Montañas del Norte","Regional de San Carlos",{"$f":"INDEX([5]Hoja4!$F$2:$F$1672,MATCH(F1283,[5]Hoja4!$G$2:$G$1672,0))","v":28},"Dibujo y Modelado para Edificaciones",null,"4183_28",null,null,"x","X"]
[4183,"San Carlos","Llanuras y Montañas del Norte","Regional de San Carlos",{"$f":"INDEX([5]Hoja4!$F$2:$F$1672,MATCH(F1284,[5]Hoja4!$G$2:$G$1672,0))","v":50},"Mecánica de Precisión",null,"4183_50",null,null,"x","X",null,null,"X"]
[4183,"San Carlos","Llanuras y Montañas del Norte","Regional de San Carlos",{"$f":"INDEX([5]Hoja4!$F$2:$F$1672,MATCH(F1285,[5]Hoja4!$G$2:$G$1672,0))","v":62},"Secretariado Ejecutivo",null,"4183_62",null,null,"x","X","x","x","X","x"]
[4182,"San Carlos","Llanuras y Montañas del Norte","Santa Rosa de Pocosol",{"$f":"INDEX([5]Hoja4!$F$2:$F$1672,MATCH(F1286,[5]Hoja4!$G$2:$G$1672,0))","v":5},"Agroecología",null,"4182_5",null,null,"x","x","x"]
[4182,"San Carlos","Llanuras y Montañas del Norte","Santa Rosa de Pocosol",{"$f":"INDEX([5]Hoja4!$F$2:$F$1672,MATCH(F1287,[5]Hoja4!$G$2:$G$1672,0))","v":18},"Configuración y soporte de redes de comunicación y sistemas operativos",null,"4182_18",null,null,"x","X","x"]
[4182,"San Carlos","Llanuras y Montañas del Norte","Santa Rosa de Pocosol",{"$f":"INDEX([5]Hoja4!$F$2:$F$1672,MATCH(F1288,[5]Hoja4!$G$2:$G$1672,0))","v":20},"Contabilidad",null,"4182_20",null,null,"x","X","x",null,"X","x"]
[4182,"San Carlos","Llanuras y Montañas del Norte","Santa Rosa de Pocosol",{"$f":"INDEX([5]Hoja4!$F$2:$F$1672,MATCH(F1289,[5]Hoja4!$G$2:$G$1672,0))","v":55},"Producción Agrícola y Pecuaria",null,"4182_55",null,null,"x","X","x"]
[4182,"San Carlos","Llanuras y Montañas del Norte","Santa Rosa de Pocosol",{"$f":"INDEX([5]Hoja4!$F$2:$F$1672,MATCH(F1290,[5]Hoja4!$G$2:$G$1672,0))","v":59},"Reparación de los Sistemas de Vehículos Livianos",null,"4182_59",null,null,"x","X","x","x"]
[4182,"San Carlos","Llanuras y Montañas del Norte","Santa Rosa de Pocosol",{"$f":"INDEX([5]Hoja4!$F$2:$F$1672,MATCH(F1291,[5]Hoja4!$G$2:$G$1672,0))","v":61},"Salud Ocupacional",null,"4182_61",null,null,null,null,null,"x","X","x"]
[4182,"San Carlos","Llanuras y Montañas del Norte","Santa Rosa de Pocosol",{"$f":"INDEX([5]Hoja4!$F$2:$F$1672,MATCH(F1292,[5]Hoja4!$G$2:$G$1672,0))","v":62},"Secretariado Ejecutivo",null,"4182_62",null,null,"x","X","x",null,"X","x"]
[4178,"San Carlos","Llanuras y Montañas del Norte","Venecia",{"$f":"INDEX([5]Hoja4!$F$2:$F$1672,MATCH(F1293,[5]Hoja4!$G$2:$G$1672,0))","v":14},"Bilingual Secretary",null,"4178_14",null,null,null,null,"x"]
[4178,"San Carlos","Llanuras y Montañas del Norte","Venecia",{"$f":"INDEX([5]Hoja4!$F$2:$F$1672,MATCH(F1294,[5]Hoja4!$G$2:$G$1672,0))","v":20},"Contabilidad",null,"4178_20",null,null,"x","X","x"]
[4178,"San Carlos","Llanuras y Montañas del Norte","Venecia",{"$f":"INDEX([5]Hoja4!$F$2:$F$1672,MATCH(F1295,[5]Hoja4!$G$2:$G$1672,0))","v":32},"Diseño y Construcción de Muebles y Estructuras",null,"4178_32",null,null,null,"X"]
[4178,"San Carlos","Llanuras y Montañas del Norte","Venecia",{"$f":"INDEX([5]Hoja4!$F$2:$F$1672,MATCH(F1296,[5]Hoja4!$G$2:$G$1672,0))","v":35},"Ejecutivo Comercial y Servicio al Cliente",null,"4178_35",null,null,"x","X","x"]
[4178,"San Carlos","Llanuras y Montañas del Norte","Venecia",{"$f":"INDEX([5]Hoja4!$F$2:$F$1672,MATCH(F1297,[5]Hoja4!$G$2:$G$1672,0))","v":71},"Organización de operaciones y servicios de alimentos y bebidas",null,"4178_71",null,null,"x",null,null,"x"]
[4178,"San Carlos","Llanuras y Montañas del Norte","Venecia",{"$f":"INDEX([5]Hoja4!$F$2:$F$1672,MATCH(F1298,[5]Hoja4!$G$2:$G$1672,0))","v":37},"Electromecánica",null,"4178_37",null,null,"x","X","x"]
[4178,"San Carlos","Llanuras y Montañas del Norte","Venecia",{"$f":"INDEX([5]Hoja4!$F$2:$F$1672,MATCH(F1299,[5]Hoja4!$G$2:$G$1672,0))","v":54},"Operación de Empresas de Alojamiento",null,"4178_54",null,null,null,null,"x"]
[4179,"San Carlos","Llanuras y Montañas del Norte","Venecia",{"$f":"INDEX([5]Hoja4!$F$2:$F$1672,MATCH(F1300,[5]Hoja4!$G$2:$G$1672,0))","v":25},"Desarrollo Web",null,"4179_25",null,null,null,"X",null,"x"]
[4178,"San Carlos","Llanuras y Montañas del Norte","Venecia",{"$f":"INDEX([5]Hoja4!$F$2:$F$1672,MATCH(F1301,[5]Hoja4!$G$2:$G$1672,0))","v":62},"Secretariado Ejecutivo",null,"4178_62",null,null,"x","X","x"]
[4178,"San Carlos","Llanuras y Montañas del Norte","Venecia",{"$f":"INDEX([5]Hoja4!$F$2:$F$1672,MATCH(F1302,[5]Hoja4!$G$2:$G$1672,0))","v":65},"Turismo en Alimentos y Bebidas",null,"4178_65",null,null,null,"X","x"]
[4178,"San Carlos","Llanuras y Montañas del Norte","Venecia",{"$f":"INDEX([5]Hoja4!$F$2:$F$1672,MATCH(F1303,[5]Hoja4!$G$2:$G$1672,0))","v":69},"Instalación y mantenimiento de sistemas eléctricos indutriales ",null,"4178_69",null,null,null,null,null,"x"]
[4178,"San Carlos","Llanuras y Montañas del Norte","Venecia",{"$f":"INDEX([5]Hoja4!$F$2:$F$1672,MATCH(F1304,[5]Hoja4!$G$2:$G$1672,0))","v":66},"Turismo en Hotelería y Eventos Especiales",null,"4178_66"]
[6634,"San José Central","San José Global","Alajuelita",{"$f":"INDEX([5]Hoja4!$F$2:$F$1672,MATCH(F1305,[5]Hoja4!$G$2:$G$1672,0))","v":3},"Administración, Logística y Distribución",null,"6634_3",null,null,"x","X","x"]
[6634,"San José Central","San José Global","Alajuelita",{"$f":"INDEX([5]Hoja4!$F$2:$F$1672,MATCH(F1306,[5]Hoja4!$G$2:$G$1672,0))","v":23},"Contabilidad y Costos",null,"6634_23",null,null,"x","X","x"]
[6634,"San José Central","San José Global","Alajuelita",{"$f":"INDEX([5]Hoja4!$F$2:$F$1672,MATCH(F1307,[5]Hoja4!$G$2:$G$1672,0))","v":25},"Desarrollo Web",null,"6634_25",null,null,"x","X","x"]
[6634,"San José Central","San José Global","Alajuelita",{"$f":"INDEX([5]Hoja4!$F$2:$F$1672,MATCH(F1308,[5]Hoja4!$G$2:$G$1672,0))","v":35},"Ejecutivo Comercial y Servicio al cliente",null,"6634_35",null,null,"x","X","x"]
[6634,"San José Central","San José Global","Alajuelita",{"$f":"INDEX([5]Hoja4!$F$2:$F$1672,MATCH(F1309,[5]Hoja4!$G$2:$G$1672,0))","v":72},"Desarrollo de aplicaciones móviles",null,"6634_72",null,null,"x"]
[6634,"San José Central","San José Global","Alajuelita",{"$f":"INDEX([5]Hoja4!$F$2:$F$1672,MATCH(F1310,[5]Hoja4!$G$2:$G$1672,0))","v":40},"Electrónica Industrial",null,"6634_40",null,null,"x","X","x"]
[6634,"San José Central","San José Global","Alajuelita",{"$f":"INDEX([5]Hoja4!$F$2:$F$1672,MATCH(F1311,[5]Hoja4!$G$2:$G$1672,0))","v":44},"Informática Empresarial",null,"6634_44",null,null,null,null,"x"]
[6634,"San José Central","San José Global","Alajuelita",{"$f":"INDEX([5]Hoja4!$F$2:$F$1672,MATCH(F1312,[5]Hoja4!$G$2:$G$1672,0))","v":45},"Informática en Desarrollo de Software",null,"6634_45",null,null,null,"x"]
[6634,"San José Central","San José Global","Alajuelita",{"$f":"INDEX([5]Hoja4!$F$2:$F$1672,MATCH(F1313,[5]Hoja4!$G$2:$G$1672,0))","v":20},"Contabilidad",null,"6634_20",null,null,"x","x"]
[6634,"San José Central","San José Global","Alajuelita",{"$f":"INDEX([5]Hoja4!$F$2:$F$1672,MATCH(F1314,[5]Hoja4!$G$2:$G$1672,0))","v":68},"Gestión de la Producción",null,{"$f":"IF(A1314=\"\",\"\",A1314&\"_\"&E1314)","v":"6634_68"},null,null,"x","X"]
[6634,"San José Central","San José Global","Alajuelita",{"$f":"INDEX([5]Hoja4!$F$2:$F$1672,MATCH(F1315,[5]Hoja4!$G$2:$G$1672,0))","v":56},"Productividad y Calidad",null,"6634_56",null,null,null,null,"x"]
[4154,"San José Central","San José Global","Don Bosco",{"$f":"INDEX([5]Hoja4!$F$2:$F$1672,MATCH(F1316,[5]Hoja4!$G$2:$G$1672,0))","v":18},"Configuración y soporte de redes de comunicación y sistemas operativos",null,"4154_18",null,null,null,null,"x"]
[4154,"San José Central","San José Global","Don Bosco",{"$f":"INDEX([5]Hoja4!$F$2:$F$1672,MATCH(F1317,[5]Hoja4!$G$2:$G$1672,0))","v":25},"Desarrollo Web",null,"4154_25",null,null,"x","X","x"]
[4154,"San José Central","San José Global","Don Bosco",{"$f":"INDEX([5]Hoja4!$F$2:$F$1672,MATCH(F1318,[5]Hoja4!$G$2:$G$1672,0))","v":28},"Dibujo y Modelado para Edificaciones",null,"4154_28",null,null,"x","X","x"]
[4154,"San José Central","San José Global","Don Bosco",{"$f":"INDEX([5]Hoja4!$F$2:$F$1672,MATCH(F1319,[5]Hoja4!$G$2:$G$1672,0))","v":29},"Diseño Gráfico",null,"4154_29",null,null,"x","X","x"]
[4154,"San José Central","San José Global","Don Bosco",{"$f":"INDEX([5]Hoja4!$F$2:$F$1672,MATCH(F1320,[5]Hoja4!$G$2:$G$1672,0))","v":37},"Electromecánica",null,"4154_37",null,null,"x","X","x"]
[4154,"San José Central","San José Global","Don Bosco",{"$f":"INDEX([5]Hoja4!$F$2:$F$1672,MATCH(F1321,[5]Hoja4!$G$2:$G$1672,0))","v":38},"Electrónica en Mantenimiento de Equipo de Cómputo",null,"4154_38"]
[4154,"San José Central","San José Global","Don Bosco",{"$f":"INDEX([5]Hoja4!$F$2:$F$1672,MATCH(F1322,[5]Hoja4!$G$2:$G$1672,0))","v":40},"Electrónica Industrial",null,"4154_40",null,null,null,"X","x"]
[4154,"San José Central","San José Global","Don Bosco",{"$f":"INDEX([5]Hoja4!$F$2:$F$1672,MATCH(F1323,[5]Hoja4!$G$2:$G$1672,0))","v":45},"Informática en Desarrollo de Software",null,"4154_45"]
[4154,"San José Central","San José Global","Don Bosco",{"$f":"INDEX([5]Hoja4!$F$2:$F$1672,MATCH(F1324,[5]Hoja4!$G$2:$G$1672,0))","v":15},"Ciberseguridad",null,"4154_15",null,null,"x","x"]
[4154,"San José Central","San José Global","Don Bosco",{"$f":"INDEX([5]Hoja4!$F$2:$F$1672,MATCH(F1325,[5]Hoja4!$G$2:$G$1672,0))","v":50},"Mecánica de Precisión",null,"4154_50",null,null,"x","X","x"]
[6130,"San José Central","San José Global","Granadilla",{"$f":"INDEX([5]Hoja4!$F$2:$F$1672,MATCH(F1326,[5]Hoja4!$G$2:$G$1672,0))","v":2},"Administración y Operación Aduanera",null,"6130_2",null,null,"x","X","x"]
[6130,"San José Central","San José Global","Granadilla",{"$f":"INDEX([5]Hoja4!$F$2:$F$1672,MATCH(F1327,[5]Hoja4!$G$2:$G$1672,0))","v":20},"Contabilidad",null,"6130_20",null,null,"x","x","x","x","x","x"]
[6130,"San José Central","San José Global","Granadilla",{"$f":"INDEX([5]Hoja4!$F$2:$F$1672,MATCH(F1328,[5]Hoja4!$G$2:$G$1672,0))","v":72},"Desarrollo de aplicaciones móviles",null,"6130_72",null,null,"x"]
[6130,"San José Central","San José Global","Granadilla",{"$f":"INDEX([5]Hoja4!$F$2:$F$1672,MATCH(F1329,[5]Hoja4!$G$2:$G$1672,0))","v":28},"Dibujo y Modelado para Edificaciones",null,"6130_28",null,null,"x","X","x"]
[6130,"San José Central","San José Global","Granadilla",{"$f":"INDEX([5]Hoja4!$F$2:$F$1672,MATCH(F1330,[5]Hoja4!$G$2:$G$1672,0))","v":33},"Diseño y Desarrollo Digital",null,"6130_33",null,null,null,null,"x"]
[6130,"San José Central","San José Global","Granadilla",{"$f":"INDEX([5]Hoja4!$F$2:$F$1672,MATCH(F1331,[5]Hoja4!$G$2:$G$1672,0))","v":35},"Ejecutivo Comercial y Servicio al cliente",null,"6130_35",null,null,"x","X","x",null,null,"x"]
[6130,"San José Central","San José Global","Granadilla",{"$f":"INDEX([5]Hoja4!$F$2:$F$1672,MATCH(F1332,[5]Hoja4!$G$2:$G$1672,0))","v":39},"Electrónica en Telecomunicaciones",null,"6130_39"]
[6130,"San José Central","San José Global","Granadilla",{"$f":"INDEX([5]Hoja4!$F$2:$F$1672,MATCH(F1333,[5]Hoja4!$G$2:$G$1672,0))","v":40},"Electrónica Industrial",null,"6130_40",null,null,"x",null,"x"]
[6130,"San José Central","San José Global","Granadilla",{"$f":"INDEX([5]Hoja4!$F$2:$F$1672,MATCH(F1334,[5]Hoja4!$G$2:$G$1672,0))","v":45},"Informática en Desarrollo de Software",null,"6130_45",null,null,null,null,"x"]
[6130,"San José Central","San José Global","Granadilla",{"$f":"INDEX([5]Hoja4!$F$2:$F$1672,MATCH(F1335,[5]Hoja4!$G$2:$G$1672,0))","v":61},"Salud Ocupacional",null,"6130_61",null,null,"x","X","x","x"]
[6130,"San José Central","San José Global","Granadilla",{"$f":"INDEX([5]Hoja4!$F$2:$F$1672,MATCH(F1336,[5]Hoja4!$G$2:$G$1672,0))","v":62},"Secretariado Ejecutivo",null,"6130_62",null,null,null,"X",null,"x","X"]
[6719,"San José Central","San José Global","Hatillo",{"$f":"INDEX([5]Hoja4!$F$2:$F$1672,MATCH(F1337,[5]Hoja4!$G$2:$G$1672,0))","v":18},"Configuración y soporte de redes de comunicación y sistemas operativos",null,"6719_18",null,null,"x","X"]
[6719,"San José Central","San José Global","Hatillo",{"$f":"INDEX([5]Hoja4!$F$2:$F$1672,MATCH(F1338,[5]Hoja4!$G$2:$G$1672,0))","v":25},"Desarrollo Web",null,"6719_25",null,null,null,null,"x"]
[6719,"San José Central","San José Global","Hatillo",{"$f":"INDEX([5]Hoja4!$F$2:$F$1672,MATCH(F1339,[5]Hoja4!$G$2:$G$1672,0))","v":37},"Electromecánica",null,"6719_37",null,null,"x","X","x"]
[6719,"San José Central","San José Global","Hatillo",{"$f":"INDEX([5]Hoja4!$F$2:$F$1672,MATCH(F1340,[5]Hoja4!$G$2:$G$1672,0))","v":45},"Informática en Desarrollo de Software",null,"6719_45"]
[6719,"San José Central","San José Global","Hatillo",{"$f":"INDEX([5]Hoja4!$F$2:$F$1672,MATCH(F1341,[5]Hoja4!$G$2:$G$1672,0))","v":49},"Mantenimiento Industrial",null,"6719_49",null,null,null,null,"x"]
[4157,"San José Central","San José Global","San Sebastián",{"$f":"INDEX([5]Hoja4!$F$2:$F$1672,MATCH(F1342,[5]Hoja4!$G$2:$G$1672,0))","v":12},"Autorremodelado",null,"4157_12"]
[4157,"San José Central","San José Global","San Sebastián",{"$f":"INDEX([5]Hoja4!$F$2:$F$1672,MATCH(F1343,[5]Hoja4!$G$2:$G$1672,0))","v":18},"Configuración y soporte de redes de comunicación y sistemas operativos",null,"4157_18",null,null,null,null,null,"x","X","x"]
[4157,"San José Central","San José Global","San Sebastián",{"$f":"INDEX([5]Hoja4!$F$2:$F$1672,MATCH(F1344,[5]Hoja4!$G$2:$G$1672,0))","v":23},"Contabilidad y Costos",null,"4157_23",null,null,null,"X","x"]
[4157,"San José Central","San José Global","San Sebastián",{"$f":"INDEX([5]Hoja4!$F$2:$F$1672,MATCH(F1345,[5]Hoja4!$G$2:$G$1672,0))","v":24},"Contabilidad y Finanzas",null,"4157_24",null,null,"x","X","x","x","X","x"]
[4157,"San José Central","San José Global","San Sebastián",{"$f":"INDEX([5]Hoja4!$F$2:$F$1672,MATCH(F1346,[5]Hoja4!$G$2:$G$1672,0))","v":35},"Ejecutivo Comercial y Servicio al cliente",null,"4157_35",null,null,"x","X","x","x","x","x"]
[4157,"San José Central","San José Global","San Sebastián",{"$f":"INDEX([5]Hoja4!$F$2:$F$1672,MATCH(F1347,[5]Hoja4!$G$2:$G$1672,0))","v":69},"Instalación y mantenimiento de sistemas eléctricos indutriales ",null,"4157_69",null,null,"x"]
[4157,"San José Central","San José Global","San Sebastián",{"$f":"INDEX([5]Hoja4!$F$2:$F$1672,MATCH(F1348,[5]Hoja4!$G$2:$G$1672,0))","v":38},"Electrónica en Mantenimiento de Equipo de Cómputo",null,"4157_38",null,null,null,null,"x"]
[4157,"San José Central","San José Global","San Sebastián",{"$f":"INDEX([5]Hoja4!$F$2:$F$1672,MATCH(F1349,[5]Hoja4!$G$2:$G$1672,0))","v":59},"Reparación de los Sistemas de Vehículos Livianos",null,"4157_59",null,null,"x",null,null,"x"]
[4157,"San José Central","San José Global","San Sebastián",{"$f":"INDEX([5]Hoja4!$F$2:$F$1672,MATCH(F1350,[5]Hoja4!$G$2:$G$1672,0))","v":39},"Electrónica en Telecomunicaciones",null,"4157_39",null,null,"x","X","x","x","X","x"]
[4157,"San José Central","San José Global","San Sebastián",{"$f":"INDEX([5]Hoja4!$F$2:$F$1672,MATCH(F1351,[5]Hoja4!$G$2:$G$1672,0))","v":40},"Electrónica Industrial",null,"4157_40",null,null,"x","X","x"]
[4157,"San José Central","San José Global","San Sebastián",{"$f":"INDEX([5]Hoja4!$F$2:$F$1672,MATCH(F1352,[5]Hoja4!$G$2:$G$1672,0))","v":41},"Electrotecnia",null,"4157_41",null,null,null,null,"x"]
[4157,"San José Central","San José Global","San Sebastián",{"$f":"INDEX([5]Hoja4!$F$2:$F$1672,MATCH(F1353,[5]Hoja4!$G$2:$G$1672,0))","v":15},"Ciberseguridad",null,"4157_15",null,null,"x","x",null,"x","X"]
[4157,"San José Central","San José Global","San Sebastián",{"$f":"INDEX([5]Hoja4!$F$2:$F$1672,MATCH(F1354,[5]Hoja4!$G$2:$G$1672,0))","v":62},"Secretariado Ejecutivo",null,"4157_62",null,null,"x","X","x","x","X","x"]
[6016,"San José Central","San José Global","Uladislao Gámez Solano",{"$f":"INDEX([5]Hoja4!$F$2:$F$1672,MATCH(F1355,[5]Hoja4!$G$2:$G$1672,0))","v":18},"Configuración y soporte de redes de comunicación y sistemas operativos",null,"6016_18",null,null,"x","X","x","x","X","x"]
[6016,"San José Central","San José Global","Uladislao Gámez Solano",{"$f":"INDEX([5]Hoja4!$F$2:$F$1672,MATCH(F1356,[5]Hoja4!$G$2:$G$1672,0))","v":19},"Construcción Civil",null,"6016_19",null,null,null,null,null,"x","X","x"]
[6016,"San José Central","San José Global","Uladislao Gámez Solano",{"$f":"INDEX([5]Hoja4!$F$2:$F$1672,MATCH(F1357,[5]Hoja4!$G$2:$G$1672,0))","v":22},"Contabilidad y control interno ",null,"6016_22",null,null,null,null,null,"x","X","x"]
[6016,"San José Central","San José Global","Uladislao Gámez Solano",{"$f":"INDEX([5]Hoja4!$F$2:$F$1672,MATCH(F1358,[5]Hoja4!$G$2:$G$1672,0))","v":23},"Contabilidad y Costos",null,"6016_23",null,null,"x","X","x"]
[6016,"San José Central","San José Global","Uladislao Gámez Solano",{"$f":"INDEX([5]Hoja4!$F$2:$F$1672,MATCH(F1359,[5]Hoja4!$G$2:$G$1672,0))","v":24},"Contabilidad y Finanzas",null,"6016_24",null,null,"x","X","x"]
[6016,"San José Central","San José Global","Uladislao Gámez Solano",{"$f":"INDEX([5]Hoja4!$F$2:$F$1672,MATCH(F1360,[5]Hoja4!$G$2:$G$1672,0))","v":30},"Diseño Publicitario",null,"6016_30",null,null,null,"X","x","x","X","x"]
[6016,"San José Central","San José Global","Uladislao Gámez Solano",{"$f":"INDEX([5]Hoja4!$F$2:$F$1672,MATCH(F1361,[5]Hoja4!$G$2:$G$1672,0))","v":35},"Ejecutivo Comercial y Servicio al Cliente",null,"6016_35",null,null,"x","X","x"]
[6017,"San José Central","San José Global","Uladislao Gámez Solano",{"$f":"INDEX([5]Hoja4!$F$2:$F$1672,MATCH(F1362,[5]Hoja4!$G$2:$G$1672,0))","v":69},"Instalación y mantenimiento de sistemas eléctricos indutriales ",null,"6017_69",null,null,"x","x"]
[6016,"San José Central","San José Global","Uladislao Gámez Solano",{"$f":"INDEX([5]Hoja4!$F$2:$F$1672,MATCH(F1363,[5]Hoja4!$G$2:$G$1672,0))","v":40},"Electrónica Industrial",null,"6016_40",null,null,"x","X","x",null,"X","x"]
[6582,"Desamparados",null,"Roberto Gamboa Valverde",{"$f":"INDEX([5]Hoja4!$F$2:$F$1672,MATCH(F1364,[5]Hoja4!$G$2:$G$1672,0))","v":41},"Electrotecnia",null,"6582_41",null,null,"X"]
[6016,"San José Central","San José Global","Uladislao Gámez Solano",{"$f":"INDEX([5]Hoja4!$F$2:$F$1672,MATCH(F1365,[5]Hoja4!$G$2:$G$1672,0))","v":41},"Electrotecnia",null,"6016_41",null,null,null,null,"x"]
[6016,"San José Central","San José Global","Uladislao Gámez Solano",{"$f":"INDEX([5]Hoja4!$F$2:$F$1672,MATCH(F1366,[5]Hoja4!$G$2:$G$1672,0))","v":46},"Informática en Redes de Computadoras",null,"6016_46"]
[6016,"San José Central","San José Global","Uladislao Gámez Solano",{"$f":"INDEX([5]Hoja4!$F$2:$F$1672,MATCH(F1367,[5]Hoja4!$G$2:$G$1672,0))","v":62},"Secretariado Ejecutivo",null,"6016_62",null,null,"x","X","x","x","X","x"]
[6529,"San José Norte","San José Global","Abelardo Bonilla Baldares",{"$f":"INDEX([5]Hoja4!$F$2:$F$1672,MATCH(F1368,[5]Hoja4!$G$2:$G$1672,0))","v":20},"Contabilidad",null,"6529_20",null,null,"x","X",null,"x","X","x"]
[6529,"San José Norte","San José Global","Abelardo Bonilla Baldares",{"$f":"INDEX([5]Hoja4!$F$2:$F$1672,MATCH(F1369,[5]Hoja4!$G$2:$G$1672,0))","v":22},"Contabilidad y Control Interno",null,"6529_22",null,null,null,null,"x"]
[6529,"San José Norte","San José Global","Abelardo Bonilla Baldares",{"$f":"INDEX([5]Hoja4!$F$2:$F$1672,MATCH(F1370,[5]Hoja4!$G$2:$G$1672,0))","v":33},"Diseño y Desarrollo Digital",null,"6529_33",null,null,"x","X","x"]
[6529,"San José Norte","San José Global","Abelardo Bonilla Baldares",{"$f":"INDEX([5]Hoja4!$F$2:$F$1672,MATCH(F1371,[5]Hoja4!$G$2:$G$1672,0))","v":35},"Ejecutivo Comercial y Servicio al cliente",null,"6529_35",null,null,"x","X","x","x","X","x"]
[6529,"San José Norte","San José Global","Abelardo Bonilla Baldares",{"$f":"INDEX([5]Hoja4!$F$2:$F$1672,MATCH(F1372,[5]Hoja4!$G$2:$G$1672,0))","v":72},"Desarrollo de aplicaciones móviles",null,"6529_72",null,null,"x"]
[6529,"San José Norte","San José Global","Abelardo Bonilla Baldares",{"$f":"INDEX([5]Hoja4!$F$2:$F$1672,MATCH(F1373,[5]Hoja4!$G$2:$G$1672,0))","v":40},"Electrónica Industrial",null,"6529_40",null,null,"x","X","x"]
[6529,"San José Norte","San José Global","Abelardo Bonilla Baldares",{"$f":"INDEX([5]Hoja4!$F$2:$F$1672,MATCH(F1374,[5]Hoja4!$G$2:$G$1672,0))","v":45},"Informática en Desarrollo de Software",null,"6529_45",null,null,null,null,"x"]
[6529,"San José Norte","San José Global","Abelardo Bonilla Baldares",{"$f":"INDEX([5]Hoja4!$F$2:$F$1672,MATCH(F1375,[5]Hoja4!$G$2:$G$1672,0))","v":62},"Secretariado Ejecutivo",null,"6529_62",null,null,"x","X","x","x","X","x"]
[6529,"San José Norte","San José Global","Abelardo Bonilla Baldares",{"$f":"INDEX([5]Hoja4!$F$2:$F$1672,MATCH(F1376,[5]Hoja4!$G$2:$G$1672,0))","v":73},"Gerencia y producción en cocina ",null,"6529_73",null,null,"x",null,null,"x"]
[6529,"San José Norte","San José Global","Abelardo Bonilla Baldares",{"$f":"INDEX([5]Hoja4!$F$2:$F$1672,MATCH(F1377,[5]Hoja4!$G$2:$G$1672,0))","v":65},"Turismo en Alimentos y Bebidas",null,"6529_65",null,null,null,"X","x",null,"X"]
[4155,"San José Norte","San José Global","Calle Blancos",{"$f":"INDEX([5]Hoja4!$F$2:$F$1672,MATCH(F1378,[5]Hoja4!$G$2:$G$1672,0))","v":18},"Configuración y soporte de redes de comunicación y sistemas operativos",null,"4155_18",null,null,"x","X","x","x","X","x"]
[4155,"San José Norte","San José Global","Calle Blancos",{"$f":"INDEX([5]Hoja4!$F$2:$F$1672,MATCH(F1379,[5]Hoja4!$G$2:$G$1672,0))","v":19},"Construcción Civil",null,{"$f":"IF(A1379=\"\",\"\",A1379&\"_\"&E1379)","v":"4155_19"},null,null,"x","X","x"]
[4155,"San José Norte","San José Global","Calle Blancos",{"$f":"INDEX([5]Hoja4!$F$2:$F$1672,MATCH(F1380,[5]Hoja4!$G$2:$G$1672,0))","v":20},"Contabilidad",null,"4155_20",null,null,"x",null,"x","x","X","x"]
[4155,"San José Norte","San José Global","Calle Blancos",{"$f":"INDEX([5]Hoja4!$F$2:$F$1672,MATCH(F1381,[5]Hoja4!$G$2:$G$1672,0))","v":27},"Dibujo Técnico",null,"4155_27"]
[4155,"San José Norte","San José Global","Calle Blancos",{"$f":"INDEX([5]Hoja4!$F$2:$F$1672,MATCH(F1382,[5]Hoja4!$G$2:$G$1672,0))","v":28},"Dibujo y Modelado para Edificaciones",null,"4155_28",null,null,"x","X","x"]
[4155,"San José Norte","San José Global","Calle Blancos",{"$f":"INDEX([5]Hoja4!$F$2:$F$1672,MATCH(F1383,[5]Hoja4!$G$2:$G$1672,0))","v":30},"Diseño Publicitario",null,"4155_30",null,null,"x","X","x","x","X","x"]
[4155,"San José Norte","San José Global","Calle Blancos",{"$f":"INDEX([5]Hoja4!$F$2:$F$1672,MATCH(F1384,[5]Hoja4!$G$2:$G$1672,0))","v":31},"Diseño y Confección de la Moda",null,"4155_31",null,null,"x","X","x"]
[4155,"San José Norte","San José Global","Calle Blancos",{"$f":"INDEX([5]Hoja4!$F$2:$F$1672,MATCH(F1385,[5]Hoja4!$G$2:$G$1672,0))","v":35},"Ejecutivo Comercial y Servicio al Cliente",null,"4155_35",null,null,null,null,"x","x","X","x"]
[4155,"San José Norte","San José Global","Calle Blancos",{"$f":"INDEX([5]Hoja4!$F$2:$F$1672,MATCH(F1386,[5]Hoja4!$G$2:$G$1672,0))","v":45},"Informática en Desarrollo de Software",null,"4155_45",null,null,null,"X","x",null,null,"x"]
[4155,"San José Norte","San José Global","Calle Blancos",{"$f":"INDEX([5]Hoja4!$F$2:$F$1672,MATCH(F1387,[5]Hoja4!$G$2:$G$1672,0))","v":70},"Inteligencia Artificial",null,"4155_70",null,null,null,"X"]
[4155,"San José Norte","San José Global","Calle Blancos",{"$f":"INDEX([5]Hoja4!$F$2:$F$1672,MATCH(F1388,[5]Hoja4!$G$2:$G$1672,0))","v":58},"Refrigeración y Aire Acondicionado",null,"4155_58",null,null,"x","X","x"]
[6528,"San José Norte","San José Global","Purral",{"$f":"INDEX([5]Hoja4!$F$2:$F$1672,MATCH(F1389,[5]Hoja4!$G$2:$G$1672,0))","v":3},"Administración, Logística y Distribución",null,"6528_3",null,null,"x","X","x"]
[6528,"San José Norte","San José Global","Purral",{"$f":"INDEX([5]Hoja4!$F$2:$F$1672,MATCH(F1390,[5]Hoja4!$G$2:$G$1672,0))","v":15},"Ciberseguridad",null,"6528_15",null,null,null,null,"x"]
[6528,"San José Norte","San José Global","Purral",{"$f":"INDEX([5]Hoja4!$F$2:$F$1672,MATCH(F1391,[5]Hoja4!$G$2:$G$1672,0))","v":18},"Configuración y soporte de redes de comunicación y sistemas operativos",null,"6528_18",null,null,"x","X","x","x","X","x"]
[6528,"San José Norte","San José Global","Purral",{"$f":"INDEX([5]Hoja4!$F$2:$F$1672,MATCH(F1392,[5]Hoja4!$G$2:$G$1672,0))","v":20},"Contabilidad",null,"6528_20",null,null,"x","X","x","x","X","x"]
[6528,"San José Norte","San José Global","Purral",{"$f":"INDEX([5]Hoja4!$F$2:$F$1672,MATCH(F1393,[5]Hoja4!$G$2:$G$1672,0))","v":23},"Contabilidad y Costos",null,"6528_23",null,null,"x","X","x"]
[6528,"San José Norte","San José Global","Purral",{"$f":"INDEX([5]Hoja4!$F$2:$F$1672,MATCH(F1394,[5]Hoja4!$G$2:$G$1672,0))","v":35},"Ejecutivo Comercial y Servicio al Cliente",null,"6528_35",null,null,"x","X","x","x","X","x"]
[6528,"San José Norte","San José Global","Purral",{"$f":"INDEX([5]Hoja4!$F$2:$F$1672,MATCH(F1395,[5]Hoja4!$G$2:$G$1672,0))","v":40},"Electrónica Industrial",null,"6528_40",null,null,"x","X","x",null,"X","x"]
[6528,"San José Norte","San José Global","Purral",{"$f":"INDEX([5]Hoja4!$F$2:$F$1672,MATCH(F1396,[5]Hoja4!$G$2:$G$1672,0))","v":44},"Informática Empresarial",null,"6528_44"]
[6528,"San José Norte","San José Global","Purral",{"$f":"INDEX([5]Hoja4!$F$2:$F$1672,MATCH(F1397,[5]Hoja4!$G$2:$G$1672,0))","v":62},"Secretariado Ejecutivo",null,"6528_62",null,null,null,null,null,"x","X","x"]
[6358,"San José Norte","San José Global","Vásquez de Coronado",{"$f":"INDEX([5]Hoja4!$F$2:$F$1672,MATCH(F1398,[5]Hoja4!$G$2:$G$1672,0))","v":2},"Administración y Operación Aduanera",null,"6358_2",null,null,"x"]
[6358,"San José Norte","San José Global","Vásquez de Coronado",{"$f":"INDEX([5]Hoja4!$F$2:$F$1672,MATCH(F1399,[5]Hoja4!$G$2:$G$1672,0))","v":3},"Administración, Logística y Distribución",null,"6358_3",null,null,null,null,null,"x"]
[6358,"San José Norte","San José Global","Vásquez de Coronado",{"$f":"INDEX([5]Hoja4!$F$2:$F$1672,MATCH(F1400,[5]Hoja4!$G$2:$G$1672,0))","v":13},"Banca y Finanzas",null,"6358_13",null,null,null,"x","x","x"]
[6359,"San José Norte","San José Global","Vásquez de Coronado",{"$f":"INDEX([5]Hoja4!$F$2:$F$1672,MATCH(F1401,[5]Hoja4!$G$2:$G$1672,0))","v":24},"Contabilidad y Finanzas",null,"6359_24",null,null,null,null,null,"x","x"]
[6360,"San José Norte","San José Global","Vásquez de Coronado",{"$f":"INDEX([5]Hoja4!$F$2:$F$1672,MATCH(F1402,[5]Hoja4!$G$2:$G$1672,0))","v":20},"Contabilidad",null,"6360_20",null,null,"x","x","x",null,null,"x"]
[6361,"San José Norte","San José Global","Vásquez de Coronado",{"$f":"INDEX([5]Hoja4!$F$2:$F$1672,MATCH(F1403,[5]Hoja4!$G$2:$G$1672,0))","v":30},"Diseño Publicitario",null,"6361_30",null,null,"x",null,"x"]
[6362,"San José Norte","San José Global","Vásquez de Coronado",{"$f":"INDEX([5]Hoja4!$F$2:$F$1672,MATCH(F1404,[5]Hoja4!$G$2:$G$1672,0))","v":35},"Ejecutivo Comercial y Servicio al Cliente",null,"6362_35",null,null,"x","x",null,null,"x","x"]
[6363,"San José Norte","San José Global","Vásquez de Coronado",{"$f":"INDEX([5]Hoja4!$F$2:$F$1672,MATCH(F1405,[5]Hoja4!$G$2:$G$1672,0))","v":72},"Desarrollo de aplicaciones móviles",null,"6363_72",null,null,null,null,null,"x"]
[6364,"San José Norte","San José Global","Vásquez de Coronado",{"$f":"INDEX([5]Hoja4!$F$2:$F$1672,MATCH(F1406,[5]Hoja4!$G$2:$G$1672,0))","v":45},"Informática en Desarrollo de Software",null,"6364_45",null,null,null,null,"x",null,"x","x"]
[6365,"San José Norte","San José Global","Vásquez de Coronado",{"$f":"INDEX([5]Hoja4!$F$2:$F$1672,MATCH(F1407,[5]Hoja4!$G$2:$G$1672,0))","v":68},"Gestión de la Producción ",null,"6365_68",null,null,null,"x"]
[6366,"San José Norte","San José Global","Vásquez de Coronado",{"$f":"INDEX([5]Hoja4!$F$2:$F$1672,MATCH(F1408,[5]Hoja4!$G$2:$G$1672,0))","v":70},"Inteligencia Artificial",null,"6366_70",null,null,"x","x"]
[6358,"San José Norte","San José Global","Vásquez de Coronado",{"$f":"INDEX([5]Hoja4!$F$2:$F$1672,MATCH(F1409,[5]Hoja4!$G$2:$G$1672,0))","v":62},"Secretariado Ejecutivo",null,"6358_62",null,null,"x","x","x","x","x","x"]
[4156,"San José Oeste","San José Global","Educación Comercial y de Servicios",{"$f":"INDEX([5]Hoja4!$F$2:$F$1672,MATCH(F1410,[5]Hoja4!$G$2:$G$1672,0))","v":13},"Banca y Finanzas",null,"4156_13"]
[4156,"San José Oeste","San José Global","Educación Comercial y de Servicios",{"$f":"INDEX([5]Hoja4!$F$2:$F$1672,MATCH(F1411,[5]Hoja4!$G$2:$G$1672,0))","v":22},"Contabilidad y Control Interno",null,"4156_22",null,null,null,"X","x"]
[4156,"San José Oeste","San José Global","Educación Comercial y de Servicios",{"$f":"INDEX([5]Hoja4!$F$2:$F$1672,MATCH(F1412,[5]Hoja4!$G$2:$G$1672,0))","v":24},"Contabilidad y Finanzas",null,"4156_24",null,null,"x","X","x"]
[4156,"San José Oeste","San José Global","Educación Comercial y de Servicios",{"$f":"INDEX([5]Hoja4!$F$2:$F$1672,MATCH(F1413,[5]Hoja4!$G$2:$G$1672,0))","v":25},"Desarrollo Web",null,"4156_25",null,null,"x","X","x"]
[4156,"San José Oeste","San José Global","Educación Comercial y de Servicios",{"$f":"INDEX([5]Hoja4!$F$2:$F$1672,MATCH(F1414,[5]Hoja4!$G$2:$G$1672,0))","v":35},"Ejecutivo Comercial y Servicio al cliente",null,"4156_35",null,null,"x","X","x"]
[4156,"San José Oeste","San José Global","Educación Comercial y de Servicios",{"$f":"INDEX([5]Hoja4!$F$2:$F$1672,MATCH(F1415,[5]Hoja4!$G$2:$G$1672,0))","v":15},"Ciberseguridad",null,"4156_15",null,null,"x"]
[4156,"San José Oeste","San José Global","Educación Comercial y de Servicios",{"$f":"INDEX([5]Hoja4!$F$2:$F$1672,MATCH(F1416,[5]Hoja4!$G$2:$G$1672,0))","v":62},"Secretariado Ejecutivo",null,"4156_62",null,null,"x","X","x"]
[5818,"San José Oeste","San José Global","Escazú",{"$f":"INDEX([5]Hoja4!$F$2:$F$1672,MATCH(F1417,[5]Hoja4!$G$2:$G$1672,0))","v":3},"Administración, Logística y Distribución",null,"5818_3",null,null,"x","X",null,"x","X"]
[5818,"San José Oeste","San José Global","Escazú",{"$f":"INDEX([5]Hoja4!$F$2:$F$1672,MATCH(F1418,[5]Hoja4!$G$2:$G$1672,0))","v":20},"Contabilidad",null,"5818_20",null,null,"x","X","x","x","X","x"]
[5818,"San José Oeste","San José Global","Escazú",{"$f":"INDEX([5]Hoja4!$F$2:$F$1672,MATCH(F1419,[5]Hoja4!$G$2:$G$1672,0))","v":30},"Diseño Publicitario",null,"5818_30",null,null,null,"X",null,null,"X"]
[5818,"San José Oeste","San José Global","Escazú",{"$f":"INDEX([5]Hoja4!$F$2:$F$1672,MATCH(F1420,[5]Hoja4!$G$2:$G$1672,0))","v":35},"Ejecutivo Comercial y Servicio al cliente",null,"5818_35",null,null,"x",null,"x","x",null,"x"]
[5818,"San José Oeste","San José Global","Escazú",{"$f":"INDEX([5]Hoja4!$F$2:$F$1672,MATCH(F1421,[5]Hoja4!$G$2:$G$1672,0))","v":72},"Desarrollo de aplicaciones móviles",null,"5818_72",null,null,"x",null,null,null,null,"x"]
[5818,"San José Oeste","San José Global","Escazú",{"$f":"INDEX([5]Hoja4!$F$2:$F$1672,MATCH(F1422,[5]Hoja4!$G$2:$G$1672,0))","v":45},"Informática en Desarrollo de Software",null,"5818_45"]
[5818,"San José Oeste","San José Global","Escazú",{"$f":"INDEX([5]Hoja4!$F$2:$F$1672,MATCH(F1423,[5]Hoja4!$G$2:$G$1672,0))","v":25},"Desarrollo web",null,"5818_25",null,null,null,null,null,"x"]
[5818,"San José Oeste","San José Global","Escazú",{"$f":"INDEX([5]Hoja4!$F$2:$F$1672,MATCH(F1424,[5]Hoja4!$G$2:$G$1672,0))","v":61},"Salud Ocupacional",null,"5818_61",null,null,"x","X","x",null,"X"]
[6718,"San José Oeste","San José Global","La Carpio",{"$f":"INDEX([5]Hoja4!$F$2:$F$1672,MATCH(F1425,[5]Hoja4!$G$2:$G$1672,0))","v":2},"Administración y Operación Aduanera",null,"6718_2",null,null,null,"X","x"]
[6574,"Desamparados",null,"José María Zeledón Brenes",{"$f":"INDEX([5]Hoja4!$F$2:$F$1672,MATCH(F1426,[5]Hoja4!$G$2:$G$1672,0))","v":15},"Ciberseguridad",null,"6574_15",null,null,"X"]
[6718,"San José Oeste","San José Global","La Carpio",{"$f":"INDEX([5]Hoja4!$F$2:$F$1672,MATCH(F1427,[5]Hoja4!$G$2:$G$1672,0))","v":15},"Ciberseguridad",null,"6718_15",null,null,null,"x","x"]
[6718,"San José Oeste","San José Global","La Carpio",{"$f":"INDEX([5]Hoja4!$F$2:$F$1672,MATCH(F1428,[5]Hoja4!$G$2:$G$1672,0))","v":18},"Configuración y soporte de redes de comunicación y sistemas operativos",null,"6718_18",null,null,"x",null,"x"]
[6718,"San José Oeste","San José Global","La Carpio",{"$f":"INDEX([5]Hoja4!$F$2:$F$1672,MATCH(F1429,[5]Hoja4!$G$2:$G$1672,0))","v":24},"Contabilidad y Finanzas",null,"6718_24",null,null,"x","X"]
[null,null,null,null,{"$f":"INDEX([5]Hoja4!$F$2:$F$1672,MATCH(F1430,[5]Hoja4!$G$2:$G$1672,0))","v":23},"Contabilidad y Costos",null,"",null,null,"x","X"]
[6718,"San José Oeste","San José Global","La Carpio",{"$f":"INDEX([5]Hoja4!$F$2:$F$1672,MATCH(F1431,[5]Hoja4!$G$2:$G$1672,0))","v":33},"Diseño y Desarrollo Digital",null,"6718_33",null,null,"x",null,"x"]
[6530,"San José Oeste","San José Global","Pavas",{"$f":"INDEX([5]Hoja4!$F$2:$F$1672,MATCH(F1432,[5]Hoja4!$G$2:$G$1672,0))","v":3},"Administración, Logística y Distribución",null,"6530_3",null,null,"x","X","x","x","X"]
[6530,"San José Oeste","San José Global","Pavas",{"$f":"INDEX([5]Hoja4!$F$2:$F$1672,MATCH(F1433,[5]Hoja4!$G$2:$G$1672,0))","v":18},"Configuración y soporte de redes de comunicación y sistemas operativos",null,"6530_18",null,null,"x","X","x","x","X","x"]
[6530,"San José Oeste","San José Global","Pavas",{"$f":"INDEX([5]Hoja4!$F$2:$F$1672,MATCH(F1434,[5]Hoja4!$G$2:$G$1672,0))","v":20},"Contabilidad",null,"6530_20",null,null,"x","X","x","x","X","x"]
[6530,"San José Oeste","San José Global","Pavas",{"$f":"INDEX([5]Hoja4!$F$2:$F$1672,MATCH(F1435,[5]Hoja4!$G$2:$G$1672,0))","v":24},"Contabilidad y Finanzas",null,"6530_24",null,null,null,null,"x"]
[6530,"San José Oeste","San José Global","Pavas",{"$f":"INDEX([5]Hoja4!$F$2:$F$1672,MATCH(F1436,[5]Hoja4!$G$2:$G$1672,0))","v":25},"Desarrollo Web",null,"6530_25",null,null,"x",null,null,null,null,"x"]
[6530,"San José Oeste","San José Global","Pavas",{"$f":"INDEX([5]Hoja4!$F$2:$F$1672,MATCH(F1437,[5]Hoja4!$G$2:$G$1672,0))","v":30},"Diseño Publicitario",null,"6530_30",null,null,"x","X",null,"x",null,"x"]
[6530,"San José Oeste","San José Global","Pavas",{"$f":"INDEX([5]Hoja4!$F$2:$F$1672,MATCH(F1438,[5]Hoja4!$G$2:$G$1672,0))","v":35},"Ejecutivo Comercial y Servicio al cliente",null,"6530_35",null,null,"x",null,"x","x",null,"x"]
[6530,"San José Oeste","San José Global","Pavas",{"$f":"INDEX([5]Hoja4!$F$2:$F$1672,MATCH(F1439,[5]Hoja4!$G$2:$G$1672,0))","v":53},"Mercadeo",null,"6530_53",null,null,null,null,null,null,"X"]
[6530,"San José Oeste","San José Global","Pavas",{"$f":"INDEX([5]Hoja4!$F$2:$F$1672,MATCH(F1440,[5]Hoja4!$G$2:$G$1672,0))","v":40},"Electrónica Industrial",null,"6530_40",null,null,"x","X",null,"x"]
[6530,"San José Oeste","San José Global","Pavas",{"$f":"INDEX([5]Hoja4!$F$2:$F$1672,MATCH(F1441,[5]Hoja4!$G$2:$G$1672,0))","v":68},"Gestión de la producción ",null,"6530_68",null,null,"x",null,null,"x"]
[6530,"San José Oeste","San José Global","Pavas",{"$f":"INDEX([5]Hoja4!$F$2:$F$1672,MATCH(F1442,[5]Hoja4!$G$2:$G$1672,0))","v":56},"Productividad y Calidad",null,"6530_56"]
[6530,"San José Oeste","San José Global","Pavas",{"$f":"INDEX([5]Hoja4!$F$2:$F$1672,MATCH(F1443,[5]Hoja4!$G$2:$G$1672,0))","v":62},"Secretariado Ejecutivo",null,"6530_62",null,null,"x","X","x",null,"X","x"]
[5680,"San José Oeste","San José Global","Santa Ana",{"$f":"INDEX([5]Hoja4!$F$2:$F$1672,MATCH(F1444,[5]Hoja4!$G$2:$G$1672,0))","v":18},"Configuración y soporte de redes de comunicación y sistemas operativos",null,{"$f":"IF(A1444=\"\",\"\",A1444&\"_\"&E1444)","v":"5680_18"},null,null,"x","X","x"]
[5680,"San José Oeste","San José Global","Santa Ana",{"$f":"INDEX([5]Hoja4!$F$2:$F$1672,MATCH(F1445,[5]Hoja4!$G$2:$G$1672,0))","v":20},"Contabilidad",null,"5680_20",null,null,null,null,"x"]
[5680,"San José Oeste","San José Global","Santa Ana",{"$f":"INDEX([5]Hoja4!$F$2:$F$1672,MATCH(F1446,[5]Hoja4!$G$2:$G$1672,0))","v":24},"Contabilidad y Finanzas",null,"5680_24",null,null,"x","X","x"]
[5680,"San José Oeste","San José Global","Santa Ana",{"$f":"INDEX([5]Hoja4!$F$2:$F$1672,MATCH(F1447,[5]Hoja4!$G$2:$G$1672,0))","v":35},"Ejecutivo Comercial y Servicio al Cliente",null,"5680_35",null,null,"x",null,"x"]
[5681,"San José Oeste","San José Global","Santa Ana",{"$f":"INDEX([5]Hoja4!$F$2:$F$1672,MATCH(F1448,[5]Hoja4!$G$2:$G$1672,0))","v":15},"Ciberseguridad",null,"5681_15",null,null,"x","X"]
[5681,"San José Oeste","San José Global","Santa Ana",{"$f":"INDEX([5]Hoja4!$F$2:$F$1672,MATCH(F1449,[5]Hoja4!$G$2:$G$1672,0))","v":70},"Inteligencia Artificial",null,"5681_70",null,null,"x","X"]
[5680,"San José Oeste","San José Global","Santa Ana",{"$f":"INDEX([5]Hoja4!$F$2:$F$1672,MATCH(F1450,[5]Hoja4!$G$2:$G$1672,0))","v":45},"Informática en Desarrollo de Software",null,"5680_45"]
[5680,"San José Oeste","San José Global","Santa Ana",{"$f":"INDEX([5]Hoja4!$F$2:$F$1672,MATCH(F1451,[5]Hoja4!$G$2:$G$1672,0))","v":22},"Contabilidad y Control Interno",null,"5680_22",null,null,"x","x"]
[4202,"Santa Cruz","Chorotega Peninsular","27 de abril",{"$f":"INDEX([5]Hoja4!$F$2:$F$1672,MATCH(F1452,[5]Hoja4!$G$2:$G$1672,0))","v":6},"Agroindustria Alimentaria con Tecnología Agrícola",null,"4202_6",null,null,"x","x"]
[4202,"Santa Cruz","Chorotega Peninsular","27 de abril",{"$f":"INDEX([5]Hoja4!$F$2:$F$1672,MATCH(F1453,[5]Hoja4!$G$2:$G$1672,0))","v":6},"Agroindustria Alimentaria con Tecnología Pecuaria",null,"4202_6",null,null,null,null,"x"]
[4202,"Santa Cruz","Chorotega Peninsular","27 de abril",{"$f":"INDEX([5]Hoja4!$F$2:$F$1672,MATCH(F1454,[5]Hoja4!$G$2:$G$1672,0))","v":73},"Gerencia y producción en cocina ",null,"4202_73",null,null,"x"]
[4202,"Santa Cruz","Chorotega Peninsular","27 de abril",{"$f":"INDEX([5]Hoja4!$F$2:$F$1672,MATCH(F1455,[5]Hoja4!$G$2:$G$1672,0))","v":72},"Desarrollo de aplicaciones móviles",null,"4202_72",null,null,null,null,null,"x"]
[4202,"Santa Cruz","Chorotega Peninsular","27 de abril",{"$f":"INDEX([5]Hoja4!$F$2:$F$1672,MATCH(F1456,[5]Hoja4!$G$2:$G$1672,0))","v":20},"Contabilidad",null,"4202_20",null,null,null,null,null,"x","X","x"]
[4202,"Santa Cruz","Chorotega Peninsular","27 de abril",{"$f":"INDEX([5]Hoja4!$F$2:$F$1672,MATCH(F1457,[5]Hoja4!$G$2:$G$1672,0))","v":33},"Diseño y Desarrollo Digital",null,"4202_33",null,null,null,"X"]
[4202,"Santa Cruz","Chorotega Peninsular","27 de Abril",{"$f":"INDEX([5]Hoja4!$F$2:$F$1672,MATCH(F1458,[5]Hoja4!$G$2:$G$1672,0))","v":35},"Ejecutivo Comercial y Servicio al cliente",null,"4202_35",null,null,null,"X","x"]
[4202,"Santa Cruz","Chorotega Peninsular","27 de abril",{"$f":"INDEX([5]Hoja4!$F$2:$F$1672,MATCH(F1459,[5]Hoja4!$G$2:$G$1672,0))","v":44},"Informática Empresarial",null,"4202_44",null,null,null,null,null,null,"X","x"]
[4202,"Santa Cruz","Chorotega Peninsular","27 de Abril",{"$f":"INDEX([5]Hoja4!$F$2:$F$1672,MATCH(F1460,[5]Hoja4!$G$2:$G$1672,0))","v":54},"Operación de Empresas de Alojamiento",null,"4202_54",null,null,"x","X","x"]
[4202,"Santa Cruz","Chorotega Peninsular","27 de Abril",{"$f":"INDEX([5]Hoja4!$F$2:$F$1672,MATCH(F1461,[5]Hoja4!$G$2:$G$1672,0))","v":55},"Producción Agrícola y Pecuaria",null,"4202_55",null,null,"x","X","x"]
[4202,"Santa Cruz","Chorotega Peninsular","27 de abril",{"$f":"INDEX([5]Hoja4!$F$2:$F$1672,MATCH(F1462,[5]Hoja4!$G$2:$G$1672,0))","v":65},"Turismo en Alimentos y Bebidas",null,"4202_65",null,null,null,"X","x"]
[4202,"Santa Cruz","Chorotega Peninsular","27 de abril",{"$f":"INDEX([5]Hoja4!$F$2:$F$1672,MATCH(F1463,[5]Hoja4!$G$2:$G$1672,0))","v":66},"Turismo en Hotelería y Eventos Especiales",null,"4202_66"]
[4201,"Santa Cruz","Chorotega Peninsular","Carrillo",{"$f":"INDEX([5]Hoja4!$F$2:$F$1672,MATCH(F1464,[5]Hoja4!$G$2:$G$1672,0))","v":6},"Agroindustria Alimentaria con Tecnología Agrícola",null,"4201_6",null,null,null,"X","x"]
[4201,"Santa Cruz","Chorotega Peninsular","Carrillo",{"$f":"INDEX([5]Hoja4!$F$2:$F$1672,MATCH(F1465,[5]Hoja4!$G$2:$G$1672,0))","v":6},"Agroindustria Alimentaria con Tecnología Pecuaria",null,"4201_6"]
[4201,"Santa Cruz","Chorotega Peninsular","Carrillo",{"$f":"INDEX([5]Hoja4!$F$2:$F$1672,MATCH(F1466,[5]Hoja4!$G$2:$G$1672,0))","v":5},"Agroecología",null,"4201_5",null,null,"x"]
[4201,"Santa Cruz","Chorotega Peninsular","Carrillo",{"$f":"INDEX([5]Hoja4!$F$2:$F$1672,MATCH(F1467,[5]Hoja4!$G$2:$G$1672,0))","v":34},"Ecoturismo",null,"4201_34",null,null,"x","x"]
[4201,"Santa Cruz","Chorotega Peninsular","Carrillo",{"$f":"INDEX([5]Hoja4!$F$2:$F$1672,MATCH(F1468,[5]Hoja4!$G$2:$G$1672,0))","v":55},"Producción Agrícola y Pecuaria",null,"4201_55",null,null,"x"]
[4201,"Santa Cruz","Chorotega Peninsular","Carrillo",{"$f":"INDEX([5]Hoja4!$F$2:$F$1672,MATCH(F1469,[5]Hoja4!$G$2:$G$1672,0))","v":71},"Organización de operaciones y servicios de alimentos y bebidas",null,"4201_71",null,null,"x"]
[4202,"Santa Cruz","Chorotega Peninsular","Carrillo",{"$f":"INDEX([5]Hoja4!$F$2:$F$1672,MATCH(F1470,[5]Hoja4!$G$2:$G$1672,0))","v":18},"Configuración y soporte de redes de comunicación y sistemas operativos",null,"4202_18",null,null,null,null,"x",null,null,"x"]
[4202,"Santa Cruz","Chorotega Peninsular","Carrillo",{"$f":"INDEX([5]Hoja4!$F$2:$F$1672,MATCH(F1471,[5]Hoja4!$G$2:$G$1672,0))","v":15},"Ciberseguridad",null,"4202_15",null,null,"x"]
[7025,"Heredia",null,"Ing. Carlos Pascua Zuñiga",{"$f":"INDEX([5]Hoja4!$F$2:$F$1672,MATCH(F1472,[5]Hoja4!$G$2:$G$1672,0))","v":19},"Construcción Civil",null,"7025_19",null,null,"X"]
[4201,"Santa Cruz","Chorotega Peninsular","Carrillo",{"$f":"INDEX([5]Hoja4!$F$2:$F$1672,MATCH(F1473,[5]Hoja4!$G$2:$G$1672,0))","v":19},"Construcción Civil",null,"4201_19",null,null,null,"X",null,"x"]
[4201,"Santa Cruz","Chorotega Peninsular","Carrillo",{"$f":"INDEX([5]Hoja4!$F$2:$F$1672,MATCH(F1474,[5]Hoja4!$G$2:$G$1672,0))","v":35},"Ejecutivo Comercial y Servicio al cliente",null,"4201_35",null,null,null,"X"]
[4201,"Santa Cruz","Chorotega Peninsular","Carrillo",{"$f":"INDEX([5]Hoja4!$F$2:$F$1672,MATCH(F1475,[5]Hoja4!$G$2:$G$1672,0))","v":22},"Contabilidad y Control Interno",null,"4201_22",null,null,null,"X","x","x"]
[4201,"Santa Cruz","Chorotega Peninsular","Carrillo",{"$f":"INDEX([5]Hoja4!$F$2:$F$1672,MATCH(F1476,[5]Hoja4!$G$2:$G$1672,0))","v":21},"Contabilidad y auditoría ",null,"4201_21",null,null,null,null,"X"]
[4201,"Santa Cruz","Chorotega Peninsular","Carrillo",{"$f":"INDEX([5]Hoja4!$F$2:$F$1672,MATCH(F1477,[5]Hoja4!$G$2:$G$1672,0))","v":73},"Gerencia y producción en cocina ",null,"4201_73",null,null,"x",null,null,"x"]
[4201,"Santa Cruz","Chorotega Peninsular","Carrillo",{"$f":"INDEX([5]Hoja4!$F$2:$F$1672,MATCH(F1478,[5]Hoja4!$G$2:$G$1672,0))","v":25},"Desarrollo Web",null,"4201_25",null,null,"x"]
[4201,"Santa Cruz","Chorotega Peninsular","Carrillo",{"$f":"INDEX([5]Hoja4!$F$2:$F$1672,MATCH(F1479,[5]Hoja4!$G$2:$G$1672,0))","v":72},"Desarrollo de aplicaciones móviles",null,"4201_72",null,null,"x"]
[4201,"Santa Cruz","Chorotega Peninsular","Carrillo",{"$f":"INDEX([5]Hoja4!$F$2:$F$1672,MATCH(F1480,[5]Hoja4!$G$2:$G$1672,0))","v":44},"Informática Empresarial",null,"4201_44"]
[4201,"Santa Cruz","Chorotega Peninsular","Carrillo",{"$f":"INDEX([5]Hoja4!$F$2:$F$1672,MATCH(F1481,[5]Hoja4!$G$2:$G$1672,0))","v":46},"Informática en Redes de Computadoras",null,"4201_46"]
[7025,"Heredia",null,"Ing. Carlos Pascua Zuñiga",{"$f":"INDEX([5]Hoja4!$F$2:$F$1672,MATCH(F1482,[5]Hoja4!$G$2:$G$1672,0))","v":28},"Dibujo y Modelado para Edificaciones",null,"7025_28",null,null,"X"]
[4201,"Santa Cruz","Chorotega Peninsular","Carrillo",{"$f":"INDEX([5]Hoja4!$F$2:$F$1672,MATCH(F1483,[5]Hoja4!$G$2:$G$1672,0))","v":28},"Dibujo y Modelado para Edificaciones",null,"4201_28",null,null,null,null,null,null,"x"]
[7026,"Heredia",null,"CTP Guarari",{"$f":"INDEX([5]Hoja4!$F$2:$F$1672,MATCH(F1484,[5]Hoja4!$G$2:$G$1672,0))","v":1},"Accounting",null,"7026_1",null,null,"x"]
[4201,"Santa Cruz","Chorotega Peninsular","Carrillo",{"$f":"INDEX([5]Hoja4!$F$2:$F$1672,MATCH(F1485,[5]Hoja4!$G$2:$G$1672,0))","v":1},"Accounting",null,"4201_1",null,null,null,null,null,null,"x"]
[4201,"Santa Cruz","Chorotega Peninsular","Carrillo",{"$f":"INDEX([5]Hoja4!$F$2:$F$1672,MATCH(F1486,[5]Hoja4!$G$2:$G$1672,0))","v":54},"Operación de Empresas de Alojamiento",null,"4201_54",null,null,null,"X",null,null,"X","x"]
[4201,"Santa Cruz","Chorotega Peninsular","Carrillo",{"$f":"INDEX([5]Hoja4!$F$2:$F$1672,MATCH(F1487,[5]Hoja4!$G$2:$G$1672,0))","v":61},"Salud Ocupacional",null,"4201_61",null,null,null,null,null,null,null,"x"]
[4201,"Santa Cruz","Chorotega Peninsular","Carrillo",{"$f":"INDEX([5]Hoja4!$F$2:$F$1672,MATCH(F1488,[5]Hoja4!$G$2:$G$1672,0))","v":62},"Secretariado Ejecutivo",null,"4201_62",null,null,null,null,null,null,null,"x"]
[4201,"Santa Cruz","Chorotega Peninsular","Carrillo",{"$f":"INDEX([5]Hoja4!$F$2:$F$1672,MATCH(F1489,[5]Hoja4!$G$2:$G$1672,0))","v":65},"Turismo en Alimentos y Bebidas",null,"4201_65",null,null,null,null,"x",null,null,"x"]
[4201,"Santa Cruz","Chorotega Peninsular","Carrillo",{"$f":"INDEX([5]Hoja4!$F$2:$F$1672,MATCH(F1490,[5]Hoja4!$G$2:$G$1672,0))","v":24},"Contabillidad y Finanzas",null,"4201_24",null,null,null,null,null,null,"x"]
[4201,"Santa Cruz","Chorotega Peninsular","Carrillo",{"$f":"INDEX([5]Hoja4!$F$2:$F$1672,MATCH(F1491,[5]Hoja4!$G$2:$G$1672,0))","v":67},"Turismo Rural",null,"4201_67"]
[4205,"Santa Cruz","Chorotega Peninsular","Cartagena",{"$f":"INDEX([5]Hoja4!$F$2:$F$1672,MATCH(F1492,[5]Hoja4!$G$2:$G$1672,0))","v":20},"Contabilidad",null,"4205_20",null,null,"x","x","x","x","x","x"]
[4205,"Santa Cruz","Chorotega Peninsular","Cartagena",{"$f":"INDEX([5]Hoja4!$F$2:$F$1672,MATCH(F1493,[5]Hoja4!$G$2:$G$1672,0))","v":61},"Salud Ocupacional",null,"4205_61",null,null,null,null,null,"x"]
[4205,"Santa Cruz","Chorotega Peninsular","Cartagena",{"$f":"INDEX([5]Hoja4!$F$2:$F$1672,MATCH(F1494,[5]Hoja4!$G$2:$G$1672,0))","v":18},"Configuración y soporte de redes de comunicación y sistemas operativos",null,"4205_18",null,null,"x",null,null,"x"]
[4205,"Santa Cruz","Chorotega Peninsular","Cartagena",{"$f":"INDEX([5]Hoja4!$F$2:$F$1672,MATCH(F1495,[5]Hoja4!$G$2:$G$1672,0))","v":31},"Diseño y Confección de la Moda",null,"4205_31",null,null,null,null,null,"x","x","x"]
[4205,"Santa Cruz","Chorotega Peninsular","Cartagena",{"$f":"INDEX([5]Hoja4!$F$2:$F$1672,MATCH(F1496,[5]Hoja4!$G$2:$G$1672,0))","v":35},"Ejecutivo Comercial y Servicio al cliente",null,"4205_35",null,null,"x","x","x"]
[4205,"Santa Cruz","Chorotega Peninsular","Cartagena",{"$f":"INDEX([5]Hoja4!$F$2:$F$1672,MATCH(F1497,[5]Hoja4!$G$2:$G$1672,0))","v":71},"Organización de operaciones y servicios de alimentos y bebidas",null,"4205_71",null,null,"x"]
[4205,"Santa Cruz","Chorotega Peninsular","Cartagena",{"$f":"INDEX([5]Hoja4!$F$2:$F$1672,MATCH(F1498,[5]Hoja4!$G$2:$G$1672,0))","v":44},"Informática Empresarial",null,"4205_44",null,null,null,"x","x",null,"x","x"]
[4205,"Santa Cruz","Chorotega Peninsular","Cartagena",{"$f":"INDEX([5]Hoja4!$F$2:$F$1672,MATCH(F1499,[5]Hoja4!$G$2:$G$1672,0))","v":54},"Operación de Empresas de Alojamiento",null,"4205_54",null,null,"x","x","x"]
[4205,"Santa Cruz","Chorotega Peninsular","Cartagena",{"$f":"INDEX([5]Hoja4!$F$2:$F$1672,MATCH(F1500,[5]Hoja4!$G$2:$G$1672,0))","v":58},"Refrigeración y Aire Acondicionado",null,"4205_58",null,null,"x",null,"x","x","x","x"]
[4205,"Santa Cruz","Chorotega Peninsular","Cartagena",{"$f":"INDEX([5]Hoja4!$F$2:$F$1672,MATCH(F1501,[5]Hoja4!$G$2:$G$1672,0))","v":62},"Secretariado Ejecutivo",null,"4205_62",null,null,null,null,null,"x","x","x"]
[4205,"Santa Cruz","Chorotega Peninsular","Cartagena",{"$f":"INDEX([5]Hoja4!$F$2:$F$1672,MATCH(F1502,[5]Hoja4!$G$2:$G$1672,0))","v":65},"Turismo en Alimentos y Bebidas",null,"4205_65",null,null,null,"x",null,null,"x","x"]
[4873,"Santa Cruz","Chorotega Peninsular","CINDEA Santa Cruz (Central)",{"$f":"INDEX([5]Hoja4!$F$2:$F$1672,MATCH(F1503,[5]Hoja4!$G$2:$G$1672,0))","v":20},"Contabilidad",null,"4873_20",null,null,null,null,null,"x",null,"x"]
[4874,"Santa Cruz","Chorotega Peninsular","CINDEA Santa Cruz (Central)",{"$f":"INDEX([5]Hoja4!$F$2:$F$1672,MATCH(F1504,[5]Hoja4!$G$2:$G$1672,0))","v":23},"Contabilidad y Costos",null,"4874_23",null,null,null,null,null,"x","X"]
[4873,"Santa Cruz","Chorotega Peninsular","CINDEA Santa Cruz (Central)",{"$f":"INDEX([5]Hoja4!$F$2:$F$1672,MATCH(F1505,[5]Hoja4!$G$2:$G$1672,0))","v":25},"Desarrollo Web",null,"4873_25",null,null,null,null,null,null,null,"x"]
[4873,"Santa Cruz","Chorotega Peninsular","CINDEA Santa Cruz (Central)",{"$f":"INDEX([5]Hoja4!$F$2:$F$1672,MATCH(F1506,[5]Hoja4!$G$2:$G$1672,0))","v":35},"Ejecutivo Comercial y Servicio al cliente",null,"4873_35",null,null,null,null,null,null,"X","x"]
[4873,"Santa Cruz","Chorotega Peninsular","CINDEA Santa Cruz (Central)",{"$f":"INDEX([5]Hoja4!$F$2:$F$1672,MATCH(F1507,[5]Hoja4!$G$2:$G$1672,0))","v":61},"Salud Ocupacional",null,"4873_61","x",null,null,null,null,"x"]
[4873,"Santa Cruz","Chorotega Peninsular","CINDEA Santa Cruz (Central)",{"$f":"INDEX([5]Hoja4!$F$2:$F$1672,MATCH(F1508,[5]Hoja4!$G$2:$G$1672,0))","v":53},"Mercadeo",null,{"$f":"IF(A1508=\"\",\"\",A1508&\"_\"&E1508)","v":"4873_53"},"x",null,null,null,null,"x"]
[4873,"Santa Cruz","Chorotega Peninsular","CINDEA Santa Cruz (Central)",{"$f":"INDEX([5]Hoja4!$F$2:$F$1672,MATCH(F1509,[5]Hoja4!$G$2:$G$1672,0))","v":45},"Informática en Desarrollo de Software",null,"4873_45",null,null,null,null,null,null,"X"]
[4204,"Santa Cruz","Chorotega Peninsular","Santa Bárbara",{"$f":"INDEX([5]Hoja4!$F$2:$F$1672,MATCH(F1510,[5]Hoja4!$G$2:$G$1672,0))","v":20},"Contabilidad",null,"4204_20",null,null,null,"x",null,"x",null,"x"]
[4204,"Santa Cruz","Chorotega Peninsular","Santa Bárbara",{"$f":"INDEX([5]Hoja4!$F$2:$F$1672,MATCH(F1511,[5]Hoja4!$G$2:$G$1672,0))","v":37},"Electromecánica",null,"4204_37",null,null,"x",null,"x",null,null,"x"]
[4204,"Santa Cruz","Chorotega Peninsular","Santa Bárbara",{"$f":"INDEX([5]Hoja4!$F$2:$F$1672,MATCH(F1512,[5]Hoja4!$G$2:$G$1672,0))","v":44},"Informática Empresarial",null,"4204_44",null,null,null,"x","x",null,"x","x"]
[4205,"Santa Cruz","Chorotega Peninsular","Santa Bárbara",{"$f":"INDEX([5]Hoja4!$F$2:$F$1672,MATCH(F1513,[5]Hoja4!$G$2:$G$1672,0))","v":58},"Refrigeración y Aire Acondicionado",null,"4205_58",null,null,null,"x",null,null,"x"]
[7025,"Heredia",null,"Ing. Carlos Pascua Zuñiga",{"$f":"INDEX([5]Hoja4!$F$2:$F$1672,MATCH(F1514,[5]Hoja4!$G$2:$G$1672,0))","v":22},"Contabilidad y Control Interno",null,"7025_22",null,null,"X"]
[4204,"Santa Cruz","Chorotega Peninsular","Santa Bárbara",{"$f":"INDEX([5]Hoja4!$F$2:$F$1672,MATCH(F1515,[5]Hoja4!$G$2:$G$1672,0))","v":22},"Contabilidad y Control Interno",null,"4204_22",null,null,"x",null,null,null,"x"]
[4204,"Santa Cruz","Chorotega Peninsular","Santa Bárbara",{"$f":"INDEX([5]Hoja4!$F$2:$F$1672,MATCH(F1516,[5]Hoja4!$G$2:$G$1672,0))","v":72},"Desarrollo de aplicaciones móviles",null,"4204_72",null,null,"x",null,null,"x"]
[4204,"Santa Cruz","Chorotega Peninsular","Santa Bárbara",{"$f":"INDEX([5]Hoja4!$F$2:$F$1672,MATCH(F1517,[5]Hoja4!$G$2:$G$1672,0))","v":62},"Secretariado Ejecutivo",null,"4204_62",null,null,null,null,null,"x","x"]
[4203,"Santa Cruz","Chorotega Peninsular","Santa Cruz",{"$f":"INDEX([5]Hoja4!$F$2:$F$1672,MATCH(F1518,[5]Hoja4!$G$2:$G$1672,0))","v":1},"Accounting",null,"4203_1",null,null,null,null,null,null,"X"]
[7025,"Heredia",null,"Ing. Carlos Pascua Zuñiga",{"$f":"INDEX([5]Hoja4!$F$2:$F$1672,MATCH(F1519,[5]Hoja4!$G$2:$G$1672,0))","v":13},"Banca y Finanzas",null,"7025_13",null,null,"X"]
[4203,"Santa Cruz","Chorotega Peninsular","Santa Cruz",{"$f":"INDEX([5]Hoja4!$F$2:$F$1672,MATCH(F1520,[5]Hoja4!$G$2:$G$1672,0))","v":13},"Banca y Finanzas",null,"4203_13",null,null,"x",null,"x","x","X","x"]
[4203,"Santa Cruz","Chorotega Peninsular","Santa Cruz",{"$f":"INDEX([5]Hoja4!$F$2:$F$1672,MATCH(F1521,[5]Hoja4!$G$2:$G$1672,0))","v":18},"Configuración y soporte de redes de comunicación y sistemas operativos",null,"4203_18",null,null,"x","x","x"]
[4203,"Santa Cruz","Chorotega Peninsular","Santa Cruz",{"$f":"INDEX([5]Hoja4!$F$2:$F$1672,MATCH(F1522,[5]Hoja4!$G$2:$G$1672,0))","v":20},"Contabilidad",null,"4203_20",null,null,null,"x"]
[4203,"Santa Cruz","Chorotega Peninsular","Santa Cruz",{"$f":"INDEX([5]Hoja4!$F$2:$F$1672,MATCH(F1523,[5]Hoja4!$G$2:$G$1672,0))","v":65},"Turismo en Alimentos y Bebidas",null,"4203_65",null,null,null,"x",null,null,"X"]
[4203,"Santa Cruz","Chorotega Peninsular","Santa Cruz",{"$f":"INDEX([5]Hoja4!$F$2:$F$1672,MATCH(F1524,[5]Hoja4!$G$2:$G$1672,0))","v":44},"Informática Empresarial",null,"4203_44",null,null,null,null,null,null,"X","x"]
[4203,"Santa Cruz","Chorotega Peninsular","Santa Cruz",{"$f":"INDEX([5]Hoja4!$F$2:$F$1672,MATCH(F1525,[5]Hoja4!$G$2:$G$1672,0))","v":46},"Informática en Redes de Computadoras",null,"4203_46"]
[4203,"Santa Cruz","Chorotega Peninsular","Santa Cruz",{"$f":"INDEX([5]Hoja4!$F$2:$F$1672,MATCH(F1526,[5]Hoja4!$G$2:$G$1672,0))","v":51},"Mecánica General",null,"4203_51",null,null,null,null,null,null,"X"]
[4203,"Santa Cruz","Chorotega Peninsular","Santa Cruz",{"$f":"INDEX([5]Hoja4!$F$2:$F$1672,MATCH(F1527,[5]Hoja4!$G$2:$G$1672,0))","v":73},"Gerencia y producción en cocina ",null,"4203_73",null,null,"x",null,null,"x"]
[4203,"Santa Cruz","Chorotega Peninsular","Santa Cruz",{"$f":"INDEX([5]Hoja4!$F$2:$F$1672,MATCH(F1528,[5]Hoja4!$G$2:$G$1672,0))","v":25},"Desarrollo web",null,"4203_25",null,null,null,null,null,"x"]
[4203,"Santa Cruz","Chorotega Peninsular","Santa Cruz",{"$f":"INDEX([5]Hoja4!$F$2:$F$1672,MATCH(F1529,[5]Hoja4!$G$2:$G$1672,0))","v":62},"Secretariado Ejecutivo",null,"4203_62",null,null,null,"x","x","x","x","x"]
[4206,"Santa Cruz","Chorotega Peninsular","Sardinal",{"$f":"INDEX([5]Hoja4!$F$2:$F$1672,MATCH(F1530,[5]Hoja4!$G$2:$G$1672,0))","v":20},"Contabilidad",null,"4206_20",null,null,null,"X","x"]
[4206,"Santa Cruz","Chorotega Peninsular","Sardinal",{"$f":"INDEX([5]Hoja4!$F$2:$F$1672,MATCH(F1531,[5]Hoja4!$G$2:$G$1672,0))","v":24},"Contabilidad y Finanzas",null,"4206_24",null,null,null,null,null,"x","X","x"]
[4206,"Santa Cruz","Chorotega Peninsular","Sardinal",{"$f":"INDEX([5]Hoja4!$F$2:$F$1672,MATCH(F1532,[5]Hoja4!$G$2:$G$1672,0))","v":25},"Desarrollo Web",null,"4206_25",null,null,"x","X","x","x",null,"x"]
[4206,"Santa Cruz","Chorotega Peninsular","Sardinal",{"$f":"INDEX([5]Hoja4!$F$2:$F$1672,MATCH(F1533,[5]Hoja4!$G$2:$G$1672,0))","v":31},"Diseño y Confección de la Moda",null,{"$f":"IF(A1533=\"\",\"\",A1533&\"_\"&E1533)","v":"4206_31"},null,null,null,"X","x","x","X"]
[4206,"Santa Cruz","Chorotega Peninsular","Sardinal",{"$f":"INDEX([5]Hoja4!$F$2:$F$1672,MATCH(F1534,[5]Hoja4!$G$2:$G$1672,0))","v":35},"Ejecutivo Comercial y Servicio al cliente",null,"4206_35",null,null,"x","X","x","x","X","x"]
[5748,"Aguirre",null,"Quepos",{"$f":"INDEX([5]Hoja4!$F$2:$F$1672,MATCH(F1535,[5]Hoja4!$G$2:$G$1672,0))","v":71},"Organización de operaciones y servicios de alimentos y bebidas",null,"5748_71",null,null,null,null,null,"X"]
[4206,"Santa Cruz","Chorotega Peninsular","Sardinal",{"$f":"INDEX([5]Hoja4!$F$2:$F$1672,MATCH(F1536,[5]Hoja4!$G$2:$G$1672,0))","v":71},"Organización de operaciones y servicios de alimentos y bebidas",null,"4206_71",null,null,"x",null,null,"x"]
[4206,"Santa Cruz","Chorotega Peninsular","Sardinal",{"$f":"INDEX([5]Hoja4!$F$2:$F$1672,MATCH(F1537,[5]Hoja4!$G$2:$G$1672,0))","v":44},"Informática Empresarial",null,"4206_44"]
[4206,"Santa Cruz","Chorotega Peninsular","Sardinal",{"$f":"INDEX([5]Hoja4!$F$2:$F$1672,MATCH(F1538,[5]Hoja4!$G$2:$G$1672,0))","v":54},"Operación de Empresas de Alojamiento",null,"4206_54",null,null,"x",null,"x",null,"X","x"]
[4206,"Santa Cruz","Chorotega Peninsular","Sardinal",{"$f":"INDEX([5]Hoja4!$F$2:$F$1672,MATCH(F1539,[5]Hoja4!$G$2:$G$1672,0))","v":55},"Producción Agrícola y Pecuaria",null,"4206_55",null,null,"x","X","x"]
[4206,"Santa Cruz","Chorotega Peninsular","Sardinal",{"$f":"INDEX([5]Hoja4!$F$2:$F$1672,MATCH(F1540,[5]Hoja4!$G$2:$G$1672,0))","v":34},"Ecoturismo",null,"4206_34",null,null,"x","X"]
[4206,"Santa Cruz","Chorotega Peninsular","Sardinal",{"$f":"INDEX([5]Hoja4!$F$2:$F$1672,MATCH(F1541,[5]Hoja4!$G$2:$G$1672,0))","v":61},"Salud Ocupacional",null,"4206_61",null,null,"x",null,"x","x","X","x"]
[4206,"Santa Cruz","Chorotega Peninsular","Sardinal",{"$f":"INDEX([5]Hoja4!$F$2:$F$1672,MATCH(F1542,[5]Hoja4!$G$2:$G$1672,0))","v":64},"Turismo Ecológico",null,"4206_64"]
[4206,"Santa Cruz","Chorotega Peninsular","Sardinal",{"$f":"INDEX([5]Hoja4!$F$2:$F$1672,MATCH(F1543,[5]Hoja4!$G$2:$G$1672,0))","v":65},"Turismo en Alimentos y Bebidas",null,"4206_65",null,null,null,"X",null,null,"X"]
[4206,"Santa Cruz","Chorotega Peninsular","Sardinal",{"$f":"INDEX([5]Hoja4!$F$2:$F$1672,MATCH(F1544,[5]Hoja4!$G$2:$G$1672,0))","v":66},"Turismo en Hotelería y Eventos Especiales",null,"4206_66"]
[4193,"Sarapiquí","Llanuras y Montañas del Norte","Puerto Viejo",{"$f":"INDEX([5]Hoja4!$F$2:$F$1672,MATCH(F1545,[5]Hoja4!$G$2:$G$1672,0))","v":5},"Agroecología",null,"4193_5"]
[4193,"Sarapiquí","Llanuras y Montañas del Norte","Puerto Viejo",{"$f":"INDEX([5]Hoja4!$F$2:$F$1672,MATCH(F1546,[5]Hoja4!$G$2:$G$1672,0))","v":71},"Organización de operaciones y servicios de alimentos y bebidas",null,"4193_71",null,null,"x"]
[4193,"Sarapiquí","Llanuras y Montañas del Norte","Puerto Viejo",{"$f":"INDEX([5]Hoja4!$F$2:$F$1672,MATCH(F1547,[5]Hoja4!$G$2:$G$1672,0))","v":15},"Ciberseguridad",null,"4193_15",null,null,null,null,null,"x"]
[4193,"Sarapiquí","Llanuras y Montañas del Norte","Puerto Viejo",{"$f":"INDEX([5]Hoja4!$F$2:$F$1672,MATCH(F1548,[5]Hoja4!$G$2:$G$1672,0))","v":20},"Contabilidad",null,"4193_20",null,null,null,null,null,"x","X","x"]
[4193,"Sarapiquí","Llanuras y Montañas del Norte","Puerto Viejo",{"$f":"INDEX([5]Hoja4!$F$2:$F$1672,MATCH(F1549,[5]Hoja4!$G$2:$G$1672,0))","v":24},"Contabilidad y Finanzas",null,{"$f":"IF(A1549=\"\",\"\",A1549&\"_\"&E1549)","v":"4193_24"},null,null,"x","X","x"]
[4193,"Sarapiquí","Llanuras y Montañas del Norte","Puerto Viejo",{"$f":"INDEX([5]Hoja4!$F$2:$F$1672,MATCH(F1550,[5]Hoja4!$G$2:$G$1672,0))","v":31},"Diseño y Confección de la Moda",null,"4193_31",null,null,null,"X",null,null,null,"x"]
[7025,"Heredia",null,"Ing. Carlos Pascua Zuñiga",{"$f":"INDEX([5]Hoja4!$F$2:$F$1672,MATCH(F1551,[5]Hoja4!$G$2:$G$1672,0))","v":72},"Desarrollo de aplicaciones móviles",null,"7025_72",null,null,"X"]
[4193,"Sarapiquí","Llanuras y Montañas del Norte","Puerto Viejo",{"$f":"INDEX([5]Hoja4!$F$2:$F$1672,MATCH(F1552,[5]Hoja4!$G$2:$G$1672,0))","v":72},"Desarrollo de aplicaciones móviles",null,"4193_72",null,null,"x"]
[null,null,null,null,{"$f":"INDEX([5]Hoja4!$F$2:$F$1672,MATCH(F1553,[5]Hoja4!$G$2:$G$1672,0))","v":35},"Ejecutivo Comercial y Servicio al cliente",null,"",null,null,"x",null,null,null,"x"]
[4193,"Sarapiquí","Llanuras y Montañas del Norte","Puerto Viejo",{"$f":"INDEX([5]Hoja4!$F$2:$F$1672,MATCH(F1554,[5]Hoja4!$G$2:$G$1672,0))","v":44},"Informática Empresarial",null,"4193_44",null,null,null,null,"x",null,"X"]
[4193,"Sarapiquí","Llanuras y Montañas del Norte","Puerto Viejo",{"$f":"INDEX([5]Hoja4!$F$2:$F$1672,MATCH(F1555,[5]Hoja4!$G$2:$G$1672,0))","v":45},"Informática en Desarrollo de Software",null,"4193_45"]
[4193,"Sarapiquí","Llanuras y Montañas del Norte","Puerto Viejo",{"$f":"INDEX([5]Hoja4!$F$2:$F$1672,MATCH(F1556,[5]Hoja4!$G$2:$G$1672,0))","v":53},"Mercadeo",null,"4193_53",null,null,null,null,"x"]
[4193,"Sarapiquí","Llanuras y Montañas del Norte","Puerto Viejo",{"$f":"INDEX([5]Hoja4!$F$2:$F$1672,MATCH(F1557,[5]Hoja4!$G$2:$G$1672,0))","v":54},"Operación de Empresas de Alojamiento",null,"4193_54",null,null,null,null,null,null,null,"x"]
[4193,"Sarapiquí","Llanuras y Montañas del Norte","Puerto Viejo",{"$f":"INDEX([5]Hoja4!$F$2:$F$1672,MATCH(F1558,[5]Hoja4!$G$2:$G$1672,0))","v":55},"Producción Agrícola y Pecuaria",null,"4193_55",null,null,null,"X","x"]
[4193,"Sarapiquí","Llanuras y Montañas del Norte","Puerto Viejo",{"$f":"INDEX([5]Hoja4!$F$2:$F$1672,MATCH(F1559,[5]Hoja4!$G$2:$G$1672,0))","v":62},"Secretariado Ejecutivo",null,"4193_62",null,null,null,"X",null,"x",null,"x"]
[4193,"Sarapiquí","Llanuras y Montañas del Norte","Puerto Viejo",{"$f":"INDEX([5]Hoja4!$F$2:$F$1672,MATCH(F1560,[5]Hoja4!$G$2:$G$1672,0))","v":34},"Ecoturismo",null,"4193_34",null,null,"x","X","x"]
[4193,"Sarapiquí","Llanuras y Montañas del Norte","Puerto Viejo",{"$f":"INDEX([5]Hoja4!$F$2:$F$1672,MATCH(F1561,[5]Hoja4!$G$2:$G$1672,0))","v":64},"Turismo Ecológico",null,"4193_64"]
[4193,"Sarapiquí","Llanuras y Montañas del Norte","Puerto Viejo",{"$f":"INDEX([5]Hoja4!$F$2:$F$1672,MATCH(F1562,[5]Hoja4!$G$2:$G$1672,0))","v":65},"Turismo en Alimentos y Bebidas",null,"4193_65",null,null,null,null,"x",null,"X"]
[4193,"Sarapiquí","Llanuras y Montañas del Norte","Puerto Viejo",{"$f":"INDEX([5]Hoja4!$F$2:$F$1672,MATCH(F1563,[5]Hoja4!$G$2:$G$1672,0))","v":67},"Turismo Rural",null,"4193_67",null,null,null,"X","x"]
[4223,"Sulá","Caribe","Talamanca",{"$f":"INDEX([5]Hoja4!$F$2:$F$1672,MATCH(F1564,[5]Hoja4!$G$2:$G$1672,0))","v":5},"Agroecología",null,"4223_5",null,null,"x","X","x"]
[4223,"Sulá","Caribe","Talamanca",{"$f":"INDEX([5]Hoja4!$F$2:$F$1672,MATCH(F1565,[5]Hoja4!$G$2:$G$1672,0))","v":6},"Agroindustria Alimentaria con Tecnología Agrícola",null,"4223_6",null,null,"x",null,"x"]
[4223,"Sulá","Caribe","Talamanca",7,"Agroindustria Alimentaria con Tecnología Pecuaria",null,"4223_7",null,null,"x","X"]
[4223,"Sulá","Caribe","Talamanca",{"$f":"INDEX([5]Hoja4!$F$2:$F$1672,MATCH(F1567,[5]Hoja4!$G$2:$G$1672,0))","v":8},"Agrojardinería",null,"4223_8",null,null,null,"X","x"]
[4223,"Sulá","Caribe","Talamanca",{"$f":"INDEX([5]Hoja4!$F$2:$F$1672,MATCH(F1568,[5]Hoja4!$G$2:$G$1672,0))","v":20},"Contabilidad",null,"4223_20",null,null,"x","X","x"]
[4223,"Sulá","Caribe","Talamanca",{"$f":"INDEX([5]Hoja4!$F$2:$F$1672,MATCH(F1569,[5]Hoja4!$G$2:$G$1672,0))","v":31},"Diseño y Confección de la Moda",null,"4223_31",null,null,"x","X","x"]
[4223,"Sulá","Caribe","Talamanca",{"$f":"INDEX([5]Hoja4!$F$2:$F$1672,MATCH(F1570,[5]Hoja4!$G$2:$G$1672,0))","v":54},"Operación de Empresas de Alojamiento",null,"4223_54",null,null,null,"X","x"]
[4223,"Sulá","Caribe","Talamanca",{"$f":"INDEX([5]Hoja4!$F$2:$F$1672,MATCH(F1571,[5]Hoja4!$G$2:$G$1672,0))","v":55},"Producción Agrícola y Pecuaria",null,"4223_55",null,null,"x","X","x"]
[4223,"Sulá","Caribe","Talamanca",{"$f":"INDEX([5]Hoja4!$F$2:$F$1672,MATCH(F1572,[5]Hoja4!$G$2:$G$1672,0))","v":61},"Salud Ocupacional",null,"4223_61",null,null,"x","X","x"]
[4223,"Sulá","Caribe","Talamanca",{"$f":"INDEX([5]Hoja4!$F$2:$F$1672,MATCH(F1573,[5]Hoja4!$G$2:$G$1672,0))","v":66},"Turismo en Hotelería y Eventos Especiales",null,"4223_66"]
[4223,"Sulá","Caribe","Talamanca",{"$f":"INDEX([5]Hoja4!$F$2:$F$1672,MATCH(F1574,[5]Hoja4!$G$2:$G$1672,0))","v":67},"Turismo Rural",null,"4223_67",null,null,"x","X","x"]
[4189,"Turrialba","Entre Volcanes y Café","La Suiza",{"$f":"INDEX([5]Hoja4!$F$2:$F$1672,MATCH(F1575,[5]Hoja4!$G$2:$G$1672,0))","v":2},"Administración y Operación Aduanera",null,"4189_2",null,null,null,null,null,null,"X","x"]
[4189,"Turrialba","Entre Volcanes y Café","La Suiza",{"$f":"INDEX([5]Hoja4!$F$2:$F$1672,MATCH(F1576,[5]Hoja4!$G$2:$G$1672,0))","v":5},"Agroecología",null,"4189_5",null,null,"x","X","x"]
[4189,"Turrialba","Entre Volcanes y Café","La Suiza",{"$f":"INDEX([5]Hoja4!$F$2:$F$1672,MATCH(F1577,[5]Hoja4!$G$2:$G$1672,0))","v":6},"Agroindustria Alimentaria con Tecnología Agrícola",null,"4189_6",null,null,"x"]
[4189,"Turrialba","Entre Volcanes y Café","La Suiza",{"$f":"INDEX([5]Hoja4!$F$2:$F$1672,MATCH(F1578,[5]Hoja4!$G$2:$G$1672,0))","v":6},"Agroindustria Alimentaria con Tecnología Pecuaria",null,"4189_6",null,null,null,"X","x"]
[4189,"Turrialba","Entre Volcanes y Café","La Suiza",{"$f":"INDEX([5]Hoja4!$F$2:$F$1672,MATCH(F1579,[5]Hoja4!$G$2:$G$1672,0))","v":59},"Reparación de los Sistemas de Vehículos Livianos",null,"4189_59",null,null,"x"]
[4189,"Turrialba","Entre Volcanes y Café","La Suiza",{"$f":"INDEX([5]Hoja4!$F$2:$F$1672,MATCH(F1580,[5]Hoja4!$G$2:$G$1672,0))","v":71},"Organización de operaciones y servicios de alimentos y bebidas",null,"4189_71",null,null,null,null,null,"x"]
[4189,"Turrialba","Entre Volcanes y Café","La Suiza",{"$f":"INDEX([5]Hoja4!$F$2:$F$1672,MATCH(F1581,[5]Hoja4!$G$2:$G$1672,0))","v":18},"Configuración y soporte de redes de comunicación y sistemas operativos",null,"4189_18",null,null,"x","X","x","x","X"]
[4189,"Turrialba","Entre Volcanes y Café","La Suiza",{"$f":"INDEX([5]Hoja4!$F$2:$F$1672,MATCH(F1582,[5]Hoja4!$G$2:$G$1672,0))","v":24},"Contabilidad y Finanzas",null,"4189_24",null,null,"x","X","x","x"]
[4189,"Turrialba","Entre Volcanes y Café","La Suiza",{"$f":"INDEX([5]Hoja4!$F$2:$F$1672,MATCH(F1583,[5]Hoja4!$G$2:$G$1672,0))","v":31},"Diseño y Confección de la Moda",null,"4189_31",null,null,null,"X","x",null,"X"]
[4189,"Turrialba","Entre Volcanes y Café","La Suiza",{"$f":"INDEX([5]Hoja4!$F$2:$F$1672,MATCH(F1584,[5]Hoja4!$G$2:$G$1672,0))","v":46},"Informática en Redes de Computadoras",null,"4189_46"]
[4189,"Turrialba","Entre Volcanes y Café","La Suiza",{"$f":"INDEX([5]Hoja4!$F$2:$F$1672,MATCH(F1585,[5]Hoja4!$G$2:$G$1672,0))","v":55},"Producción Agrícola y Pecuaria",null,"4189_55",null,null,"x","X","x"]
[4189,"Turrialba","Entre Volcanes y Café","La Suiza",{"$f":"INDEX([5]Hoja4!$F$2:$F$1672,MATCH(F1586,[5]Hoja4!$G$2:$G$1672,0))","v":56},"Productividad y Calidad",null,"4189_56",null,null,null,null,"x"]
[4189,"Turrialba","Entre Volcanes y Café","La Suiza",{"$f":"INDEX([5]Hoja4!$F$2:$F$1672,MATCH(F1587,[5]Hoja4!$G$2:$G$1672,0))","v":61},"Salud Ocupacional",null,"4189_61",null,null,"x",null,"x","x",null,"x"]
[4189,"Turrialba","Entre Volcanes y Café","La Suiza",{"$f":"INDEX([5]Hoja4!$F$2:$F$1672,MATCH(F1588,[5]Hoja4!$G$2:$G$1672,0))","v":62},"Secretariado Ejecutivo",null,"4189_62",null,null,"x","X","x","x","X","x"]
[4189,"Turrialba","Entre Volcanes y Café","La Suiza",{"$f":"INDEX([5]Hoja4!$F$2:$F$1672,MATCH(F1589,[5]Hoja4!$G$2:$G$1672,0))","v":65},"Turismo en Alimentos y Bebidas",null,"4189_65",null,null,null,null,null,null,"X","x"]
[4189,"Turrialba","Entre Volcanes y Café","La Suiza",{"$f":"INDEX([5]Hoja4!$F$2:$F$1672,MATCH(F1590,[5]Hoja4!$G$2:$G$1672,0))","v":67},"Turismo Rural",null,"4189_67",null,null,"x",null,"x"]
[4189,"Turrialba","Entre Volcanes y Café","La Suiza",{"$f":"INDEX([5]Hoja4!$F$2:$F$1672,MATCH(F1591,[5]Hoja4!$G$2:$G$1672,0))","v":68},"Gestión de la Producción ",null,"4189_68",null,null,"x","X",null,"x","X"]
[null,null,null,null,null,null,null,""]
[null,null,null,null,null,null,null,""]
[null,null,null,null,null,null,null,""]
[null,null,null,null,null,null,null,""]
[null,null,null,null,null,null,null,""]
[null,null,null,null,null,null,null,""]
[null,null,null,null,null,null,null,""]
[null,null,null,null,null,null,null,""]
[null,null,null,null,null,null,null,""]
[null,null,null,null,null,null,null,""]
[null,null,null,null,null,null,null,""]
[null,null,null,null,null,null,null,""]
[null,null,null,null,null,null,null,""]
[null,null,null,null,null,null,null,""]
[null,null,null,null,null,null,null,""]
[null,null,null,null,null,null,null,""]

{"sheet":"NIVEL 2","index":3,"n_rows":1326,"n_cols":20,"rows_kept":1326,"cut":false,"hidden":true,"merged":[]}
["CODIGO","NOMBRE","NIVEL","DEPENDENCIA","DIRECCION REGIONAL","DIREC REGIONAL","subprograma","CIRCUITO","PR","CAN","DIS","PROVINCIA","CANTON","DISTRITO","POBLADO","DIRECTOR","TELEFONO","FAX","CORREO","EXACTA"]
[3938,"COLEGIO SUPERIOR DE SEÑORITAS","COLEGIOS","PUBLICA","SAN JOSE CENTRAL",50,2,2,1,1,4,"SAN JOSE","SAN JOSE","CATEDRAL","SOLEDAD","LIZBETH HERRERA PRADO",22214246,22580968,"lizbethherrera@racsa.co.cr","CALLES 3 Y 5 AVENIDAS 4 Y 6"]
[3939,"LICEO ANASTASIO ALFARO","COLEGIOS","PUBLICA","SAN JOSE NORTE",71,2,3,1,15,3,"SAN JOSE","MONTES DE OCA","MERCEDES","BETANIA","MARLENE BRICEÑO RIVAS",22251272,22251272,"liceoanastasioalfaro@gmail.com","150 OESTE DE LA ROTONDA DE LA BANDERA"]
[3940,"LICEO DE COSTA RICA","COLEGIOS","PUBLICA","SAN JOSE CENTRAL",50,2,2,1,1,4,"SAN JOSE","SAN JOSE","CATEDRAL","GONZALEZ VIQUEZ","FLOR DE MARIA FONSECA QUESADA",22213792,22213769,"lcrdireccion@gmail.com","COSTADO OESTE DE PLAZA GONZALEZ VIQUEZ"]
[3941,"LICEO DE SAN JOSÉ","COLEGIOS","PUBLICA","SAN JOSE OESTE",72,2,1,1,1,2,"SAN JOSE","SAN JOSE","MERCED","BARRIO MÉXICO","BANNY NG HIDALGO",22213849,22223167,"lsjsanjose@gmail.com","600 OESTE DEL COSTADO NORTE IGLESIA CATÓLICA"]
[3942,"LICEO DEL SUR","COLEGIOS","PUBLICA","SAN JOSE CENTRAL",50,2,1,1,1,3,"SAN JOSE","SAN JOSE","HOSPITAL","BARRIO CUBA","PEDRO CHACON LIZANO",22337883,22337883,"liceodelsurcr@gmail.com","200 E 200 S CLINICA MORENO CAÑAS"]
[3943,"LICEO LUIS DOBLES SEGREDA","COLEGIOS","PUBLICA","SAN JOSE OESTE",72,2,1,1,1,8,"SAN JOSE","SAN JOSE","MATA REDONDA","SABANA ESTE","IVÁN CECILIANO ARCE",22216646,22216646,"liceoluisdobles@gmail.com","FRENTE A LA SODA TAPIA"]
[3944,"LICEO JOSE JOAQUIN VARGAS CALVO","COLEGIOS","PUBLICA","SAN JOSE NORTE",71,2,3,1,15,1,"SAN JOSE","MONTES DE OCA","SAN PEDRO","SAN PEDRO","JORGE GONZALEZ MATAMOROS",22250281,22800232,"jjvc3944@gmail.com","50 OESTE Y 150 NORTE DEL BANCO POPULAR"]
[3945,"LICEO NAPOLEON QUESADA SALAZAR","COLEGIOS","PUBLICA","SAN JOSE NORTE",71,2,1,1,8,1,"SAN JOSE","GOICOECHEA","GUADALUPE","JIMENEZ","GUISELLE BRENES GUTIERREZ",22213885,22216730,"secrenapo@hotmail.es","200 ESTE DEL CENTRO COMERCIAL DE GUADALUPE"]
[3946,"LICEO MAURO FERNANDEZ ACUÑA","COLEGIOS","PUBLICA","SAN JOSE NORTE",71,2,4,1,13,1,"SAN JOSE","TIBAS","SAN JUAN","GONZALEZ TRUQUER","ZULAY CARVAJAL MORA",22400123,22400123,"liceomaurofdz@gmail.com","200 OESTE 125 NORTE DE ANTOJITOS"]
[3947,"LICEO RODRIGO FACIO BRENES","COLEGIOS","PUBLICA","SAN JOSE CENTRAL",50,2,3,1,1,5,"SAN JOSE","SAN JOSE","ZAPOTE","ZAPOTE","MARGARITA KORTE NUÑEZ",22255036,22255036,"liceorodrigofaciobrenes@gmail.com","COSTADO NOROESTE DEL PARQUE NICARAGUA"]
[3948,"LICEO ROBERTO BRENES MESEN","COLEGIOS","PUBLICA","SAN JOSE CENTRAL",50,2,5,1,1,10,"SAN JOSE","SAN JOSE","HATILLO","HATILLO 2","ANABELLE SANCHEZ LOAIZA",22541108,22541109,"licrobbrenesm@gmail.com","500 METROS NORTE DE LA BIBLIOTECA PUBLICA"]
[3949,"LICEO DE MORAVIA","COLEGIOS","PUBLICA","SAN JOSE NORTE",71,2,5,1,14,1,"SAN JOSE","MORAVIA","SAN VICENTE","SAN RAFAEL","VICTOR HUGO CHAVES QUIROS",22359282,22351336,"liceomoravia@gmail.com","125 NORTE 25 ESTE DEL ESTADIO PIPILO UMAÑA"]
[3950,"LICEO DR. JOSE MARIA CASTRO MADRIZ","COLEGIOS","PUBLICA","SAN JOSE CENTRAL",50,2,3,1,1,5,"SAN JOSE","SAN JOSE","ZAPOTE","BARRIO CORDOBA","IVANNIA LIZANO ARGUELLO",22262955,22271040,"dliceocastromadriz@yahoo.com","FRENTE AL MINISTERIO DE SEGURIDAD PUBLICA"]
[3951,"LICEO FRANCO COSTARRICENSE","COLEGIOS","PUBLICA","SAN JOSE CENTRAL",50,2,4,1,18,2,"SAN JOSE","CURRIDABAT","GRANADILLA","CALLE CABUYA","JEROME PEMEJA",22736373,22736380,"franco@franco.ed.cr","5 KM DE LA CASA DE JOSE FIGUERES"]
[3952,"LICEO DE ESCAZÚ","COLEGIOS","PUBLICA","SAN JOSE OESTE",72,2,3,1,2,2,"SAN JOSE","ESCAZU","SAN ANTONIO","SANTA TERESA","MANUEL ISIDRO MARÍN CASTRO",22280123,22280123,"liceoescazubis@gmail.com","COSTADO NORTE DEL ESTADIO DE ESCAZÚ"]
[3953,"LICEO DE CORONADO","COLEGIOS","PUBLICA","SAN JOSE NORTE",71,2,6,1,11,1,"SAN JOSE","VASQUEZ DE CORONADO","SAN ISIDRO","SAN ISIDRO","MARTA ELENA BORGE CARVAJAL",22290285,22922301,"liceodecoronado@gmail.com","300 SUR DEL PARQUE CENTRAL DE CORONADO"]
[3954,"INSTITUTO DE EDUCACION INTEGRAL","COLEGIOS","SUBVENCIONADA","SAN JOSE NORTE",71,2,6,1,11,2,"SAN JOSE","VASQUEZ DE CORONADO","SAN RAFAEL","LAS NUBES","ROWENA MCCOOK MCCOOK",25290494,25290673,"direccion@iei.ed.cr","300 SURESTE DE LA ESCUELA PUBLICA"]
[3955,"LICEO SALVADOR UMAÑA CASTRO","COLEGIOS","PUBLICA","SAN JOSE NORTE",71,2,2,1,8,5,"SAN JOSE","GOICOECHEA","IPIS","MOZOTAL","FAUSTO BARRANTES BRAN",22293393,22293393,"salvadorucastro@hotmail.com","200 SUR 200 ESTE DEL PALI DE IPIS"]
[3956,"LICEO EDGAR CERVANTES VILLALTA","COLEGIOS","PUBLICA","SAN JOSE CENTRAL",50,2,5,1,1,10,"SAN JOSE","SAN JOSE","HATILLO","HATILLO CENTRO","EDUARDO BARAHONA VALVERDE",22545434,22545434,"liceoedgarcervantesmep@gmail.com","100 O,100 N, Y 100 O DE LA IGLESIA CATOLICA"]
[3957,"UNIDAD PEDAGOGICA COLEGIO REPUBLICA DE MEXICO","COLEGIOS","PUBLICA","SAN JOSE CENTRAL",50,2,2,1,1,1,"SAN JOSE","SAN JOSE","CARMEN","ARANJUEZ","SANDRA VALERIO CALVO",22220068,22237537,"colegiomexicomep@gmail.com","300 NORTE IGLESIA SANTA TERESITA"]
[3958,"LICEO LABORATORIO EMMA GAMBOA UCR","COLEGIOS","PUBLICA","SAN JOSE NORTE",71,2,5,1,14,1,"SAN JOSE","MORAVIA","SAN VICENTE","LOS COLEGIOS","ANA MARIA GONZALEZ RAMIREZ",22356785,22369062,"liceolabo@hotmail.com","100 ESTE DEL ANTIGUO COLEGIO LINCOLN"]
[3959,"LICEO SANTA ANA","COLEGIOS","PUBLICA","SAN JOSE OESTE",72,2,4,1,9,4,"SAN JOSE","SANTA ANA","URUCA","RÍO ORO","SERGIO HERRERA ULLOA",22821457,22821457,"info@colegiodesantaana.ed.cr","300 OESTE DE LA CRUZ ROJA"]
[3960,"LICEO DE CURRIDABAT","COLEGIOS","PUBLICA","SAN JOSE CENTRAL",50,2,4,1,18,1,"SAN JOSE","CURRIDABAT","CURRIDABAT","HACIENDA VIEJA","SANDY JIMENEZ CASCANTE",22721261,22721261,"liceodecurridabat@hotmail.com","150 SUR DEL EBAIS DE HACIENDA VIEJA CURRIDABA"]
[3961,"LICEO ALAJUELITA","COLEGIOS","PUBLICA","SAN JOSE CENTRAL",50,2,6,1,10,5,"SAN JOSE","ALAJUELITA","SAN FELIPE","SAN FELIPE","JENNY CARMONA MESEN",22527248,22527248,"liceodealajuelita@hotmail.com","300 SUR 300 OESTE DE SUPER ACAPULCO"]
[3962,"COLEGIO CEDROS","COLEGIOS","PUBLICA","SAN JOSE NORTE",71,2,3,1,15,2,"SAN JOSE","MONTES DE OCA","SABANILLA","CEDROS","MARIA DEL ROCIO TORRES ARCE",22242015,22250006,"colcedros73@hotmail.com","CONTIGUO A LA IGLESIA CATOLICA"]
[3963,"UNIDAD PEDAGÓGICA JOSÉ FIDEL TRISTÁN","COLEGIOS","PUBLICA","SAN JOSE OESTE",72,2,1,1,1,2,"SAN JOSE","SAN JOSE","MERCED","PITAHAYA","EDUARDO VARGAS GARCÍA",22220017,22220484,"upjosefideltristan@hotmail.com","AVENIDA 3 B CALLES 32 Y 34"]
[3964,"LICEO JULIO FONSECA GUTIÉRREZ","COLEGIOS","PUBLICA","SAN JOSE OESTE",72,2,5,1,1,7,"SAN JOSE","SAN JOSE","URUCA","LA PEREGRINA","MARÍA ISABEL ANCHÍA LEÓN",22917910,22917910,"liceojuliofonseca@gmail.com","DE LA MAZDA 900 NORESTE"]
[3965,"COLEGIO MARIA INMACULADA","COLEGIOS","SUBVENCIONADA","SAN JOSE NORTE",71,2,5,1,14,1,"SAN JOSE","MORAVIA","SAN VICENTE","SAN BLAS","ESTELA MARIA ROJAS RODRIGUEZ",22359414,22359476,"mariainm@racsa.co.cr","75 NORTE DEL MEGASUPER"]
[3966,"COLEGIO MADRE DEL DIVINO PASTOR","COLEGIOS","SUBVENCIONADA","SAN JOSE NORTE",71,2,1,1,8,1,"SAN JOSE","GOICOECHEA","GUADALUPE","EL ALTO","EDTTH ALVARADO CASTRO",22850928,22451441,"cmdp.guadalupe@gmail.com","CENTRO EL ALTO"]
[3968,"LICEO PAVAS","COLEGIOS","PUBLICA","SAN JOSE OESTE",72,2,2,1,1,9,"SAN JOSE","SAN JOSE","PAVAS","PAVAS","ÁLVARO SEGURA RAMÍREZ",22322753,22323700,"liceodepavas@hotmail.com","100 OESTE DE LA ENTRADA DEL H. PSIQUIÁTRICO"]
[3970,"COLEGIO EL ROSARIO","COLEGIOS","SUBVENCIONADA","SAN JOSE CENTRAL",50,2,3,1,1,5,"SAN JOSE","SAN JOSE","ZAPOTE","LUJAN","CARMEN ESTRADA CESPEDES",22252590,22567405,"colegio_elrosario@hotmail.com","300 ESTE 75 NORTE DE LA CLINICA CARLOS DURAN"]
[3971,"UNIDAD PEDAGÓGICA CUATRO REINAS","COLEGIOS","PUBLICA","SAN JOSE OESTE",72,2,5,1,13,5,"SAN JOSE","TIBAS","COLIMA","CUATRO REINAS","LUZ MARÍA LEIVA SALAZAR",22975986,22975986,"upcuatroreinas@gmail.com","100 NORTE DE PLAZA DE DEPORTES, CUATRO REINAS"]
[3972,"LICEO MARÍA AUXILIADORA","COLEGIOS","SUBVENCIONADA","SAN JOSE OESTE",72,2,1,1,1,3,"SAN JOSE","SAN JOSE","HOSPITAL","DON BOSCO","INGRID CASASOLA PACHECO",22212049,22212049,"elmasjsecundaria@gmail.com","DE LA TOYOTA PASEO COLÓN, 200 SUR"]
[3973,"EXPERIMENTAL BILINGÜE LA TRINIDAD","COLEGIOS","PUBLICA","SAN JOSE NORTE",71,2,5,1,14,3,"SAN JOSE","MORAVIA","TRINIDAD","EL ALTO","ARMANDO CHACON MORA",22927809,22924292,"experimentaltrinidad@gmail.com","200 ESTE 75 NORTE DE LA PLAZA DE DEPORTES"]
[3975,"UNIDAD PEDAGOGICA JOSE RAFAEL ARAYA ROJAS","COLEGIOS","PUBLICA","SAN JOSE NORTE",71,2,4,1,13,1,"SAN JOSE","TIBAS","SAN JUAN","LA FLORIDA","HERIBERTO AGUILAR SANCHEZ",22350146,22350146,"upjoserafaelarayarojas@hotmail.com","150 NORTE 150 ESTE DE ROSTIPOLLOS"]
[3977,"LICEO SAN ANTONIO","COLEGIOS","PUBLICA","SAN JOSE NORTE",71,2,6,1,11,4,"SAN JOSE","VASQUEZ DE CORONADO","PATALILLO","SAN ANTONIO","ERICK VILLALOBOS SALAZAR",22927723,22927723,"lisac.direccion@gmail.com","150 SURESTE DE COOPECORONADO"]
[3978,"COLEGIO RINCÓN GRANDE","COLEGIOS","PUBLICA","SAN JOSE OESTE",72,2,2,1,1,9,"SAN JOSE","SAN JOSE","PAVAS","RINCÓN GRANDE","ROLANDO SOLANO MORALES",22130104,22132467,"colegiorincon.pavas@gmail.com","1.5 KM OESTE DE FÁBRICA BANQUETE"]
[3979,"LICEO TEODORO PICADO","COLEGIOS","PUBLICA","SAN JOSE CENTRAL",50,2,6,1,10,1,"SAN JOSE","ALAJUELITA","ALAJUELITA","LA AURORA","DAVID MARCELO JONHSON WARD",22527096,22527096,"liceoteodoropicado@yahoo.com","300 OESTE 50 SUR DE RITEVE"]
[3980,"LICEO HERNAN ZAMORA ELIZONDO","COLEGIOS","PUBLICA","SAN JOSE NORTE",71,2,6,1,11,3,"SAN JOSE","VASQUEZ DE CORONADO","DULCE NOMBRE DE JESUS","DULCE NOMBRE","GIOVANNI BARILLAS SOLIS",22926898,22926822,"liceohernanzamora@hotmail.com","200 NORTE DE LA TERMINAL DE DULCE NOMBRE"]
[3982,"LICEO MONSEÑOR RUBEN ODIO HERRERA","COLEGIOS","PUBLICA","DESAMPARADOS",51,2,7,1,3,1,"SAN JOSE","DESAMPARADOS","DESAMPARADOS","DESAMPARADOS","DENNIS MARROQUIN RUGAMA",22598797,22591022,"monsenor.odio@gmail.com","FRENTE AL CENTRO COMERCIAL DE DESAMPARADOS."]
[3983,"LICEO DE CALLE FALLAS","COLEGIOS","PUBLICA","DESAMPARADOS",51,2,7,1,3,1,"SAN JOSE","DESAMPARADOS","DESAMPARADOS","CALLE FALLAS","ALEJANDRO DELGADILLO SOLANO",22509947,22594462,"liceodecallefallas@gmail.com","1 KM.SUR DE LA ENT.PRINCIPAL DEL MULTICENTRO"]
[3984,"COLEGIO NUESTRA SEÑORA","COLEGIOS","SUBVENCIONADA","DESAMPARADOS",51,2,1,1,3,1,"SAN JOSE","DESAMPARADOS","DESAMPARADOS","DESAMPARADOS","DAMARIS ARAYA CHAVARRIA",22508022,0,"direccion@colegionuestra.com","100 METROS NORTE DEL TEMPLO CATOLICO."]
[3985,"LICEO SAN MIGUEL","COLEGIOS","PUBLICA","DESAMPARADOS",51,2,2,1,3,2,"SAN JOSE","DESAMPARADOS","SAN MIGUEL","SAN MIGUEL","ALEJANDRO BRENES GAMBOA",22703443,22703743,"liceosanmigueldesampa@yahoo.es","FRENTE AL DEPOSITO LAS GRAVILIAS."]
[3986,"LICEO RICARDO FERNANDEZ GUARDIA","COLEGIOS","PUBLICA","SAN JOSE CENTRAL",50,2,1,1,1,11,"SAN JOSE","SAN JOSE","SAN SEBASTIAN","COLONIA KENNEDY","LUZ MARY MONGE CALDERON",22278722,22278722,"colerifegu@gmail.com","150 OESTE DEL PARQUE"]
[3988,"LICEO SAN ANTONIO","COLEGIOS","PUBLICA","DESAMPARADOS",51,2,1,1,3,5,"SAN JOSE","DESAMPARADOS","SAN ANTONIO","SAN ANTONIO","LEONEL RAMIREZ LOPEZ",22767828,22767828,"liceodesanantonio@hotmail.com","200 ESTE TEMPLO CATOLICO SAN ANTONIO."]
[3989,"LICEO DE ASERRI","COLEGIOS","PUBLICA","DESAMPARADOS",51,2,3,1,6,1,"SAN JOSE","ASERRI","ASERRI","EL COLEGIO","LUIS PAULINO MADRIZ CASTRO",22303375,22303375,"liceodeaserri@gmail.com","100 OESTE DEL PALACIO MUNICIPAL."]
[3990,"LICEO DE FRAILES","COLEGIOS","PUBLICA","DESAMPARADOS",51,2,4,1,3,6,"SAN JOSE","DESAMPARADOS","FRAILES","FRAILES","LUCRECIA AMADOR MEZA",25440166,25440166,"liceodefrailes@gmail.com","400 MTS.OESTE DEL TEMPLO CATOLICO DE FRAILES."]
[3991,"LICEO SAN GABRIEL DE ASERRI","COLEGIOS","PUBLICA","DESAMPARADOS",51,2,3,1,6,4,"SAN JOSE","ASERRI","SAN GABRIEL","SAN GABRIEL","MARTIN TORRES RODRIGUEZ",25400120,25400315,"torresmartin2007@yahoo.com","100 METROS ESTE ABASTECEDOR PADILLA."]
[3993,"LICEO DE SABANILLAS","COLEGIOS","PUBLICA","DESAMPARADOS",51,2,6,1,12,5,"SAN JOSE","ACOSTA","SABANILLAS","SABANILLAS","JEFRY ROJAS JIMENEZ",25444532,25444532,"liceosabanillasacosta@gmail.com","200 MTS. OESTE DEL CEMENTERIO DE SABANILLAS."]
[3995,"LICEO JOAQUIN GUTIERREZ MANGEL","COLEGIOS","PUBLICA","DESAMPARADOS",51,2,2,1,3,4,"SAN JOSE","DESAMPARADOS","SAN RAFAEL ARRIBA","SAN RAFAEL ARRIBA","ANA LORENA JUAREZ ZUNIGA",22197519,22197519,"liceoigmangel@hotmail.com","200 OESTE GUARDA RURAL, SAN RAFAEL ARRIBA"]
[3996,"LICEO DIURNO CIUDAD COLON","COLEGIOS","PUBLICA","PURISCAL",52,2,5,1,7,1,"SAN JOSE","MORA","COLON","COLON","SILVIO CALDERON MONTERO",22491117,22491117,"liceodiurnociudadcolon@gmail.com","600 ESTE DE SERVICENTRO DELTA"]
[3997,"LICEO DE PURISCAL","COLEGIOS","PUBLICA","PURISCAL",52,2,1,1,4,1,"SAN JOSE","PURISCAL","SANTIAGO","SANTIAGO","ALBERTO QUIROS ABARCA",24166163,24165424,"direccion@liceodepuriscal.ed.cr","COSTADO OESTE DEL NUEVO TEMPLO CATOLICO"]
[3998,"COLEGIO DE TABARCIA","COLEGIOS","PUBLICA","PURISCAL",52,2,5,1,7,3,"SAN JOSE","MORA","TABARCIA","TABARCIA","ILVIN PINEDA HERNANDEZ",24188373,24188373,"col.detabarcia@mep.go.cr","COSTADO OESTE DE LA PLAZA DE DEPORTES"]
[3999,"LICEO SINAÍ","COLEGIOS","PUBLICA","PEREZ ZELEDON",53,2,1,1,19,1,"SAN JOSE","PEREZ ZELEDON","SAN ISIDRO DE EL GENERAL","B° SINAI","ADRIÁN SOLIS HIDALGO",27706669,27702555,"lic.sinai@mep.go.cr","150 ESTE DE LA UNIVERSIDAD NACIONAL"]
[4000,"UNIDAD PEDAGÓGICA DR. RAFAEL ÁNGEL CALDERÓN G.","COLEGIOS","PUBLICA","PEREZ ZELEDON",53,2,1,1,19,1,"SAN JOSE","PEREZ ZELEDON","SAN ISIDRO DE EL GENERAL","COOPERATIVA","JORGE GAMBOA ZUÑIGA",27713020,27713020,"upcalderonguardia@gmail.com","1 KM SUR DEL CEMENTERIO GENERAL"]
[4001,"UNIDAD PEDAGÓGICA JOSÉ BREINDERHOFF","COLEGIOS","PUBLICA","PEREZ ZELEDON",53,2,3,1,19,3,"SAN JOSE","PEREZ ZELEDON","DANIEL FLORES","LOS CHILES","DENIS JIMÉNEZ PADILLA",27715223,27715223,"upe.josebreiderhoff@mep.go.cr","FRENTE A LA IGLESIA CATOLICA"]
[4002,"LICEO POTRERO GRANDE","COLEGIOS","PUBLICA","GRANDE DE TERRABA",75,2,3,6,3,3,"PUNTARENAS","BUENOS AIRES","POTRERO GRANDE","POTRERO GRANDE","JORGE ALEXIS PICADO CORRALES",27428036,27428036,"liceopotrerogrande@gmail.com","300 SUROESTE DE LA IGLESIA C.DE POTRERO GRAND"]
[4003,"LICEO EL CARMEN","COLEGIOS","PUBLICA","GRANDE DE TERRABA",75,2,4,6,3,8,"PUNTARENAS","BUENOS AIRES","BIOLLEY","EL CARMEN","HENRY ALVARADO ZUMBADO",27431006,27431006,"licelcarmenbiolley@gmail.com","2,5 KM.NORESTE DE LA ESC.JUAN RAFAEL MORA P."]
[4004,"LICEO BORUCA","COLEGIOS","PUBLICA","GRANDE DE TERRABA",75,2,11,6,3,4,"PUNTARENAS","BUENOS AIRES","BORUCA","BORUCA","LEONEL MAROTO GONZÁLEZ",27302459,27302459,"liceoboruca@gmail.com","200 MTS.ESTE DE LA PLAZA DE DEPORTES"]
[4006,"LICEO YOLANDA OREAMUNO UNGER","COLEGIOS","PUBLICA","GRANDE DE TERRABA",75,2,2,6,3,2,"PUNTARENAS","BUENOS AIRES","VOLCAN","URBANIZACION EL PROGRESO","MARIELOS PORRAS ALTAMIRANO",27421085,27424085,"liceoyolaoreamuno@yahoo.es","D.CEMENTERIO.100 N.100 O.,100 N Y 100 OESTE"]
[4007,"COLEGIO LA ASUNCIÓN","COLEGIOS","SUBVENCIONADA","PEREZ ZELEDON",53,2,1,1,19,1,"SAN JOSE","PEREZ ZELEDON","SAN ISIDRO DE EL GENERAL","LA PRADERA","JUAN CARLOS QUESADA QUESADA",27022349,27718311,"colegiolaasuncionpz@yahoo.es","300 METROS SUR DE LAS OFICINAS DE CABLE TICA"]
[4008,"LICEO FERNANDO VOLIO JIMÉNEZ","COLEGIOS","PUBLICA","PEREZ ZELEDON",53,2,3,1,19,3,"SAN JOSE","PEREZ ZELEDON","DANIEL FLORES","PALMARES","ROXANA SOLANO GAMBOA",27713142,27715605,"lifervol@hotmail.com","150 OESTE DE RITEVE PALMARES DE PZ"]
[4009,"LICEO UNESCO","COLEGIOS","PUBLICA","PEREZ ZELEDON",53,2,1,1,19,1,"SAN JOSE","PEREZ ZELEDON","SAN ISIDRO DE EL GENERAL","UNESCO","WALTER QUESADA VARGAS",27710425,27710425,"lic.unesco@drepz.ed.cr","200 MTS NORTE DE LA ANTIGUA UNIVERSIDAD LATIN"]
[4010,"LICEO SAN PEDRO","COLEGIOS","PUBLICA","PEREZ ZELEDON",53,2,9,1,19,5,"SAN JOSE","PEREZ ZELEDON","SAN PEDRO","SAN PEDRO","EDGAR ROJAS CESPEDES",27311151,27311151,"lic.sanpedro@mep.go.cr","100 METROS SUR DE LA ESCUELA SAN PEDRO"]
[4011,"LICEO DE SANTA GERTRUDIS","COLEGIOS","PUBLICA","ALAJUELA",54,2,10,2,3,3,"ALAJUELA","GRECIA","SAN JOSE","SANTA GERTRUDIS NORTE","LUIS DIEGO CHACON MARTINEZ",24942250,24940900,"liceostagertrudis@gmail.com","200 MTS SURESTE DE LA IGLESIA CATOLICA"]
[4012,"LICEO CARRILLOS DE POAS","COLEGIOS","PUBLICA","ALAJUELA",54,2,7,2,8,4,"ALAJUELA","POAS","CARRILLOS","CARRILLOS BAJO","ADRIAN JIMENEZ CHAVEZ",24588211,24588211,"lic.decarrillos@mep.go.cr","1KM OESTE DEL TEMPLO CATOLICO"]
[4013,"COLEGIO TUETAL NORTE","COLEGIOS","PUBLICA","ALAJUELA",54,2,5,2,1,12,"ALAJUELA","ALAJUELA","TAMBOR","TUETAL NORTE","CRISTINA SOLANO CORDERO",24302885,24302885,"colegiotuetal@yahoo.com","DETRAS DE LA IGLESIA CATOLICA"]
[4014,"LICEO SAN ROQUE","COLEGIOS","PUBLICA","ALAJUELA",54,2,6,2,3,4,"ALAJUELA","GRECIA","SAN ROQUE","SAN ROQUE","SANTIAGO HERRERA BARRANTES",24947522,24945584,"liceosanroque@yahoo.es","100 M SUR DE LA PLAZA DE DEPORTES"]
[4015,"COLEGIO AMBIENTALISTA EL ROBLE","COLEGIOS","PUBLICA","ALAJUELA",54,2,4,2,1,4,"ALAJUELA","ALAJUELA","SAN ANTONIO","EL ROBLE DE ALAJUELA","LUIS FERNANDO DELGADO ROJAS",24381386,24381386,"col.ambientalistaelroble@mep.go.cr","CONTIGUO AL SUPER BENIS"]
[4018,"INSTITUTO DE ALAJUELA","COLEGIOS","PUBLICA","ALAJUELA",54,2,1,2,1,1,"ALAJUELA","ALAJUELA","ALAJUELA","PLAZA ACOSTA","RICARDO BARRANTES RAMIREZ",24304479,24428153,"info@idea.ed.cr","COSTADO NORTE DE PLAZA ACOSTA, ALAJELA CENTRO"]
[4019,"LICEO DE ATENAS MARTHA MIRAMBELL UMAÑA","COLEGIOS","PUBLICA","ALAJUELA",54,2,8,2,5,1,"ALAJUELA","ATENAS","ATENAS","ATENAS","ROBERTH JIMENEZ HERNANDEZ",24465124,24465124,"lic.deatenas@mep.go.cr","300 MTS AL ESTE DE LA ESCUELA CENTRAL ATENAS"]
[4020,"LICEO LEON CORTES CASTRO","COLEGIOS","PUBLICA","ALAJUELA",54,2,6,2,3,4,"ALAJUELA","GRECIA","SAN ROQUE","LEON CORTES","FREDDY RODRIGUEZ PORRAS",24948622,24943338,"lic.leoncortescastro@mep.go.cr","250 NORESTE DE LOS TRIBUNALES DE JUSTICIA"]
[4021,"LICEO DE POAS","COLEGIOS","PUBLICA","ALAJUELA",54,2,7,2,8,1,"ALAJUELA","POAS","SAN PEDRO","SAN PEDRO","SEIDY JIMENEZ FONSECA",24485027,24484500,"lidepo@gmail.com","600 MTS NORTE DEL TEMPLO CATOLICO"]
[4022,"COLEGIO GREGORIO JOSE RAMIREZ CASTRO","COLEGIOS","PUBLICA","ALAJUELA",54,2,2,2,1,4,"ALAJUELA","ALAJUELA","SAN ANTONIO","MONTECILLOS","GISSELL HERRERA JARA",24300272,24411701,"lic.gregoriojoseramirez@mep.go.cr","400 M NORTE DEL PLANTEL DEL MOPT"]
[4023,"COLEGIO EL CARMEN","COLEGIOS","PUBLICA","ALAJUELA",54,2,2,2,1,1,"ALAJUELA","ALAJUELA","ALAJUELA","BARRIO EL CARMEN","ALAN ASTORGA CASTRO",24414363,24414363,"colegio.elcarmen.alajuela@gmail.com","QUINTA ENTRADA DE LOTES LLOBETH"]
[4024,"LICEO SAN JOSE","COLEGIOS","PUBLICA","ALAJUELA",54,2,5,2,1,2,"ALAJUELA","ALAJUELA","SAN JOSE","SAN JOSE","ALLAN BARBOZA JIMENEZ",24332871,24338963,"liceosanjose.alaj@gmail.com","CONTIGUO AL CEMENTERIO BARRIO SAN JOSE"]
[4025,"LICEO OTILIO ULATE BLANCO","COLEGIOS","PUBLICA","ALAJUELA",54,2,3,2,1,6,"ALAJUELA","ALAJUELA","SAN ISIDRO","EL RODEO","SANTIAGO HERRERA VARGAS",24496487,24495080,"loub1974@gmail.com","CONTIGUO A LA PLAZA DE DEPORTES"]
[4026,"COLEGIO MARIA INMACULADA","COLEGIOS","SUBVENCIONADA","ALAJUELA",54,2,10,2,3,1,"ALAJUELA","GRECIA","GRECIA","GRECIA","SARA NOHEMI ZAVALA LANDAVERDE",24942422,24942344,"direccion.grecia@mariainmaculada.ed.cr","225 MTS NORTE BANCO NACIONAL DE COSTA RICA"]
[4027,"LICEO SAN RAFAEL","COLEGIOS","PUBLICA","ALAJUELA",54,2,4,2,1,8,"ALAJUELA","ALAJUELA","SAN RAFAEL","SAN RAFAEL","MANUEL MORERA MORERA",24380495,24380495,"liceosanrafael@hotmail.com","FRENTE A PLAZA DE DEPORTES SAN RAFAEL"]
[4028,"COLEGIO REDENTORISTA SAN ALFONSO","COLEGIOS","PUBLICA","ALAJUELA",54,2,2,2,1,1,"ALAJUELA","ALAJUELA","ALAJUELA","EL BRASIL","ROSIBEL AGÜERO QUIROS",24412370,24412370,"redentoristasanalfonso@gmail.com","700 MTS ESTE DE LA IGLESIA LA AGONIA"]
[4029,"LICEO DE TURRUCARES","COLEGIOS","PUBLICA","ALAJUELA",54,2,5,2,1,11,"ALAJUELA","ALAJUELA","TURRUCARES","TURRUCARES","BLANCA ALVARADO DUARTE",24876044,24876044,"lturrucares@gmail.com","FRENTE AL SUPER EL ESTANCO, TURRUCARES CENTRO"]
[4030,"EXPERIMENTAL BILINGUE DE GRECIA","COLEGIOS","PUBLICA","ALAJUELA",54,2,10,2,3,4,"ALAJUELA","GRECIA","SAN ROQUE","BARRIO LATINO","ALI ANTONIO SIBAJA SIBAJA",24441220,24441220,"liceoexperimentalgrecia@gmail.com","COSTADO NOROESTE DE LA PLAZA DE FUTBOL"]
[4031,"LICEO DE TAMBOR","COLEGIOS","PUBLICA","ALAJUELA",54,2,3,2,1,12,"ALAJUELA","ALAJUELA","TAMBOR","TAMBOR","CARLOS SAENZ BARRANTES",24334681,24334681,"liceotambor@hotmail.com","225 SUR DE LA PLAZA DE DEPORTES"]
[4032,"LICEO NUESTRA SEÑORA DE LOS ANGELES","COLEGIOS","PUBLICA","OCCIDENTE",55,2,2,2,2,8,"ALAJUELA","SAN RAMON","ANGELES","LOS JARDINES","DANNY PERALTA CRUZ",24476082,24476345,"linsa_98@hotmail.com","500 M. NORTE Y 300 OESTE DEL POLIDEPORTIVO"]
[4033,"INSTITUTO JULIO ACOSTA GARCÍA","COLEGIOS","PUBLICA","OCCIDENTE",55,2,1,2,2,1,"ALAJUELA","SAN RAMON","SAN RAMON","LA CORTE, SAN RAMóN","BRAULIO CHACÓN HERRERA",24455023,24456867,"institutojulioacosta@gmail.com","COSTADO SUR DE LOS TRIBUNALES DE JUSTICIA"]
[4034,"EXPERIMENTAL BILINGÜE DE PALMARES","COLEGIOS","PUBLICA","OCCIDENTE",55,2,6,2,7,1,"ALAJUELA","PALMARES","PALMARES","PALMARES","JOSÉ ALBERTO CALVO QUESADA",24520157,24520157,"cobipalmares@gmail.com","25 M. SUR DEL BANCO POPULAR"]
[4035,"COLEGIO DE NARANJO","COLEGIOS","PUBLICA","OCCIDENTE",55,2,8,2,6,1,"ALAJUELA","NARANJO","NARANJO","MARÍA AUXILIADORA","FLORIBETH MORA ROJAS",24513031,24500056,"colegio.naranjo@hotmail.com","300 M.NORTE DEL HOGAR ANCIANOS JOSÉ DEL OLMO"]
[4036,"COLEGIO VALLE AZUL","COLEGIOS","PUBLICA","OCCIDENTE",55,2,9,2,2,8,"ALAJUELA","SAN RAMON","ANGELES","VALLE AZUL","EIDA PIZARRO RODRÍGUEZ",24751530,24751530,"liceoacit@hotmail.com","DETRÁS DE LA PLAZA DE DEPORTES, VALLE AZUL"]
[4037,"LICEO PATRIARCA SAN JOSÉ","COLEGIOS","SUBVENCIONADA","OCCIDENTE",55,2,1,2,2,1,"ALAJUELA","SAN RAMON","SAN RAMON","BARRIO SAN JOSÉ","GERARDO SANDOVAL BENAVIDES",24455670,24456160,"cpsj@ice.co.cr","100 ESTE Y 100 NORTE DE PERIMERCADOS"]
[4038,"EXPERIMENTAL BILINGÜE DE NARANJO","COLEGIOS","PUBLICA","OCCIDENTE",55,2,5,2,6,5,"ALAJUELA","NARANJO","SAN JERONIMO","SAN JERÓNIMO","GILBERTH MORALES ZUMBADO",24513450,24503111,"lebnaranjo@yahoo.es","CONTIGUO A CHILERA SANTA CRUZ, SN JERÓNIMO"]
[4039,"COLEGIO DR. RICARDO MORENO CAÑAS","COLEGIOS","PUBLICA","OCCIDENTE",55,2,6,2,7,2,"ALAJUELA","PALMARES","ZARAGOZA","RINCÓN","WARNER ANTONIO VEGA SOLÍS",24531551,24531551,"colegio_rincon@hotmail.com","300 M. SUR DEL RESTAURANTE LAS TEJAS, RINCÓN"]
[4040,"LICEO DE ALFARO RUIZ","COLEGIOS","PUBLICA","OCCIDENTE",55,2,7,2,11,1,"ALAJUELA","ZARCERO","ZARCERO","BARRIO CEMENTERIO","EDWARD SALAZAR CHACON",24633163,24633451,"liceo_alfaro_ruiz@yahoo.com","FRENTE AL CEMENTERIO, ZARCERO"]
[4041,"LICEO SUCRE","COLEGIOS","PUBLICA","SAN CARLOS",56,2,3,2,10,1,"ALAJUELA","SAN CARLOS","QUESADA","SUCRE","JORGE ANTONIO ALVARADO SAENZ",24606529,24606280,"lic.desucre@gmep.go.cr","150 METROS SUR DEL SALON COMUNAL"]
[4042,"LICEO DE FLORENCIA","COLEGIOS","PUBLICA","SAN CARLOS",56,2,2,2,10,2,"ALAJUELA","SAN CARLOS","FLORENCIA","FLORENCIA","NORMAN CASTRO CASTRO",24757006,24757006,"col.diurnodeflorencia@mep.go.cr","900 NORTE DE REPUESTOS JOYSA FLORENCIA"]
[4043,"LICEO PAVON","COLEGIOS","PUBLICA","SAN CARLOS",56,2,10,2,14,3,"ALAJUELA","LOS CHILES","EL AMPARO","PAVON","VICTOR CHAVARRIA GUTIERREZ",24718105,0,"lic.depavon@mep.go.cr","400 METROS OESTE DE LA GASOLINERA EL PAVON"]
[4044,"LICEO SANTA RITA","COLEGIOS","PUBLICA","SAN CARLOS",56,2,1,2,3,6,"ALAJUELA","GRECIA","RIO CUARTO","SANTA RITA","GRUSHENSKA CASTILLO FERNANDEZ",24650107,24650107,"lic.santarita@mep.go.cr","CONTIGUO AL EBAIS"]
[4045,"LICEO DE SAN CARLOS","COLEGIOS","PUBLICA","SAN CARLOS",56,2,3,2,10,1,"ALAJUELA","SAN CARLOS","QUESADA","SAN ROQUE","JOSE JOAQUIN SANCHEZ MENDEZ",24600332,24606183,"liceosancarlos4045@hotmail.com","1 KM NORTE DEL PARQUE DE CIUDAD QUESADA"]
[4046,"COLEGIO MARIA INMACULADA","COLEGIOS","SUBVENCIONADA","SAN CARLOS",56,2,3,2,10,1,"ALAJUELA","SAN CARLOS","QUESADA","CIUDAD QUESADA","ROBERTH CHACON CHACON",24607513,24600545,"comaisancarlos@gmail.com","CONTIGUO A LA DIRECCION REGIONAL"]
[4047,"LICEO CHACHAGUA","COLEGIOS","PUBLICA","OCCIDENTE",55,2,9,2,2,13,"ALAJUELA","SAN RAMON","PEÑAS BLANCAS","CHACHAGUA","LIGIA SOLANO DELGADO",24791632,24810610,"liceodechachagua@gmail.com","200 M. NOROESTE DEL EBAIS DE CHACHAGUA"]
[4048,"LICEO ENRIQUE GUIER SAENZ","COLEGIOS","PUBLICA","CARTAGO",57,2,8,3,2,4,"CARTAGO","PARAISO","CACHI","CACHI","EMILIO ARIAS MARTINEZ",25771820,25771820,"liceoenriqueguier@yahoo.com","CACHI CENTRO 50M ESTE EL EBAIS"]
[4049,"LICEO MANUEL EMILIO RODRIGUEZ","COLEGIOS","PUBLICA","CARTAGO",57,2,5,3,6,2,"CARTAGO","ALVARADO","CERVANTES","CORAZÓN DE JESÚS","CHISTIAN CORDOBA MONGE",25348017,25348017,"liceo.cervantes@hotmail.com","100 N Y 50 O DE LA GASOLINERA"]
[4050,"LICEO VICENTE LACHNER SANDOVAL","COLEGIOS","PUBLICA","CARTAGO",57,2,1,3,1,1,"CARTAGO","CARTAGO","ORIENTAL","LOS ANGELES","RAUL MIRANDA MESEN",25521701,25514276,"vlachners@yahoo.com","200M SUR DE LA BASILICA DE LOS ANGELES"]
[4051,"COLEGIO SAN LUIS GONZAGA","COLEGIOS","PUBLICA","CARTAGO",57,2,2,3,1,2,"CARTAGO","CARTAGO","OCCIDENTAL","IGLESIAS","FRANKLIN SOLANO REDONDO",25510895,25526232,"direccion.academica@colegiodesanluisgonzaga.org","DEL BANCO CREDITO AGRICOLA 200MTS SUR CARTAGO"]
[4052,"LICEO DE PARAISO","COLEGIOS","PUBLICA","CARTAGO",57,2,5,3,2,1,"CARTAGO","PARAISO","PARAISO","SAN ANTONIO","GUILLERMO ZUNIGA CERDAS",25744600,25747404,"lparaiso69@hotmail.com","DEL CUERPO DE BOMBEROS 100 SUR"]
[4053,"COLEGIO ELIAS LEIVA QUIROS","COLEGIOS","PUBLICA","CARTAGO",57,2,3,3,8,1,"CARTAGO","EL GUARCO","TEJAR","EL TEJAR","CARLOS ALBERTO ARCE MOYA",25529191,25529191,"colegioelias1970@gmail.com","DE MUCAP DE TEJAR 150M NORTE"]
[4054,"COLEGIO SERAFICO SAN FRANCISCO","COLEGIOS","SUBVENCIONADA","CARTAGO",57,2,2,3,1,4,"CARTAGO","CARTAGO","SAN NICOLAS","LOYOLA","MARIO MADRIGAL SÁNCHEZ",25372032,25372220,"serafico@ice.co.cr","1KM NORTE DEL TALLER 3M CARTAGO"]
[4055,"COLEGIO SAGRADO CORAZON DE JESUS","COLEGIOS","SUBVENCIONADA","CARTAGO",57,2,1,3,1,1,"CARTAGO","CARTAGO","ORIENTAL","EL MOLINO","JENNETTE CAMPOS GONZALEZ",25913646,25923679,"sagrado01@gmail.com","500M SUR DEL SEMINARIO SANTO DOMINGO SAVIO"]
[4056,"UNIDAD PEDAGOGICA RAFAEL HERNANDEZ MADRIZ","COLEGIOS","PUBLICA","CARTAGO",57,2,1,3,1,2,"CARTAGO","CARTAGO","OCCIDENTAL","EL MOLINO","SANTIAGO JIMENEZ MOLINA",25510565,25510565,"uprafaelhernandezmadriz@gmail.com","100 O DE LA BIBLEOTECA PUBLICA-CARTAGO"]
[4057,"LICEO DE TARRAZU","COLEGIOS","PUBLICA","LOS SANTOS",73,2,1,1,5,1,"SAN JOSE","TARRAZU","SAN MARCOS","SANTA CECILIA","LUZMILDA ARGUELLO VILLALOBOS",25466012,25469038,"lic.detarrazu@mep.go.cr","100 METROS NORTE DE COOPESANTOS R.L"]
[4058,"LICEO DE COT","COLEGIOS","PUBLICA","CARTAGO",57,2,4,3,7,2,"CARTAGO","OREAMUNO","COT","COT","CARLOS LIZANO CORDOBA",25366509,25366509,"liceodecot01@hotmail.com","100 N Y 400 E DE PALI"]
[4059,"LICEO SAN DIEGO","COLEGIOS","PUBLICA","CARTAGO",57,2,6,3,3,2,"CARTAGO","LA UNION","SAN DIEGO","SANTIAGO DEL MONTE","MARTHA GARCIA UREÑA",22792929,22792929,"liceodesandiego@gmail.com","FABRICA DE CAJETAS DE SAN DIEGO 300 AL OESTE"]
[4060,"COLEGIO SAN FRANCISCO","COLEGIOS","PUBLICA","CARTAGO",57,2,7,3,1,5,"CARTAGO","CARTAGO","AGUA CALIENTE o SAN FRANCISCO","AGUA CALIENTE","BERNAL SOLANO CERVANTES",25528242,25528914,"coledanieloduberg@hotmail.com","CONTIGUO AL PUENTE DEL EL RIO AGUACALIENTE"]
[4061,"LICEO DE CORRALILLO","COLEGIOS","PUBLICA","CARTAGO",57,2,7,3,1,7,"CARTAGO","CARTAGO","CORRALILLO","CORRALILLO","EDGAR ELADIO CORDERO ARIAS",25480608,25481444,"liceo_corralillo@hotmail.com","500 NORTE DE LA IGLESIA CATOLICA-CORRLILLO"]
[4064,"COLEGIO FRANCISCA CARRASCO JIMENEZ","COLEGIOS","PUBLICA","CARTAGO",57,2,2,3,1,6,"CARTAGO","CARTAGO","GUADALUPE o ARENILLA","MARIA AUXILIADORA","LUIS GERARDO LEIVA ARRIETA",25517923,25518364,"direccion.francisca.carrasco@gmail.com","550 SUR DE LA PLAZA DE DEPORTES DE GUADALUPE"]
[4065,"COLEGIO ALEJANDRO QUESADA R.","COLEGIOS","PUBLICA","CARTAGO",57,2,6,3,3,5,"CARTAGO","LA UNION","CONCEPCION","LOS ANGELES","EDUARDO HERNANDEZ MONGE",22785780,22785783,"ciaqr1996@gmail.com","1KM NOROESTE DE LA AGENCIA POLICIAL"]
[4066,"EXPERIMENTAL BILINGÜE DE CARTAGO","COLEGIOS","PUBLICA","CARTAGO",57,2,2,3,1,4,"CARTAGO","CARTAGO","SAN NICOLAS","EL PEDEGRAL","LUIS JAVIER ARIAS MARTINEZ",25372425,25372425,"liceofigueresferrer@gmail.com","COSTADO SUR DEL COVAO SOBRE CARRETERA AL IRAZ"]
[4067,"LICEO BRAULIO CARRILLO COLINA","COLEGIOS","PUBLICA","CARTAGO",57,2,4,3,7,1,"CARTAGO","OREAMUNO","SAN RAFAEL","EL ALTO","DELFINA LEIVA QUESADA",25513934,25513934,"liceobraulio@outlook.com","400M NORTE DEL EBAIS DE SAN RAFA DE OREAMUNO"]
[4068,"LICEO LLANO BONITO","COLEGIOS","PUBLICA","LOS SANTOS",73,2,3,1,20,3,"SAN JOSE","LEON CORTES CASTRO","LLANO BONITO","LLANO BONITO","GEOVANNY ROJAS MIRANDA",25466955,25466955,"geovanny.rojas.miranda@mep.go.cr","300 N Y 300 O DEL CEMENTER DE LLANO BONITO"]
[4069,"COLEGIO DR. CLODOMIRO PICADO TWIGHT","COLEGIOS","PUBLICA","TURRIALBA",58,2,2,3,5,1,"CARTAGO","TURRIALBA","TURRIALBA","LA HACIENDITA","HUMBERTO SANABRIA PICADO",25560025,25560207,"colegioiet@gmail.com","150 NORTE SEDE U.C.R., SEDE ATLANTICA"]
[4070,"LICEO HERNAN VARGAS RAMIREZ","COLEGIOS","PUBLICA","TURRIALBA",58,2,1,3,4,1,"CARTAGO","JIMENEZ","JUAN VIÑAS","JUAN VIÑAS","MARIA JULIA ORTEGA PEREZ",25322274,25322274,"ihernanvargas@gmail.com","COSTADO SUR DEL JUZGADO"]
[4071,"LICEO TUCURRIQUE","COLEGIOS","PUBLICA","TURRIALBA",58,2,1,3,4,2,"CARTAGO","JIMENEZ","TUCURRIQUE","LA FLORA","CESAR PORTUGUEZ SANABRIA",25350309,25350309,"liceo.tucurrique@gmail.com","300 ESTE CENTRO AGRICOLA CANTONAL"]
[4072,"LICEO SANTA TERESITA","COLEGIOS","PUBLICA","TURRIALBA",58,2,4,3,5,5,"CARTAGO","TURRIALBA","SANTA TERESITA","SANTA TERESITA","MARIA ISABEL SANCHEZ MONTOYA",25591222,25590293,"liceosantateresita@hotmail.com","800 NORTE DEL EBAIS"]
[4073,"EXPERIMENTAL BILINGÜE DE TURRIALBA","COLEGIOS","PUBLICA","TURRIALBA",58,2,2,3,5,1,"CARTAGO","TURRIALBA","TURRIALBA","TOMAS GUARDIA","SEIDY NAJERA NUÑEZ",25583634,25561628,"lebturrialba@gmail.com","DE LA IGLESIA TESTIGOS DE JEHOVA 200MTS ESTE"]
[4074,"LICEO TRES EQUIS","COLEGIOS","PUBLICA","TURRIALBA",58,2,3,3,5,10,"CARTAGO","TURRIALBA","TRES EQUIS","TRES EQUIS","JUAN CARLOS SERRANO VARGAS",25541638,25541243,"tresequisturrialba@gmail.com","200 SUR EMPACADORA CAR DEL ATLANTICO"]
[4075,"COLEGIO AMBIENTALISTA DE PEJIBAYE","COLEGIOS","PUBLICA","TURRIALBA",58,2,1,3,4,3,"CARTAGO","JIMENEZ","PEJIBAYE","LA HACIENDITA","GUIDO SOLANO TREJOS",25313404,25311412,"colpejibaye@gmail.com","50 NORTE DEL ANTIGUO BENEFICIO DE CAFE"]
[4076,"COLEGIO SAN JOSÉ DE LA MONTAÑA","COLEGIOS","PUBLICA","HEREDIA",59,2,4,4,2,6,"HEREDIA","BARVA","SAN JOSE DE LA MONTAÑA","S.JOSE DE LA MONTAÑA","GILBERTH GONZALEZ GUERRERO",22661059,22660864,"colegiosanjosem@gmail.com","400 METROS NORTE DE LA ENTRADA A ROBLE ALTO"]
[4077,"LICEO ING. SAMUEL SÁENZ FLORES","COLEGIOS","PUBLICA","HEREDIA",59,2,2,4,1,2,"HEREDIA","HEREDIA","MERCEDES","CUBUJUQUÍ","MARJORIE RODRÍGUEZ HERNÁNDEZ",22610173,22610172,"liceosamuelsaenzflores@gmail.com","600 OESTE DE LOS BOMBEROS"]
[4078,"LICEO DE HEREDIA","COLEGIOS","PUBLICA","HEREDIA",59,2,1,4,1,1,"HEREDIA","HEREDIA","HEREDIA","HEREDIA","XINIA SALAS ALPIZAR",22370113,22370421,"liceodeheredia@gmail.com","FRENTE AL BANCO POPULAR CALLES 3 Y AV.CENTRAL"]
[4079,"LICEO REGIONAL DE FLORES","COLEGIOS","PUBLICA","HEREDIA",59,2,7,4,8,1,"HEREDIA","FLORES","SAN JOAQUIN","SAN JOAQUÍN FLORES","MINOR ELIZONDO MORALES",22655650,22655650,"l.r.flores@hotmail.com","100 NORTE DEL BANCO NACIONAL"]
[4080,"LICEO ING. CARLOS PASCUA ZUÑIGA","COLEGIOS","PUBLICA","HEREDIA",59,2,4,4,5,1,"HEREDIA","SAN RAFAEL","SAN RAFAEL","BARRIO SANTIAGO","MARIO SOTO QUIRÓS",22372710,22370266,"liceocarlospascuazuniga@yahoo.es","300 METROS SUR DEL TEMPLO CATOLICO"]
[4081,"COLEGIO SANTA MARÍA DE GUADALUPE","COLEGIOS","SUBVENCIONADA","HEREDIA",59,2,5,4,3,2,"HEREDIA","SANTO DOMINGO","SAN VICENTE","QUINTANA","GUSTAVO RODRIGUEZ VARGAS",22440749,22444935,"recepcion@samagu.ed.cr","250 NORTE DE LA BASILICA DE SANTO DOMINGO"]
[4082,"LICEO MARIO VINDAS SALAZAR","COLEGIOS","PUBLICA","HEREDIA",59,2,6,4,9,1,"HEREDIA","SAN PABLO","SAN PABLO","SAN PABLO","LUIS FERNANDO VEGA MATAMOROS",22606231,22378709,"liceomariovindasalazar@gmail.com","300 METROS NORTE DEL TEMPLO CATOLICO"]
[4083,"CONSERVATORIO CASTELLA","COLEGIOS","PUBLICA","HEREDIA",59,2,7,4,1,4,"HEREDIA","HEREDIA","ULLOA","BARREAL","ROBERTO MONTERO GUZMAN",22938335,22937616,"conservatoriocastella@gmail.com","DE LA GASOLINERA UNO,300 SUR BARREAL DE HERED"]
[4084,"LICEO DE SANTA BÁRBARA","COLEGIOS","PUBLICA","HEREDIA",59,2,3,4,4,1,"HEREDIA","SANTA BARBARA","SANTA BARBARA","SANTA BÁRBARA","ROSIBEL TRIGUEROS LEITÓN",22696969,22690078,"liceodesantabarbara@gmail.com","D.LA IGL.CATOL.DE STA.BARB.500 N.DIAG.ESTADIO"]
[4085,"LICEO ING. MANUEL BENAVIDES RODRIGUEZ","COLEGIOS","PUBLICA","HEREDIA",59,2,1,4,1,3,"HEREDIA","HEREDIA","SAN FRANCISCO","BARRIO LOURDES","VILMA GONZALEZ GUERRERO",22372433,22372433,"liceomanuelbenvides@yahoo.com","200 OESTE DEL HOSPITAL NUEVO."]
[4086,"LICEO DE SAN ISIDRO","COLEGIOS","PUBLICA","HEREDIA",59,2,6,4,6,1,"HEREDIA","SAN ISIDRO","SAN ISIDRO","SAN ISIDRO","RAFAEL CASTRO VINDAS",22685809,22688037,"colegiosanisidroh@gmail.com","200 E.Y 200 N.DE LA IGLESIA CAT.FTE.DEP.LAGAR"]
[4087,"EXPERIMENTAL BILINGÜE DE BELÉN","COLEGIOS","PUBLICA","HEREDIA",59,2,7,4,7,1,"HEREDIA","BELEN","SAN ANTONIO","SAN ANTONIO","WAGNER ALFARO ROMÁN",22390901,22390901,"liceobilinguebelen@gmail.com","300 M.SUR,75 E.DE LA CRUZ ROJA DE SN.ANT.DE B"]
[4088,"UNIDAD PEDAGOGICA LICEO EL ROBLE","COLEGIOS","PUBLICA","HEREDIA",59,2,3,4,4,5,"HEREDIA","SANTA BARBARA","SANTO DOMINGO","EL ROBLE","VERNY QUIROS BURGOS",24830095,24830095,"centroeducativo.roble@gmail.com","STO. DOMINGO EL ROBLE,STA. BARBARA DE HEREDIA"]
[4089,"COLEGIO CLARETIANO","COLEGIOS","SUBVENCIONADA","HEREDIA",59,2,2,4,1,2,"HEREDIA","HEREDIA","MERCEDES","MERCEDES NORTE","LEONEL E. CASTRO CARVAJAL",22603732,22603732,"colegio@claretiano.com","100 METROS NORTE DE LA PARROQUIA"]
[4090,"LICEO SANTO DOMINGO","COLEGIOS","PUBLICA","HEREDIA",59,2,5,4,3,2,"HEREDIA","SANTO DOMINGO","SAN VICENTE","YURISTI","JULIO CESAR HERNANDEZ ROMERO",22443552,22443552,"liceonuevosantodomingo@gmail.com","DE LA CLINICA DR.HUGO FONS.50 N.200 O.Y 100 N"]
[4091,"LICEO DE RIO FRIO","COLEGIOS","PUBLICA","SARAPIQUI",74,2,2,4,10,3,"HEREDIA","SARAPIQUI","LAS HORQUETAS","FINCA 11","ROCIO VARGAS MONTERO",27643036,24644116,"colegioderiofrio1970@gmail.com","300 M E DE LA ESCUELA FINCA II"]
[4092,"LICEO LOS LAGOS","COLEGIOS","PUBLICA","HEREDIA",59,2,2,4,1,3,"HEREDIA","HEREDIA","SAN FRANCISCO","RESIDENCIAL LOS LAGOS","Mª DE LOS Á. PROTTI CHAVES",22606296,22607657,"secretarialiceoloslagos@hotmail.es","COSTADO SUR DE LA MABE,CARRETERA A HEREDIA."]
[4093,"COLEGIO LA AURORA","COLEGIOS","PUBLICA","HEREDIA",59,2,7,4,1,4,"HEREDIA","HEREDIA","ULLOA","LA AURORA","EDDIE ESPINOZA CASCANTE",22935863,22935863,"liceolaaurora@hotmail.com","CONTIGUO A LA IGLESIA CATOLICA LA AURORA"]
[4094,"LICEO DEL ESTE","COLEGIOS","PUBLICA","HEREDIA",59,2,5,4,3,3,"HEREDIA","SANTO DOMINGO","SAN MIGUEL","SAN MIGUEL","CINTHYA LOBO CORDERO",22411295,22411295,"liceodeleste@gmail.com","100 NORTE Y 50 OESTE DE AUTOS VILLALOBOS"]
[4095,"LICEO LA VIRGEN","COLEGIOS","PUBLICA","SARAPIQUI",74,2,1,4,10,2,"HEREDIA","SARAPIQUI","LA VIRGEN","LA VIRGEN","WARREN ALVARADO GUERRERO",27611371,27611371,"lielv08@gmail.com","800 MTS SUR 350 OESTE CLINICA SEGURO SOCIAL"]
[4096,"COLEGIO FELIPE PÉREZ PEREZ","COLEGIOS","PUBLICA","LIBERIA",60,2,2,5,1,1,"GUANACASTE","LIBERIA","LIBERIA","LA CARRETA","EMILIA PEREZ GARCIA",26661723,22661723,"colegiofelipeperezliberia@yahoo.es","600 ESTE DE PANADERIA SANCHEZ"]
[4097,"COLEGIO JOSÉ MARÍA GUTIÉRREZ","COLEGIOS","PUBLICA","LIBERIA",60,2,3,5,4,3,"GUANACASTE","BAGACES","MOGOTE","GUAYABO","ALBINO MIRANDA CORRALES",26730550,26730550,"colegiojosemariag@gmail.com","650 NOROESTE DEL SALON COMUNAL"]
[4098,"COLEGIO CAÑAS DULCES","COLEGIOS","PUBLICA","LIBERIA",60,2,4,5,1,2,"GUANACASTE","LIBERIA","CAÑAS DULCES","CAÑAS DULCES","JORGE ACON HERNANDEZ",26911039,26911039,"colegiocdulces@yahoo.es","B.LA PLAZA,ESQ.NE.DE PLAZA DEPORTES 600 NORTE"]
[4099,"COLEGIO SANTA CECILIA","COLEGIOS","PUBLICA","LIBERIA",60,2,5,5,10,2,"GUANACASTE","LA CRUZ","SANTA CECILIA","LOS MILLONARIOS","SUSANA RUIZ RUIZ",26778086,26778086,"lic.desantacecilia@mep.go.cr","600 ESTE DE ESCUELA SANTA CECILIA"]
[4100,"EXPERIMENTAL BILINGÜE DE LA CRUZ","COLEGIOS","PUBLICA","LIBERIA",60,2,1,5,10,1,"GUANACASTE","LA CRUZ","LA CRUZ","LA CRUZ","JESUS GONZAGA MARTINEZ",26799038,26799038,"lebl96996@gmail.com","300 SUR ESTADIO MUNICIPAL"]
[4101,"COLEGIO DE BAGACES","COLEGIOS","PUBLICA","LIBERIA",60,2,3,5,4,1,"GUANACASTE","BAGACES","BAGACES","BAGACES","EVA VASQUEZ VASQUEZ",26711116,26711116,"colebagaces1968@hotmail.com","CONTIGUO AL GIMNACIO MUNICIPAL DE BAGACES"]
[4102,"INSTITUTO DE GUANACASTE","COLEGIOS","PUBLICA","LIBERIA",60,2,2,5,1,1,"GUANACASTE","LIBERIA","LIBERIA","EL CAPULÍN","ERICK OVARES RODRIGUEZ",26660229,26651301,"col.deguanacaste@mep.go.cr","FRENTE OFICINAS M.A.G."]
[4103,"LICEO LABORATORIO DE LIBERIA","COLEGIOS","PUBLICA","LIBERIA",60,2,4,5,1,1,"GUANACASTE","LIBERIA","LIBERIA","B° CAPULÍN","MAYRA CHAVES ALFARO",26660765,26660765,"liceolabliberia@gmail.com","1 KM. OESTE OFICINAS CENTRALES DEL ICE"]
[4104,"COLEGIO BOCAS DE NOSARA","COLEGIOS","PUBLICA","NICOYA",61,2,6,5,2,6,"GUANACASTE","NICOYA","NOSARA","SANTA TERESITA","TERESITA VIALES MATARRITA",26820268,26820268,"lic.debocasdenosara@mep.go.cr","FRENTE A LA SODA PORCHOTES"]
[4105,"LICEO DE NICOYA","COLEGIOS","PUBLICA","NICOYA",61,2,1,5,2,1,"GUANACASTE","NICOYA","NICOYA","NICOYA","JOSE LUIS RAMIREZ OBREGON",26855115,26855808,"liceodenicoya01@gmail.com","200 SUR DEL PARQUE RECADERO BRICEñO"]
[4106,"LICEO SAN FRANCISCO DE COYOTE","COLEGIOS","PUBLICA","NICOYA",61,2,8,5,9,6,"GUANACASTE","NANDAYURE","BEJUCO","SAN FRANCISCO","ABRAHAM BERROCAL ROGERS",26551194,26551194,"abraham.berrocal.rogers@mep.go.cr","600 NOROESTE DEL RANCHO LOMA CLARA"]
[4107,"EXPERIMENTAL BILINGÜE DE SANTA CRUZ","COLEGIOS","PUBLICA","SANTA CRUZ",62,2,1,5,3,1,"GUANACASTE","SANTA CRUZ","SANTA CRUZ","SANTA CRUZ","ANA I. ZUMBADO VALVERDE",26801035,26801035,"lic.expbilinguesantacruz@mep.go.cr","200 MTS SUR DE LA ESCUELA MARIA LEAL"]
[4108,"LICEO SANTA CRUZ, CLIMACO A. PEREZ","COLEGIOS","PUBLICA","SANTA CRUZ",62,2,1,5,3,1,"GUANACASTE","SANTA CRUZ","SANTA CRUZ","SANTA CRUZ","JORGE ARTURO ALFARO ORIAS",26800219,26800219,"lic.santacruz@mep.go.cr","300 ESTE DE TRALAPA"]
[4109,"LICEO BELEN","COLEGIOS","PUBLICA","SANTA CRUZ",62,2,5,5,5,4,"GUANACASTE","CARRILLO","BELEN","SAN FRANCISCO","PAOLA CRISTINA RAMIREZ BRICEÑO",26511300,26511300,"lic.debelen@mep.go.cr","DE LA SODA MATAPALO 450 METROS NOROESTE"]
[4110,"LICEO MAURILIO ALVARADO VARGAS","COLEGIOS","PUBLICA","CAÑAS",63,2,3,5,8,1,"GUANACASTE","TILARAN","TILARAN","TILARAN","ISABEL ROJAS SIRIAS",26955226,26955226,"lic.maurilioalvaradovargas@mep.go.cr","75 METROS ESTE DE LA AGENCIA DEL ICE"]
[4111,"LICEO MIGUEL ARAYA VENEGAS","COLEGIOS","PUBLICA","CAÑAS",63,2,1,5,6,1,"GUANACASTE","CAÑAS","CAÑAS","CAÑAS","ALEJANDRA TORUÑO CRUZ",26690113,26690113,"lmiguelaraya@gmail.com","FRENTE A LAS INSTALACIONES DEL POLIDEPORTIVO"]
[4112,"COLEGIO SAN RAFAEL","COLEGIOS","PUBLICA","CAÑAS",63,2,5,5,7,2,"GUANACASTE","ABANGARES","SIERRA","SAN RAFAEL","FREDDY SANDOVAL MENA",26456210,26456210,"cole.sanrafael.abangares@gmail.com","DIAGONAL A LA PLAZA DE FUTBOL"]
[4113,"LICEO DE COLORADO","COLEGIOS","PUBLICA","CAÑAS",63,2,4,5,7,4,"GUANACASTE","ABANGARES","COLORADO","COLORADO","ROSSE BERLY CHEVES GOMEZ",26780563,26780376,"liceodecolorado@gmail.com","2 KM OESTE DE LA CRUZ ROJA"]
[4114,"EXPERIMENTAL BILINGÜE DE NUEVO ARENAL","COLEGIOS","PUBLICA","CAÑAS",63,2,3,5,8,7,"GUANACASTE","TILARAN","ARENAL","NUEVO ARENAL","SONIA SOLÓRZANO ESPINOZA",26944360,26944360,"lebna@hotmail.es","50 METROS OESTE DE CORREOS DE COSTA RICA"]
[4115,"LICEO EMILIANO ODIO MADRIGAL","COLEGIOS","PUBLICA","PUNTARENAS",64,2,7,6,2,3,"PUNTARENAS","ESPARZA","MACACONA","MARAÑONAL","MARJORIE CHAVES MONTOYA",26364385,26367484,"liceoemilianodio@gmail.com","CONTIGUO AL CEMENTERIO 3 MARIAS"]
[4116,"LICEO DIURNO JOSE MARTI","COLEGIOS","PUBLICA","PUNTARENAS",64,2,5,6,1,1,"PUNTARENAS","PUNTARENAS","PUNTARENAS","PUNTARENAS","HENRY VILLEGAS GOMEZ",26611339,26613475,"liceo.josemarti@mep.go.cr","COSTADO OESTE DE LA CATEDRAL"]
[4117,"LICEO DE ESPARZA","COLEGIOS","PUBLICA","PUNTARENAS",64,2,8,6,2,1,"PUNTARENAS","ESPARZA","ESPIRITU SANTO","ESPARZA","ISABEL LOPEZ APU",26355016,26366157,"liceodiurnoes@hotmail.es","200M OESTE DE CORREOS DE COSTA RICA"]
[4118,"LICEO DE MIRAMAR","COLEGIOS","PUBLICA","PUNTARENAS",64,2,4,6,4,1,"PUNTARENAS","MONTES DE ORO","MIRAMAR","MIRAMAR","LIZBETH FERNANDEZ CHAVES",26397360,26399069,"liceodemiramar@yahoo.com","FRENTE AL CEMENTERIO DE LA COMUNIDAD"]
[4119,"LICEO CHACARITA","COLEGIOS","PUBLICA","PUNTARENAS",64,2,5,6,1,12,"PUNTARENAS","PUNTARENAS","CHACARITA","CARRIZAL","GUILLERMO HIO SOTO",22663351,26630020,"licdechacarita@mep.go.cr","125 OESTE DEL PLANTEL DEL MOPT"]
[4120,"LICEO ANTONIO OBANDO CHAN","COLEGIOS","PUBLICA","PUNTARENAS",64,2,1,6,1,8,"PUNTARENAS","PUNTARENAS","BARRANCA","LOS ALMENDROS","JAIRO TAYLOR MATARRITA",26632984,26632984,"lic.antonioobandochan@mep.go.cr","CONTIGUO A CLINICA ROBERTO SOTO MAYOR"]
[4121,"LICEO DE CHOMES","COLEGIOS","PUBLICA","PUNTARENAS",64,2,3,6,1,3,"PUNTARENAS","PUNTARENAS","CHOMES","JUDAS","ADRIANA VILLARREAL LEFEBRE",26388136,26388136,"liceojudasdechomes@yahoo.com","400M OESTE CARRETERA A PUNTA MORALES"]
[4122,"LICEO DE CHIRA","COLEGIOS","PUBLICA","PUNTARENAS",64,2,3,6,1,13,"PUNTARENAS","PUNTARENAS","CHIRA","JICARO","GERARDO OBANDO PORRAS",26613347,26613347,"colegioislachira@gmail.com","50MTS OESTE DE LA IGLESIA CATOLICA"]
[4123,"LICEO COMTE","COLEGIOS","PUBLICA","COTO",65,2,2,6,7,4,"PUNTARENAS","GOLFITO","PAVON","ALTO COMTE","MELVIN PÉREZ GONZÁLEZ",27768701,27768701,"melvin.perez.gonzalez@mep.go.cr","800 M DEL SUPERMERC SUP COMTE CARR A GOLFITO"]
[4124,"LICEO PACIFICO SUR","COLEGIOS","PUBLICA","GRANDE DE TERRABA",75,2,6,6,5,1,"PUNTARENAS","OSA","PUERTO CORTES","CINCO ESQUINAS","ERICK MOLINA VILLARREAL",27866594,27866594,"lic.pacificosur@mep.go.cr","100 M.NORTE DE LA MUNICIPALIDAD DE OSA"]
[4125,"LICEO CIUDAD NEILY","COLEGIOS","PUBLICA","COTO",65,2,9,6,10,1,"PUNTARENAS","CORREDORES","CORREDOR","CIUDAD NEILY","ROSA FERNÁNDEZ CARVAJAL",27833134,27833134,"lic.deciudadneilly@mep.go.cr","A UN COSTADO DE LA ESCUELA ALBERTO ECHANDI"]
[4126,"COLEGIO REPÚBLICA DE ITALIA","COLEGIOS","PUBLICA","COTO",65,2,12,6,8,6,"PUNTARENAS","COTO BRUS","GUTIERREZ BROWN","FILA GUÍNEA","DONALD ARAYA VARGAS",27848247,27848247,"col.republicadeitalia@mep.go.cr","300 MTS S DEL EBAIS, FILA GUÍNEA"]
[4127,"EXPERIMENTAL BILINGÜE DE AGUA BUENA","COLEGIOS","PUBLICA","COTO",65,2,7,6,8,3,"PUNTARENAS","COTO BRUS","AGUABUENA","COPABUENA","ALEXIS RODRÍGUEZ BARRANTES",27340280,27340145,"lic.expbilingueaguabuena@mep.gp.cr","350 M. NORTE DE LIBRERíA EL COLE, COOPE BUENA"]
[4128,"LICEO RIO BANANO","COLEGIOS","PUBLICA","LIMON",66,2,2,7,1,4,"LIMON","LIMON","MATAMA","RÍO BANANO","KENYA GAYLE TAYLOR",27561451,27561451,"kenya.gayle.taylor@mep.go.cr","DEL CRUCE DE RÍO BANANO, 300 M. NORTE"]
[4129,"LICEO SIXAOLA","COLEGIOS","PUBLICA","LIMON",66,2,8,7,4,2,"LIMON","TALAMANCA","SIXAOLA","SIXAOLA","SONIA CORTES LEAL",27542045,27542045,"licsixaolatalamanca@gmail.com","DEL COMANDO FRONTERIZO 300 M. SUR Y 150 OESTE"]
[4130,"LICEO RODRIGO SOLANO QUIROS","COLEGIOS","PUBLICA","LIMON",66,2,6,7,3,5,"LIMON","SIQUIRRES","EL CAIRO","EL CAIRO","MILENA GARITA SALAS",27654381,27654381,"lic.rodrigosolanoquiros@mep.go.cr","FRENTE AL CEMENTERIO EL CAIRO, SIQUIRRES"]
[4131,"LICEO DE MATINA","COLEGIOS","PUBLICA","LIMON",66,2,9,7,5,1,"LIMON","MATINA","MATINA","MATINA CENTRO","IRIS BARAHONA SALAZAR",27181178,27181178,"matinaliceo@yahoo.es","1 K. AL ESTE DE LA MUNICIPALIDAD DE MATINA"]
[4132,"LICEO MARYLAND","COLEGIOS","PUBLICA","LIMON",66,2,5,7,3,1,"LIMON","SIQUIRRES","SIQUIRRES","LA RECTA DE IMPERIO","MERLYN GONZALEZ REID",85897299,27687141,"merlyn.gonzalez.reid@mep.go.cr","RECTA DE IMPERIO, SIQUIRRES"]
[4133,"COLEGIO DE LIMON","COLEGIOS","PUBLICA","LIMON",66,2,1,7,1,1,"LIMON","LIMON","LIMON","CERRO MOCHO","EDITH NATALIA DIAZ FIGUEROA",27580027,27983652,"col.delimondiurno@mep.go.cr","DIAGONAL AL TALLER DEL INA"]
[4134,"LICEO NUEVO DE LIMON","COLEGIOS","PUBLICA","LIMON",66,2,2,7,1,1,"LIMON","LIMON","LIMON","LA COLINA","ALBA LUZ OBANDO JIMENEZ",27580980,27580980,"liceonuevodelimon@gmail.com","CONTIGUO A LA UNIVERSIDAD DE COSTA RICA."]
[4135,"COLEGIO SULÁYÖM","COLEGIOS","PUBLICA","SULA",77,2,2,7,4,4,"LIMON","TALAMANCA","TELIRE","AMUBRI","SILVIA ANGULO CAMPOS",27111847,27111847,"colegiosulayom@gmail.com","AL FRENTE RADIO VOZ DE TALAMANCA, AMUBRI TAL."]
[4137,"LICEO LA ALEGRIA","COLEGIOS","PUBLICA","LIMON",66,2,6,7,3,6,"LIMON","SIQUIRRES","ALEGRIA","LA ALEGRIA","MARCO VARGAS BERMUDEZ",27651313,27651313,"lic.laalegria@mep.go.cr","300 M. ESTE DE PLAZA DE DEPORTES, LA ALEGRIA"]
[4138,"LICEO DE TICABÁN","COLEGIOS","PUBLICA","GUAPILES",67,2,2,7,2,3,"LIMON","POCOCI","RITA","BARRIO LA UNION","JAVIER SALAZAR JARA",27625243,27625243,"lic.deticaban@mep.go.cr","1 KM. SUROESTE DEL SERVICENTRO TICABAN."]
[4139,"LICEO DE POCORA","COLEGIOS","PUBLICA","GUAPILES",67,2,4,7,6,3,"LIMON","GUACIMO","POCORA","POCORA","MARVIN RODRÍGUEZ LEÓN",27600861,27600861,"liceopocora@gmail.com","COSTADO ESTE PLAZA DE DEPORTES,POCORA CENTRO."]
[4140,"LICEO AMBIENTALISTA LLANO BONITO","COLEGIOS","PUBLICA","GUAPILES",67,2,5,7,2,4,"LIMON","POCOCI","ROXANA","LLANO BONITO","CARLOS RODRIGUEZ GUZMAN",27676334,27676334,"lic.ambientalistallanobonito@mep.go.cr","FRENTE AL ALMACEN EL BUEN TRATO"]
[4141,"LICEO DE CARIARI","COLEGIOS","PUBLICA","GUAPILES",67,2,3,7,2,5,"LIMON","POCOCI","CARIARI","CAMPO DE ATERRIZAJE","XINIA QUESADA CAMPOS",27677180,27677180,"lic.decariari@mep.go.cr","CARIARI,GUARDIA RURAL 1,2 KMS NORTE."]
[4142,"EXPERIMENTAL BILINGÜE DE POCOCÍ","COLEGIOS","PUBLICA","GUAPILES",67,2,1,7,2,1,"LIMON","POCOCI","GUAPILES","GUÁPILES","FLOR RAMIREZ NUÑEZ",27102855,27102855,"lic.expbilinguedepococi@mep.go.cr","1 KM. NORTE,175 E. DEL CEMENTERIO DE GUAPILES"]
[4143,"LICEO DUACARÍ","COLEGIOS","PUBLICA","GUAPILES",67,2,4,7,6,5,"LIMON","GUACIMO","DUACARI","BARRIO FRUTA PAN","IVÁN MORA SIEZAR",27621585,22621568,"lic.deduacari@mep.go.cr","2 KM.O.DE LA ESC.DR.LUIS SHAPIRO,VILLAFRANCA."]
[4144,"COLEGIO DE JIMÉNEZ","COLEGIOS","PUBLICA","GUAPILES",67,2,1,7,2,2,"LIMON","POCOCI","JIMENEZ","JIMÉNEZ","ERIC SALAS CÁRDENAS",27638315,27638315,"colegiodejimenez@yahoo.es","25 METROS AL ESTE DE LA PLAZA."]
[4145,"LICEO LA RITA","COLEGIOS","PUBLICA","GUAPILES",67,2,2,7,2,3,"LIMON","POCOCI","RITA","LA RITA","ROLANDO CRUZ CASTRO",27634252,27634252,"liceolarita@gmail.com","200 MT.NORTE Y 600 O.DE LA PARROQUIA STA.RITA"]
[4147,"LICEO BRASILIA","COLEGIOS","PUBLICA","ZONA NORTE NORTE",69,2,7,2,13,6,"ALAJUELA","UPALA","DOS RIOS","BRASILIA","JUAN CARLOS ESCALANTE LANDAVER",24702433,24702433,"lic.debrasilia@mep.go.cr","800M OESTE DE LA ESCUELA DE BRASILIA"]
[4148,"LICEO AGUAS CLARAS","COLEGIOS","PUBLICA","ZONA NORTE NORTE",69,2,2,2,13,2,"ALAJUELA","UPALA","AGUAS CLARAS","AGUAS CLARAS","LORENA GUIDO ZAMORA",24660194,24660194,"liceoaguasclaras@hotmail.com","200 M NORTE DE LA ENTRADA DE RIO NEGRO"]
[4149,"LICEO KATIRA","COLEGIOS","PUBLICA","ZONA NORTE NORTE",69,2,6,2,15,2,"ALAJUELA","GUATUSO","BUENAVISTA","KATIRA","ALEXIS HERRERA LOPEZ",24021089,24021089,"liceokatira@gmail.com","FRENTE AL CAMPO FERIAL DE KATIRA"]
[4150,"LICEO BIJAGUA","COLEGIOS","PUBLICA","ZONA NORTE NORTE",69,2,4,2,13,4,"ALAJUELA","UPALA","BIJAGUA","ASENTAMIENTO CARLOS VARGAS","OLGER ALFARO CASTRO",24668197,24668197,"liceobijagua1996@gmail.com","DEL LA VETERINRIA BIJAGUA 200M SUR."]
[4151,"LICEO SAN JOSE","COLEGIOS","PUBLICA","ZONA NORTE NORTE",69,2,3,2,13,3,"ALAJUELA","UPALA","SAN JOSE O PIZOTE","LA UNION","ADAN CARRANZA VILLALOBOS",24701615,24701615,"liesanjose@yahoo.com","75 M NORESTE DE LA ENTRADA A LA CAMELIAS"]
[4154,"C.T.P. DON BOSCO","COLEGIOS","SUBVENCIONADA","SAN JOSE CENTRAL",50,3,6,1,10,4,"SAN JOSE","ALAJUELITA","CONCEPCION","CONCEPCION ARRIBA","LUIS CORRAL PRIETO",22750031,22756714,"direccion@cedesdonbosco.ed.cr","1KM SUR PUENTE CAÑAS"]
[4155,"C.T.P. CALLE BLANCOS","COLEGIOS","PUBLICA","SAN JOSE NORTE",71,3,1,1,8,3,"SAN JOSE","GOICOECHEA","CALLE BLANCOS","MONTELIMAR","ANA JULIA SANCHEZ VEGA",22350936,22350428,"colegiotecnicocalleblancos@gmail.com","300 ESTE 300 NORTE DE LA PLAZA DE DEPORTES"]
[4156,"C.T.P. EDUCACIÓN COMERCIAL Y DE SERVICIOS","COLEGIOS","PUBLICA","SAN JOSE OESTE",72,3,1,1,1,8,"SAN JOSE","SAN JOSE","MATA REDONDA","SABANA SUR","KENNETH SALAS ARROYO",22324780,22324780,"cotepecos@yahoo.com","100 OESTE IGLESIA EL PERPETUO SOCORRO"]
[4157,"C.T.P. SAN SEBASTIAN","COLEGIOS","PUBLICA","SAN JOSE CENTRAL",50,3,1,1,1,11,"SAN JOSE","SAN JOSE","SAN SEBASTIAN","COLONIA KENNEDY","JEANNETTE GONZALEZ GUILLEN",22271827,22262040,"colegiotecnicosansebastian@gmail.com","600 OESTE DE LA IGLESIA CATOLICA"]
[4158,"C.T.P. DOS CERCAS","COLEGIOS","PUBLICA","DESAMPARADOS",51,3,1,1,3,10,"SAN JOSE","DESAMPARADOS","DAMAS","SAN LORENZO","DAMARIS CORRALES PICADO",22505502,22505502,"ctpdoscercas@hotmail.com","DEL PALI SAN LORENZO,100 MTS.OESTE."]
[4159,"C.T.P. MONSEÑOR SANABRIA","COLEGIOS","PUBLICA","DESAMPARADOS",51,3,7,1,3,1,"SAN JOSE","DESAMPARADOS","DESAMPARADOS","DESAMPARADOS","JUAN FELIPE CHACÓN CASTILLO",22592253,22592253,"vocasanabria@gmail.com","300 METROS SUR DEL CENTRO MEDICO FAMILIAR"]
[4160,"C.T.P. JOSE FIGUERES FERRER","COLEGIOS","PUBLICA","DESAMPARADOS",51,3,4,1,3,8,"SAN JOSE","DESAMPARADOS","SAN CRISTOBAL","LA LUCHA","RAFAEL ANGEL CORDERO CASTILLO",25441394,25441394,"ctpfigueres@yahoo.com","CONTIGUO AL TEMPLO CATOLICO."]
[4161,"C.T.P. SAN JUAN SUR","COLEGIOS","PUBLICA","DESAMPARADOS",51,3,4,3,1,7,"CARTAGO","CARTAGO","CORRALILLO","SAN JUAN SUR","SUSANA CAMACHO VARGAS",25480733,25489813,"ctpsanjuansur@gmail.com","200 SUR AGENCIA DEL BANCO NACIONAL."]
[4162,"C.T.P. DE ACOSTA","COLEGIOS","PUBLICA","DESAMPARADOS",51,3,5,1,12,1,"SAN JOSE","ACOSTA","SAN IGNACIO","SAN IGNACIO","HUMBERTO QUIROS QUIROS",24100121,24100735,"circulares.ctpacosta@gmail.com","400 MTS. SUROESTE DEL BANCO NACIONAL."]
[4163,"C.T.P. DE PURISCAL","COLEGIOS","PUBLICA","PURISCAL",52,3,1,1,4,1,"SAN JOSE","PURISCAL","SANTIAGO","BARRIO CORAZON DE MARIA","LAURA RIVEROS ROJAS",24168444,24168444,"tecnico.puriscal@gmail.com","300 OESTE DE LA CASA DE ANDE"]
[4164,"C.T.P. DE TURRUBARES","COLEGIOS","PUBLICA","PURISCAL",52,3,6,1,16,1,"SAN JOSE","TURRUBARES","SAN PABLO","SAN PABLO","OLGA ESPINOZA GONZALEZ",24190256,24190256,"ctpturrubares@gmail.com","200 OESTE DEL PLANTEL DEL M.O.P"]
[4165,"C.T.P. LA GLORIA","COLEGIOS","PUBLICA","PURISCAL",52,3,3,1,4,9,"SAN JOSE","PURISCAL","CHIRES","CRISTO REY","JUAN CARLOS BADILLA LEIVA",27781010,27781010,"ctp.lagloriadepuriscal@mep.go.cr","50 OESTE ESCUELA RAFAEL SOLORZANO SABORIO"]
[4166,"C.T.P. SAN ISIDRO","COLEGIOS","PUBLICA","PEREZ ZELEDON",53,3,3,1,19,3,"SAN JOSE","PEREZ ZELEDON","DANIEL FLORES","VILLA LIGIA","DANILO MORALES RIVERA",27713003,27710910,"ctp.sanisidro@mep.go.cr","450 SUROESTE DE LAS OFICINAS DE TRANSITO"]
[4167,"C.T.P. PLATANARES","COLEGIOS","PUBLICA","PEREZ ZELEDON",53,3,7,1,19,6,"SAN JOSE","PEREZ ZELEDON","PLATANARES","SAN RAFAEL","MARLENE NÚÑEZ SEGURA",27370025,27370168,"ctpplatanares@gmail.com","CENTRO SAN RAFAEL DE PLATANARES"]
[4168,"C.T.P. PEJIBAYE","COLEGIOS","PUBLICA","PEREZ ZELEDON",53,3,8,1,19,7,"SAN JOSE","PEREZ ZELEDON","PEJIBAYE","PEJIBAYE CENTRO","GILBERTH VALVERDE MORA",27360104,27360104,"ctp.pejibaye.direccion@gmail.com","200 METROS ESTE DE LA AGENCIA DEL M.A.G."]
[4169,"C.T.P. GENERAL VIEJO","COLEGIOS","PUBLICA","PEREZ ZELEDON",53,3,5,1,19,2,"SAN JOSE","PEREZ ZELEDON","EL GENERAL","GENERAL VIEJO","JOSE L. ALVARO FERNANDEZ BEITA",27382457,27382457,"ctpgevi1980@gmail.com","100 ESTE DEL TEMPLO CATOLICO"]
[4170,"C.T.P. DE BUENOS AIRES","COLEGIOS","PUBLICA","GRANDE DE TERRABA",75,3,1,6,3,1,"PUNTARENAS","BUENOS AIRES","BUENOS AIRES","LAS LOMAS","MARCOS W. NAVARRO CORDERO",27300045,27300045,"colegiotecnicobuenosaires@gmail.com","800 NORTE DE LA IGLESIA CATOLICA"]
[4171,"C.T.P. JESUS OCAÑA ROJAS","COLEGIOS","PUBLICA","ALAJUELA",54,3,1,2,1,1,"ALAJUELA","ALAJUELA","ALAJUELA","CANOAS","MARIBEL BLANCO VENEGAS",24439109,24439109,"ctojor@gmail.com","1 KM NO, ESTADIO ALEJANDRO MORERA SOTO"]
[4172,"C.T.P. RICARDO CASTRO BEER","COLEGIOS","PUBLICA","ALAJUELA",54,3,9,2,9,1,"ALAJUELA","OROTINA","OROTINA","KILOMETRO","MARCOS CORDERO CASTRO",24288263,24288263,"ctpricardocastro2012.admi@gmail.com","500 SUR DEL COLEGIO SANTA FE"]
[4173,"C.T.P. SAN MATEO","COLEGIOS","PUBLICA","ALAJUELA",54,3,9,2,4,1,"ALAJUELA","SAN MATEO","SAN MATEO","SAN MATEO","VERNY SOLORZANO RODRIGUEZ",24280094,24280097,"direccionctpsanmateo@gmail.com","200 MTS OESTE DEL PARQUE, CARRETERA A ESPARZA"]
[4174,"C.T.P. PIEDADES SUR","COLEGIOS","PUBLICA","OCCIDENTE",55,3,3,2,2,5,"ALAJUELA","SAN RAMON","PIEDADES SUR","PIEDADES SUR","HÉCTOR L. BRICEÑO HERNÁNDEZ",24478348,24478195,"psurctp@hotmail.com","COSTADO SURESTE DE LA PLAZA DE DEPORTES P.S."]
[4175,"C.T.P. FRANCISCO JOSE ORLICH BOLMARCICH","COLEGIOS","PUBLICA","OCCIDENTE",55,3,4,2,12,1,"ALAJUELA","VALVERDE VEGA","SARCHI NORTE","CALLE COLEGIO","JOSÉ ANT. MARTÍNEZ FAJARDO",24544012,24541675,"ctpfjo@gmail.com","300 M. SUROESTE DE LA PANADERÍA MUSMANÍ"]
[4176,"C.T.P. NATANIEL ARIAS MURILLO","COLEGIOS","PUBLICA","SAN CARLOS",56,3,4,2,10,4,"ALAJUELA","SAN CARLOS","AGUAS ZARCAS","AGUAS ZARCAS","OLGER SANCHEZ ROJAS",24744189,24744189,"ctp.natanielariasmurillo@mep.go.cr","COSTADO OESTE DEL CEMENTERIO DE AGUAS ZARCAS"]
[4177,"C.T.P. LOS CHILES","COLEGIOS","PUBLICA","SAN CARLOS",56,3,9,2,14,1,"ALAJUELA","LOS CHILES","LOS CHILES","LOS CHILES","ASDRUBAL CALVO PANIAGUA",24711110,24711110,"ctploschiles@hotmail.com","400 NORTE 100 OESTE DE LA CASA DE LA CULTURA"]
[4178,"C.T.P. DE VENECIA","COLEGIOS","PUBLICA","SAN CARLOS",56,3,1,2,10,5,"ALAJUELA","SAN CARLOS","VENECIA","SAN MARTIN","ANA DAISY ESQUIVEL VARGAS",24722059,24722059,"ctp.venecia@mep.go.cr","1 KM ESTE DEL SERVICENTRO VENECIA"]
[4179,"C.T.P. LA FORTUNA","COLEGIOS","PUBLICA","SAN CARLOS",56,3,6,2,10,7,"ALAJUELA","SAN CARLOS","LA FORTUNA","LA FORTUNA","ROSIBEL GUERRA POTOY",24799773,24799037,"ctpfortunasc@gmail.com","FRENTE AL BANCO DE COSTA RICA"]
[4180,"C.T.P. DE PITAL","COLEGIOS","PUBLICA","SAN CARLOS",56,3,5,2,10,6,"ALAJUELA","SAN CARLOS","PITAL","PITAL","LUIS DIEGO QUESADA ROSALES",24733037,24733037,"ctppital@hotmail.com","100 OESTE DEL ASERRADERO EL GAVILAN"]
[4181,"C.T.P. DE GUATUSO","COLEGIOS","PUBLICA","ZONA NORTE NORTE",69,3,5,2,15,1,"ALAJUELA","GUATUSO","SAN RAFAEL","SAN RAFAEL","MARIA ELID ARREDONDO DELGADO",24640181,24640181,"ctpguatuso@gmail.com","100M SUR DEL BANCO NACIONAL"]
[4182,"C.T.P. SANTA ROSA","COLEGIOS","PUBLICA","SAN CARLOS",56,3,8,2,10,13,"ALAJUELA","SAN CARLOS","POCOSOL","SANTA ROSA","ABRAHAM BARBOZA GOMEZ",24777012,24777021,"ctpdirector@hotmail.com","800 METROS AL OESTE DEL PARQUE DE SANTA ROSA"]
[4183,"C.T.P. SAN CARLOS","COLEGIOS","PUBLICA","SAN CARLOS",56,3,3,2,10,1,"ALAJUELA","SAN CARLOS","QUESADA","EL CARMEN","XINIA Mª RODRÍGUEZ SALAZAR",24600958,24600958,"ctp_cotai@hotmail.com","150 ESTE 200 NORTE DEL GIMNASIO SIGLO XXI"]
[4184,"C.T.P. COVAO DIURNO","COLEGIOS","SUBVENCIONADA","CARTAGO",57,3,2,3,1,4,"CARTAGO","CARTAGO","SAN NICOLAS","LA POLVORA","JAQUELINE GUTIERREZ CHAVES",25370505,25372223,"info_diurno@covao.ac.cr","250 SURESTE DEL PUENTE BEILY"]
[4185,"C.T.P. DE PACAYAS","COLEGIOS","PUBLICA","CARTAGO",57,3,4,3,6,1,"CARTAGO","ALVARADO","PACAYAS","PACAYAS","RODOLFO HERNANDEZ VALERIO",25344027,25344155,"ctppacayas@hotmail.com","125M ESTE DEL BANCO NACIONAL"]
[4186,"C.T.P. JOSE DANIEL FLORES","COLEGIOS","PUBLICA","LOS SANTOS",73,3,2,1,17,1,"SAN JOSE","DOTA","SANTA MARIA","SANTA MARIA","ALEXANDRA CHANTO UREÑA",25411052,24411052,"colegiodota@hotmail.com","700 METROS NORTE DEL PARQUE SANTA MARIA"]
[4188,"C.T.P. SAN PABLO","COLEGIOS","PUBLICA","LOS SANTOS",73,3,3,1,20,1,"SAN JOSE","LEON CORTES CASTRO","SAN PABLO","SAN PABLO","MARIELA VALVERDE PORRAS",25466432,25466432,"kattia.valverde.porras@mep.go.cr","COSTADO OESTE DEL BANCO NACIONAL DE CR"]
[4189,"C.T.P. LA SUIZA","COLEGIOS","PUBLICA","TURRIALBA",58,3,3,3,5,2,"CARTAGO","TURRIALBA","LA SUIZA","LA SUIZA","ELIZABETH TREJOS SOLANO",25311001,25311067,"colegiolasuiza@gmail.com","300 O. DELEGACION DISTRITAL FUERZA PUBLICA."]
[4190,"C.T.P. DE FLORES","COLEGIOS","PUBLICA","HEREDIA",59,3,7,4,8,1,"HEREDIA","FLORES","SAN JOAQUIN","BARRIO LA SOLEDAD","MAURICIO OBANDO OBANDO",22654811,22654811,"ctpdeflores@yahoo.com","200 METROS NORTE DE LA CIUDAD JUDICIAL"]
[4191,"C.T.P. DE HEREDIA","COLEGIOS","PUBLICA","HEREDIA",59,3,1,4,1,1,"HEREDIA","HEREDIA","HEREDIA","FÁTIMA","RUBÉN SALAS SALAZAR",22615289,22615290,"ctpheredia@gmail.com","COSTADO NORTE DE LA COMANDANCIA"]
[4192,"C.T.P. DE ULLOA","COLEGIOS","PUBLICA","HEREDIA",59,3,7,4,1,4,"HEREDIA","HEREDIA","ULLOA","BARREAL","MARICELA GONZÁLEZ ALFARO",22938390,22938390,"ctpulloa@hotmail.com","100 OESTE Y 300 SUR DE RITEVE"]
[4193,"C.T.P. PUERTO VIEJO","COLEGIOS","PUBLICA","SARAPIQUI",74,3,3,4,10,1,"HEREDIA","SARAPIQUI","PUERTO VIEJO","PUERTO VIEJO","VERA VILLALOBOS VINDAS",27666172,27666172,"ctppvs@costarricense.cr","800 NORTE DEL BANCO NACIONAL"]
[4194,"C.T.P. LIBERIA","COLEGIOS","PUBLICA","LIBERIA",60,3,2,5,1,1,"GUANACASTE","LIBERIA","LIBERIA","B° EL CAPULÍN","MILTON ROJAS MENDEZ",26660506,26656370,"ctp.deliberia@mep.go.cr","FRENTE A OFICINAS DEL M.A.G.(MINIST.AG.Y GAND"]
[4195,"C.T.P. FORTUNA DE BAGACES","COLEGIOS","PUBLICA","LIBERIA",60,3,3,5,4,2,"GUANACASTE","BAGACES","LA FORTUNA","FORTUNA","ROGER RUÍZ ESQUIVEL",26730527,26730027,"ctpfortunamiravalles@gmail.com","100 SUR DEL EBAIS"]
[4196,"C.T.P. NANDAYURE","COLEGIOS","PUBLICA","NICOYA",61,3,7,5,9,1,"GUANACASTE","NANDAYURE","CARMONA","CARMONA","HANNIA MARIA AVILA QUIROS",26577010,26577364,"ctp.denandayure@mep.go.cr","400 ESTE DEL CEMENTERIO DE CARMONA"]
[4197,"C.T.P. HOJANCHA","COLEGIOS","PUBLICA","NICOYA",61,3,5,5,11,1,"GUANACASTE","HOJANCHA","HOJANCHA","LA LIBERTAD","BRAULIO MIRANDA MENDEZ",26599045,26599045,"ctphojancha1972@gmail.com","700 OESTE DE LA ESC. VICTORIANO MENA"]
[4198,"C.T.P. DE NICOYA","COLEGIOS","PUBLICA","NICOYA",61,3,1,5,2,1,"GUANACASTE","NICOYA","NICOYA","EL INVU","WILBERTH UGARTE MEDINA",26855292,26855292,"c.t.p.nicoya@gmail.com","300 SUR DE LA MUNICIPALIDAD"]
[4199,"C.T.P. LA MANSION","COLEGIOS","PUBLICA","NICOYA",61,3,3,5,2,2,"GUANACASTE","NICOYA","MANSION","LA MANSION","GILBERTO PEÑA RUIZ",26591221,26591221,"ctpmansion@gmail.com","CONTIGUO AL SALON COMUNAL"]
[4200,"C.T.P. DE CORRALILLO","COLEGIOS","PUBLICA","NICOYA",61,3,4,5,2,3,"GUANACASTE","NICOYA","SAN ANTONIO","CORRALILLO","REBECA ARNESTO TOLEDO",26878014,26878014,"ctp.decorralillo@mep.go.cr","300 NORTE DE LA IGLESIA CATOLICA"]
[4201,"C.T.P. CARRILLO","COLEGIOS","PUBLICA","SANTA CRUZ",62,3,5,5,5,1,"GUANACASTE","CARRILLO","FILADELFIA","LOS JOCOTES","GLENIA MARIA CARAVACA ESCOBAR",26886103,26886103,"ctp.decarrillo@mep.go.cr","1 KM NORTE GASOLINERA SABANA FILADELFIA"]
[4202,"C.T.P. 27 DE ABRIL","COLEGIOS","PUBLICA","SANTA CRUZ",62,3,2,5,3,3,"GUANACASTE","SANTA CRUZ","VEINTISIETE DE ABRIL","LOS JOBOS","JOHN HENRY VILLAFUERTE B.",26580054,26580054,"ctp27deabril@hotmail.es","150 MTS ESTE DEL CRUCE A PLAYA JUNQUILLAL"]
[4203,"C.T.P. DE SANTA CRUZ","COLEGIOS","PUBLICA","SANTA CRUZ",62,3,7,5,3,1,"GUANACASTE","SANTA CRUZ","SANTA CRUZ","BARRIO EL GUAYABAL","DIDIER BRICEÑO GOMEZ",26800315,26800315,"ctpsantacruzdireccion@gmail.com","2 KM OESTE DE LA SUBESTACION DEL ICE"]
[4204,"C.T.P. SANTA BÁRBARA","COLEGIOS","PUBLICA","SANTA CRUZ",62,3,7,5,3,7,"GUANACASTE","SANTA CRUZ","DIRIA","SANTA BÁRBARA","OLGER CASCANTE ACEVEDO",26811346,26811067,"ctp.desantabarbara@mep.go.cr","100 SURESTE DEL ABASTECEDOR MONTELIMAR"]
[4205,"C.T.P. DE CARTAGENA","COLEGIOS","PUBLICA","SANTA CRUZ",62,3,3,5,3,5,"GUANACASTE","SANTA CRUZ","CARTAGENA","CARTAGENA","VICTORIA EUGENIA ZUÑIGA ZUÑIGA",26750194,26750194,"ctpdecartagena@hotmail.com","1 KM NORTE DE LA IGLESIA CATOLICA CARTAGENA"]
[4206,"C.T.P. SARDINAL","COLEGIOS","PUBLICA","SANTA CRUZ",62,3,6,5,5,3,"GUANACASTE","CARRILLO","SARDINAL","SARDINAL","HAYDEE SOLORZANO MIRANDA",26974095,26974094,"ctpsardinal@gmail.com","150 MTS SUR Y 300 ESTE DE LA CCSS"]
[4207,"C.T.P. DE ABANGARES","COLEGIOS","PUBLICA","CAÑAS",63,3,2,5,7,1,"GUANACASTE","ABANGARES","JUNTAS","LAS JUNTAS","ROXANA IZABA DUARTE",26621798,26621798,"roxana.izaba.duarte@mep.go.cr","FRENTE AL CEMENTERIO MUNICIPAL DE LAS JUNTAS"]
[4208,"C.T.P. DE JICARAL","COLEGIOS","PUBLICA","PENINSULAR",76,3,4,6,1,4,"PUNTARENAS","PUNTARENAS","LEPANTO","JICARAL","MIGUEL CHAVARRÍA RODRÍGUEZ",26500140,26500140,"ctpjicaral@hotmail.com","100 OESTE DE LA CLÍNICA DE JICARAL"]
[4209,"C.T.P. DE PUNTARENAS","COLEGIOS","PUBLICA","PUNTARENAS",64,3,1,6,1,8,"PUNTARENAS","PUNTARENAS","BARRANCA","BARRANCA PROGRESO","ERICK CENTENO HERRERA",26630274,26630274,"ctp.dpuntarenas@mep.go.cr","FRENTE A URBANIZACION EL PROGRESO"]
[4210,"C.T.P. DE PAQUERA","COLEGIOS","PUBLICA","PENINSULAR",76,3,1,6,1,5,"PUNTARENAS","PUNTARENAS","PAQUERA","PAQUERA","AGNES MAKRÉ MORA",26410125,26410125,"ctppaquera74@gmail.com","CONTIGUO A OFICINAS DEL MAG, PAQUERA CENTRO"]
[4211,"C.T.P. DE CÓBANO","COLEGIOS","PUBLICA","PENINSULAR",76,3,2,6,1,11,"PUNTARENAS","PUNTARENAS","COBANO","CÓBANO","MYRNA RODRÍGUEZ VARGAS",26420280,26420179,"ctpcobano@hotmail.com","300 M. SURESTE DEL BANCO NACIONAL, CÓBANO"]
[4212,"C.T.P. DE SANTA ELENA","COLEGIOS","PUBLICA","PUNTARENAS",64,3,6,6,1,9,"PUNTARENAS","PUNTARENAS","MONTE VERDE","SANTA ELENA","PAUL ALEXANDER ALFARO MARIN",26455014,26455804,"ctp.desantalena@mep.go.cr","150 NORTE DEL CONSEJO MUNICIPAL MONTEVERDE"]
[4213,"C.T.P. DE OSA","COLEGIOS","PUBLICA","GRANDE DE TERRABA",75,3,7,6,5,2,"PUNTARENAS","OSA","PALMAR","PALMAR NORTE","JEANNETTE VINDAS ARGUEDAS",27866156,27866156,"ctposa@gmail.com","PALMAR NORTE, FRENTE A CABINAS BRUNKA"]
[4214,"C.T.P. CARLOS MANUEL VICENTE CASTRO","COLEGIOS","PUBLICA","COTO",65,3,1,6,7,1,"PUNTARENAS","GOLFITO","GOLFITO","INVÚ LA ROTONDA","MARJORIE HERNÁNDEZ ROJAS",27750142,27753132,"ctpcarlosmanuelvicente@hotmail.com","A UN COSTADO DEL DEPÓSITO LIBRE COMER.GOLFITO"]
[4215,"C.T.P. UMBERTO MELLONI CAMPANINI","COLEGIOS","PUBLICA","COTO",65,3,5,6,8,1,"PUNTARENAS","COTO BRUS","SAN VITO","SAN VITO","MARVIN ELIZONDO MÉNDEZ",27733125,27733125,"ctp.umbertomellonicampanini@mep.go.cr","400 MTS. AL NOROESTE DE CORREOS DE COSTA RICA"]
[4216,"C.T.P. DE SABALITO","COLEGIOS","PUBLICA","COTO",65,3,6,6,8,2,"PUNTARENAS","COTO BRUS","SABALITO","SAN RAFAEL","ROY CISNEROS SÁNCHEZ",27840616,27840616,"ctp.desabalito@mep.go.cr","700 MTS. SURESTE DE LA TOSTADORA RÍO BRUS."]
[4217,"C.T.P. GUAYCARA","COLEGIOS","PUBLICA","COTO",65,3,4,6,7,3,"PUNTARENAS","GOLFITO","GUAYCARA","RÍO CLARO","GRACE BEITA ALPÍZAR",27899047,27899047,"ctp.deguaycara@mep.go.cr","300 MTS. SUR DEL SERVICENTRO RÍO CLARO."]
[4218,"C.T.P. DE CORREDORES","COLEGIOS","PUBLICA","COTO",65,3,10,6,10,2,"PUNTARENAS","CORREDORES","LA CUESTA","LA CUESTA","EMILSE N. JIMÉNEZ MIRANDA",27321139,27321139,"ctp.decorredores@mep.go.cr","3 KM. ESTE DE ADUANA TICA, CAMINO A LA CUESTA"]
[4220,"C.T.P. DE PUERTO JIMÉNEZ","COLEGIOS","PUBLICA","COTO",65,3,3,6,7,2,"PUNTARENAS","GOLFITO","PUERTO JIMENEZ","PUERTO JIMÉNEZ","HERMILEY ALVARADO LÓPEZ",27355201,27355201,"ctppuertojimenez@gmail.com","300 MTS. SUR DE BOMBA OSA, PUERTO JIMÉNEZ"]
[4221,"C.T.P. DE LIMON","COLEGIOS","PUBLICA","LIMON",66,3,1,7,1,1,"LIMON","LIMON","LIMON","CORALES 2","CARLOS HERNANDEZ ARCE",27950052,27950052,"ctp4221@hotmail.com","FRENTE A LA ESCUELA LIDER LOS CORALES"]
[4222,"C.T.P. DE BATAAN","COLEGIOS","PUBLICA","LIMON",66,3,9,7,5,2,"LIMON","MATINA","BATAN","BATAN","FLORIBETH ARIAS PICADO",27186105,27184011,"ctpdebataan@gmail.com","CONTIGUO A LA SUCURSAL DE LA C.C.S.S."]
[4223,"C.T.P. DE TALAMANCA","COLEGIOS","PUBLICA","SULA",77,3,1,7,4,1,"LIMON","TALAMANCA","BRATSI","BRIBRÍ","WILBERTH VARGAS COTO",27510060,27510244,"ctptalamanca@gmail.com","500 M. OESTE DE LOS TRIBUNALES DE JUSTICIA"]
[4224,"C.T.P. VALLE ESTRELLA","COLEGIOS","PUBLICA","LIMON",66,3,3,7,1,2,"LIMON","LIMON","VALLE LA ESTRELLA","B° LA CABAÑA","MATIAS DIAZ CAMACHO",27590192,27590065,"ctpve@hotmail.com","BARRIO LA CABAÑA."]
[4225,"COLEGIO DEPORTIVO DE LIMON","COLEGIOS","PUBLICA","LIMON",66,2,2,7,1,1,"LIMON","LIMON","LIMON","LA COLINA","ERROL ALTERNO FOSTER",89745929,0,"deportivo96deportivo@gmail.com","INSTALACIONES DEL ESTADIO NUEVO DE LIMON"]
[4226,"C.T.P. PADRE ROBERTO EVANS","COLEGIOS","PUBLICA","LIMON",66,3,4,7,3,1,"LIMON","SIQUIRRES","SIQUIRRES","PALMIRAS","CLARANCE CRAWFORD MAC DONALD",27688093,27686070,"ctprobertoevans@gmail.com","250 M.SUR OFICINAS CORREOS DE COSTA RICA"]
[4227,"C.T.P. DE POCOCÍ","COLEGIOS","PUBLICA","GUAPILES",67,3,1,7,2,1,"LIMON","POCOCI","GUAPILES","CENTRO","SERGIO DENIS LÓPEZ",27107878,27103963,"ctppococi@gmail.com","FRENTE A HOTEL SUERRE."]
[4228,"C.T.P. GUÁCIMO","COLEGIOS","PUBLICA","GUAPILES",67,3,4,7,6,1,"LIMON","GUACIMO","GUACIMO","LOS COLEGIOS","VANESSA VARGAS MENA",27166802,27166802,"ctpguacimo@gmail.com","1 KM.AL N.DE LA ANTIGUA ESTAC.DEL FERROCARRIL"]
[4229,"C.T.P. DE JACO","COLEGIOS","PUBLICA","AGUIRRE",68,3,5,6,11,1,"PUNTARENAS","GARABITO","JACO","JACO","FERNANDO PUSEY HALL",26433694,26433991,"ctpjaco@gmail.com","200 MTS SUR DE MAXI PALI"]
[4230,"C.T.P. DE PARRITA","COLEGIOS","PUBLICA","AGUIRRE",68,3,4,6,9,1,"PUNTARENAS","PARRITA","PARRITA","LA JULIETA","DORIS SALAZAR PORRAS",27799197,27799197,"ctpparrita@gmail.com","200 M NOROESTE DEL MERCADO DE PARRITA"]
[4231,"C.T.P. DE MATAPALO","COLEGIOS","PUBLICA","AGUIRRE",68,3,2,6,6,2,"PUNTARENAS","AGUIRRE","SAVEGRE","MATAPALO","FERNANDO ENRIQUEZ ESPINOZA",27875297,27875297,"colegiomatapalo1976@gmail.com","FRENTE A LA PLAZA DE FUTBOL COSTADO NORTE"]
[4232,"C.T.P. UPALA","COLEGIOS","PUBLICA","ZONA NORTE NORTE",69,3,1,2,13,1,"ALAJUELA","UPALA","UPALA","UPALA","CRISTIAN PANIAGUA CASTAÑEDA",24700081,24700081,"ctpupala.direccion@gmail.com","75 M SUR DEL HOSTPITAL DE UPALA"]
[4234,"FERNANDO CENTENO GÜELL-RETARDO MENTAL","EDUC. ESPECIAL","PUBLICA","SAN JOSE NORTE",71,4,1,1,8,1,"SAN JOSE","GOICOECHEA","GUADALUPE","MAGNOLIA","VIVIANA MARÍA GOMÉZ GUTIÉRREZ",22251583,22251583,"cneefcg@yahoo.com","100 ESTE DEL CEMENTERIO"]
[4235,"FERNANDO CENTENO GÜELL-CIEGOS Y DEFIC. VISUALES","EDUC. ESPECIAL","PUBLICA","SAN JOSE NORTE",71,4,1,1,8,1,"SAN JOSE","GOICOECHEA","GUADALUPE","MAGNOLIA","VIVIANA ROJA RAMIREZ",22251583,22251583,"cneefcg@yahoo.com","100 ESTE  DEL CEMENTERIO DE GUADALUPE"]
[4236,"FERNANDO CENTENO GÜELL-AUDICION Y LENGUAJE","EDUC. ESPECIAL","PUBLICA","SAN JOSE NORTE",71,4,1,1,8,1,"SAN JOSE","GOICOECHEA","GUADALUPE","MIRAVALLES","GRETTEL SEGURA VILVHEZ",22344478,22344478,"ayl.cneefcg@gmail.com","100 ESTE DEL CEMENTERIO DE GUADALUPE"]
[4237,"CENTRO EDUCACION ESPECIAL SANTA ANA","EDUC. ESPECIAL","PUBLICA","SAN JOSE OESTE",72,4,4,1,9,3,"SAN JOSE","SANTA ANA","POZOS","POZOS","NELSON SANCHEZ CASTRO",22824404,22824404,"ceesantana@gmail.com","150 ESTE DEL DEPOSITO EL LAGAR"]
[4238,"CENTRO DE APOYO EN PEDAGOGIA HOSPITALARIA HNN","EDUC. ESPECIAL","PUBLICA","SAN JOSE CENTRAL",50,4,1,1,1,3,"SAN JOSE","SAN JOSE","HOSPITAL","PASEO COLON","DAMARIS BARQUERO CESPEDES",22586960,22586960,"ceaph1955@gmail.com","PASEO COLON HOSPITAL NACIONAL DE NIñOS"]
[4239,"NEURO PSIQUIATRICO INFANTIL","EDUC. ESPECIAL","PUBLICA","SAN JOSE NORTE",71,4,4,1,13,3,"SAN JOSE","TIBAS","ANSELMO LLORENTE","ANSELMO LLORENTE","PATRICIA ARAYA FLORES",22352222,22400464,"enitibas@gmail.com","50 SUROESTE DEL AUTOMERCADO"]
[4240,"REHABILITACION LA PITAHAYA","EDUC. ESPECIAL","PUBLICA","SAN JOSE OESTE",72,4,1,1,1,2,"SAN JOSE","SAN JOSE","MERCED","PITAHAYA","MARIA A. WILLIAMS GUILLEN",22563253,22563253,"rehabilitacion_lp@hotmail.com","600 NORTE DEL BANCO DE COSTA RICA P. COLON"]
[4241,"ENS.ESP. ANDREA JIMENEZ","EDUC. ESPECIAL","SUBVENCIONADA","SAN JOSE CENTRAL",50,4,3,1,1,6,"SAN JOSE","SAN JOSE","SAN FCO DE DOS RIOS","LA CABAÑA","KENIA CHACON ESPINOZA",22505047,0,"iandreajimenez@hotmail.com","DEL PARUQE OKAYAMA 600 ESTE, 400 SUR Y 5 ESTE"]
[4242,"INS.REH. CIEGOS HELLEN KELLER","EDUC. ESPECIAL","PUBLICA","SAN JOSE CENTRAL",50,4,3,1,1,6,"SAN JOSE","SAN JOSE","SAN FCO DE DOS RIOS","LOS SAUCES","PATRICIA VILLEGAS CORONAS",22263705,22263705,"hellenkellercr@gmail.com","DEL ANTIGUO RADIO RELOJ 75M AL SUR 75 ESTE"]
[4245,"ESC. RAFAEL FRANCISCO OSEJO","EDUC. ESPECIAL","PUBLICA","SAN JOSE OESTE",72,4,1,1,1,8,"SAN JOSE","SAN JOSE","MATA REDONDA","SABANA SUR","AMALIA MORALES RUÍZ",22323857,22323857,"escuelarafaelfcosejo@gmail.com","CONTIGUO AL MAG"]
[4246,"C.T.P. CALLE BLANCOS","EDUC. ESPECIAL","PUBLICA","SAN JOSE NORTE",71,4,1,1,8,3,"SAN JOSE","GOICOECHEA","CALLE BLANCOS","MONTELIMAR","ANA JULIA SANCHEZ VEGA",22350936,22350428,"colegiotecnicocalleblancos@gmail.com","300 ESTE 300 NORTE DE LA PLAZA DE DEPORTES"]
[4247,"ESC. ROBERTO CANTILLANO VINDAS","EDUC. ESPECIAL","PUBLICA","SAN JOSE NORTE",71,4,2,1,8,5,"SAN JOSE","GOICOECHEA","IPIS","LA MORA","BERNARDITA BLANCO ZAMORA",22290365,22944813,"escuelarobertocantillanov@gmail.com","250 ESTE DE LA TERMINAL DE BUSES LA MORA"]
[4249,"ESC. JUAN SANTAMARIA","EDUC. ESPECIAL","PUBLICA","SAN JOSE CENTRAL",50,4,4,1,18,1,"SAN JOSE","CURRIDABAT","CURRIDABAT","LA AMISTAD","ANA GABRIELA MORA AGUILAR",22720051,22720595,"escuela.juasantamaria@gmail.com","200 NORTE DE LA PARROQUIA S. ANTONIO DE PADUA"]
[4250,"ESC. PACIFICA FERNANDEZ OREAMUNO","EDUC. ESPECIAL","PUBLICA","SAN JOSE CENTRAL",50,4,5,1,1,10,"SAN JOSE","SAN JOSE","HATILLO","HATILLO 4","MERCEDES JUAREZ CASTRO",22546734,22546734,"pacifo1965@gmail.com","FRENTE A LAS INSTALACIONES DEL ICE"]
[4251,"ESC. RICARDO JIMENEZ OREAMUNO","EDUC. ESPECIAL","PUBLICA","SAN JOSE CENTRAL",50,4,1,1,1,4,"SAN JOSE","SAN JOSE","CATEDRAL","CARIT","BETSY FLOR GAMBOA RAMIREZ",22229212,22229212,"escuelaricardojimenez@gmail.com","100 ESTE DEL HOSPITAL DE LA MUJER DR. CARIT"]
[4254,"ESC. BUENAVENTURA CORRALES","EDUC. ESPECIAL","PUBLICA","SAN JOSE CENTRAL",50,4,2,1,1,1,"SAN JOSE","SAN JOSE","CARMEN","AMON","LILLIAM VARGAS PEREZ",22483352,22579661,"buenaventuracorrales@hotmail.com","CALLES 7 Y 9 AVENIDA 5"]
[4257,"ESC. GENERAL MANUEL BELGRANO","EDUC. ESPECIAL","PUBLICA","SAN JOSE CENTRAL",50,4,5,1,1,10,"SAN JOSE","SAN JOSE","HATILLO","HATILLO 1","HECTOR MORA ALICAMA",22541617,22541617,"escuelabelgrano@hotmail.com","CONTIGUO A LA PLAZA DE DEPORTES"]
[4258,"ESC. MIGUEL OBREGON LIZANO","EDUC. ESPECIAL","PUBLICA","SAN JOSE NORTE",71,4,4,1,13,1,"SAN JOSE","TIBAS","SAN JUAN","SAN JUAN","BEATRIZ SALAZAR QUIROS",22353582,22353582,"emoltiba@hotmail.com","175  DE LA ESQ SUROESTE DE PARQUE TIBAS"]
[4259,"ESC. FRANKLIN DELANO ROOSEVELT","EDUC. ESPECIAL","PUBLICA","SAN JOSE NORTE",71,4,3,1,15,1,"SAN JOSE","MONTES DE OCA","SAN PEDRO","ROOSEVELT","CARMEN MADRIGAL PORTUGUEZ",22251296,22341159,"escuelaroosevelt@live.com","200 SUR DE LA IGLESIA CATOLICA"]
[4260,"ESC. JUAN FLORES UMAÑA","EDUC. ESPECIAL","PUBLICA","SAN JOSE NORTE",71,4,2,1,8,5,"SAN JOSE","GOICOECHEA","IPIS","PRAGA","MAYELA VARGAS RAMIREZ",22851070,22858996,"esc.juanflores@hotmail.com","125 ESTE CLINICA JERUSALEN"]
[4261,"ESC. CLAUDIO CORTES CASTRO","EDUC. ESPECIAL","PUBLICA","SAN JOSE NORTE",71,4,1,1,8,2,"SAN JOSE","GOICOECHEA","SAN FRANCISCO","SAN FRANCISCO","MAYRA QUESADA VALVERDE",22489598,22489598,"escuelaclaudiocortes@gmail.com","300 OESTE DEL CENTRO COMERCIAL DE GUADALUPE"]
[4262,"ESC. ISABEL LA CATÓLICA","EDUC. ESPECIAL","PUBLICA","SAN JOSE OESTE",72,4,4,1,9,4,"SAN JOSE","SANTA ANA","URUCA","RÍO ORO","ALONSO JIMÉNEZ DÍAZ",22826332,22826332,"escuelaisabellacatolica@gmail.com","1 KM OESTE DE LA CRUZ ROJA"]
[4263,"ESC. ANDRÉS BELLO LÓPEZ","EDUC. ESPECIAL","PUBLICA","SAN JOSE OESTE",72,4,4,1,9,1,"SAN JOSE","SANTA ANA","SANTA ANA","SANTA ANA","ROGELIO ESCOBAR CASCANTE",22826018,22826018,"esc.andresbellolopez@gmail.com","FRENTE A LA PLAZA DE DEPORTES"]
[4264,"ESC. DANIEL ODUBER QUIRÓS","EDUC. ESPECIAL","PUBLICA","SAN JOSE OESTE",72,4,2,1,1,9,"SAN JOSE","SAN JOSE","PAVAS","VILLA ESPERANZA","FRANCISCO CORELLA ROJAS",22900500,22900500,"director@oduber-edu.org","200 OESTE DE LA ANTIGUA DELEGACIÓN POLICIAL"]
[4265,"ESC. AMERICA CENTRAL","EDUC. ESPECIAL","PUBLICA","SAN JOSE NORTE",71,4,1,1,8,1,"SAN JOSE","GOICOECHEA","GUADALUPE","PILAR","MARIO VARGAS PEREZ",22254661,22806412,"0351americacentral@gmail.com","FRENTE AL GIMNASIO MUNICIPAL"]
[4269,"ESC. ABRAHAM LINCOLN","EDUC. ESPECIAL","PUBLICA","SAN JOSE CENTRAL",50,4,6,1,10,1,"SAN JOSE","ALAJUELITA","ALAJUELITA","ALAJUELITA","MODESTO ALPIZAR LUNA",22546012,22143900,"lincoln358@ice.co.cr","50 METROS OESTE DEL MEGASUPER"]
[4270,"ESC. JOSÉ FIDEL TRISTÁN","EDUC. ESPECIAL","PUBLICA","SAN JOSE OESTE",72,4,1,1,1,2,"SAN JOSE","SAN JOSE","MERCED","PITAHAYA","EDUARDO VARGAS GARCÍA",22220017,22220017,"upjosefideltristan@hotmail.com","300 NORTE DE TACOBELL PASEO COLÓN"]
[4271,"ESC. PORFIRIO BRENES CASTRO","EDUC. ESPECIAL","PUBLICA","SAN JOSE NORTE",71,4,5,1,14,1,"SAN JOSE","MORAVIA","SAN VICENTE","SAN VICENTE","WILFREDO CASTRO CAMPOS",22356606,22356606,"porfiriobrenesc@gmail.com","COSTADO SUR DE LA IGLESIA CATOLICA"]
[4273,"ESC. HOSPITAL CALDERON GUARDIA","EDUC. ESPECIAL","PUBLICA","SAN JOSE CENTRAL",50,4,2,1,1,1,"SAN JOSE","SAN JOSE","CARMEN","OTOYA","YAMILETH CAMACHO PEREZ",22224651,22214910,"camachocp@hotmail.com","AVENIDA 9 CALLES 13 Y 15 EDIFICIO 1335"]
[4274,"LICEO RICARDO FERNANDEZ GUARDIA","EDUC. ESPECIAL","PUBLICA","SAN JOSE CENTRAL",50,4,1,1,1,11,"SAN JOSE","SAN JOSE","SAN SEBASTIAN","COLONIA KENNEDY","LUZ MERY MONGE CALDERON",22278722,22278722,"colerifegu@gmail.com","DEL PARQUE DE COLONIA KENNEDY 15 OESTE"]
[4275,"ESC. CARLOS SANABRIA MORA","EDUC. ESPECIAL","PUBLICA","SAN JOSE OESTE",72,4,2,1,1,9,"SAN JOSE","SAN JOSE","PAVAS","PAVAS","LUIS MANUEL SOTO SANABRIA",22329616,22329616,"ecs320@hotmail.com","CONTIGUO AL CORREO DE PAVAS"]
[4276,"LICEO SANTA ANA","EDUC. ESPECIAL","PUBLICA","SAN JOSE OESTE",72,4,4,1,9,4,"SAN JOSE","SANTA ANA","URUCA","RÍO ORO","SERGIO HERRERA ULLOA",22821457,22821457,"info@colegiodesantaana.ed.cr","300 OESTE DE LA CRUZ ROJA"]
[4278,"ESC. OMAR DENGO GUERRERO","EDUC. ESPECIAL","PUBLICA","SAN JOSE CENTRAL",50,4,1,1,1,3,"SAN JOSE","SAN JOSE","HOSPITAL","BARRIO CUBA","IVAN JIMENEZ HIDALGO",22220119,22577775,"omardengoguerrero@gmail.com","DIAGONAL A LA CLINICA MORENO CAñAS"]
[4279,"ESC. BENJAMÍN HERRERA ANGULO","EDUC. ESPECIAL","PUBLICA","SAN JOSE OESTE",72,4,3,1,2,1,"SAN JOSE","ESCAZU","ESCAZU","SAN MIGUEL","RONALD GDO. MÚÑOZ OCEGUERA",22881725,22280181,"ebenja1367@gmail.com","400S 175 E DE ESQUINA SURESTE TEMPLO CATÓLICO"]
[4280,"ESC. PBRO YANUARIO QUESADA","EDUC. ESPECIAL","PUBLICA","SAN JOSE OESTE",72,4,3,1,2,3,"SAN JOSE","ESCAZU","SAN RAFAEL","SAN RAFAEL","CARMEN MARÍA SALAZAR DELGADO",22282013,22282013,"iegbyanuarioq@gmail.com","FRENTE A LA PLAZA DE DEPORTES"]
[4281,"ESC. LA PEREGRINA","EDUC. ESPECIAL","PUBLICA","SAN JOSE OESTE",72,4,5,1,1,7,"SAN JOSE","SAN JOSE","URUCA","LA PEREGRINA","YAZMÍN SOLÍS FERNÁNDEZ",25202244,25202356,"escuelalaperegrina@gmail.com","700 NORTE 200 ESTE 50 SUR DE AGENCIA MAZDA"]
[4283,"ESC. REPUBLICA DEL PARAGUAY","EDUC. ESPECIAL","PUBLICA","SAN JOSE CENTRAL",50,4,5,1,1,10,"SAN JOSE","SAN JOSE","HATILLO","HATILLO CENTRO","LAYMAN RODRIGUEZ UMAÑA",22548517,22548517,"escuelarepparaguay@yahoo.com","75 METROS OESTE DE LA IGLESIA"]
[4284,"ESC. CONCEPCION","EDUC. ESPECIAL","PUBLICA","SAN JOSE CENTRAL",50,4,6,1,10,4,"SAN JOSE","ALAJUELITA","CONCEPCION","CONCEPCION ABAJO","YENNY SOLANO LORIA",22755543,22755543,"escuelaconcepcion@hotmail.com","200M SUR DE LA GAR CONCEPCION ABAJO"]
[4286,"ESC. SAN BLAS","EDUC. ESPECIAL","PUBLICA","SAN JOSE NORTE",71,4,5,1,14,1,"SAN JOSE","MORAVIA","SAN VICENTE","SAN BLAS","MARIBEL CAMBRONERO AGUILAR",22852583,22454012,"escuelasanblas57@gmail.com","175 ESTE DEL PALI"]
[4287,"ESC. NACIONES UNIDAS","EDUC. ESPECIAL","PUBLICA","SAN JOSE CENTRAL",50,4,2,1,1,4,"SAN JOSE","SAN JOSE","CATEDRAL","NACIONES UNIDAS","MARTIN MORA JIMENEZ",22261586,22261586,"nacionesunidasesc@gmail.com","FRENTE AL COLEGIO SEMINARIO"]
[4288,"ESC. JUAN XXIII","EDUC. ESPECIAL","PUBLICA","SAN JOSE OESTE",72,4,3,1,2,2,"SAN JOSE","ESCAZU","SAN ANTONIO","SAN ANTONIO","RAFAEL BARRANTES NAVARRO",22281922,22885446,"ejuanxxiii@gmail.com","COSTADO SUR DEL TEMPLO CATÓLICO"]
[4290,"ESC. ESTADO DE ISRAEL","EDUC. ESPECIAL","PUBLICA","SAN JOSE NORTE",71,4,6,1,11,4,"SAN JOSE","VASQUEZ DE CORONADO","PATALILLO","SAN ANTONIO","ANA LORENA ACEVEDO ZUÑIGA",22945579,22945579,"escuelaestadodeisrael@yahoo.es","CONTIGUO A LA IGLESIA CATOLICA"]
[4291,"ESC. JOSE ANA MARIN CUBERO","EDUC. ESPECIAL","PUBLICA","SAN JOSE NORTE",71,4,6,1,11,1,"SAN JOSE","VASQUEZ DE CORONADO","SAN ISIDRO","SAN ISIDRO","AMADEO CALDERON MENA",22290282,22946922,"joseanamc@gmail.com","200 OESTE 200 NORTE DEL TEMPLO CATOLICO"]
[4293,"ESC. SAN RAFAEL","EDUC. ESPECIAL","PUBLICA","SAN JOSE OESTE",72,4,4,1,9,1,"SAN JOSE","SANTA ANA","SANTA ANA","SAN RAFAEL","MARCELA CARRILLO ROJAS",22828361,22828361,"sanrafael0324@gmail.com","FRENTE A LA IGLESIA CATÓLICA"]
[4294,"ESC. CAROLINA DENT ALVARADO","EDUC. ESPECIAL","PUBLICA","SAN JOSE CENTRAL",50,4,1,1,1,10,"SAN JOSE","SAN JOSE","HATILLO","SAGRADA FAMILIA","FLORA ACOSTA LE FRANC",22262415,22262415,"carolinadent0321@hotmail.com","CONTIGUO AL ESTADIO TEODORO PICADO"]
[4296,"ESC. MANUEL MARIA GUTIERREZ ZAMORA","EDUC. ESPECIAL","PUBLICA","SAN JOSE NORTE",71,4,6,1,11,5,"SAN JOSE","VASQUEZ DE CORONADO","CASCAJAL","SAN PEDRO","LORENA GARCIA VILLARREAL",22923313,22922906,"escmanuelmagutierrezcoronado@yahoo.com","175 SURESTE DE ABASTECEDOR SUPER CHIN"]
[4298,"C.A.I. GUADALUPE","EDUC. ESPECIAL","PUBLICA","SAN JOSE NORTE",71,4,1,1,8,1,"SAN JOSE","GOICOECHEA","GUADALUPE","GUADALUPE","EDWIN ELIZONDO ARIAS",22256018,22801873,"caiguadalupe01@gmail.com","COSTADO IZQUIERDO DEL  PATIO MUNICIPAL"]
[4299,"ESC. INGLATERRA","EDUC. ESPECIAL","PUBLICA","SAN JOSE NORTE",71,4,3,1,15,4,"SAN JOSE","MONTES DE OCA","SAN RAFAEL","SAN RAFAEL","JESUS CHACON LIZANO",22733968,22733968,"escuelainglaterra@yahoo.es","300 ESTE DEL CRISTO DE SABANILLA"]
[4300,"ESC. QUINCE DE AGOSTO","EDUC. ESPECIAL","PUBLICA","SAN JOSE CENTRAL",50,4,4,1,18,4,"SAN JOSE","CURRIDABAT","TIRRASES","TIRRASES","CRISTINA CORDERO ROBLES",22766402,22766402,"quinceagosto@gmail.com","50 ESTE DE LA GUARDIA RURAL, ULTIMA PARADA"]
[4301,"ESC. CENTRO AMERICA","EDUC. ESPECIAL","PUBLICA","SAN JOSE CENTRAL",50,4,4,1,18,4,"SAN JOSE","CURRIDABAT","TIRRASES","TIRRASES","JOSE MATARRITA THOMPSON",22767246,22767246,"ecentroamerica@hotmail.com.ar","400 E 50 N DE LA IGLESIA SANTA EDUVIGES"]
[4302,"ESC. JESUS JIMENEZ ZAMORA","EDUC. ESPECIAL","PUBLICA","SAN JOSE NORTE",71,4,4,1,13,1,"SAN JOSE","TIBAS","SAN JUAN","JESUS JIMENEZ","MARIA ELENA BARRANTES VEGA",22971378,22914034,"esc.jjzamora@gmail.com","CONTIGUO AL ESTADIO MUNICIPAL"]
[4303,"ESC. LOMAS DEL RÍO","EDUC. ESPECIAL","PUBLICA","SAN JOSE OESTE",72,4,2,1,1,9,"SAN JOSE","SAN JOSE","PAVAS","LOMAS DEL RÍO","MARÍA FELICIA GODÍNEZ PRADO",22132665,22132665,"escuelalomasdelrio@yahoo.es","CONTIGUO A LA IGLESIA SAGRADA FAMILIA"]
[4304,"COLEGIO CEDROS","EDUC. ESPECIAL","PUBLICA","SAN JOSE NORTE",71,4,3,1,15,2,"SAN JOSE","MONTES DE OCA","SABANILLA","CEDROS","MARIA DEL ROCIO TORRES ARCE",22242015,22250006,"colcedros73@hotmail.com","CONTIGUO A LA IGLESIA CATOLICA"]
[4305,"ESC. LOS PINOS","EDUC. ESPECIAL","PUBLICA","SAN JOSE CENTRAL",50,4,6,1,10,5,"SAN JOSE","ALAJUELITA","SAN FELIPE","LA AURORA","EDUARDO MENDEZ ROBLES",22541624,22541624,"centroeducativolospinos1988@gmail.com","600 NOROESTE DE RTV ALAJUELITA"]
[4306,"ESC. QUINCE DE SETIEMBRE","EDUC. ESPECIAL","PUBLICA","SAN JOSE CENTRAL",50,4,5,1,1,10,"SAN JOSE","SAN JOSE","HATILLO","QUINCE DE SETIEMBRE","RONALD SANCHEZ MONTERO",22547978,22547978,"escuela15desetiembre@hotmail.com","150 METROS NORTE DEL PUENTE PIANO"]
[4309,"ESC. FINCA LA CAJA","EDUC. ESPECIAL","PUBLICA","SAN JOSE OESTE",72,4,5,1,1,7,"SAN JOSE","SAN JOSE","URUCA","LA CARPIO","MIGUEL AGUÍLAR UREÑA",22912800,22912800,"escuelafincalacaja@gmail.com","75 NORTE 125 ESTE DE LA TERMINAL DE BUSES"]
[4311,"LICEO ALAJUELITA","EDUC. ESPECIAL","PUBLICA","SAN JOSE CENTRAL",50,4,6,1,10,5,"SAN JOSE","ALAJUELITA","SAN FELIPE","SAN JOSE","JENNY CARMONA MESEN",22527248,22527248,"liceodealajuelita@hotmail.com","300 OESTE 300 SUR DEL SUPER ACAPULCO"]
[4312,"ESC. RINCÓN GRANDE DE PAVAS","EDUC. ESPECIAL","PUBLICA","SAN JOSE OESTE",72,4,2,1,1,9,"SAN JOSE","SAN JOSE","PAVAS","RINCÓN GRANDE","JORGE LUIS ACEVEDO ARAYA",22130267,22130267,"direrg87@gmail.com","500 OESTE DE CERAS JHONSON"]
[4313,"I.P.E.C. DE SAN JOSÉ","EDUC. ESPECIAL","PUBLICA","SAN JOSE OESTE",72,4,1,1,1,2,"SAN JOSE","SAN JOSE","MERCED","BARRIO MÉXICO","ISABEL ROJAS APUY",22333629,22561471,"ipecdesanjos@gmail.com","CONTIGUO A LA ESCUELA COSTA RICA"]
[4315,"ESC. CIUDADELA PAVAS","EDUC. ESPECIAL","PUBLICA","SAN JOSE OESTE",72,4,2,1,1,9,"SAN JOSE","SAN JOSE","PAVAS","MARÍA REINA","MARCO VINICIO FLORES ARROYO",22310808,22310808,"ciudadeladepavas@gmail.com","CONTIGUO AL LICEO DE PAVAS"]
[4316,"ESC. FILOMENA BLANCO DE QUIROS","EDUC. ESPECIAL","PUBLICA","SAN JOSE NORTE",71,4,2,1,8,6,"SAN JOSE","GOICOECHEA","RANCHO REDONDO","VISTA DE MAR","WILBERTH SALAS VALVERDE",22292227,22292227,"fblancodequiros@yahoo.es","150 OESTE DE LA IGLESIA CATOLICA"]
[4318,"ESC. GRANADILLA NORTE","EDUC. ESPECIAL","PUBLICA","SAN JOSE CENTRAL",50,4,4,1,18,2,"SAN JOSE","CURRIDABAT","GRANADILLA","GRANADILLA NORTE","JULIETA BARBOZA VALVERDE",22737439,22737439,"escgrananorte@gmail.com","220 OESTE 75 SUR DE LA IGLESIA CATOLICA"]
[4319,"ESC. SAN FELIPE","EDUC. ESPECIAL","PUBLICA","SAN JOSE CENTRAL",50,4,6,1,10,5,"SAN JOSE","ALAJUELITA","SAN FELIPE","SAN FELIPE","GUILLERMO GRANADOS ANGULO",22544047,22544047,"san.felipe0428@gmail.com","150 METROS SUR DE LA CARNICERIA SAN GERARDO"]
[4323,"ESC. DULCE NOMBRE","EDUC. ESPECIAL","PUBLICA","SAN JOSE NORTE",71,4,6,1,11,3,"SAN JOSE","VASQUEZ DE CORONADO","DULCE NOMBRE DE JESUS","DULCE NOMBRE","HELBERTH SANDI CORRALES",22299406,22299406,"dulcenombrecoronado@hotmail.com","FRENTE A LA PLAZA DE DEPORTES"]
[4324,"ESC. REPÚBLICA DE FRANCIA","EDUC. ESPECIAL","PUBLICA","SAN JOSE OESTE",72,4,4,1,9,3,"SAN JOSE","SANTA ANA","POZOS","POZOS","DAMARIS VEGA JIMÉNEZ",22826296,22036076,"erepublicadefrancia@gmail.com","75 SUR DE LA IGLESIA CATÓLICA"]
[4325,"LICEO PAVAS","EDUC. ESPECIAL","PUBLICA","SAN JOSE OESTE",72,4,2,1,1,9,"SAN JOSE","SAN JOSE","PAVAS","PAVAS","ÁLVARO SEGURA RAMÍREZ",22317556,22317556,"liceodepavas@hotmail.com","100 OESTE DE LA ENTRADA DE H. PSIQUIÁTRICO"]
[4329,"C.T.P. PURRAL","EDUC. ESPECIAL","PUBLICA","SAN JOSE NORTE",71,4,2,1,8,7,"SAN JOSE","GOICOECHEA","PURRAL","BELLAVISTA","MARJORIE CASTRO DURAN",22450691,22857061,"liceodepurral1996@gmail.com","600 ESTE DE IGLESIA DE PURRAL"]
[4331,"LICEO DE CORONADO","EDUC. ESPECIAL","PUBLICA","SAN JOSE NORTE",71,4,6,1,11,1,"SAN JOSE","VASQUEZ DE CORONADO","SAN ISIDRO","SAN ISIDRO","MARTHA ELENA BORGE CARVAJAL",22290285,22922301,"liceocoronado@gmail.com","300 SUR DEL PARQUE DE CORONADO"]
[4332,"LICEO DEL SUR","EDUC. ESPECIAL","PUBLICA","SAN JOSE CENTRAL",50,4,1,1,1,3,"SAN JOSE","SAN JOSE","HOSPITAL","BARRIO CUBA","PEDRO CHACON LIZANO",22337883,22337883,"liceodelsur@gmail.com","200 ESTE 200 SUR DE LA CLINICA MORENO CAñAS"]
[4333,"UNIDAD PEDAGÓGICA CUATRO REINAS","EDUC. ESPECIAL","PUBLICA","SAN JOSE OESTE",72,4,5,1,13,5,"SAN JOSE","TIBAS","COLIMA","CUATRO REINAS","LUZ MARÍA LEIVA SALAZAR",22975986,22975986,"upcuatroreinas@gmail.com","100 M NORTE DE LA PLAZA DE DEPORTES"]
[4334,"ESC. JOSE CUBERO MUÑOZ","EDUC. ESPECIAL","PUBLICA","SAN JOSE NORTE",71,4,2,1,8,4,"SAN JOSE","GOICOECHEA","MATA DE PLATANO","EL CARMEN","MARIA ELENA QUIROS RAMIREZ",22851749,22851749,"escuelajosecubero@gmail.com","300 ESTE DEL TEMPLO CATOLICO"]
[4335,"ESC. EL CARMEN","EDUC. ESPECIAL","PUBLICA","SAN JOSE OESTE",72,4,3,1,2,2,"SAN JOSE","ESCAZU","SAN ANTONIO","EL CARMEN","GUSTAVO ADOLFO ACUÑA ARCE",22881378,22881378,"escuela.carmen1@gmail.com","25 SUR DE LA IGLESIA CATÓLICA"]
[4336,"LICEO EDGAR CERVANTES VILLALTA","EDUC. ESPECIAL","PUBLICA","SAN JOSE CENTRAL",50,4,5,1,1,10,"SAN JOSE","SAN JOSE","HATILLO","HATILLO CENTRO","EDUARDO BARAHONA VALVERDE",22545434,22545434,"liceoedgarcervantesmep@gmail.com","100 OESTE Y 100 NORTE 100 OESTE DE LA IGLESIA"]
[4350,"ESC. CARMEN LYRA","EDUC. ESPECIAL","PUBLICA","SAN JOSE CENTRAL",50,4,6,1,10,4,"SAN JOSE","ALAJUELITA","CONCEPCION","CONCEPCION ARRIBA","ODETTE NAJAR PALOMO",22756967,22756967,"esccarmenlyra@gmail.com","500 SURESTE DEL PUENTE CAñAS"]
[4352,"CENTRO INTEGRAL SAN FELIPE NERI","EDUC. ESPECIAL","PUBLICA","DESAMPARADOS",51,4,1,1,3,1,"SAN JOSE","DESAMPARADOS","DESAMPARADOS","DESAMPARADOS CENTRO","LUIS  JIMINEZ MADRIGAL",22596220,22596220,"sanfelipeneri.mep@gmail.com","SALON COMUNAL DE SN.LORENZO 150 MT.S.Y 100 OE"]
[4353,"ESC. REPUBLICA DE PANAMA","EDUC. ESPECIAL","PUBLICA","DESAMPARADOS",51,4,1,1,3,5,"SAN JOSE","DESAMPARADOS","SAN ANTONIO","SAN ANTONIO","CARLOS CORRALES HERRERA",22769463,22769463,"iegnrepublicadepanama@hotmail.com","SAN ANTONIO DE DESAMPARADOS."]
[4354,"ESC. LOS GUIDO","EDUC. ESPECIAL","PUBLICA","DESAMPARADOS",51,4,2,1,3,13,"SAN JOSE","DESAMPARADOS","LOS GUIDO","LOS GUIDO","EVELIO BARRANTES CASTILLO",22704605,22704605,"esclosguido@mail.com","DESAMPARADOS, LOS GUIDO"]
[4355,"ESC. JOAQUIN GARCIA MONGE","EDUC. ESPECIAL","PUBLICA","DESAMPARADOS",51,4,7,1,3,1,"SAN JOSE","DESAMPARADOS","DESAMPARADOS","DESAMPARADOS","GILBERTO ABARCA VILLALOBOS",22592296,22592296,"eigm1921@gmail.com","COSTADO OESTE DE LA MUNICIPALIDAD."]
[4356,"ESC. REPUBLICA DE HAITI","EDUC. ESPECIAL","PUBLICA","SAN JOSE CENTRAL",50,4,1,1,1,11,"SAN JOSE","SAN JOSE","SAN SEBASTIAN","PASO ANCHO","HILDA HIDALGO HIDALGO",22865438,22262728,"erhdireccion@hotmail.com","COSTADO ESTE DEL HIPERMAS SAN SEBASTIAN"]
[4357,"ESC. CENTRAL DE SAN SEBASTIAN","EDUC. ESPECIAL","PUBLICA","SAN JOSE CENTRAL",50,4,1,1,1,11,"SAN JOSE","SAN JOSE","SAN SEBASTIAN","LOPEZ MATEOS","ROCIO CESPEDES CALDERON",22260573,22260573,"direccion@escsansebastian.com","SN.SEBASTIAN,25 S.75 O.DE LA PLAZA DE DEPORTE"]
[4359,"ESC. DR. CALDERON MUÑOZ","EDUC. ESPECIAL","PUBLICA","DESAMPARADOS",51,4,2,1,3,2,"SAN JOSE","DESAMPARADOS","SAN MIGUEL","HIGUITO","JAVIER FALLAS SOTO",22704520,22704158,"calderonmuñoz@gmail.com","50 MTS.NOROESTE DEL TEMPLO CATOLICO."]
[4360,"ESC. CRISTOBAL COLON","EDUC. ESPECIAL","PUBLICA","DESAMPARADOS",51,4,5,1,12,1,"SAN JOSE","ACOSTA","SAN IGNACIO","SAN IGNACIO","MAURICIO FALLAS DURAN",24100138,24100138,"eccolon@gmail.com","COSTADO NORTE DEL PARQUE"]
[4361,"ESC. FRANCISCO GAMBOA MORA","EDUC. ESPECIAL","PUBLICA","DESAMPARADOS",51,4,1,3,3,8,"CARTAGO","LA UNION","RIO AZUL","RIO AZUL","ROGERS SALAZAR ESPINOZA",22766252,22766252,"esfragamo@gmail.com","200 ESTE DELTEMPLO CATOLICO"]
[4362,"ESC. SOTERO GONZALEZ BARQUERO","EDUC. ESPECIAL","PUBLICA","DESAMPARADOS",51,4,2,1,3,3,"SAN JOSE","DESAMPARADOS","SAN JUAN DE DIOS","SAN JUAN DE DIOS","MARVIN JAEN GUZMAN",22595019,22595019,"upsoterogonzalez@hotmail.com","400 MTS. SUR DEL TEMPLO CATOLICO."]
[4363,"ESC. JUSTO MARIA PADILLA CASTRO","EDUC. ESPECIAL","PUBLICA","DESAMPARADOS",51,4,4,3,1,7,"CARTAGO","CARTAGO","CORRALILLO","SAN JUAN SUR","CARLOS ENRIQUE HIDALGO FALLAS",25480085,25480085,"esc.justomariapadilla@hotmail.com","SAN JUAN SUR, FRENTE A LA PLAZA DE DEPORTES"]
[4364,"ESC. SAN RAFAEL","EDUC. ESPECIAL","PUBLICA","DESAMPARADOS",51,4,7,1,3,4,"SAN JOSE","DESAMPARADOS","SAN RAFAEL ARRIBA","MAIQUETIA","MARIA ELENA BONILLA RODRIGUEZ",22752580,22756472,"escuelasanrafael01@gmail.com","800 MTS. NOROESTE DEL BUEN PASTOR."]
[4365,"ESC. ALEJANDRO RODRIGUEZ RODRIGUEZ","EDUC. ESPECIAL","PUBLICA","DESAMPARADOS",51,4,3,1,6,3,"SAN JOSE","ASERRI","VUELTA DE JORCO","VUELTA DE JORCO","ROCIO CALDERON ALFARO",24103962,24103962,"escuelaalejrodriguezr@gmail.com","75 MTS. OESTE DEL TEMPLO CATOLICO."]
[4366,"ESC. ELIAS JIMENEZ CASTRO","EDUC. ESPECIAL","PUBLICA","DESAMPARADOS",51,4,7,1,3,11,"SAN JOSE","DESAMPARADOS","SAN RAFAEL ABAJO","SAN RAFAEL ABAJO","INES POVEDA SANCHEZ",22756253,22755263,"eliasjimenezc@gmail.com","COSTADO SUR DE LA IGLESIA CATOLICA SAN RAFAEL"]
[4368,"C.T.P. DE ACOSTA","EDUC. ESPECIAL","PUBLICA","DESAMPARADOS",51,4,5,1,12,1,"SAN JOSE","ACOSTA","SAN IGNACIO","SAN IGNACIO","HUMBERTO QUIROS QUIROS",24100121,24100735,"circulares.ctpacosta@gmail.com","400 SE DE LA SUCURSAL DEL BANCO NACIONAL"]
[4370,"ESC. MANUEL HIDALGO MORA","EDUC. ESPECIAL","PUBLICA","DESAMPARADOS",51,4,3,1,6,1,"SAN JOSE","ASERRI","ASERRI","ASERRI","ANABELLE GONZALEZ ALVARADO",22300601,22303097,"esc.manuelhidalgomora@gmail.com","CONTIGUO AL PALACIO MUNICIPAL."]
[4372,"ESC. CAPRI","EDUC. ESPECIAL","PUBLICA","DESAMPARADOS",51,4,2,1,3,2,"SAN JOSE","DESAMPARADOS","SAN MIGUEL","CAPRI","JENNY PRADO MARIN",25102084,25102084,"escuelacapri@hotmail.com","FRENTE A PLAZA DEPORTIVA LA CAPRI"]
[4373,"ESC. DOS CERCAS","EDUC. ESPECIAL","PUBLICA","DESAMPARADOS",51,4,1,1,3,10,"SAN JOSE","DESAMPARADOS","DAMAS","SAN LORENZO","ANA GARCIA ALVARADO",22191805,22191805,"escdoscercas@gmail.com","FRENTE AL TEMPLO CATOLICO, SAN LORENZO."]
[4374,"ESC. GABRIEL BRENES ROBLES","EDUC. ESPECIAL","PUBLICA","DESAMPARADOS",51,4,3,1,6,4,"SAN JOSE","ASERRI","SAN GABRIEL","SAN GABRIEL","HUGO ALBERTO NUÑEZ CALDERON",25400117,25400117,"brenesroblesescuelagabriel42@gmail.com","DETRAS DEL TEMPLO CATOLICO."]
[4377,"ESC. MANUEL ORTUÑO BOUTIN","EDUC. ESPECIAL","PUBLICA","DESAMPARADOS",51,4,2,1,3,4,"SAN JOSE","DESAMPARADOS","SAN RAFAEL ARRIBA","SAN RAFAEL ARRIBA","ARTURO RODRIGUEZ MENA",22598615,22598615,"manuelortuno_573@hotmail.com","COSTADO ESTE DE LA PLAZADE DEPORTES."]
[4378,"C.T.P. DOS CERCAS","EDUC. ESPECIAL","PUBLICA","DESAMPARADOS",51,4,1,1,3,10,"SAN JOSE","DESAMPARADOS","DAMAS","SAN LORENZO","DAMARIS CORRALES PICADO",22505502,22505502,"ctpdoscercas@hotmail.com","DEL PALI, FATIMA 20000 MTS. OESTE."]
[4379,"LICEO DE ASERRI","EDUC. ESPECIAL","PUBLICA","DESAMPARADOS",51,4,3,1,6,1,"SAN JOSE","ASERRI","ASERRI","EL COLEGIO","LUIS PAULINO MADRIZ CASTRO",22303375,22303375,"liceodeaserri@gmail.com","200 OESTE DEL PALACIO MUNICIPAL."]
[4382,"ESC. CORAZON DE JESUS","EDUC. ESPECIAL","PUBLICA","DESAMPARADOS",51,4,3,1,6,1,"SAN JOSE","ASERRI","ASERRI","CORAZON DE JESUS","NELSON QUESADA FALLAS",22301879,22301879,"esccorazondejesus@gmail.com","DE LA CLINICA DE ASERRI 200 NORTE Y 100 OESTE"]
[4383,"ESC. LINDA VISTA","EDUC. ESPECIAL","PUBLICA","DESAMPARADOS",51,4,1,3,3,8,"CARTAGO","LA UNION","RIO AZUL","LINDA VISTA","ETNA ARTAVIA SEGURA",22764768,22764768,"esclindavista@gmail.com","100 METROS ESTE DE LA TERMINAL DE BUSES."]
[4385,"ESC. DARIO FLORES HERNANDEZ","EDUC. ESPECIAL","PUBLICA","PURISCAL",52,4,1,1,4,1,"SAN JOSE","PURISCAL","SANTIAGO","SANTIAGO","ILEANA MENDEZ MADRIGAL",24166206,24166206,"escueladariofloreshernandez@gmail.com","150 SUR DEL BANCO POPULAR"]
[4386,"ESC. ROGELIO FERNANDEZ GÜELL","EDUC. ESPECIAL","PUBLICA","PURISCAL",52,4,5,1,7,1,"SAN JOSE","MORA","COLON","COLON","RAFAEL AGUERO AGUERO",22491087,22491087,"esc.rogeliofernandezguell@mep.go.cr","COSTADO SUR DEL PARQUE RECREATIVO"]
[4387,"ESC. LISIMACO CHAVARRIA PALMA","EDUC. ESPECIAL","PUBLICA","PURISCAL",52,4,5,1,7,3,"SAN JOSE","MORA","TABARCIA","TABARCIA CENTRO","WILFREDO CALDERON VARGAS",24188190,24188190,"mep@lisimachavarriapalma.ed.cr","COSTADO SUR DEL TEMPLO CATOLICO"]
[4388,"ESC. RAMON BEDOYA MONGE","EDUC. ESPECIAL","PUBLICA","PURISCAL",52,4,1,1,4,8,"SAN JOSE","PURISCAL","SAN ANTONIO","SAN ANTONIO","CARLOS QUIROS CHAVARRIA",24167232,24167232,"escuelaramonbedoya@gmail.com","DIAGONAL A LA DELEGACION DE FUERZA PUBLICA"]
[4389,"C.T.P. PURISCAL","EDUC. ESPECIAL","PUBLICA","PURISCAL",52,4,1,1,4,1,"SAN JOSE","PURISCAL","SANTIAGO","BARRIO CORAZON DE MARIA","LAURA RIVEROS ROJAS",24168448,24168444,"tecnico.puriscal@gmail.com","300M OESTE PLANTEL DEL MOPT"]
[4390,"ESC. SAN PABLO","EDUC. ESPECIAL","PUBLICA","PURISCAL",52,4,6,1,16,1,"SAN JOSE","TURRUBARES","SAN PABLO","SAN PABLO","HUBERTH SALAZAR AGUERO",24190264,24190264,"centroeducativo.sanpablo@gmail.com","25 ESTE MUNICIPALIDAD DE TURRUBARES"]
[4393,"ESC. CERBATANA","EDUC. ESPECIAL","PUBLICA","PURISCAL",52,4,2,1,4,2,"SAN JOSE","PURISCAL","MERCEDES SUR","CERBATANA","MANUEL GONZALEZ CASTRO",24164938,0,"manuelguno@hotmail.com","125 SUR GIMNASIO CERBATANA"]
[4394,"ESC. MIXTA DE SAN JUAN","EDUC. ESPECIAL","PUBLICA","PURISCAL",52,4,4,1,4,3,"SAN JOSE","PURISCAL","BARBACOAS","SAN JUAN","GERARDO MURILLO CERDAS",24167525,24167525,"escuelamixtadesanjuan@hotmail.com","50 NORTE DEL TEMPLO CATOLICO"]
[4398,"ESC. PALMICHAL DE ACOSTA","EDUC. ESPECIAL","PUBLICA","PURISCAL",52,4,5,1,12,3,"SAN JOSE","ACOSTA","PALMICHAL","PALMICHAL","LEONEL GOMEZ PORRAS",24184050,24184050,"esc.palmichal@mep.go.cr","COSTADO SURESTE IGLESIA CATOLICA"]
[4402,"ENSEÑANZA ESPECIAL SAN ISIDRO DEL GENERAL","EDUC. ESPECIAL","PUBLICA","PEREZ ZELEDON",53,4,1,1,19,1,"SAN JOSE","PEREZ ZELEDON","SAN ISIDRO DE EL GENERAL","CIUDAD LAS AMÉRICAS","REBECA VARGAS ROMERO",27710573,27710573,"centroedu.especial@drepz.ed.cr","100 MTS SUR DE OFICINAS M.A.G"]
[4407,"ESC. COCORI","EDUC. ESPECIAL","PUBLICA","PEREZ ZELEDON",53,4,10,1,19,1,"SAN JOSE","PEREZ ZELEDON","SAN ISIDRO DE EL GENERAL","LOMAS DE COCORI","EGIDIO GRANADOS FONSECA",27701655,27701655,"esc.lomasdecocori@mep.go.cr","150 MTS OESTE DEL EBAIS COCORI"]
[4409,"C.T.P. SAN ISIDRO","EDUC. ESPECIAL","PUBLICA","PEREZ ZELEDON",53,4,3,1,19,3,"SAN JOSE","PEREZ ZELEDON","DANIEL FLORES","VILLA LIGIA","DANILO MORALES RIVERA",27713003,27710910,"ctp.sanisidro@mep.go.cr","450 M S DE LA DELEGACION DEL TRANSITO"]
[4412,"ESC. JUAN VALVERDE MORA","EDUC. ESPECIAL","PUBLICA","PEREZ ZELEDON",53,4,5,1,19,4,"SAN JOSE","PEREZ ZELEDON","RIVAS","RIVAS","FERNANDO CALDERÓN DÍAZ",27711246,27711246,"esc.juanvalverdemora@mep.go.cr","COSTADO SUR TEMPLO CATOLICO DE RIVAS"]
[4415,"ESC. POTRERO GRANDE","EDUC. ESPECIAL","PUBLICA","GRANDE DE TERRABA",75,4,3,6,3,3,"PUNTARENAS","BUENOS AIRES","POTRERO GRANDE","POTRERO GRANDE","EDUARDO FLORES LEZCANO",27428081,27428081,"esc.potrerogrande@mep.go.cr","FRENTE PLAZA DE DEPORTES,POTRERO GRANDE"]
[4418,"ESC. HERNÁN RODRÍGUEZ RUÍZ","EDUC. ESPECIAL","PUBLICA","PEREZ ZELEDON",53,4,3,1,19,3,"SAN JOSE","PEREZ ZELEDON","DANIEL FLORES","PALMARES","DAFNE MONGE MONGE",27712556,27712556,"esc.hernanrodriguezruiz@mep.go.cr","150 M SUR Y 75 ESTE DEL PARQUE"]
[4419,"ESC. SANTA CRUZ","EDUC. ESPECIAL","PUBLICA","GRANDE DE TERRABA",75,4,1,6,3,1,"PUNTARENAS","BUENOS AIRES","BUENOS AIRES","SANTA CRUZ","GIOVANNY FALLAS CAMPOS",27300895,27300895,"es.santacruzbuenosaires@mep.go.cr","50 MTS. SUR DEL TEMPLO CATOLICO DE STA. CRUZ"]
[4420,"ESC. SAN RAFAEL DE PLATANARES","EDUC. ESPECIAL","PUBLICA","PEREZ ZELEDON",53,4,7,1,19,6,"SAN JOSE","PEREZ ZELEDON","PLATANARES","SAN RAFAEL","GUISELLE RETANA FONSECA",27370182,27370182,"esc.sanrafaelplatanares@mep.go.cr","FRENTE TEMPLO CATOLICO SAN RAFAEL PLATANARES"]
[4425,"C.T.P. BUENOS AIRES","EDUC. ESPECIAL","PUBLICA","GRANDE DE TERRABA",75,4,1,6,3,1,"PUNTARENAS","BUENOS AIRES","BUENOS AIRES","B° LAS LOMAS","MARCOS W. NAVARRO CORDERO",27300045,27300045,"colegiotecnicobuenosaires@gmail.com","800 NORTE DE LA IGLESIA DE BUENOS AIRES"]
[4439,"ENSEÑANZA ESPECIAL Y REHABILITACION ALAJUELA","EDUC. ESPECIAL","PUBLICA","ALAJUELA",54,4,1,2,1,1,"ALAJUELA","ALAJUELA","ALAJUELA","EL LLANO","NURY CARVAJAL GUILLEN",24403727,24411559,"cee.alajuela@gmail.com","COSTADO NOROESTE DEL TEMPLO CATOLICO"]
[4440,"ENSEÑANZA ESPECIAL DE GRECIA","EDUC. ESPECIAL","PUBLICA","ALAJUELA",54,4,6,2,3,1,"ALAJUELA","GRECIA","GRECIA","COLON","MARIA ISABEL SALAS ARRIETA",24941720,24941720,"eduespecial@gmail.com","CONTIGUO AL POLIDEPORTIVO GRIEGO"]
[4441,"ESC. MIGUEL OBREGON LIZANO","EDUC. ESPECIAL","PUBLICA","ALAJUELA",54,4,2,2,1,1,"ALAJUELA","ALAJUELA","ALAJUELA","ALAJUELA","PATRICIA VILLALOBOS CASTILLO",24410791,24426657,"emol.alajuela@gmail.com","75 MTS SUR DE LA CATEDRAL, ALAJUELA"]
[4442,"ESC. EULOGIA RUIZ RUIZ","EDUC. ESPECIAL","PUBLICA","ALAJUELA",54,4,6,2,3,1,"ALAJUELA","GRECIA","GRECIA","COLON","MARCELA CESPEDES GONZALEZ",24445247,24445247,"escuelaeulogiaruiz@gmail.com","150 MTS ESTE DEL CUERPO BOMBEROS"]
[4443,"ESC. CENTRAL DE ATENAS","EDUC. ESPECIAL","PUBLICA","ALAJUELA",54,4,8,2,5,1,"ALAJUELA","ATENAS","ATENAS","ATENAS","MIRIAM VARGAS PEREZ",24463640,24460137,"escuelacentralatenas@ice.co.cr","300 MTS SUR IGLESIA CATÓLICA, ATENAS CTRO."]
[4444,"ESC. PRIMO VARGAS VALVERDE","EDUC. ESPECIAL","PUBLICA","ALAJUELA",54,4,9,2,9,1,"ALAJUELA","OROTINA","OROTINA","OROTINA","NELLY I. MARÍN OROZCO",24288628,24283278,"escprimovargas@gmail.com","200 SUR DE LA UNED DE OROTINA"]
[4445,"ESC. BERNARDO SOTO ALFARO","EDUC. ESPECIAL","PUBLICA","ALAJUELA",54,4,1,2,1,1,"ALAJUELA","ALAJUELA","ALAJUELA","ALAJUELA","LISETTE ESQUIVEL LOPEZ",24410891,24407437,"escuelabernardosoto@hotmail.com","COSTADO ESTE DE LA CRUZ ROJA COSTARRICENSE"]
[4446,"ESC. PEDRO AGUIRRE CERDA","EDUC. ESPECIAL","PUBLICA","ALAJUELA",54,4,7,2,8,1,"ALAJUELA","POAS","SAN PEDRO","SAN PEDRO","ROY CHAVES GOMEZ",24486316,24486316,"escuelapedroaguirre@gmail.com","COSTADO OESTE DEL PARQUE SAN PEDRO"]
[4447,"ESC. JULIA FERNANDEZ RODRIGUEZ","EDUC. ESPECIAL","PUBLICA","ALAJUELA",54,4,4,2,1,8,"ALAJUELA","ALAJUELA","SAN RAFAEL","SAN RAFAEL","MARTA ELENA CORDABA ROJAS",24396473,24385922,"esc.juliafernandez.alajuela@mep.go.cr","100 MTS NORTE DEL B.C.R., SAN RAFAEL"]
[4448,"ESC. ENRIQUE PINTO FERNANDEZ","EDUC. ESPECIAL","PUBLICA","ALAJUELA",54,4,4,2,1,8,"ALAJUELA","ALAJUELA","SAN RAFAEL","SAN RAFAEL","HORTENSIA ACOSTA ORTIZ",24380448,24380448,"escuela.enrique.pinto@gmail.com","CONTIGUO AL LICEO SAN RAFAEL"]
[4450,"ESC. SIMON BOLIVAR PALACIOS","EDUC. ESPECIAL","PUBLICA","ALAJUELA",54,4,10,2,3,1,"ALAJUELA","GRECIA","GRECIA","GRECIA","LILLIANA RODRIGUEZ BARRANTES",24943663,24943663,"simonbolivar69@gmail.com","400 MTS. SUR DEL TEMPLO CATÓLICO"]
[4451,"ESC. ALICE MOYA RODRIGUEZ","EDUC. ESPECIAL","PUBLICA","ALAJUELA",54,4,6,2,3,4,"ALAJUELA","GRECIA","SAN ROQUE","SAN ROQUE","RITA MARIA CASTRO RODRIGUEZ",24944425,24944425,"esc.alicemoya@gmail.com","100 MTS OESTE TEMPLO CATOLICO SAN ROQUE"]
[4452,"ESC. ASCENSION ESQUIVEL IBARRA","EDUC. ESPECIAL","PUBLICA","ALAJUELA",54,4,1,2,1,1,"ALAJUELA","ALAJUELA","ALAJUELA","PLAZA ACOSTA","FLORY LEON RODRIGUEZ",24403946,24403655,"escuelaasencionesquivelibarra@hotmail.com","CALLE 5, AVENIDA 5"]
[4453,"ESC. JUAN RAFAEL MEOÑO HIDALGO","EDUC. ESPECIAL","PUBLICA","ALAJUELA",54,4,1,2,1,1,"ALAJUELA","ALAJUELA","ALAJUELA","CONCEPCION","EDUARDO UMAÑA FERNADEZ",24410126,24410126,"euf63@hotmail.com","400 MTS ESTE DE LA IGLESIA DE LA AGONIA"]
[4454,"ESC. GENERAL JOSE DE SAN MARTIN","EDUC. ESPECIAL","PUBLICA","ALAJUELA",54,4,5,2,1,2,"ALAJUELA","ALAJUELA","SAN JOSE","SAN JOSE","AMANCIO CORDOBA SOTO",24338068,24338068,"esc.liderdesanmartin@mep.go.cr","CONTIGUO A LA PLAZA DE DEPORTES"]
[4455,"ESC. JESUS OCAÑA ROJAS","EDUC. ESPECIAL","PUBLICA","ALAJUELA",54,4,5,2,1,2,"ALAJUELA","ALAJUELA","SAN JOSE","EL COYOL","ILEANA VARGAS ARIAS",24338847,24338847,"eocanarojas@yahoo.com","1.5 KM SUROESTE DE LA ARROCERA COSTA RICA"]
[4456,"COLEGIO GREGORIO JOSE RAMIREZ CASTRO","EDUC. ESPECIAL","PUBLICA","ALAJUELA",54,4,2,2,1,4,"ALAJUELA","ALAJUELA","SAN ANTONIO","MONTECILLOS","GISSELL HERRERA JARA",24411701,24411701,"lic.gregoriojoseramirez@mep.go.cr","400 MTS NORTE DEL PLANTEL MOPT"]
[4457,"ESC. TURRUCARES","EDUC. ESPECIAL","PUBLICA","ALAJUELA",54,4,5,2,1,11,"ALAJUELA","ALAJUELA","TURRUCARES","TURRUCARES","XIANY CASTILLO ROJAS",24877160,24877160,"esturru@hotmail.com","75 M SUR DE LA CRUZ ROJA"]
[4459,"ESC. SANTA RITA","EDUC. ESPECIAL","PUBLICA","ALAJUELA",54,4,5,2,1,2,"ALAJUELA","ALAJUELA","SAN JOSE","SANTA RITA","MARTIN ROJAS ALFARO",24330027,24330027,"escsanrit@gmail.com","150 NORTE SERVICENTRO CHAMU"]
[4460,"LICEO DE POAS","EDUC. ESPECIAL","PUBLICA","ALAJUELA",54,4,7,2,8,1,"ALAJUELA","POAS","SAN PEDRO","SAN PEDRO","SEIDY JIMENEZ FONSECA",24485027,24485027,"lidepo@gmail.com","600 MTS NORTE DEL TEMPLO CATOLICO"]
[4461,"C.T.P. RICARDO CASTRO BEER","EDUC. ESPECIAL","PUBLICA","ALAJUELA",54,4,9,2,9,1,"ALAJUELA","OROTINA","OROTINA","KILOMETRO","MARCOS CORDERO CASTRO",24284263,24288263,"direccion.2012@hotmail.com","500 SUR DEL COLEGIO SANTA FE"]
[4462,"ESC. MANUEL FRANCISCO CARRILLO SABORIO","EDUC. ESPECIAL","PUBLICA","ALAJUELA",54,4,1,2,1,1,"ALAJUELA","ALAJUELA","ALAJUELA","CANOAS","LILLIANA CORTES GONZALEZ",24419889,24419889,"escfranciscoca@hotmail.com","1 KM NORESTE DEL ESTADIO MORERA SOTO"]
[4463,"ESC. HOLANDA","EDUC. ESPECIAL","PUBLICA","ALAJUELA",54,4,2,2,1,1,"ALAJUELA","ALAJUELA","ALAJUELA","EL CARMEN","ELMER VILLALTA VILLAREAL",24411371,24411371,"escuelaholanda1@gmail.com","250 M SUR PARADA DE BUSES DE TUASA"]
[4465,"ESC. DAVID GONZALEZ ALFARO","EDUC. ESPECIAL","PUBLICA","ALAJUELA",54,4,2,2,1,9,"ALAJUELA","ALAJUELA","RIO SEGUNDO","RIO SEGUNDO","LUCY TANNIA MORALES CHACON",24414692,24414692,"esc.davidgonzalez@yahoo.es","DE LA IGLESIA CATOLICA 100 OESTE Y 50 NORTE"]
[4466,"ESC. PACTO DEL JOCOTE","EDUC. ESPECIAL","PUBLICA","ALAJUELA",54,4,5,2,1,2,"ALAJUELA","ALAJUELA","SAN JOSE","PACTO DEL JOCOTE","GEOVANNY GUERRERO AVILA",24411547,24401624,"pactodeljocote@hotmail.com","300 SUR DE ARROCERA CR Y 175 SUR MONUMENTO"]
[4467,"ESC. ALBERTO ECHANDI MONTERO","EDUC. ESPECIAL","PUBLICA","ALAJUELA",54,4,3,2,1,6,"ALAJUELA","ALAJUELA","SAN ISIDRO","SAN ISIDRO","ANA LORENA CORELLA GONZALEZ",24495118,24495118,"esc.albertoechandimontero@mep.go.cr","DETRÁS DE LA IGLESIA CATOLICA DE SAN ISIDRO"]
[4468,"ESC. GABRIELA MISTRAL","EDUC. ESPECIAL","PUBLICA","ALAJUELA",54,4,4,2,1,5,"ALAJUELA","ALAJUELA","GUACIMA","LA GUACIMA","RODOLFO LEANDRO JIMENEZ",24386570,24386570,"esgabimistral@gmail.com","FRENTE A LA IGLESIA CATOLICA, GUÁCIMA CTRO."]
[4469,"ESC. JESUS MAGDALENO VARGAS AGUILAR","EDUC. ESPECIAL","PUBLICA","ALAJUELA",54,4,5,2,1,12,"ALAJUELA","ALAJUELA","TAMBOR","EL CACAO","EDUARDO A. MARTINEZ JIMENEZ",24333390,24333390,"ejemava@hotmail.com","COSTADO SUR PLAZA DE DEPORTES"]
[4470,"ESC. MARIANA MADRIGAL DE LA O","EDUC. ESPECIAL","PUBLICA","ALAJUELA",54,4,5,2,1,12,"ALAJUELA","ALAJUELA","TAMBOR","TUETAL NORTE","MARIA ELENA MEJIAS JIMENEZ",24401598,24401598,"escuelamarianamadrigal@hotmail.com","500 ESTE DEL TEMPLO CATOLICO"]
[4471,"ESC. SAN LUIS","EDUC. ESPECIAL","PUBLICA","ALAJUELA",54,4,7,2,8,4,"ALAJUELA","POAS","CARRILLOS","CARRILLOS BAJO","MARCO MURILLO SÁNCHEZ",24583223,24583223,"esc.sanluiscarrillos@mep.go.cr","400 OESTE DE LA TABERNA PAVO REAL"]
[4472,"I.P.E.C. MARIA PACHECO","EDUC. ESPECIAL","PUBLICA","ALAJUELA",54,4,1,2,1,1,"ALAJUELA","ALAJUELA","ALAJUELA","URBANIZACION MONTENEGRO","AURA CORELLA GONZALEZ",24300140,24436506,"ipecmpacheco@hotmail.com","400 MTS NORTE DE LA IGLESIA LA AGONIA"]
[4473,"LICEO LEON CORTES CASTRO","EDUC. ESPECIAL","PUBLICA","ALAJUELA",54,4,6,2,3,4,"ALAJUELA","GRECIA","SAN ROQUE","LEON CORTES","FREDDY RODRIGUEZ PORRAS",24948490,24943338,"lic.leoncortescastro@mep.go.cr","350 MTS NORESTE DE LOS TRIBUNALES DE JUSTICIA"]
[4475,"COLEGIO MARISTA","EDUC. ESPECIAL","SUBVENCIONADA","ALAJUELA",54,4,2,2,1,1,"ALAJUELA","ALAJUELA","ALAJUELA","BARRIO LA TROPICANA","ANA ISABEL SABORIO JENKINS",24402424,24423063,"colegiomaristalajuela@gmail.com","600 MTS AL SUR DE LA IGLESIA LA AGONIA"]
[4476,"ESC. VILLA BONITA","EDUC. ESPECIAL","PUBLICA","ALAJUELA",54,4,2,2,1,4,"ALAJUELA","ALAJUELA","SAN ANTONIO","VILLA BONITA","WILLIAM BADILLA MURILLO",24414544,24414544,"lecciones.escuela@gmail.com","300 MTS ESTE SEMAFOROS VILLA BONITA"]
[4478,"ESC. LUIS FELIPE GONZALEZ FLORES","EDUC. ESPECIAL","PUBLICA","ALAJUELA",54,4,3,2,1,7,"ALAJUELA","ALAJUELA","SABANILLA","SABANILLA","SANDRA GONZALEZ CASTRO",24496555,24496555,"sanlugo02@gmail.com","COSTADO NORTE DE LA PLAZA DE DEPORTES"]
[4479,"ESC. EL ROBLE","EDUC. ESPECIAL","PUBLICA","ALAJUELA",54,4,4,2,1,4,"ALAJUELA","ALAJUELA","SAN ANTONIO","EL ROBLE","LESLYE BOJORGES LEON",24380695,24382446,"escuela_elroble_alajuela@yahoo.com","FRENTE A LA PLAZA DE DEPORTES"]
[4481,"LICEO DE ATENAS MARTHA MIRAMBELL UMAÑA","EDUC. ESPECIAL","PUBLICA","ALAJUELA",54,4,8,2,5,1,"ALAJUELA","ATENAS","ATENAS","ATENAS","ROBERTHJIMÉNEZ HERNÁNDEZ",24465124,24465124,"lic.deatenas@mep.go.cr","300 MTS ESTE DE LA ESCUELA CENTRAL DE ATENAS"]
[4482,"ESC. LEON CORTES CASTRO","EDUC. ESPECIAL","PUBLICA","ALAJUELA",54,4,1,2,1,3,"ALAJUELA","ALAJUELA","CARRIZAL","CARRIZAL","MARICEL SOLERA ALPIZAR",24830333,24830333,"escuelaleoncortescastro@yahoo.com","FRENTE AL TEMPLO CATOLICO CARRIZAL"]
[4483,"ESC. RICARDO FERNANDEZ GUARDIA","EDUC. ESPECIAL","PUBLICA","ALAJUELA",54,4,5,2,1,13,"ALAJUELA","ALAJUELA","GARITA","LA GARITA","SONIA VINDAS ARRIETA",24876104,24876104,"esc.ricardofernandezguardia@mep.go.cr","FRENTE A LA PLAZA DE FUTBOL, LA GARITA"]
[4495,"ENSEÑANZA ESPECIAL Y REHABILITACION DE SAN RAMÓN","EDUC. ESPECIAL","PUBLICA","OCCIDENTE",55,4,1,2,2,1,"ALAJUELA","SAN RAMON","SAN RAMON","CENTRO","DINIA Mª ARIAS BERMÚDEZ",24474878,24474878,"ceesanramon@gmail.com","DETRÁS DE LA ESC.JORGE WASHINGTON, SAN RAMÓN"]
[4496,"ESC. REPÚBLICA DE COLOMBIA","EDUC. ESPECIAL","PUBLICA","OCCIDENTE",55,4,5,2,6,1,"ALAJUELA","NARANJO","NARANJO","NARANJO","ALFONSO E. FORBES SHAW",24500044,24510853,"escuelarepublicadecolombia@hotmail.com","COSTADO SUR DEL PARQUE CENTRAL, NARANJO"]
[4497,"ESC. SARCHÍ NORTE","EDUC. ESPECIAL","PUBLICA","OCCIDENTE",55,4,4,2,12,1,"ALAJUELA","VALVERDE VEGA","SARCHI NORTE","CENTRO","Mª LORENA OBANDO MATARRITA",24544072,24544072,"esarchinorte@gmail.com","COSTADO ESTE DEL PALACIO MUNICIPAL"]
[4498,"ESC. JORGE WASHINGTON","EDUC. ESPECIAL","PUBLICA","OCCIDENTE",55,4,1,2,2,1,"ALAJUELA","SAN RAMON","SAN RAMON","SAN RAMÓN","GRACE MARIA CABEZAS PALOMO",24455195,24455195,"washington.jorge83@gmail.com","100 M. SUR DEL BANCO NACIONAL DE COSTA RICA"]
[4499,"ESC. PBRO. MANUEL BERNARDO GÓMEZ SALAZAR","EDUC. ESPECIAL","PUBLICA","OCCIDENTE",55,4,6,2,7,1,"ALAJUELA","PALMARES","PALMARES","PALMARES","JESÚS Mª CHAVARRÍA VEGA",24533686,24533686,"escuelacentralpalmares@gmail.com","200 M. AL ESTE DEL PARQUE DE PALMARES"]
[4501,"ESC. OTILIO ULATE BLANCO","EDUC. ESPECIAL","PUBLICA","OCCIDENTE",55,4,7,2,11,1,"ALAJUELA","ZARCERO","ZARCERO","ZARCERO","MARINA GONZÁLEZ MURILLO",24633145,24633145,"eoub@hotmail.es","COSTADO SUR DEL TEMPLO CATÓLICO, ZARCERO"]
[4503,"COLEGIO DE NARANJO","EDUC. ESPECIAL","PUBLICA","OCCIDENTE",55,4,8,2,6,1,"ALAJUELA","NARANJO","NARANJO","MARÍA AUXILIADORA","FLORIBETH MORA ROJAS",24500056,24500056,"colegio.naranjo@hotmail.com","300 M. NORTE HOGAR DE ANCIANOS JOSÉ DE OLMO"]
[4504,"ESC. JOSÉ JOAQUÍN SALAS PÉREZ","EDUC. ESPECIAL","PUBLICA","OCCIDENTE",55,4,1,2,2,1,"ALAJUELA","SAN RAMON","SAN RAMON","LA SABANA","VERA Mª LEDEZMA ROJAS",24455350,24455350,"escuelajosejoaquinsalasperez@hotmail.com","COSTADO ESTE DEL ESTADIO MUNICIPAL"]
[4505,"ESC. JUDAS TADEO CORRALES SAENZ","EDUC. ESPECIAL","PUBLICA","OCCIDENTE",55,4,8,2,6,1,"ALAJUELA","NARANJO","NARANJO","CANDELARIA","OSCAR SALAZAR VARGAS",24511727,24511727,"escuelajudas@yahoo.es","COSTADO ESTE DE IGLESIA CATÓLICA, CANDELARIA"]
[4507,"ESC. MERCEDES QUESADA QUESADA","EDUC. ESPECIAL","PUBLICA","OCCIDENTE",55,4,2,2,2,11,"ALAJUELA","SAN RAMON","CONCEPCION","CONCEPCIÓN","MARTHA RODRÍGUEZ HERRERA",24473454,24473454,"martha0924@hotmail.com","1 K. NORTE DE LA IGLESIA CATÓLICA"]
[4509,"ESC. SANTIAGO CRESPO CALVO","EDUC. ESPECIAL","PUBLICA","OCCIDENTE",55,4,5,2,6,5,"ALAJUELA","NARANJO","SAN JERONIMO","SAN JERÓNIMO","JUAN JOSÉ QUESADA OROZCO",24512700,24512700,"esacreca@live.com.mx","COSTADO OESTE DE LA PLAZA DE DEPORTES"]
[4510,"ESC. SAN PEDRO","EDUC. ESPECIAL","PUBLICA","OCCIDENTE",55,4,4,2,12,4,"ALAJUELA","VALVERDE VEGA","SAN PEDRO","SAN PEDRO","MARIA ELENA ARAYA MURILLO",24543370,24543370,"escuelasanpedro@hotmail.es","FRENTE AL TEMPLO CATÓLICO"]
[4511,"LICEO DE ALFARO RUÍZ","EDUC. ESPECIAL","PUBLICA","OCCIDENTE",55,4,7,2,11,1,"ALAJUELA","ZARCERO","ZARCERO","BARRIO CEMENTERIO","EDWARD SALAZAR CHACON",24633163,24633451,"liceo_alfaro_ruiz@yahoo.com","400 M. DEL PARQUE FTE. CEMENTERIO DE ZARCERO"]
[4512,"LICEO NUESTRA SEÑORA DE LOS ÁNGELES","EDUC. ESPECIAL","PUBLICA","OCCIDENTE",55,4,2,2,2,8,"ALAJUELA","SAN RAMON","ANGELES","LOS JARDINES","DANNY PERALTA CRUZ",24476082,24476345,"direccion@linsa.ed.cr","500 M. NORTE Y 300 M.OESTE DEL POLIDEPORTIVO"]
[4514,"ENSEÑANZA ESPECIAL AMANDA ALVAREZ DE UGALDE","EDUC. ESPECIAL","PUBLICA","SAN CARLOS",56,4,3,2,10,1,"ALAJUELA","SAN CARLOS","QUESADA","BALTAZAR QUESADA","RITA CHAVARRIA MATA",24600453,24600453,"cenence4514@gmail.com","FRENTE A CORREOS DE COSTA RICA"]
[4515,"ESC. JUAN CHAVES ROJAS","EDUC. ESPECIAL","PUBLICA","SAN CARLOS",56,4,3,2,10,1,"ALAJUELA","SAN CARLOS","QUESADA","CIUDAD QUESADA","JORGE ANTONIO ROJAS LOPEZ",24600385,24600385,"escuelajuanchaves@gmail.com","COSTADO OESTE DE COOPELESCA R.L."]
[4518,"ESC. MARIO SALAZAR MORA","EDUC. ESPECIAL","PUBLICA","SAN CARLOS",56,4,4,2,10,4,"ALAJUELA","SAN CARLOS","AGUAS ZARCAS","AGUAS ZARCAS","ODILIAMAR QUESADA ELIZONDO",24744076,24744076,"esc.mariosalazarmora@mep.go.cr","COSTADO NORTE DE LA PLAZA DE DEPORTES"]
[4519,"ESC. RICARDO VARGAS MURILLO","EDUC. ESPECIAL","PUBLICA","SAN CARLOS",56,4,9,2,14,1,"ALAJUELA","LOS CHILES","LOS CHILES","LOS CHILES","WILTON HURTADO ACUÑA",24711678,24711678,"ericardovargas@gmail.com","300 METROS AL NORTE DE LA IGLESIA CATOLICA"]
[4520,"ESC. LUIS DEMETRIO TINOCO","EDUC. ESPECIAL","PUBLICA","SARAPIQUI",74,4,1,2,1,14,"ALAJUELA","ALAJUELA","SARAPIQUI","SAN MIGUEL","LORENA MEZA VALVERDE",24760083,24760083,"esc.luisdemetriot@hotmail.com","CONTIGUO A LA SUCURSAL DEL BANCO NACIONAL"]
[4522,"LICEO DE SAN CARLOS","EDUC. ESPECIAL","PUBLICA","SAN CARLOS",56,4,3,2,10,1,"ALAJUELA","SAN CARLOS","QUESADA","SAN ROQUE","JOSE JOAQUIN SANCHEZ MENDEZ",24600332,24605874,"liceosancarlos4045@hotmail.com","1 KM NORTE DE LA CATEDRAL"]
[4523,"ESC. CEDRAL","EDUC. ESPECIAL","PUBLICA","SAN CARLOS",56,4,3,2,10,1,"ALAJUELA","SAN CARLOS","QUESADA","CEDRAL","ABDENAGO PIEDRA MURILLO",24603972,24603972,"escuelacedral@hotmail.com","CONTIGUO A LA IGLESIA CATOLICA DE CEDRAL"]
[4526,"ESC. LOS ANGELES","EDUC. ESPECIAL","PUBLICA","SAN CARLOS",56,4,6,2,10,7,"ALAJUELA","SAN CARLOS","LA FORTUNA","LOS ANGELES","WALTER MORA ALFARO",24691724,24691724,"esc.losangelesdelafortuna@mep.go.cr","150 NORTE DEL TEMPLO CATOLICO"]
[4527,"ESC. JUAN RAFAEL CHACON CASTRO","EDUC. ESPECIAL","PUBLICA","SAN CARLOS",56,4,7,2,10,11,"ALAJUELA","SAN CARLOS","CUTRIS","BOCA DE ARENAL","YANIXIA CHAVES MURILLO",24695305,24695305,"esc.juanrafaelchaconcastro@mep.go.cr","150 OESTE DEL LA IGLESIA"]
[4529,"ESC. GONZALO MONGE BERMUDEZ","EDUC. ESPECIAL","PUBLICA","SAN CARLOS",56,4,5,2,10,6,"ALAJUELA","SAN CARLOS","PITAL","PITAL","OLGER SANCHO CHACON",24733078,24734026,"esc.gonzalomongeb@mep.go.cr","CONTIGUO AL COLEGIO TECNICO DE PITAL"]
[4535,"ENSEÑANZA ESPECIAL Y REHABILITACION NIÑOS SORDOS","EDUC. ESPECIAL","PUBLICA","CARTAGO",57,4,1,3,1,3,"CARTAGO","CARTAGO","CARMEN","EL CARMEN","GUSTAVO ADOLFO MORA DÍAZ",25534557,25534557,"enscartago@gmail.com","400M NORTE MUNICIPALIDAD DE CARTAGO"]
[4536,"ENSEÑANZA ESPECIAL CARLOS LUIS VALLE MASIS","EDUC. ESPECIAL","PUBLICA","CARTAGO",57,4,4,3,7,1,"CARTAGO","OREAMUNO","SAN RAFAEL","LA CHINCHILLA","ROCIO FERNANDEZ CASTILLO",25510155,25930028,"escuela_carlos_luis_valle@hotmail.es","1KM AL NORTE PARQUE CENTRAL DE SN RAFAEL"]
[4537,"ESC. LOS ANGELES","EDUC. ESPECIAL","PUBLICA","CARTAGO",57,4,1,3,1,1,"CARTAGO","CARTAGO","ORIENTAL","LOS ANGELES","JUAN ROJAS GOMEZ",25510665,25510665,"esclosangeles1828@gmail.com","50M SURESTE BASILICA NUESTRA SENORA DE LOS A"]
[4538,"ESC. ASCENSION ESQUIVEL IBARRA","EDUC. ESPECIAL","PUBLICA","CARTAGO",57,4,1,3,1,1,"CARTAGO","CARTAGO","ORIENTAL","CENTRO","ANA LÍA SOLANO PACHECO",25510442,25510442,"escesquivel@gmail.com","125 SUR DE LAS RUINAS, CARTAGO CENTRO"]
[4539,"ESC. WINSTON CHURCHILL SPENCER","EDUC. ESPECIAL","PUBLICA","CARTAGO",57,4,1,3,1,1,"CARTAGO","CARTAGO","ORIENTAL","LOS ANGELES","FLOR DE ARIA CALVO CUADRA",25519049,25519049,"wiston1888@gmail.com","100M SUR DE LA BASILICA LOS ANGELES"]
[4540,"ESC. JUAN VAZQUEZ DE CORONADO","EDUC. ESPECIAL","PUBLICA","CARTAGO",57,4,7,3,1,5,"CARTAGO","CARTAGO","AGUA CALIENTE o SAN FRANCISCO","AGUA CALIENTE","TERESITA CUBERO MAROTO",25526102,25526102,"TERESITA.CUBERO@HOTMAIL.COM","100 SUR IGLESIA CATOLICA-AGUA CALIENTE"]
[4541,"ESC. JESUS JIMENEZ","EDUC. ESPECIAL","PUBLICA","CARTAGO",57,4,1,3,1,1,"CARTAGO","CARTAGO","ORIENTAL","CENTRO","JAVIER CALDERON SALAZAR",25524742,25524742,"escuelajesusjimenez@gmail.com","AV 2 Y 4 CALLE 2 Y 4"]
[4542,"ESC. CENTRAL DE TRES RIOS","EDUC. ESPECIAL","PUBLICA","CARTAGO",57,4,6,3,3,1,"CARTAGO","LA UNION","TRES RIOS","TRES RIOS","RODOLFO VALVERDE FUENTES",22795421,22795421,"escuelacentraldetresrios@yahoo.com","COSTADO SUR DE LA IGLESIA DE TRES RIOS"]
[4543,"ESC. MONSEÑOR SANABRIA MARTINEZ","EDUC. ESPECIAL","PUBLICA","CARTAGO",57,4,4,3,7,1,"CARTAGO","OREAMUNO","SAN RAFAEL","SAN RAFAEL","MARIBEL RAMIREZ CORDERO",25510214,25510214,"escuela.m.s.m.@gmail.com","SAN RAFAEL DE OREAMUNO"]
[4544,"ESC. EUGENIO CORRALES BIANCHINI","EDUC. ESPECIAL","PUBLICA","CARTAGO",57,4,5,3,2,1,"CARTAGO","PARAISO","PARAISO","LA SOLEDAD","JOSE EFRAIN RODRIGUEZ HERNANDE",25746161,25746161,"eecb1846@yahoo.com","100 E 400 S DEL BAR Y REST CONTINENTAL"]
[4545,"ESC. SAN IGNACIO DE LOYOLA","EDUC. ESPECIAL","PUBLICA","CARTAGO",57,4,2,3,1,4,"CARTAGO","CARTAGO","SAN NICOLAS","LOYOLA","SONIA BRENES LEANDRO",25373773,25373773,"escsanignacio@hotmail.com","200ESTE Y 200NORTE DE VICESA, CONTIGUO AL INA"]
[4546,"ESC. LEON CORTES CASTRO","EDUC. ESPECIAL","PUBLICA","CARTAGO",57,4,4,3,7,2,"CARTAGO","OREAMUNO","COT","COT","MARJORIE BARQUERO GONZALEZ",25366046,25366046,"leoncortescastro1780@gmail.com","DIAGONAL PLAZA DE DEPORTES DE COT"]
[4547,"LICEO BRAULIO CARRILLO COLINA","EDUC. ESPECIAL","PUBLICA","CARTAGO",57,4,4,3,7,1,"CARTAGO","OREAMUNO","SAN RAFAEL","B° CORAZÓN DE JESÚS","DELFINA LEIVA QUESADA",25513934,25513934,"liceobrauliocarrillo.ee@hotmail.com","300 NOR/ESTE DEL EBAIS SAN RAFAEL"]
[4548,"ESC. FERNANDO TERAN VALLS","EDUC. ESPECIAL","PUBLICA","CARTAGO",57,4,6,3,3,5,"CARTAGO","LA UNION","CONCEPCION","CONCEPCION","NURIA CAMPOS JIMENEZ",22799843,22799843,"feteva2009@hotmail.com","FRENTE A LA IGLESIA INMACULADA CONCEPCION"]
[4549,"ESC. SAN DIEGO","EDUC. ESPECIAL","PUBLICA","CARTAGO",57,4,6,3,3,2,"CARTAGO","LA UNION","SAN DIEGO","SAN DIEGO","WILLIAM MARTINEZ ORTEGA",22795011,22795011,"updsandiego@gmail.com","50 ESTE TEMPLO CATOLICO SAN DIEGO"]
[4551,"ESC. REPUBLICA FRANCESA","EDUC. ESPECIAL","PUBLICA","CARTAGO",57,4,2,3,1,4,"CARTAGO","CARTAGO","SAN NICOLAS","SAN NICOLAS","NORBERTO BONILLA VALVERDE",25373019,25373019,"esc.rep.francesa@gmail.com","200 SUR DEL BAR LA ULTIMA COPA"]
[4552,"ESC. JOSE LIENDO Y GOICOECHEA","EDUC. ESPECIAL","PUBLICA","CARTAGO",57,4,5,3,2,1,"CARTAGO","PARAISO","PARAISO","PARAISO","JAQUELINE ARAYA SOLANO",25747224,25747224,"escuelagoicoechea@gmail.com","COSTADO SUR DE LA IGLESIA CATOLICA"]
[4553,"ESC. REPUBLICA DE BOLIVIA","EDUC. ESPECIAL","PUBLICA","LOS SANTOS",73,4,2,1,17,1,"SAN JOSE","DOTA","SANTA MARIA","SANTA MARIA","ENRIQUE JIMENEZ HERNANDEZ",25411101,25411101,"esc.republicadebolivia@mep.go.cr","COSTADO SUR DEL PARQUE, SANTA MARIA CENTRO"]
[4554,"ESC. RICARDO JIMENEZ OREAMUNO","EDUC. ESPECIAL","PUBLICA","CARTAGO",57,4,3,3,8,1,"CARTAGO","EL GUARCO","TEJAR","EL TEJAR","BERNARDITA SALAS ARAYA",25510804,25510804,"1909ricardojimenez@gmail.com","DIAGONAL A LA BASILICA DEL TEJAR"]
[4556,"ESC. LEON CORTES CASTRO","EDUC. ESPECIAL","PUBLICA","LOS SANTOS",73,4,1,1,5,1,"SAN JOSE","TARRAZU","SAN MARCOS","SAN MARCOS","LUIS FRANCISCO BARBOZA JIMENEZ",25466184,25466184,"esc.leoncortescastrotarrazu@mep.go.cr","COSTADO OESTE DEL PARQUE"]
[4557,"ESC. RAFAEL HERNANDEZ MADRIZ","EDUC. ESPECIAL","PUBLICA","CARTAGO",57,4,1,3,1,2,"CARTAGO","CARTAGO","OCCIDENTAL","EL MOLINO","SANTIAGO JIMENEZ MOLINA",25510565,25510565,"uprafaelhernandezmadriz@gmail.com","100 OESTE BIBLEOTECA PUBLICA DE CARTAGO CTRO"]
[4558,"ESC. MANUEL DE JESUS JIMENEZ","EDUC. ESPECIAL","PUBLICA","CARTAGO",57,4,4,3,1,8,"CARTAGO","CARTAGO","TIERRA BLANCA","TIERRA BLANCA","KENNETH BARAHONA FERNANDEZ",25300212,25300212,"escuela_tierrablanca@hotmail.com","COSTADO NOROESTE DEL PARQUE"]
[4559,"ESC. MOISES COTO FERNANDEZ","EDUC. ESPECIAL","PUBLICA","CARTAGO",57,4,6,3,3,6,"CARTAGO","LA UNION","DULCE NOMBRE","DULCE NOMBRE","LORENA CORDERO FERNÁNDEZ",22795133,22795133,"esc.moisescoto@gmail.com","CONTIGUO A LOS TANQUES DE AYA DE DULCE NOMBRE"]
[4560,"ESC. QUIRCOT","EDUC. ESPECIAL","PUBLICA","CARTAGO",57,4,2,3,1,4,"CARTAGO","CARTAGO","SAN NICOLAS","QUIRCOT","JOSE LUIS RODRIGUEZ CORDERO",25373061,25373061,"escuelaquircot@gmail.com","FRENTE A SUPER NESSA"]
[4561,"ESC. LUIS CRUZ MEZA","EDUC. ESPECIAL","PUBLICA","CARTAGO",57,4,5,3,6,2,"CARTAGO","ALVARADO","CERVANTES","CERVANTES","ANGELA GONZALEZ RIOS",25348308,25348308,"escluiscruzmeza@hotmail.com","100 NORTE DE LA IGLESIA CATOLICA"]
[4562,"ESC. COCORI","EDUC. ESPECIAL","PUBLICA","CARTAGO",57,4,7,3,1,5,"CARTAGO","CARTAGO","AGUA CALIENTE o SAN FRANCISCO","COCORI","Mª ELENA ALVARADO SOLANO",25515399,25515399,"ceapcocori@gmail.com","100 SUR DEL RESTAURANTE PINARES"]
[4564,"ESC. SAN BLAS","EDUC. ESPECIAL","PUBLICA","CARTAGO",57,4,1,3,1,3,"CARTAGO","CARTAGO","CARMEN","SAN BLAS","MARIA TERESA AGUILAR MONTERO",25523565,25523565,"escuelasanblas1951@hotmail.com","1KM NORTE DE LA BASILICA DE LOS ANGELES"]
[4565,"ESC. RESCATE DE UJARRAS","EDUC. ESPECIAL","PUBLICA","CARTAGO",57,4,5,3,2,5,"CARTAGO","PARAISO","LLANOS SANTA LUCIA","LLANOS SANTA LUCIA","SILVIA ASTUA QUESADA",25746669,25746669,"eru1752@gmail.com","50 SUR DE LA GUARDIA RURAL"]
[4566,"ESC. SAN VICENTE","EDUC. ESPECIAL","PUBLICA","CARTAGO",57,4,6,3,3,4,"CARTAGO","LA UNION","SAN RAFAEL","SAN VICENTE","KATTIA ARAYA ARAYA",22784689,22784689,"escuelasancivente@gmail.com","200 S 100 O 25 N DEL CENTRO DE SALUD"]
[4567,"ESC. MANUEL CASTRO BLANCO","EDUC. ESPECIAL","PUBLICA","LOS SANTOS",73,4,3,1,20,1,"SAN JOSE","LEON CORTES CASTRO","SAN PABLO","SAN PABLO","LUIS ARTURO CASTRO CASTRO",25466076,25466076,"esc.manuelcb@gmail.com","COSTADO ESTE DEL EDIFICIO MUMICIPRAL"]
[4569,"ESC. CORRALILLO","EDUC. ESPECIAL","PUBLICA","CARTAGO",57,4,7,3,1,7,"CARTAGO","CARTAGO","CORRALILLO","CORRALILLO","ILEANA MARCELA SOLANO LOAIZA",25489259,25489264,"escuelacorralillo@gmail.com","COSTADO NORTE PLAZA,CORRALILLO"]
[4570,"ESC. CARLOS LUIS VALVERDE VEGA","EDUC. ESPECIAL","PUBLICA","CARTAGO",57,4,3,3,8,2,"CARTAGO","EL GUARCO","SAN ISIDRO","SAN ISIDRO","LUIS QUESADA MENDEZ",25738313,25738313,"carlosluisvalverdevega1876@hotmail.com","COSTADO SUR DE LA PLAZA DE SAN ISIDRO"]
[4571,"ESC. QUEBRADILLA","EDUC. ESPECIAL","PUBLICA","CARTAGO",57,4,7,3,1,11,"CARTAGO","CARTAGO","QUEBRADILLA","QUEBRADILLA","IVONNE SANABRIA MATA",25737003,25737003,"esc.quebradilla@mep.go.cr","FRENTE A LA IGLESIA CATOLICA DE QUEBRADILLA"]
[4572,"ESC. CORAZON DE JESUS","EDUC. ESPECIAL","PUBLICA","CARTAGO",57,4,4,3,7,1,"CARTAGO","OREAMUNO","SAN RAFAEL","CORAZON DE JESUS","ANA LILLIAN CASTILLO ORTIZ",25913456,25913456,"escuelacorazondejesus@gmail.com","125M NORTE DE LA PLAZA DE DEPORTES"]
[4573,"C.T.P. MARIO QUIROS SASSO","EDUC. ESPECIAL","PUBLICA","CARTAGO",57,4,6,3,3,2,"CARTAGO","LA UNION","SAN DIEGO","SAN DIEGO","JUVENAL LEIVA OROZCO",22795206,22795206,"ctpmarioquiros@yahoo.com","TERRAMALL 150 ESTE"]
[4576,"ESC. PBRO. JUAN DE DIOS TREJOS","EDUC. ESPECIAL","PUBLICA","CARTAGO",57,4,4,3,6,1,"CARTAGO","ALVARADO","PACAYAS","PACAYAS","MARCOS AURELIO ZUÑIGA CAMPOS",25344391,25344391,"escpbrojuandedios@gmail.com","FRENTE AL PALACIO MUNICIPAL DE ALVARADO"]
[4577,"ESC. NUESTRA SEÑORA DE FATIMA","EDUC. ESPECIAL","PUBLICA","CARTAGO",57,4,1,3,1,2,"CARTAGO","CARTAGO","OCCIDENTAL","FATIMA","EMILY MASIS MARIN",25527420,25527420,"escueladefatima@gmail.com","200N DE METROCENTRO"]
[4578,"ESC. SANTA LUCIA","EDUC. ESPECIAL","PUBLICA","CARTAGO",57,4,5,3,2,5,"CARTAGO","PARAISO","LLANOS SANTA LUCIA","SANTA LUCIA","SERGIO SANCHEZ FUENTES",25746552,25746552,"escsantalucia1754@hotmail.com","LLANOS DE STN LUCIA DEL PALI 125 SUR"]
[4579,"ESC. CACIQUE GUARCO","EDUC. ESPECIAL","PUBLICA","CARTAGO",57,4,3,3,8,1,"CARTAGO","EL GUARCO","TEJAR","SANTA GERTRUDIS","JORGE QUESADA BARRANTES",25738534,25738534,"caciqueguarco@gmail.com","500MS AL ESTE DEL MEGASUPER"]
[4580,"ESC. LA PITAHAYA","EDUC. ESPECIAL","PUBLICA","CARTAGO",57,4,2,3,1,5,"CARTAGO","CARTAGO","AGUA CALIENTE o SAN FRANCISCO","LA PITAHAYA","ROSALIA SOLANO HERRERA",25521767,25521767,"esc.lapitahaya@gmail.com","1KM SUR DE ASEMBIS"]
[4581,"LICEO DE TARRAZU","EDUC. ESPECIAL","PUBLICA","LOS SANTOS",73,4,1,1,5,1,"SAN JOSE","TARRAZU","SAN MARCOS","SANTA CECILIA","LUZMILDA ARGUELLO VILLALOBOS",25466012,25469038,"lic.detarrazu@mep.go.cr","100 METROS NORTE DE COOPESANTOS"]
[4582,"ESC. FLORENCIO DEL CASTILLO","EDUC. ESPECIAL","PUBLICA","CARTAGO",57,4,8,3,2,4,"CARTAGO","PARAISO","CACHI","CACHI","JULIO MADRIGAL LEANDRO",25771007,25771007,"florenciodelcastillov@gmail.com","200 OESTE IGLESIA CATOLICA DE CACHI"]
[4584,"ESC. VILLAS DE AYARCO","EDUC. ESPECIAL","PUBLICA","CARTAGO",57,4,6,3,3,3,"CARTAGO","LA UNION","SAN JUAN","VILLAS DE AYARCO","EMILIA MÉNDEZ CALVO",22724746,22724746,"escuelavillasdeayarco@gmail.com","600M SUR DE PASSOCA VILLAS DE AYARCO"]
[4586,"ENSEÑANZA ESPECIAL DE TURRIALBA","EDUC. ESPECIAL","PUBLICA","TURRIALBA",58,4,2,3,5,1,"CARTAGO","TURRIALBA","TURRIALBA","LAS AMERICAS","XINIA MESEN MOYA",25560516,25572005,"e.especialturri@gmail.com","75 ESTE DELEGACION TRANSITO BARRIO CLORITO P."]
[4587,"ESC. MARIANO CORTES CORTES","EDUC. ESPECIAL","PUBLICA","TURRIALBA",58,4,2,3,5,1,"CARTAGO","TURRIALBA","TURRIALBA","LA GUARIA","SYLVIA GUERRERO ROJAS",25560173,25560173,"esc.marianocortes@gmail.com","200 NORTE Y 175 OESTE DEL CUERPO DE BOMBEROS."]
[4588,"ESC. EDUARDO PERALTA JIMENEZ","EDUC. ESPECIAL","PUBLICA","TURRIALBA",58,4,1,3,4,2,"CARTAGO","JIMENEZ","TUCURRIQUE","TUCURRIQUE","MARIO IVAN SOLANO AVILA",25350113,25350113,"escueladetucurrique@gmail.com","COSTADO ESTE DE LA IGLESIA CATOLICA"]
[4589,"ESC. RODOLFO HERZOG MULLER","EDUC. ESPECIAL","PUBLICA","TURRIALBA",58,4,3,3,5,2,"CARTAGO","TURRIALBA","LA SUIZA","LA SUIZA","GRACE GOMEZ GOMEZ",25311626,25311626,"esc.rodolfoherzogmuller@mep.go.cr","COSTADO SUR DEL EBAIS DE LA SUIZA."]
[4594,"C.T.P. LA SUIZA","EDUC. ESPECIAL","PUBLICA","TURRIALBA",58,4,3,3,5,2,"CARTAGO","TURRIALBA","LA SUIZA","LA SUIZA","ELIZABETH TREJOS SOLANO",25311001,25311067,"colegiolasuiza@gmail.com","100 MTS NORTE DE LA FUERZA PUBLICA"]
[4595,"ESC. CECILIO LINDO MORALES","EDUC. ESPECIAL","PUBLICA","TURRIALBA",58,4,1,3,4,1,"CARTAGO","JIMENEZ","JUAN VIÑAS","JUAN VIÑAS","ROCIO CASTRO SANCHEZ",25322105,25322105,"cecilio.lindom@gmail.com","200 NORTE DEL CUERPO DE BOMBEROS."]
[4602,"ESC. JUANA DENNIS VIVES","EDUC. ESPECIAL","PUBLICA","TURRIALBA",58,4,2,3,5,1,"CARTAGO","TURRIALBA","TURRIALBA","NOCHE BUENA","NIEVES CHAVES ROMERO",25569035,25569035,"jdy2021@hotmail.com","IGLESIA EVANGELICA 150 OESTE"]
[4604,"ESC. JENARO BONILLA AGUILAR","EDUC. ESPECIAL","PUBLICA","TURRIALBA",58,4,2,3,5,1,"CARTAGO","TURRIALBA","TURRIALBA","TURRIALBA","ALONSO MORA VALVERDE",25560264,25560264,"alonso.mora.valverde@mep.go.cr","CONTIGUO IGLESIA CATOLICA."]
[4615,"ENS.ESP. DE HEREDIA","EDUC. ESPECIAL","PUBLICA","HEREDIA",59,4,1,4,5,3,"HEREDIA","SAN RAFAEL","SANTIAGO","SANTIAGO","DANAE ESPINOZA VILLALOBOS",22371784,22371784,"ceeh2009@gmail.com","1 KM NORTE DE LA ENTRADA PRINCIPAL DE LA UNA"]
[4616,"ESC. FÁTIMA","EDUC. ESPECIAL","PUBLICA","HEREDIA",59,4,1,4,1,1,"HEREDIA","HEREDIA","HEREDIA","FÁTIMA","LILLIANA ARIAS CORELLA",22634404,22634404,"fatima2081@gmail.com","300 NORTE DE LA IGLESIA DE BARRIO FATIMA"]
[4617,"ESC. CLETO GONZÁLEZ VÍQUEZ","EDUC. ESPECIAL","PUBLICA","HEREDIA",59,4,1,4,1,1,"HEREDIA","HEREDIA","HEREDIA","CORAZÓN DE JESÚS","JUAN CARLOS UGALDE LOBO",22370313,22370313,"cletogonzalezv@gmail.com","400 NORTE DEL LICEO DE HEREDIA"]
[4618,"ESC. SAN FRANCISCO","EDUC. ESPECIAL","PUBLICA","HEREDIA",59,4,2,4,1,3,"HEREDIA","HEREDIA","SAN FRANCISCO","SAN FRANCISCO","WILSON BARRANTES GONZÁLEZ",22377496,22377496,"insanfranciscodeass@yahoo.com","200 METROS OESTE WALMART DE HEREDIA"]
[4619,"ESC. LABORATORIO","EDUC. ESPECIAL","PUBLICA","HEREDIA",59,4,1,4,5,3,"HEREDIA","SAN RAFAEL","SANTIAGO","SANTIAGO","GUISELLE CALDERON VIQUEZ",22371236,22371236,"escuelalaboratorio@hotmail.com","1 KM.NOROESTE DE LA UNIVERSIDAD NACIONAL"]
[4625,"C.T.P. DE ULLOA","EDUC. ESPECIAL","PUBLICA","HEREDIA",59,4,7,4,1,4,"HEREDIA","HEREDIA","ULLOA","BARREAL","MARICELA GONZÁLEZ ALFARO",22938390,0,"atolimel@hotmail.com","100 OESTE Y 300 SUR DE RITEVE"]
[4626,"ESC. JUAN MORA FERNÁNDEZ","EDUC. ESPECIAL","PUBLICA","HEREDIA",59,4,3,4,4,1,"HEREDIA","SANTA BARBARA","SANTA BARBARA","SANTA BÁRBARA","RUDYARD MIRANDA ROJAS",22699022,22699022,"ejmf1854@yahoo.es","COSTADO OESTE DEL PARQUE DE STA. BARBARA"]
[4628,"ESC. LA PUEBLA","EDUC. ESPECIAL","PUBLICA","HEREDIA",59,4,1,4,1,1,"HEREDIA","HEREDIA","HEREDIA","LA PUEBLA","ROY ODIO IBARRA",22374503,22374503,"escuelalapuebla@yahoo.es","COSTADO NORTE DE LA PLAZA DE DEPORTES PIRRO."]
[4629,"ESC. BRAULIO MORALES C.","EDUC. ESPECIAL","PUBLICA","HEREDIA",59,4,1,4,1,1,"HEREDIA","HEREDIA","HEREDIA","EL CARMEN","ROXANA LOBO CORDERO",22370429,22370429,"escuela_braulio@hotmail.com","300 SUR DE LA PARROQUIA  DE HEREDIA"]
[4631,"ESC. JOSÉ MARTÍ","EDUC. ESPECIAL","PUBLICA","HEREDIA",59,4,6,4,6,1,"HEREDIA","SAN ISIDRO","SAN ISIDRO","SAN ISIDRO","CINDY OVIEDO RODRIGUEZ",22688024,22688024,"escuelajosemarti.isidro@gmail.com","COSTADO SUR DE LA PLAZA"]
[4632,"ESC. JOSÉ E. GONZÁLEZ VINDAS","EDUC. ESPECIAL","PUBLICA","HEREDIA",59,4,6,4,9,1,"HEREDIA","SAN PABLO","SAN PABLO","SAN PABLO","MARGOTH VILLALOBOS VILLALOBOS",22370843,22622859,"escuelajosezequielglezvindas@gmail.com","DIAGONAL AL PARQUE CENTRAL DE SAN PABLO."]
[4633,"LICEO EL ROBLE","EDUC. ESPECIAL","PUBLICA","HEREDIA",59,4,3,4,4,5,"HEREDIA","SANTA BARBARA","SANTO DOMINGO","EL ROBLE","VERNY QUIROS BURGOS",24830095,24830095,"centroeducativo.roble@gmail.com","STO. DOMINGO, STA. BARBARA HEREDIA."]
[4634,"ESC. ESPAÑA","EDUC. ESPECIAL","PUBLICA","HEREDIA",59,4,7,4,7,1,"HEREDIA","BELEN","SAN ANTONIO","SAN ANTONIO","ALVARO SAENZ CAMPOS",22390925,22390925,"escuelaespana1925@gmail.com","200 MTS. NORTE DEL PALACIO MUNICIPAL."]
[4636,"ESC. PEDRO MURILLO PÉREZ","EDUC. ESPECIAL","PUBLICA","HEREDIA",59,4,4,4,2,1,"HEREDIA","BARVA","BARVA","BARVA","YACO VEGA LACAYO",22382519,22382519,"escuelapedromurillo@yahoo.com","300 METROS ESTE DEL PARQUE DE BARVA."]
[4638,"ESC. CRISTÓBAL COLÓN","EDUC. ESPECIAL","PUBLICA","HEREDIA",59,4,5,4,3,7,"HEREDIA","SANTO DOMINGO","TURES","LOS ÁNGELES","GABRIELA CAMPOS ARCE",22689018,22684832,"esccristobalcolon@gmail.com","100 METROS ESTE DE LA PLAZA DE DEPORTES"]
[4639,"ESC. FIDEL CHAVES MURILLO","EDUC. ESPECIAL","PUBLICA","HEREDIA",59,4,7,4,7,2,"HEREDIA","BELEN","LA RIBERA","LA RIBERA","RONNY MORALES GUADAMUZ",22396667,22396667,"escuelafidelchavesm@gmail.com","COSTADO OESTE DE LA PLAZA DEPORTE LA RIBERA"]
[4641,"ESC. LLORENTE DE FLORES","EDUC. ESPECIAL","PUBLICA","HEREDIA",59,4,7,4,8,3,"HEREDIA","FLORES","LLORENTE","LLORENTE DE FLORES","MANUEL ALBERTO CHAN CARRILLO",22655019,22655019,"escuelallorente@live.com","COSTADO NORTE DE LA PLAZA DE DEPORTES."]
[4643,"ESC. PUENTE SALAS","EDUC. ESPECIAL","PUBLICA","HEREDIA",59,4,4,4,2,2,"HEREDIA","BARVA","SAN PEDRO","PUENTE SALAS","LORENA MATAMOROS VÍQUEZ",22602296,22602296,"escuelapuentesalas@hotmail.es","75 METROS OESTE DE INDUSTRIAS PUENTE SALAS"]
[4644,"ESC. LA AURORA","EDUC. ESPECIAL","PUBLICA","HEREDIA",59,4,7,4,1,4,"HEREDIA","HEREDIA","ULLOA","LA AURORA","ANA ELEIDA ARGUEDAS BEITA",22932598,22932598,"escuelalaaurora@yahoo.es","100 MTS. SUR DEL PARQUE DE LA AURORA"]
[4645,"ESC. FINCA GUARARÍ","EDUC. ESPECIAL","PUBLICA","HEREDIA",59,4,2,4,1,3,"HEREDIA","HEREDIA","SAN FRANCISCO","GUARARÍ","JEANNETTE CHAVES GOMEZ",22371887,22371887,"escuelaguarari@gmail.com","FRENTE A LA CLINICA DE GUARARI"]
[4646,"ESC. CUBUJUQUÍ","EDUC. ESPECIAL","PUBLICA","HEREDIA",59,4,2,4,1,2,"HEREDIA","HEREDIA","MERCEDES","CUBUJUQUÍ","FRANCINE CESPEDES RODRIGUEZ",22606064,22629838,"ecubujuqui@gmail.com","600 METROS OESTE DE LA ESTACION DE BOMBEROS"]
[4647,"ESC. SAN PABLO","EDUC. ESPECIAL","PUBLICA","HEREDIA",59,4,4,4,2,3,"HEREDIA","BARVA","SAN PABLO","SAN PABLO","MAGALY HERNANDEZ GUZMAN",22379586,22379586,"escuela.sanpablodebarva.04@gmail.com","350 N.,300 O. Y 25 SUR DE LA IGLESIA CATOLICA"]
[4648,"ESC. PUERTO VIEJO","EDUC. ESPECIAL","PUBLICA","SARAPIQUI",74,4,3,4,10,1,"HEREDIA","SARAPIQUI","PUERTO VIEJO","PUERTO VIEJO","JULIETA ALVARADO GONZALEZ",27666267,27666267,"julietaalgo@hotmail.com","CONTIGUO AL SALON PARROQUIAL"]
[4649,"ESC. MERCEDES SUR","EDUC. ESPECIAL","PUBLICA","HEREDIA",59,4,2,4,1,2,"HEREDIA","HEREDIA","MERCEDES","MERCEDES SUR","YANCY SILENI MENDOZA LOPEZ",22370165,22370165,"escuelamercedessur@gmail.com","50 SUR DEL SUPER LA PERLA."]
[4651,"ESC. TRANQUILINO SÁENZ ROJAS","EDUC. ESPECIAL","PUBLICA","HEREDIA",59,4,3,4,4,3,"HEREDIA","SANTA BARBARA","SAN JUAN","SAN JUAN","PATRICIA SOLANO SALAZAR",22655325,22655325,"tranquilinosaenzrojas@yahoo.com","FRENTE A LA PLAZA DE DEPORTES SAN JUAN."]
[4652,"ESC. PEDRO Mª BADILLA BOLAÑOS","EDUC. ESPECIAL","PUBLICA","HEREDIA",59,4,4,4,5,1,"HEREDIA","SAN RAFAEL","SAN RAFAEL","SAN RAFAEL","LUIS A. HERNÁNDEZ CASTELLÓN",22603328,22612727,"pedrombadilla@hotmail.es","DIAGONAL A LA MUNICIPALIDAD DE SN RAFAEL DE H"]
[4655,"ESC. FINCA SEIS","EDUC. ESPECIAL","PUBLICA","SARAPIQUI",74,4,2,4,10,3,"HEREDIA","SARAPIQUI","LAS HORQUETAS","FINCA SEIS","ROCIO PICADO AZOFEIFA",27643124,27643124,"escuelafincaseis@hotmail.com","200 ESTE 50 NORTE DEL BANCO NACIONAL"]
[4656,"ESC. CONCEPCIÓN","EDUC. ESPECIAL","PUBLICA","HEREDIA",59,4,6,4,5,5,"HEREDIA","SAN RAFAEL","CONCEPCION","CONCEPCIÓN SN.RAFAEL","MARIBEL CASAL GARCIA",22683042,22683042,"escuelaconcepcionsanrafael@gmail.com","DETRAS DE LA IGLESIA CATOLICA"]
[4658,"ESC. NUEVO HORIZONTE","EDUC. ESPECIAL","PUBLICA","HEREDIA",59,4,2,4,1,3,"HEREDIA","HEREDIA","SAN FRANCISCO","NÍSPEROS TRES","WILBERT MORGAN MCLEAN",22631586,22631586,"nuevohorizonte95@hotmail.com","FRENTE AL ABASTECEDOR EL PROGRESO"]
[4659,"ESC. ARTURO MORALES G.","EDUC. ESPECIAL","PUBLICA","HEREDIA",59,4,4,4,2,6,"HEREDIA","BARVA","SAN JOSE DE LA MONTAÑA","S.J. DE LA MONTAÑA","BERNARDITA LOBO HERNANDEZ",22660481,22662047,"escuelamoraleslaboratorio@gmail.com","COSTADO SUR DEL TEMPLO CATOLICO"]
[4670,"ESC. JOSÉ RAMÓN HERNÁNDEZ B.","EDUC. ESPECIAL","PUBLICA","HEREDIA",59,4,1,4,1,1,"HEREDIA","HEREDIA","HEREDIA","BARRIO LOURDES","ENRIQUE CARVAJAL GONZALEZ",22376774,22376774,"ejoseramon@gmail.com","COSTADO OESTE DE LA EMPRESA DE SERVICIOS P."]
[4672,"ESC. FÉLIX A. MONTERO M.","EDUC. ESPECIAL","PUBLICA","HEREDIA",59,4,5,4,3,1,"HEREDIA","SANTO DOMINGO","SANTO DOMINGO","SANTO DOMINGO","PATRICIA RODRIGUEZ VILLALOBOS",22440175,22440175,"escuelafam.arcadio7@gmail.com","COSTADO SUR DE LA PLAZA DE DEPORTES"]
[4673,"ENSEÑANZA ESPECIAL DE LIBERIA","EDUC. ESPECIAL","PUBLICA","LIBERIA",60,4,2,5,1,1,"GUANACASTE","LIBERIA","LIBERIA","MORACIA","ELLEN ERIKA CAMBRONERO BRENES",26660508,26660508,"ceeli35@gmail.com","COSTADO SURESTE DEL MINISTERIO DE SALUD"]
[4677,"ESC. LA VICTORIA","EDUC. ESPECIAL","PUBLICA","LIBERIA",60,4,2,5,1,1,"GUANACASTE","LIBERIA","LIBERIA","LA VICTORIA","YAMILETH NAVARRO VARGAS",26660982,26660982,"esc.lavictoria.liberia@mep.go.cr","COSTADO OESTE PLAZA DE DEPORTES LA VICTORIA"]
[4678,"ESC. SALVADOR VILLAR MUÑOZ","EDUC. ESPECIAL","PUBLICA","LIBERIA",60,4,1,5,10,1,"GUANACASTE","LA CRUZ","LA CRUZ","LA CRUZ","BERNY ALBERTO MUÑOZ PORRAS",26799147,26799147,"esc.salvadorvillarmunoz@mep.go.cr","COSTADO NORESTE DEL PARQUE MUNICIPAL"]
[4679,"ESC. ISABEL BROWN BROWN","EDUC. ESPECIAL","PUBLICA","LIBERIA",60,4,2,5,1,1,"GUANACASTE","LIBERIA","LIBERIA","SAN ROQUE","MARIA MAYELA CHAVEZ CHAVEZ",26661673,26661673,"esc.isabelbrownbrown@mep.go.cr","100 ESTE DE PANADERIA MUSMANI"]
[4681,"C.T.P. LIBERIA","EDUC. ESPECIAL","PUBLICA","LIBERIA",60,4,2,5,1,1,"GUANACASTE","LIBERIA","LIBERIA","EL CAPULIN","MILTON ROJAS MENDEZ",26663845,26660023,"ctp.deliberia@mep.go.cr","FRENTE A OFIC.DEL M.A.G.EN EL CAPULIN"]
[4682,"ESC. GUARDIA","EDUC. ESPECIAL","PUBLICA","LIBERIA",60,4,2,5,1,4,"GUANACASTE","LIBERIA","NACASCOLO","GUARDIA","KARINA ORDÓÑEZ CRUZ",26670044,26670044,"escueladeguardia@hotmail.com","COSTADO OESTE DEL TEMPLO CATOLICO DE GUARDIA"]
[4684,"ESC. CORAZÓN DE JESÚS","EDUC. ESPECIAL","PUBLICA","LIBERIA",60,4,4,5,1,1,"GUANACASTE","LIBERIA","LIBERIA","CORAZÓN DE JESÚS","FRANCISCA BUSTOS LOPEZ",26664018,26664018,"escuelacorzon@gmail.com","1 KM NORTE, 700 ESTE DE LA BURGER KING"]
[4686,"ESC. EL GUAYABO","EDUC. ESPECIAL","PUBLICA","LIBERIA",60,4,3,5,4,3,"GUANACASTE","BAGACES","MOGOTE","GUAYABO","CLAUDIA MADRIGAL REYES",26730247,26730247,"esc.elguayabo@mep.go.cr","FRENTE AL TEMPLO CATOLICO DE GUAYABO"]
[4692,"ESC. LEONIDAS BRICEÑO BALTODANO","EDUC. ESPECIAL","PUBLICA","NICOYA",61,4,1,5,2,1,"GUANACASTE","NICOYA","NICOYA","INVU","WARNER MATARRITA ESPINOZA",26855329,26855329,"esc.leonidasbricenobaltodano@mep.go.cr","200 SUR Y 25 ESTE DE LA MUNICIPALIDAD"]
[4693,"ESC. PBRO. JOSE DANIEL CARMONA BRICEÑO","EDUC. ESPECIAL","PUBLICA","NICOYA",61,4,7,5,9,1,"GUANACASTE","NANDAYURE","CARMONA","COLONIA","ELIAS CARDENAS CARAVACA",26577178,26577178,"esc.josedanielcarmona@mep.go.cr","COSTADO SUR DEL PARQUE CARMONA"]
[4697,"C.T.P. DE NICOYA","EDUC. ESPECIAL","PUBLICA","NICOYA",61,4,1,5,2,1,"GUANACASTE","NICOYA","NICOYA","INVU","WILBERTH UGARTE MEDINA",26855292,26855292,"c.t.p.nicoya@gmail.com","300 SUR DE LA MUNICIPALIDAD"]
[4708,"ESC. JOSEFINA LOPEZ BONILLA","EDUC. ESPECIAL","PUBLICA","SANTA CRUZ",62,4,1,5,3,1,"GUANACASTE","SANTA CRUZ","SANTA CRUZ","ESQUIPULAS","CELIA PASTRANA GUTIERREZ",26800025,26800025,"esc.josefina.lopez.bonilla@mep.go.cr","100 MTS OESTE DE LA EMPRESA TRALAPA"]
[4709,"C.T.P. DE SANTA CRUZ","EDUC. ESPECIAL","PUBLICA","SANTA CRUZ",62,4,7,5,3,1,"GUANACASTE","SANTA CRUZ","SANTA CRUZ","GUAYABAL","DIDIER BRICEÑO GOMEZ",26800315,26800315,"ctpsantacruzdireccion@gmail.comm","CARRETERA HACIA NICOYA"]
[4710,"ESC. BELEN","EDUC. ESPECIAL","PUBLICA","SANTA CRUZ",62,4,5,5,5,4,"GUANACASTE","CARRILLO","BELEN","BELEN","ARGERIE LOPEZ ROSALES",26511232,26511232,"esc.debelen@mep.go.cr","COSTADO ESTE DE LA IGLESIA CATOLICA"]
[4711,"ESC. CARTAGENA","EDUC. ESPECIAL","PUBLICA","SANTA CRUZ",62,4,3,5,3,5,"GUANACASTE","SANTA CRUZ","CARTAGENA","CARTAGENA","HENRY SEQUIERA MENDOZA",26750080,26750080,"esc.cartagena@mep.go.cr","250 MTS DE LA GAR"]
[4715,"C.T.P. CARRILLO","EDUC. ESPECIAL","PUBLICA","SANTA CRUZ",62,4,5,5,5,1,"GUANACASTE","CARRILLO","FILADELFIA","LOS JOCOTES","GLENIA MARIA CARAVACA ESCOBAR",26886103,26886103,"ctp.decarrillo@mep.go.cr","1 KM NORTE DE GASOLINERA SABANA"]
[4719,"ESC. MONSEÑOR LUIS LEIPOLD","EDUC. ESPECIAL","PUBLICA","CAÑAS",63,4,1,5,6,1,"GUANACASTE","CAÑAS","CAÑAS","CAÑAS","JOSE ARNOLDO  PIZARRO CANALES",26688036,26688036,"esculaluisleipold@hotmail.com","FRENTE A LA PLAZA COLON CAñAS"]
[4720,"ESC. JOSE MARIA CALDERON","EDUC. ESPECIAL","PUBLICA","CAÑAS",63,4,3,5,8,1,"GUANACASTE","TILARAN","TILARAN","TILARAN","ELIZANDRO GARCIA MURILLO",26952187,26958380,"elizandrogarciamurillo@gmail.com","250 ESTE DEL BANCO DE COSTA RICA"]
[4721,"ESC. DELIA OVIEDO DE ACUÑA","EDUC. ESPECIAL","PUBLICA","CAÑAS",63,4,2,5,7,1,"GUANACASTE","ABANGARES","JUNTAS","LAS JUNTAS","ELVIA ESQUIVEL  JIMENEZ",26620362,26620016,"edodirectora@gmail.com","FRENTE A LA CASA CURAL"]
[4722,"COLEGIO MIGUEL ARAYA VENEGAS","EDUC. ESPECIAL","PUBLICA","CAÑAS",63,4,1,5,6,1,"GUANACASTE","CAÑAS","CAÑAS","CAÑAS","ALEJANDRA TORUÑO CRUZ",26690113,26690113,"lmiguelaraya@gmail.com","FRENTE A LAS INSTALACIONES DEL POLIDEPORTIVO"]
[4723,"ESC. BEBEDERO","EDUC. ESPECIAL","PUBLICA","CAÑAS",63,4,1,5,6,4,"GUANACASTE","CAÑAS","BEBEDERO","BEBEDERO","MAYELA LOBO CHAVARRIA",26740225,26740225,"esc.bebedero@mep.go.cr","150 OESTE DEL SALON COMUNAL"]
[4725,"ESC. ARENAL","EDUC. ESPECIAL","PUBLICA","CAÑAS",63,4,3,5,8,7,"GUANACASTE","TILARAN","ARENAL","ARENAL","ELSIE RODRIGUEZ RODRIGUEZ",26944110,26944110,"esc.arenal@mep.go.cr","100 METROS OESTE DEL CORREO"]
[4726,"ESC. COLORADO","EDUC. ESPECIAL","PUBLICA","CAÑAS",63,4,4,5,7,4,"GUANACASTE","ABANGARES","COLORADO","COLORADO","EUGENIA LARA GUADAMUZ",26780028,26780028,"esc.tecnicadecolorado@mep.go.cr","CENTRO COLORADO"]
[4729,"ENSEÑANZA ESPECIAL Y REHABILITACION PUNTARENAS","EDUC. ESPECIAL","PUBLICA","PUNTARENAS",64,4,1,6,1,15,"PUNTARENAS","PUNTARENAS","EL ROBLE","EL ROBLE","MARISOL ORTEGA GUEVARA",26631682,26631682,"cee.puntarenas@mep.go.cr","DETRAS DEL RESIDENCIAL EL ROBLEDAL"]
[4730,"ESC. DELIA URBINA DE GUEVARA","EDUC. ESPECIAL","PUBLICA","PUNTARENAS",64,4,5,6,1,1,"PUNTARENAS","PUNTARENAS","PUNTARENAS","PUNTARENAS","DIONEL MENDEZ SALAZAR",26611912,26611912,"escueladelia@hotmail.com","COSTADO NORTE DE LA IGLESIA CATEDRAL"]
[4731,"ESC. MORA Y CAÑAS","EDUC. ESPECIAL","PUBLICA","PUNTARENAS",64,4,5,6,1,1,"PUNTARENAS","PUNTARENAS","PUNTARENAS","COCAL","GRACE HERRERA MOYA",26610519,26610519,"escuelamoraycanas@hotmail.com","25 ESTE DE LA CANCHA DE BASKET DEL INVU"]
[4732,"C.T.P. PUNTARENAS","EDUC. ESPECIAL","PUBLICA","PUNTARENAS",64,4,1,6,1,8,"PUNTARENAS","PUNTARENAS","BARRANCA","BARRANCA PROGRESO","ERICK CENTENO HERRERA",26630274,26630274,"ctp.depuntarenas@mep.go.cr","FRENTE A URBANIZACION EL PROGRESO"]
[4733,"ESC. ARTURO TORRES MARTINEZ","EDUC. ESPECIAL","PUBLICA","PUNTARENAS",64,4,8,6,2,1,"PUNTARENAS","ESPARZA","ESPIRITU SANTO","ESPIRITU SANTO","MEYLIN ARROYO VASQUEZ",26366130,26366130,"escuelaarturotorres@gmail.com","COSTADO NORTE DEL PARQUE PEREZ"]
[4734,"ESC. JOSE RICARDO ORLICH ZAMORA","EDUC. ESPECIAL","PUBLICA","PUNTARENAS",64,4,5,6,1,12,"PUNTARENAS","PUNTARENAS","CHACARITA","CHACARITA","ELENA Mª ARGUEDAS SANCHEZ",26630093,26630093,"jorlich2805@hotmail.com","CONTIGUO A LA IGLESIA SANTA CRUZ CHACARITA"]
[4735,"ESC. JOSE MARIA ZELEDON BRENES","EDUC. ESPECIAL","PUBLICA","PUNTARENAS",64,4,4,6,4,1,"PUNTARENAS","MONTES DE ORO","MIRAMAR","MIRAMAR","RICARDO RAMIREZ GÄTTGENS",26399068,26399068,"esc.josemariazeledonbrenes@mep.go.cr","200M SUR DEL BNCR"]
[4737,"ESC. RIOJALANDIA","EDUC. ESPECIAL","PUBLICA","PUNTARENAS",64,4,1,6,1,8,"PUNTARENAS","PUNTARENAS","BARRANCA","RIOJALANDIA","OSCAR CASCANTE CASCANTE",26632219,26632219,"esc.riojalandia@gmail.com","100 MTS SUR DE LA ENTRADA DE INOLASA"]
[4740,"ESC. DR. RICARDO MORENO CAÑAS","EDUC. ESPECIAL","PUBLICA","PENINSULAR",76,4,4,6,1,4,"PUNTARENAS","PUNTARENAS","LEPANTO","JICARAL","JOSÉ EDUARDO VILLAGRA QUIRÓS",26500295,26500295,"drricardomorenoc@hotmail.es","500 M. OESTE DEL PARQUE DE JICARAL DE LEPANTO"]
[4741,"ESC. EL ROBLE","EDUC. ESPECIAL","PUBLICA","PUNTARENAS",64,4,1,6,1,15,"PUNTARENAS","PUNTARENAS","EL ROBLE","EL ROBLE","EILEEN ARIAS VARGAS",26630290,26630290,"esc.elroble.puntarenas@mep.go.cr","DE FOTO SALAZAR 200 METROS OESTE"]
[4742,"ESC. FRAY CASIANO DE MADRID","EDUC. ESPECIAL","PUBLICA","PUNTARENAS",64,4,5,6,1,12,"PUNTARENAS","PUNTARENAS","CHACARITA","FRAY CASIANO DE M.","MARCOS MOLINA OBANDO",26630419,26638609,"escfraycasianodemadrid@hotmail.com","COSTADO OESTE DEL INA"]
[4745,"ESC. JULIO ACOSTA GARCIA","EDUC. ESPECIAL","PUBLICA","PENINSULAR",76,4,1,6,1,5,"PUNTARENAS","PUNTARENAS","PAQUERA","PAQUERA","ANA PATRICIA HERRERA DÁVILA",26410462,26410247,"esc.julioacostagarcia@mep.go.cr","200 M. SUR DE LA FUERZA PÚBLICA"]
[4750,"C.T.P. DE PAQUERA","EDUC. ESPECIAL","PUBLICA","PENINSULAR",76,4,1,6,1,5,"PUNTARENAS","PUNTARENAS","PAQUERA","PAQUERA","AGNES MAKRÉ MORA",26410125,26410125,"ctppaquera74@gmail.com","CONTIGUO A OFICINAS DEL MAG EN PAQUERA CENTRO"]
[4752,"C.T.P. JICARAL","EDUC. ESPECIAL","PUBLICA","PENINSULAR",76,4,4,6,1,4,"PUNTARENAS","PUNTARENAS","LEPANTO","JICARAL","MIGUEL CHAVARRÍA RODRÍGUEZ",26500140,26500140,"ctpjicaral@hotmail.com","100 OESTE DE LA CLÍNICA"]
[4755,"ESC. ALBERTO ECHANDI MONTERO","EDUC. ESPECIAL","PUBLICA","COTO",65,4,9,6,10,1,"PUNTARENAS","CORREDORES","CORREDOR","CIUDAD NEILY","LUISA BUSTOS QUIRÓS",27833821,27833821,"esc.licalbertoechandimontero@mep.go.cr","100 MTS NORTE DEL BANCO POPULAR"]
[4756,"ESC. MARÍA AUXILIADORA","EDUC. ESPECIAL","PUBLICA","COTO",65,4,5,6,8,1,"PUNTARENAS","COTO BRUS","SAN VITO","MARÍA AUXILIADORA","FLANDER GONZÁLEZ SALGADO",27733297,27733297,"esc.mariaauxiliadora@mep.go.cr","DIAGONAL A SUPERMERCADO PALÍ"]
[4757,"ESC. CENTRAL SAN JOSÉ","EDUC. ESPECIAL","PUBLICA","COTO",65,4,1,6,7,1,"PUNTARENAS","GOLFITO","GOLFITO","BARRIO BELLA VISTA","ADONAY ALFARO TORRES",27750083,27750083,"escuelagolfitosanjose@gmail.com","DETRÁS DEL ESTADIO FORTUNATO ATENCIO"]
[4759,"ESC. NIEBOROWSKY","EDUC. ESPECIAL","PUBLICA","GRANDE DE TERRABA",75,4,6,6,5,1,"PUNTARENAS","OSA","PUERTO CORTES","CIUDAD PUERTO CORTES","LUIS DIEGO CASTILLO JIMÉNEZ",27888330,27888330,"esc.nieborowsky@mep.go.cr","COSTADO N.ANTIGUO HOS.DR.TOMAS CASAS CASAJUS."]
[4761,"ESC. PASO CANOAS","EDUC. ESPECIAL","PUBLICA","COTO",65,4,10,6,10,3,"PUNTARENAS","CORREDORES","CANOAS","CANOAS","CASILDA VEGA RODRÍGUEZ",27371279,27371279,"esc.pasocanoas@mep.go.cr","FRENTE A LA IGLESIA CATÓLICA, EN CANOAS"]
[4762,"C.T.P. DE OSA","EDUC. ESPECIAL","PUBLICA","GRANDE DE TERRABA",75,4,7,6,5,2,"PUNTARENAS","OSA","PALMAR","PALMAR NORTE","JEANNETTE VINDAS ARGUEDAS",27866156,27866156,"ctposa@gmail.com","PALMAR NORTE,FRENTE A CABINAS BRUNKA"]
[4763,"C.T.P. UMBERTO MELLONI CAMPANINI","EDUC. ESPECIAL","PUBLICA","COTO",65,4,5,6,8,1,"PUNTARENAS","COTO BRUS","SAN VITO","SAN VITO","MARVIN ELIZONDO MÉNDEZ",27733125,27733125,"umbertomelloni@hotmail.com","400 MTS AL NO DE CORREOS DE COSTA RICA"]
[4764,"C.T.P. CARLOS MANUEL VICENTE CASTRO","EDUC. ESPECIAL","PUBLICA","COTO",65,4,1,6,7,1,"PUNTARENAS","GOLFITO","GOLFITO","INVÚ LA ROTONDA","MARJORIE HERNÁNDEZ ROJAS",27750142,27753132,"ctp.carlosmanuelvicente@mep.go.cr","DETRÁS DEL DEPÓSITO LIBRE COMERC. DE GOLFITO"]
[4765,"ESC. EDUARDO GARNIER UGALDE","EDUC. ESPECIAL","PUBLICA","GRANDE DE TERRABA",75,4,7,6,5,2,"PUNTARENAS","OSA","PALMAR","PALMAR NORTE","LUISA PEREZ OROZCO",27866560,27866560,"escuelaeduardogarnier@gmail.com","FRENTE A LA GUARDIA RURAL"]
[4767,"C.T.P. DE CORREDORES","EDUC. ESPECIAL","PUBLICA","COTO",65,4,10,6,10,2,"PUNTARENAS","CORREDORES","LA CUESTA","LA CUESTA","EMILSE N. JIMÉNEZ MIRANDA",27321139,27322032,"ctp.decorredores@mep.go.cr","3 KM. ESTE DE ADUANA TICA CAMINO A LA CUESTA"]
[4769,"C.T.P. DE PUERTO JIMÉNEZ","EDUC. ESPECIAL","PUBLICA","COTO",65,4,3,6,7,2,"PUNTARENAS","GOLFITO","PUERTO JIMENEZ","PUERTO JIMÉNEZ","HERMILEY ALVARADO LÓPEZ",27355201,27355201,"ctp.puertojimenez@mep.go.cr","300 METROS SUR BOMBA OSA"]
[4770,"ESC. GENERAL TOMÁS GUARDIA GUTIERREZ","EDUC. ESPECIAL","PUBLICA","LIMON",66,4,1,7,1,1,"LIMON","LIMON","LIMON","LIMON CENTRO","ELKIE MARTÍNEZ BRENES",27580807,27580807,"esc.generaltomasguardia@mep.go.cr","COSTADO ESTE DE LA MUSMANI, LIMON CENTRO"]
[4771,"ESC. RAFAEL YGLESIAS CASTRO","EDUC. ESPECIAL","PUBLICA","LIMON",66,4,1,7,1,1,"LIMON","LIMON","LIMON","LIMON CENTRO","MARIA MOYA WOLFE",27580537,27580537,"esc.rafaelyglesiascastro@mep.go.cr","DE RADIO CASINO 75 M. OESTE"]
[4772,"ESC. JUSTO ANTONIO FACIO","EDUC. ESPECIAL","PUBLICA","LIMON",66,4,5,7,3,1,"LIMON","SIQUIRRES","SIQUIRRES","MARIA AUXILIADORA","LUZMILDA RICKETT PATTERSON",27688205,27688840,"esc.justoantoniofacio@mep.go.cr","200 M. OESTE DE LA TERMINAL DE BUSES"]
[4773,"ESC. BATAAN","EDUC. ESPECIAL","PUBLICA","LIMON",66,4,9,7,5,2,"LIMON","MATINA","BATAN","BATAN CENTRO","EDGAR VILLEGAS RODRIGUEZ",27186851,27184597,"esc.excelenciabataan@mep.go.cr","CONTIGUO AL MINISTERIO DE SALUD, BATAN"]
[4774,"COLEGIO LIMON","EDUC. ESPECIAL","PUBLICA","LIMON",66,4,1,7,1,1,"LIMON","LIMON","LIMON","CERRO MOCHO","EDITH NATALIA DIAZ FIGUEROA",27580027,27983652,"col.delimondiurno@mep.go.cr","DIAGONAL AL TALLER DEL INA"]
[4776,"C.T.P. DE BATAAN","EDUC. ESPECIAL","PUBLICA","LIMON",66,4,9,7,5,2,"LIMON","MATINA","BATAN","BATAN","FLORIBETH ARIAS PICADO",27184052,27186105,"ctpdebataan@gmail.com","CONTIGUO A LA SUCURSAL DE LA C.C.S.S."]
[4778,"ESC. LOS CORALES","EDUC. ESPECIAL","PUBLICA","LIMON",66,4,1,7,1,1,"LIMON","LIMON","LIMON","LOS CORALES","REINALDO SKIPTON MEDRANO",27951022,27951022,"escuelacorales@hotmail.com","FRENTE AL COL. TEC. PROF. INDUSTRIAL DE LIMON"]
[4780,"ESC. MATINA","EDUC. ESPECIAL","PUBLICA","LIMON",66,4,9,7,5,1,"LIMON","MATINA","MATINA","MATINA CENTRO","CARLA CRAWFORD GREGORY",27181316,27181316,"centroeducativomatina@gmail.com","100 M. NORTE DE ESTACIÓN DEL FERROCARRIL"]
[4782,"ESC. PROYECTO PACUARE","EDUC. ESPECIAL","PUBLICA","LIMON",66,4,1,7,1,1,"LIMON","LIMON","LIMON","PROYECTO PACUARE","RUTH CASTRO DELGADO",27954856,27954856,"esc.proyectopacuare@mep.go.cr","CONTIGUO A LA ANTIGUA DIR. REG. DE POLICIAS"]
[4784,"ESC. LIMON 2000","EDUC. ESPECIAL","PUBLICA","LIMON",66,4,7,7,1,3,"LIMON","LIMON","RIO BLANCO","LIMON 2000","IVONNE WRIGHT RUSSELL",27972815,27972815,"escuelalimon2000@yahoo.com","500 M. OESTE DE RTV, LIMÓN 2000"]
[4787,"C.T.P. PADRE ROBERTO EVANS","EDUC. ESPECIAL","PUBLICA","LIMON",66,4,4,7,3,1,"LIMON","SIQUIRRES","SIQUIRRES","PALMIRAS","CLARENCE CRAWFORD MAC DONALD",27688093,27686070,"ctprobertoevans@gmail.com","250 M. SUR DE LAS OFICINAS DE CORREOS DE C.R."]
[4788,"ESC. LOS LIRIOS","EDUC. ESPECIAL","PUBLICA","LIMON",66,4,2,7,1,2,"LIMON","LIMON","VALLE LA ESTRELLA","LOS LIRIOS","LEICELL ARCE CAMPOS",27985497,27985497,"esc.loslirios@mep.go.cr","1 K. AL SUR DE LA CLINICA LOS COCOS"]
[4789,"C.T.P. DE TALAMANCA","EDUC. ESPECIAL","PUBLICA","SULA",77,4,1,7,4,1,"LIMON","TALAMANCA","BRATSI","BRIBRÍ","WILBERTH VARGAS COTO",27510060,27510244,"ctptalamanca@gmail.com","500 M. OESTE DE LOS TRIBUNALES DE JUSTICIA."]
[4794,"ESC. POCORA","EDUC. ESPECIAL","PUBLICA","GUAPILES",67,4,4,7,6,3,"LIMON","GUACIMO","POCORA","POCORA","DANIEL SEUQEIRA ESPINOZA",27600831,27600831,"liderpocora3645@hotmail.com","DIAGONAL A LA DELEGACIÓN, POCORA NORTE"]
[4795,"ESC. CENTRAL DE GUÁPILES","EDUC. ESPECIAL","PUBLICA","GUAPILES",67,4,1,7,2,1,"LIMON","POCOCI","GUAPILES","GUÁPILES","OLGER LÓPEZ MEDINA",27104183,27105591,"esccentralguapiles@gmail.com","FRENTE A LA PLAZA EL SALVADOR"]
[4796,"ESC. CAMPO KENNEDY","EDUC. ESPECIAL","PUBLICA","GUAPILES",67,4,3,7,2,5,"LIMON","POCOCI","CARIARI","CARIARI","WALTER VILLALOBOS VARGAS",27677416,27677416,"esc.lidercampokennedy@mep.go.cr","25 SUR DEL BANCO NACIONAL , CARIARI CENTRO."]
[4799,"ESC. ROXANA","EDUC. ESPECIAL","PUBLICA","GUAPILES",67,4,5,7,2,4,"LIMON","POCOCI","ROXANA","ROXANA","ROLANDO VARGAS FERNÁNDEZ",27633096,27633096,"esc.roxana@mep.go.cr","FRENTE A LA IGLESIA CATOLICA ROXANA"]
[4800,"ESC. MANUEL MARIA GUTIÉRREZ ZAMORA","EDUC. ESPECIAL","PUBLICA","GUAPILES",67,4,4,7,6,1,"LIMON","GUACIMO","GUACIMO","GUÁCIMO","BEATRIZ MORA VALVERDE",27165689,27165689,"esc.manuelmariagutierrez@mep.go.cr","CONTIGUO AL TEMPLO CATOLICO, GUACIMO-LIMON."]
[4803,"C.T.P. GUÁCIMO","EDUC. ESPECIAL","PUBLICA","GUAPILES",67,4,4,7,6,1,"LIMON","GUACIMO","GUACIMO","LOS COLEGIOS","VANNESA VARGAS MENA",27166802,27166802,"ctpguacimo@hotmail.com","1 KM.N.DE LA ANTIGUA ESTACION DE FERROCARRIL."]
[4805,"ESC. REPUBLICA DE COREA","EDUC. ESPECIAL","PUBLICA","AGUIRRE",68,4,1,6,6,1,"PUNTARENAS","AGUIRRE","QUEPOS","RANCHO GRANDE","MARJORIE MORA GUTIERREZ",27770250,27774072,"marjorie.mora.gutierrez@mep.go.cr","RANCHO GRANDE, COSTADO OESTE PLAZA DE FUTBOL"]
[4807,"ESC. CENTRAL DE JACO","EDUC. ESPECIAL","PUBLICA","AGUIRRE",68,4,5,6,11,1,"PUNTARENAS","GARABITO","JACO","JACO","VERA VIRGINIA ALPÍZAR SÁNCHEZ",26433201,26436492,"escuelacentraldejaco@hotmail.com","SOBRE LA COSTANERA,100 MTS SUR DE MAXI BODEGA"]
[4810,"ESC. TEODORO PICADO MICHALSKY","EDUC. ESPECIAL","PUBLICA","ZONA NORTE NORTE",69,4,1,2,13,1,"ALAJUELA","UPALA","UPALA","UPALA","NURIA DURAN MATAMOROS",24700113,24700113,"escuelateodoropicadoupala@gmail.com","FRENTE AL PARQUE DE UPALA CENTRO"]
[4813,"CAIPAD ASOCIACION ATJALA","EDUC. ESPECIAL","SUBVENCIONADA","CARTAGO",57,4,3,3,8,1,"CARTAGO","EL GUARCO","TEJAR","TEJAR","SILVIA PACHECO VALVERDE",25736122,25736122,"asociacion_atjala@hotmail.com","25 M S DEL REST EL QUIJONGO CARR INTER A M IZ"]
[4814,"CAIPAD ACIOSA","EDUC. ESPECIAL","SUBVENCIONADA","HEREDIA",59,4,5,4,3,3,"HEREDIA","SANTO DOMINGO","SAN MIGUEL","EL SOCORRO","ANDREA LEPIZ MELENDEZ",22359698,22359698,"caipad.aciosa@gmail.com","DEL COLEGIO LINCOLN, 100 METROS AL ESTE"]
[4815,"CAIPAD ACOPECONE","EDUC. ESPECIAL","SUBVENCIONADA","SAN JOSE NORTE",71,4,1,1,8,1,"SAN JOSE","GOICOECHEA","GUADALUPE","GUADALUPE","GABRIELA MENDEZ PEREIRA",22340831,22340831,"acopecone@hotmail.com","200 SUR 75 ESTE DE LA ROBERT"]
[4816,"CAIPAD ATAICA","EDUC. ESPECIAL","SUBVENCIONADA","ALAJUELA",54,4,6,2,3,1,"ALAJUELA","GRECIA","GRECIA","BARRIO LOS PINOS","CINTYA RAQUEL SOLIS PORRAS",24942120,24942120,"ataica.grecia@gmail.com","350 METROS SUR SUCURSAL CCSS Y 50 M SURESTE"]
[4817,"CAIPAD APAMAR","EDUC. ESPECIAL","SUBVENCIONADA","OCCIDENTE",55,4,7,2,11,1,"ALAJUELA","ZARCERO","ZARCERO","ZARCERO","MAGALY PEREZ ROJAS",24633674,24631962,"info@apamar.org","400 METROS OESTE DEL PARQUE DE ZARCERRO"]
[4822,"NOCTURNO JOSE JOAQUIN JIMENEZ NUÑEZ","COLEGIOS","PUBLICA","SAN JOSE NORTE",71,5,1,1,8,1,"SAN JOSE","GOICOECHEA","GUADALUPE","GUADALUPE","DIDIER FLORES ESPINOZA",22215349,22215349,"liceojjjimenezn@gmail.com","150 OESTE DEL PALACIO MUNICIPAL"]
[4823,"NOCTURNO LEON XIII","COLEGIOS","PUBLICA","SAN JOSE NORTE",71,5,3,1,15,1,"SAN JOSE","MONTES DE OCA","SAN PEDRO","SAN PEDRO","ADRIAN GRANADOS MASIS",22536461,22536461,"cnleonxiii@gmail.com","DEL BANCO POPULAR 75 OESTE Y 100 NORTE"]
[4824,"NOCTURNO DE HATILLO","COLEGIOS","PUBLICA","SAN JOSE CENTRAL",50,5,5,1,1,10,"SAN JOSE","SAN JOSE","HATILLO","HATILLO 2","MARITZA ARCE RODRIGUEZ",22541427,22541427,"colegionocturnohatillo@gmail.com","COSTADO OESTE DEL POLIDEPORTIVO HATILLO 2"]
[4825,"NOCTURNO BRAULIO CARRILLO","COLEGIOS","PUBLICA","SAN JOSE NORTE",71,5,4,1,13,1,"SAN JOSE","TIBAS","SAN JUAN","SAN JUAN","PATRICIA GARRO OBALDIA",22355335,22355335,"cnbraulio@gmail.com","200 OESTE 50 SUR DEL BANCO NACIONAL"]
[4826,"IPEC DE SAN JOSÉ","IPEC","PUBLICA","SAN JOSE OESTE",72,5,1,1,1,2,"SAN JOSE","SAN JOSE","MERCED","BARRIO MÉXICO","ISABEL ROJAS APUY",22336329,22561471,"ipecdesanjose@gmail.com/ipecsanjose@ice.co.cr","CONTIGUO A LA ESCUELA COSTA RICA"]
[4827,"CINDEA MARIA MAZZARELLO","CINDEA","PUBLICA","SAN JOSE OESTE",72,5,1,1,1,8,"SAN JOSE","SAN JOSE","MATA REDONDA","DON BOSCO","DAISY FALLAS VARGAS",22566915,22566915,"cecamm@gmail.com","DE LA PURDY MOTOR PASEO COLON, 150 SUR"]
[4828,"CINDEA SANTA ANA","CINDEA","PUBLICA","SAN JOSE OESTE",72,5,4,1,9,1,"SAN JOSE","SANTA ANA","SANTA ANA","SANTA ANA CENTRO","JAVIER ARCE VARGAS",22828622,0,"cindeasantaana@yahoo.com","INSTALACIONES EDUC. ANDRES BELLO LOPEZ"]
[4829,"CINDEA NUESTRA SEÑORA DE LOURDES","CINDEA","PUBLICA","SAN JOSE NORTE",71,5,3,1,15,1,"SAN JOSE","MONTES DE OCA","SAN PEDRO","LOURDES","MARIA ALEJANDRA VARGAS MONTERO",22806815,22806815,"cindeansl.8@gmail.com","DIAGONAL TEMPLO LOURDES,INST. DANTE ALIGHIERI"]
[4830,"IPEC 15 DE SETIEMBRE","IPEC","PUBLICA","SAN JOSE CENTRAL",50,5,5,1,1,10,"SAN JOSE","SAN JOSE","HATILLO","COLONIA 15 DE SETIEMBRE","MARITZA PORRAS CAMPOS",22548390,22548390,"cc15sept@gmail.com","HATILLO 400ESTE 50 SUR CTRO COM.PLAZA AMÉRICA"]
[4834,"CINDEA ALBERTO BRENES MORA","CINDEA","PUBLICA","SAN JOSE OESTE",72,5,1,1,1,2,"SAN JOSE","SAN JOSE","MERCED","BARRIO MEXICO","ANA VICTORIA LEON BENAVIDES",22229282,22229282,"cindeaamb@gmail.com","CALLE 14, AVENIDAS 11 Y 13"]
[4837,"NOCTURNO DESAMPARADOS","COLEGIOS","PUBLICA","DESAMPARADOS",51,5,7,1,3,1,"SAN JOSE","DESAMPARADOS","DESAMPARADOS","DESAMPARADOS","PATRICIA PARRA VARGAS",22591015,22591015,"liceonocturnodesamparados@gmail.com","FRENTE AL CENTRO COMERCIAL MAS X MENOS."]
[4838,"NOCTURNO DE PURISCAL","COLEGIOS","PUBLICA","PURISCAL",52,5,1,1,4,1,"SAN JOSE","PURISCAL","SANTIAGO","SANTIAGO","MARTA RAMIREZ ARIAS",24166450,24160009,"colegionocturnodepuriscal@hotmail.com","CONTIGUO AL NUEVO TEMPLO CATOLICO"]
[4839,"NOCTURNO DE CIUDAD COLON","COLEGIOS","PUBLICA","PURISCAL",52,5,5,1,7,1,"SAN JOSE","MORA","COLON","COLON","MANUEL AGUILAR BRENES",22493251,22493251,"licnoc1@gmail.com","600 ESTE DE LA BOMBA DELTA"]
[4840,"NOCTURNO DE PÉREZ ZELEDON","COLEGIOS","PUBLICA","PEREZ ZELEDON",53,5,1,1,19,1,"SAN JOSE","PEREZ ZELEDON","SAN ISIDRO DE EL GENERAL","B° LICEO UNESCO","LETICIA MEDINA OBREGÓN",27710267,27710267,"lic.nocturnopz@drepz.ed.cr","150 NORTE DE LA UNIVERSIDAD LATINA"]
[4841,"NOCTURNO DE BUENOS AIRES","COLEGIOS","PUBLICA","GRANDE DE TERRABA",75,5,1,6,3,1,"PUNTARENAS","BUENOS AIRES","BUENOS AIRES","URBANIZACION LOMAS","ALBERTO AVILA NAVARRO",27302432,27302184,"liceonocturnobuenosaires@gmail.com","800 MTS.N. DE LA IGLESIA C.EN LAS INST.DE CTP"]
[4842,"NOCTURNO MIGUEL OBREGON LIZANO","COLEGIOS","PUBLICA","ALAJUELA",54,5,1,2,1,1,"ALAJUELA","ALAJUELA","ALAJUELA","PLAZA ACOSTA","ANAYANSI JUAREZ ZUÑIGA",24411659,24411659,"conomol@hotmail.es","COSTADO NORTE DE LA PLAZA"]
[4843,"NOCTURNO DE GRECIA","COLEGIOS","PUBLICA","ALAJUELA",54,5,6,2,3,4,"ALAJUELA","GRECIA","SAN ROQUE","LEON CORTES","LISBETH CASTRO ESQUIVEL",24443019,24943385,"nocturnogrecia@hotmail.com","1 KM AL NORTE IGLESIA LAS MERCEDES DE GRECIA"]
[4844,"C.T.P. NOCTURNO CARLOS FALLAS SIBAJA","COLEGIOS","PUBLICA","ALAJUELA",54,5,1,2,1,1,"ALAJUELA","ALAJUELA","ALAJUELA","CANOAS","EMERSON PANIAGUA VEGA",24400430,24418841,"vocacionalnocturno@gmail.com","1 KM NOROESTE DEL ESTADIO MORERA SOTO"]
[4845,"IPEC POÁS","IPEC","PUBLICA","ALAJUELA",54,5,7,2,8,1,"ALAJUELA","POAS","SAN PEDRO","SAN PEDRO","MAED JEFFRY MURILLO BRENES",24486633,24486633,"ipecpoas@gmail.com","1 KM. N. DEL PARQUE CENTRAL, CAMINO A GRECIA"]
[4847,"IPEC MARÍA PACHECO","IPEC","PUBLICA","ALAJUELA",54,5,1,2,1,1,"ALAJUELA","ALAJUELA","ALAJUELA","URBANIZACIÓN MONTENEGRO","AUREA CORELLA GONZÁLEZ",24300140,24436506,"ipecmpacheco@hotmail.com","400 METROS NORTE DE LA IGLESIA LA AGONÍA"]
[4848,"NOCTURNO DE PALMARES","COLEGIOS","PUBLICA","OCCIDENTE",55,5,6,2,7,1,"ALAJUELA","PALMARES","PALMARES","BARRIO EL COLEGIO","JACQUELINE ÁVILA ROJAS",24531322,24531322,"yacke69@hotmail.com","FRENTE A LOS BOMBEROS, PALMARES CENTRO"]
[4849,"NOCTURNO JULIÁN VOLIO LLORENTE","COLEGIOS","PUBLICA","OCCIDENTE",55,5,1,2,2,6,"ALAJUELA","SAN RAMON","SAN RAFAEL","LA UNION","JUAN BAUTISTA UREÑA ARAYA",24455665,24455665,"liceojulianvoliollorente@gmail.com","COSTADO SUR DE LA CORTE DE JUSTICIA SN RAMÓN"]
[4850,"NOCTURNO DE NARANJO","COLEGIOS","PUBLICA","OCCIDENTE",55,5,8,2,6,1,"ALAJUELA","NARANJO","NARANJO","Bº MARÍA AUXILIADORA","DANILO CRUZ CASTRO",24500036,24500036,"colnocnaranjo@gmail.com","150 M. NORTE DEL ASILO DE ANCIANOS, NARANJO"]
[4852,"CINDEA SAN CARLOS","CINDEA","PUBLICA","SAN CARLOS",56,5,3,2,10,1,"ALAJUELA","SAN CARLOS","QUESADA","SAN ROQUE","JOSE GEOVANNY MENDEZ SALAS",24600667,24600667,"colegionocturno_cindea_sancarlos@yahoo.es","200 NORTE DEL MAG"]
[4852,"CINDEA SAN CARLOS-PENAL LA MARINA","CINDEA","PUBLICA","SAN CARLOS",56,5,4,2,10,1,"ALAJUELA","SAN CARLOS","QUESADA","LA MARINA","JOSE GEOVANNY MENDEZ SALAS",24600667,24600667,"colegionocturno_cindea_sancarlos@yahoo.es","2 KM ESTE DE LA ESCUELA LA MARINA"]
[4853,"NOCTURNO DE CARTAGO","COLEGIOS","PUBLICA","CARTAGO",57,5,1,3,1,2,"CARTAGO","CARTAGO","OCCIDENTAL","CENTRO","MARIA ROSA RIVAS BRENES",25510363,25510363,"colegionocturno@yahoo.es","CARTAGO CENTRO A UN COSTADO DE PLAZA IGLESIAS"]
[4854,"SECCION NOCTURNA ACADEMICA DE PARAISO","COLEGIOS","PUBLICA","CARTAGO",57,5,5,3,2,1,"CARTAGO","PARAISO","PARAISO","SAN ANTONIO","GUILLERMO ZUNIGA CERDAS",25747404,25744600,"lpnocturno93@gmail.com","100 SUR DEL CUERPO DE BOMBEROS DE PARAISO"]
[4855,"NOCTURNO DE LA UNION","COLEGIOS","PUBLICA","CARTAGO",57,5,6,3,3,2,"CARTAGO","LA UNION","SAN DIEGO","SAN DIEGO","MARCO AURELIO MEDAGLIA GOMEZ",22795906,22781726,"colegionocturnolaunion@hotmail.com","150M AL ESTE DEL TERRAMALL"]
[4856,"IPEC ARABELLA JIMÉNEZ DE VOLIO","IPEC","PUBLICA","CARTAGO",57,5,1,3,1,1,"CARTAGO","CARTAGO","ORIENTAL","LOS ÁNGELES","LENNY ALBERT GÓMEZ RODRÍGUEZ",25918844,25513605,"osvamugo@hotmail.com","200 M.SUR DE LA BASÍLICA DE NTRA SRA DE ÁNG."]
[4857,"C.T.P. COVAO NOCTURNO","COLEGIOS","SUBVENCIONADA","CARTAGO",57,5,2,3,1,4,"CARTAGO","CARTAGO","SAN NICOLAS","LA POLVORA","EUGENIA VALVERDE MONGE",25370505,25373023,"info_norcturno@covao.ac.cr","1.5KM AL NORETE DEL TALLER 3M EN SAN NICOLAS"]
[4859,"NOCTURNO PBRO. ENRIQUE MENZEL","COLEGIOS","PUBLICA","TURRIALBA",58,5,2,3,5,1,"CARTAGO","TURRIALBA","TURRIALBA","LA PLAZA","MOISES JAMIENSON CASTILLO",25560098,25564993,"enriquemenzel@hotmail.com","50 NORTE ESTACION DE BOMBEROS"]
[4860,"NOCTURNO ALFREDO GONZÁLEZ FLORES","COLEGIOS","PUBLICA","HEREDIA",59,5,1,4,1,1,"HEREDIA","HEREDIA","HEREDIA","CENTRO","MAURICIO MOREIRA ARCE",22607073,22370386,"direcconliceonocturno@gmail.com","FRENTE AL BANCO POPULAR"]
[4861,"NOCTURNO HERMÁN LÓPEZ HERNÁNDEZ","COLEGIOS","PUBLICA","HEREDIA",59,5,4,4,2,1,"HEREDIA","BARVA","BARVA","EL INVU","ELIEHT LAZARO RAMIREZ",22616170,22616170,"nocturnobarva@yahoo.es","120 NORTE Y 25 ESTE DE LA ESC. PEDRO MURILLO"]
[4862,"NOCTURNO DE RIO FRIO","COLEGIOS","PUBLICA","SARAPIQUI",74,5,2,4,10,3,"HEREDIA","SARAPIQUI","LAS HORQUETAS","RIO FRIO","ROCIO VARGAS MONTERO",27643036,27644116,"colegioderiofrio1970@gmail.com","300 M O DE LA ESCUELA FINCA ONCE DE R FRIO"]
[4863,"IPEC SANTA BÁRBARA","IPEC","PUBLICA","HEREDIA",59,5,3,4,4,1,"HEREDIA","SANTA BARBARA","SANTA BARBARA","SANTA BÁRBARA","EDWIN GUTIÉRREZ MARCHENA",22699986,22696984,"ipecsantabarbara@gmail.com","800 METROS AL NORTE DE LA IGLESIA CATÓLICA"]
[4864,"IPEC SANTO DOMINGO","IPEC","PUBLICA","HEREDIA",59,5,5,4,3,2,"HEREDIA","SANTO DOMINGO","SAN VICENTE","QUIZARCO","WARNER JIMÉNEZ ZÚÑIGA",22442343,22446402,"ipecsantodomingo2011@gmail.com","DE LA CLÍNICA CCSS 400 M. E Y 75 M. SUR"]
[4866,"IPEC BARVA","IPEC","PUBLICA","HEREDIA",59,5,4,4,2,1,"HEREDIA","BARVA","BARVA","BARVA CENTRO","MARLENE ZAMORA VILLALOBOS",22382438,22382438,"ipecbarva@hotmail.com","DEL BAR LA CALIDAD 400 ESTE Y 100 NORTE"]
[4867,"NOCTURNO LA CRUZ","COLEGIOS","PUBLICA","LIBERIA",60,5,1,5,10,1,"GUANACASTE","LA CRUZ","LA CRUZ","EL COLEGIO","FILIMON PONCE LOPEZ",26799548,26798032,"colegionocturnolacruz@hotmail.com","PARQUE CENTRAL DE LA CRUZ 300 NORTE, 100 ESTE"]
[4869,"NOCTURNO DE LIBERIA","COLEGIOS","PUBLICA","LIBERIA",60,5,4,5,1,1,"GUANACASTE","LIBERIA","LIBERIA","B° MORACIA","LUIS ARNOLDO VELÁSQUEZ UMAÑA",26660322,26660322,"nocturnodeliberia@gmail.com","COSTADO ESTE DEL HOSPITAL E.B.B."]
[4870,"IPEC LIBERIA","IPEC","PUBLICA","LIBERIA",60,5,4,5,1,1,"GUANACASTE","LIBERIA","LIBERIA","MORACIA","JOSÉ ÁNGEL ROVIRA UGARTE",26660178,26600178,"ipec.liberia@mep.go.cr","CONTIGUO A LOS CAMERINOS DE LA PLAZA, MORACIA"]
[4871,"NOCTURNO DE NICOYA","COLEGIOS","PUBLICA","NICOYA",61,5,1,5,2,1,"GUANACASTE","NICOYA","NICOYA","CENTRO","JAVIER JUAREZ ZUÑIGA",26856265,26855265,"direccionnocturno@hotmail.com","300 ESQUINA SURESTE DEL PARQUE RECAREDO"]
[4872,"NOCTURNO DE SANTA CRUZ","COLEGIOS","PUBLICA","SANTA CRUZ",62,5,1,5,3,1,"GUANACASTE","SANTA CRUZ","SANTA CRUZ","SANTA CRUZ","ONELIA GUEVARA VIALES",26806598,26806598,"liceonocturnosantacruzcr@gmail.com","200 ESTE DE LA PLAZA LOPEZ"]
[4873,"CINDEA SANTA CRUZ","CINDEA","PUBLICA","SANTA CRUZ",62,5,1,5,3,1,"GUANACASTE","SANTA CRUZ","SANTA CRUZ","PANAMA","DORITA GUTIERREZ MATARRITA",26801873,26801873,"cindea.santa.cruz.cr@gmail.com","COSTADO NOROESTE DEL MERCADO MUNICIPAL"]
[4874,"NOCTURNO MAURILIO ALVARADO VARGAS","COLEGIOS","PUBLICA","CAÑAS",63,5,3,5,8,1,"GUANACASTE","TILARAN","TILARAN","TILARAN","JAYRON ALBERTO OBANDO OSES",26955770,26955770,"col.nocturnomaurilioalvarado@mep.go.cr","50 MTS ESTE DE LAS OFICINAS DEL ICE CENTRO TI"]
[4875,"NOCTURNO JUAN SANTAMARIA","COLEGIOS","PUBLICA","CAÑAS",63,5,1,5,6,1,"GUANACASTE","CAÑAS","CAÑAS","CAÑAS","RIGOBERTO VIALES DAVILA",26692113,26692113,"lic.nocturnojuansantamaria@mep.go.cr","FRENTE A LAS INSTALACIONES DEL POLIDEPORTIVO"]
[4876,"IPEC CAÑAS","IPEC","PUBLICA","CAÑAS",63,5,1,5,6,1,"GUANACASTE","CAÑAS","CAÑAS","LOS MALINCHES","ANA ISABEL MEDRANO ARTAVIA",26693575,26693575,"ana.medrano.artavia@mep.go.cr","DETRÁS DEL LICEO MIGUEL ARAYA VENEGAS"]
[4877,"NOCTURNO JOSE MARTI","COLEGIOS","PUBLICA","PUNTARENAS",64,5,5,6,1,1,"PUNTARENAS","PUNTARENAS","PUNTARENAS","PUNTARENAS","CHRISTIAN MONDRAGON SOTO",26610612,26613850,"josemartinocturno@hotmail.com","COSTADO OESTE DE LA CATEDRAL DE PUNTARENAS"]
[4878,"NOCTURNO DE ESPARZA","COLEGIOS","PUBLICA","PUNTARENAS",64,5,8,6,2,1,"PUNTARENAS","ESPARZA","ESPIRITU SANTO","ESPARZA","JUAN CARLOS CHAVES VALVERDE",26355476,26355476,"col.nocturnoesparza@mep.go.cr","100 OESTE Y 25 SUR DEL CORREO"]
[4879,"IPEC PUNTARENAS","IPEC","PUBLICA","PUNTARENAS",64,5,1,6,1,8,"PUNTARENAS","PUNTARENAS","BARRANCA","RIOJALANDIA","SOLEDAD VALVERDE QUIRÓS",26642421,26642421,"ipec.puntarenas@mep.go.cr","ESCUELA RIOJALANDIA DETRÁS DEL INSTITUTO"]
[4881,"NOCTURNO DE CIUDAD NEILY","COLEGIOS","PUBLICA","COTO",65,5,9,6,10,1,"PUNTARENAS","CORREDORES","CORREDOR","CIUDAD NEILY","RÓGER RIVERA RÍOS",27833184,27833184,"cole.nocturnodeciudadneilly@mep.go.cr","CONTIGUO A ESCUELA ALBERTO ECHANDI"]
[4882,"NOCTURNO DE GOLFITO","COLEGIOS","PUBLICA","COTO",65,5,1,6,7,1,"PUNTARENAS","GOLFITO","GOLFITO","INVÚ LA ROTONDA","FÉLIX MIRANDA QUESADA",27750313,27750313,"felix.miranda.quesada@mep.go.cr","DETRÁS DEL DEPÓSITO LIBRE COMERC. DE GOLFITO"]
[4883,"NOCTURNO DE SAN VITO","COLEGIOS","PUBLICA","COTO",65,5,5,6,8,1,"PUNTARENAS","COTO BRUS","SAN VITO","LA ISLA","LUIS RANDALL BLANCO ZÚÑIGA",27734306,27734305,"nocturnosanvito@gmail.com","200 SUROESTE DE LA PLAZA DE DEPORTES"]
[4884,"NOCTURNO DE OSA","COLEGIOS","PUBLICA","GRANDE DE TERRABA",75,5,7,6,5,2,"PUNTARENAS","OSA","PALMAR","PALMAR NORTE","EDGAR FONSECA GARRO",27867347,27867347,"colenocturno@hotmail.com","DIAGONAL AL BANCO NACIONAL, PALMAR NORTE"]
[4885,"CINDEA CIUDAD NEILY","CINDEA","PUBLICA","COTO",65,5,9,6,10,4,"PUNTARENAS","CORREDORES","LAUREL","NARANJO DE LAUREL","MARIA ESTHER CORDERO MADRIZ",27766325,0,"cindeacn@gmail.com","DEL PUESTO POLICIAL DE LAUREL 500 M ESTE"]
[4887,"IPEC AGUA BUENA","IPEC","PUBLICA","COTO",65,5,7,6,8,3,"PUNTARENAS","COTO BRUS","AGUABUENA","AGUA BUENA","JULIO MADRIGAL CASTELLANOS",27340270,27340270,"ipec.aguabuena@mep.go.cr","200 O. 250 N. DE LA CENTRAL TELEFÓNICA ICE"]
[4888,"NOCTURNO LA CUESTA","COLEGIOS","PUBLICA","COTO",65,5,10,6,10,2,"PUNTARENAS","CORREDORES","LA CUESTA","BARRIO EL COLEGIO","RICARDO FUNEZ ROJAS",27321350,27321350,"colegiolacuesta@hotmail.com","2 KM. SUR DE LA UNIVERS.LATINA,DE PASO CANOAS"]
[4889,"NOCTURNO DE LIMON","COLEGIOS","PUBLICA","LIMON",66,5,1,7,1,1,"LIMON","LIMON","LIMON","CERRO MOCHO","JACQUELINE BADILLA JARA",27580333,27580333,"col.nocturnodelimon@mep.go.cr","FRENTE INSTALACION DEL INA"]
[4890,"NOCTURNO DE BATAAN","COLEGIOS","PUBLICA","LIMON",66,5,9,7,5,2,"LIMON","MATINA","BATAN","BATAN","IRIS BARAHONA SALAZAR",27184011,27185923,"colegionocturnobataan@gmail.com","100 M. OESTE SUCURSAL DE LA C.C.S.S."]
[4893,"NOCTURNO DE POCOCÍ","COLEGIOS","PUBLICA","GUAPILES",67,5,1,7,2,1,"LIMON","POCOCI","GUAPILES","GUÁPILES","WILLIAM VEGA DUARTE",27105811,27106782,"col.nocturnodepococi@mep.go.cr","300 METROS NORTE DE LA AGENCIA TOYOTA."]
[4894,"NOCTURNO DE GUÁCIMO","COLEGIOS","PUBLICA","GUAPILES",67,5,4,7,6,1,"LIMON","GUACIMO","GUACIMO","CALLE LOS COLEGIOS","EDIN LOPEZ RIVERA",27165917,27165917,"col.nocturnodeguacimo@mep.go.cr","400 MTS.SUR. DE LA ALCALDIA DE MENOR CUANTIA."]
[4895,"CINDEA CARIARI","CINDEA","PUBLICA","GUAPILES",67,5,3,7,2,5,"LIMON","POCOCI","CARIARI","LINDA VISTA","ROGER AGUIRRE MENDEZ",27675744,27675744,"perkerpf@hotmail.com","350 ESTE DEL COLONO AGROPECUARIO"]
[4896,"NOCTURNO DE QUEPOS","COLEGIOS","PUBLICA","AGUIRRE",68,5,1,6,6,1,"PUNTARENAS","AGUIRRE","QUEPOS","JUNTA NARANJO","BETSAIDA NOVOA HIDALGO",27772384,27770730,"col.nocturnodequepos@mep.go.cr","CRUCE DE JUNTA DE NARANJO 2 K ANTES CENTRO Q."]
[4897,"CINDEA UPALA","CINDEA","PUBLICA","ZONA NORTE NORTE",69,5,1,2,13,1,"ALAJUELA","UPALA","UPALA","UPALA","ZAILER ALVARADO MURILLO",24700305,24700305,null,"FRENTE A LIBR. CRISMAR,INSTALAC. CTP UPALA"]
[4902,"C.T.P. DE FLORES","EDUC. ESPECIAL","PUBLICA","HEREDIA",59,4,7,4,8,1,"HEREDIA","FLORES","SAN JOAQUIN","LA SOLEDAD","MAURICIO OBANDO OBANDO",22654811,22654811,"ctpdeflores@yahoo.com","200 METROS NORTE DE LA MEDICATURA FORENSE"]
[4905,"ESC. SALUSTIO CAMACHO MUÑOZ","EDUC. ESPECIAL","PUBLICA","OCCIDENTE",55,4,7,2,11,5,"ALAJUELA","ZARCERO","PALMIRA","PALMIRA","GILDA Mª VARGAS LOBO",24633903,24633903,"salustioca@hotmail.com","FRENTE AL EBAIS SUR, DE PALMIRA"]
[4906,"C.T.P. LA FORTUNA BAGACES","EDUC. ESPECIAL","PUBLICA","LIBERIA",60,4,3,5,4,2,"GUANACASTE","BAGACES","LA FORTUNA","FORTUNA","ROGER RUIZ ESQUIVEL",26730527,26730527,"ctpfortunamiravalles@gmail.com","300 ESTE DEL BANCO NACIONAL"]
[4908,"LICEO SAN JOSE","EDUC. ESPECIAL","PUBLICA","ALAJUELA",54,4,5,2,1,2,"ALAJUELA","ALAJUELA","SAN JOSE","SAN JOSE","ALLAN BARBOZA JIMÉNEZ",24338963,24338963,"liceosanjose.alaj@gmail.com","COSTADO NORTE DEL CEMENTERIO B° SAN JOSE"]
[4911,"CINDEA RICARDO JIMENEZ O.","CINDEA","PUBLICA","SAN JOSE CENTRAL",50,5,1,1,1,4,"SAN JOSE","SAN JOSE","CATEDRAL","CARIT","SUE CHINCHILLA CALDERON",22214119,22584255,"ricardo.jimenezoreamuno@gmail.com","100 ESTE DE LA MATERNIDAD CARIT"]
[4913,"LICEO DOS RIOS","COLEGIOS","PUBLICA","ZONA NORTE NORTE",69,2,7,2,13,6,"ALAJUELA","UPALA","DOS RIOS","DOS RIOS","EVELIA VILLALOBOS GUZMAN",22064691,0,"lic.dosrios@mep.go.cr","200 SUR DE LA PLAZA DE DEPORTES"]
[4915,"LICEO RURAL CABECERAS","COLEGIOS","PUBLICA","CAÑAS",63,2,5,5,8,2,"GUANACASTE","TILARAN","QUEBRADA GRANDE","CABECERA","DANIEL ROJAS MURILLO",26938407,26938407,"lic.ruralcabeceras@mep.go.cr","800 METROS NOROESTE DEL SALON COMUNAL"]
[4916,"NOCTURNO CARLOS MELÉNDEZ CHAVERRI","COLEGIOS","PUBLICA","HEREDIA",59,5,2,4,1,3,"HEREDIA","HEREDIA","SAN FRANCISCO","GUARARI","ALLAN SOLANO SALAZAR",22613267,22613267,"nocturnocarlosmelendezchaveri@hotmail.com","ESC.FINCA DE GUARARI,FTE AL EBAIS DE GUARARI."]
[5072,"COLEGIO DE GRAVILIAS","COLEGIOS","PUBLICA","DESAMPARADOS",51,2,1,1,3,12,"SAN JOSE","DESAMPARADOS","GRAVILIAS","GRAVILIAS","FERNANDO TORRES QUIROS",22590602,22597519,"colegiodegravilias@yahoo.com","200 MTS. ESTE DEL CUERPO DE BOMBEROS."]
[5073,"LICEO LA UVITA","COLEGIOS","PUBLICA","PEREZ ZELEDON",53,2,4,6,5,4,"PUNTARENAS","OSA","BAHIA BALLENA","UVITA","BAUDILIO CARVAJAL SUAREZ",27438069,27438041,"lic.uvita@drepz.ed.cr","200 N DE LA PLAZA DE DEPORTES BAHIA BALLENA"]
[5075,"LICEO FRANCISCO AMIGUETTE HERRERA","COLEGIOS","PUBLICA","SAN CARLOS",56,2,3,2,10,1,"ALAJUELA","SAN CARLOS","QUESADA","CEDRAL","JUAN CARLOS CARVAJAL GONZALEZ",24610887,24610887,"lic.franciscoamighettiherrera@mep.go.cr","50 ESTE 200 SUR DE LA IGLESIA CATOLICA"]
[5076,"LICEO GASTON PERALTA CARRANZA","COLEGIOS","PUBLICA","SAN CARLOS",56,2,4,2,10,4,"ALAJUELA","SAN CARLOS","AGUAS ZARCAS","LOS LLANOS","MARTIN CARMELO PINNOCK JOHNSON",24740271,24740271,"igastonpc@gmail.com","CONTIGUO A LA PLAZA DE LOS LLANOS"]
[5077,"COLEGIO RODRIGO HERNÁNDEZ VARGAS","COLEGIOS","PUBLICA","HEREDIA",59,2,4,4,2,1,"HEREDIA","BARVA","BARVA","BARVA","CARLOS H. RODRÍGUEZ VÍQUEZ",22373980,22635945,"colegiorhv@gmail.com","DETRAS DE LA ESCUELA PEDRO MURILLO"]
[5079,"LICEO VILLARREAL","COLEGIOS","PUBLICA","SANTA CRUZ",62,2,3,5,3,9,"GUANACASTE","SANTA CRUZ","TAMARINDO","VILLARREAL","CARLOS ARMANDO MARTINEZ ARIAS",26530716,26530716,"villarrealcolegio@gmail.com","800 MTS OESTE DEL EBAIS"]
[5080,"COLEGIO JORGE VOLIO JIMÉNEZ","COLEGIOS","PUBLICA","COTO",65,2,6,6,8,2,"PUNTARENAS","COTO BRUS","SABALITO","LA LUCHA","GUIDO FALLAS CAMBRONERO",27845107,27845108,"coljorvol@gmail.com","100 M O DEL GIMNASIO DE LA LUCHA."]
[5082,"C.T.P. MARIO QUIROS SASSO","COLEGIOS","PUBLICA","CARTAGO",57,3,6,3,3,2,"CARTAGO","LA UNION","SAN DIEGO","SAN DIEGO","JUVENAL LEIVA OROZCO",22795239,22795206,"ctpmarioquiros@yahoo.com","150 ESTE DE TERRAMOLL"]
[5091,"CAIPAD TURRIALBA","EDUC. ESPECIAL","SUBVENCIONADA","TURRIALBA",58,4,2,3,5,1,"CARTAGO","TURRIALBA","TURRIALBA","LA GUARIA","ERIKA CASTRO BRENES",25560007,25560007,"caipadturrialba@gmail.com","CONTIGUO A LA ESCUELA MARIANO CORTES"]
[5094,"CAIPAD FUNADIS","EDUC. ESPECIAL","SUBVENCIONADA","SAN JOSE NORTE",71,4,1,1,8,1,"SAN JOSE","GOICOECHEA","GUADALUPE","GUADALUPE CENTRO","YENDRY CARRANZA RODRIGUEZ",22349267,22253269,"funadis@racsa.co.cr","CONTIGUO AL PATIO MUNICIPAL"]
[5095,"CAIPAD FUN. PRO. JO. PA. CE.","EDUC. ESPECIAL","SUBVENCIONADA","SAN JOSE CENTRAL",50,4,1,1,1,1,"SAN JOSE","SAN JOSE","CARMEN","DON BOSCO","MAYRA C. UREÑA R.",22223833,22223833,"funprojopace1989@hotmail.com","100 NORTE DE LA ENTRADA DEL CEMENTERIO OBRERO"]
[5096,"CAIPAD UPALA","EDUC. ESPECIAL","SUBVENCIONADA","ZONA NORTE NORTE",69,4,1,2,13,1,"ALAJUELA","UPALA","UPALA","COCOLILAS","YANORY CARIAS VILLALOBOS",22004867,24700625,"yanorycarias@gmail.com","1 KM ESTE 400 SUR DEL PUENTE DEL RIO ZAPOTE"]
[5097,"CAIPAD APRIOPEDA","EDUC. ESPECIAL","SUBVENCIONADA","DESAMPARADOS",51,4,5,1,12,1,"SAN JOSE","ACOSTA","SAN IGNACIO","SAN LUIS","GIOVANNA BADILLA CALDERON",24100834,24107097,"apriopeda@gmail.com","EDIFICIO DE DOS PLANTAS,CONT.A COOPESANTOS"]
[5099,"CAIPAD ANPREMF","EDUC. ESPECIAL","SUBVENCIONADA","SAN JOSE NORTE",71,4,4,1,13,1,"SAN JOSE","TIBAS","SAN JUAN","SAN JUAN TIBAS","ESTHEPANIE MURILLO ARAYA",22365118,22365118,"anpremfcr@gmail.com","DE LA ESC MIGUEL OBREGON 25 M O CASA NO 7"]
[5101,"CINDEA TURRIALBA","CINDEA","PUBLICA","TURRIALBA",58,5,2,3,5,1,"CARTAGO","TURRIALBA","TURRIALBA","SAN RAFAEL","INES MADRIGAL ESTRADA",25565060,25566995,"cindeatlba@hotmail.com","75 M SUR DEL BANCO DE COSTA RICA"]
[5121,"LICEO RURAL LAS CEIBAS","COLEGIOS","PUBLICA","DESAMPARADOS",51,2,6,1,12,4,"SAN JOSE","ACOSTA","CANGREGAL","EL LLANO DE LA MESA","YARMILA HIDALGO ALVARADO",24102693,24102693,"tvlasceibas2000@gmail.com","150 METROS NORESTE DE LA IGLESIA."]
[5125,"LICEO RURAL CHÁNGUENA","COLEGIOS","PUBLICA","GRANDE DE TERRABA",75,2,3,6,3,7,"PUNTARENAS","BUENOS AIRES","CHANGUENA","CHANGUENA CENTRO","JONATHAN FONSECA SALAZAR",22065062,22065062,"liceoruralchanguena@gmail.com","FRENTE AL SALON CUMUNAL DE CHANGUENA,CENTRO"]
[5128,"LICEO RURAL RÍO NUEVO","COLEGIOS","PUBLICA","PEREZ ZELEDON",53,2,2,1,19,10,"SAN JOSE","PEREZ ZELEDON","RIO NUEVO","SAVEGRE","SANDRA MORA ALPIZAR",83048748,0,"lic.ruralrionuevo@mep.go.cr","350 OESTE DE LA IGLESIA CATOLICA"]
[5129,"LICEO RURAL EL JARDÍN","COLEGIOS","PUBLICA","PEREZ ZELEDON",53,2,2,1,19,11,"SAN JOSE","PEREZ ZELEDON","PARAMO","VILLA MILLS","ARNULFO ALVARADO LOPEZ",22065047,22065047,"lic.ruraleljardin@mep.go.cr","KM 97 CARRETERA INTERAMERICANA"]
[5131,"LICEO CONCEPCIÓN DANIEL FLORES","COLEGIOS","PUBLICA","PEREZ ZELEDON",53,2,7,1,19,3,"SAN JOSE","PEREZ ZELEDON","DANIEL FLORES","CONCEPCIÓN","ROGER MÉNDEZ GUERRERO",27371303,27371303,"col.concepciondanielflores@mep.go.cr","CONTIGUO A LA PLAZA DE DEPORTES"]
[5132,"LICEO RURAL MAÍZ DE LOS UVA","COLEGIOS","PUBLICA","GRANDE DE TERRABA",75,2,5,6,3,6,"PUNTARENAS","BUENOS AIRES","COLINAS","COLINAS","ELKE MATA RIVERA",22005153,27300748,"colegiomaizdelosuva@hotmail.com","2 KM. OESTE DEL CENTRO DE COLINAS."]
[5133,"LICEO RURAL LOS ÁNGELES DE PÁRAMO","COLEGIOS","PUBLICA","PEREZ ZELEDON",53,2,2,1,19,11,"SAN JOSE","PEREZ ZELEDON","PARAMO","LOS ÁNGELES","JOSÉ ALBERTO VARGAS ARIAS",27423098,27423098,"lic.rurallosangelesdeparamo@mep.go.cr","100 NORTE DE LA ESCUELA IGNACIO DURAN VEGA"]
[5134,"COLEGIO SANTA EDUVIGES","COLEGIOS","PUBLICA","GRANDE DE TERRABA",75,2,1,6,3,1,"PUNTARENAS","BUENOS AIRES","BUENOS AIRES","SANTA EDUVIGES","ROBERTO MUÑOZ BEITA",27302533,27300578,"lic.ruralsantaeduviges@mep.go.cr","6 KM AL NORTE DE LA BOMBA DEL BRUJO"]
[5136,"COLEGIO DE UJARRÁS","COLEGIOS","PUBLICA","GRANDE DE TERRABA",75,2,10,6,3,1,"PUNTARENAS","BUENOS AIRES","BUENOS AIRES","UJARRÁZ","FREDDY SANDI BOLAÑOS",27300578,27300578,"cto10liceoujarras@gmail.com","11 KM.AL NORTE DE LA IGLESIA CATOLICA DE B.A."]
[5137,"LICEO LA GUACIMA","COLEGIOS","PUBLICA","ALAJUELA",54,2,4,2,1,5,"ALAJUELA","ALAJUELA","GUACIMA","NUESTRO AMO","MARIBEL VARGAS CAMPOS",24386427,24386427,"liceolaguacima@yahoo.es","100 AL OESTE DEL PARQUE ECOLOGICO, GUACIMA"]
[5139,"LICEO  POASITO","COLEGIOS","PUBLICA","ALAJUELA",54,2,3,2,1,7,"ALAJUELA","ALAJUELA","SABANILLA","POASITO","OSCAR RODRIGUEZ APOSTOL",24821375,24821375,"liceopoasito@hotmail.com","300 SUR Y 50 ESTE DE LA PLAZA DE DEPORTES"]
[5142,"LICEO RURAL SAN JORGE","COLEGIOS","PUBLICA","SAN CARLOS",56,2,10,2,14,4,"ALAJUELA","LOS CHILES","SAN JORGE","SAN JORGE","CARLOS EMILIO ALVAREZ GARAY",60285874,0,"liceosanjorge@yahoo.es","700 METROS SUR DE LA PLAZA DE DEPORTES"]
[5144,"LICEO RURAL PONGOLA","COLEGIOS","PUBLICA","SARAPIQUI",74,2,1,4,10,2,"HEREDIA","SARAPIQUI","LA VIRGEN","PONGOLA","ILIANA RAMIREZ HERNANDEZ",24760693,24760693,"irsip15@gmail.com","200M N DEL REDONDEL PANGOLA"]
[5145,"LICEO RURAL SAN JOAQUIN DE CUTRIS","COLEGIOS","PUBLICA","SAN CARLOS",56,2,12,2,10,11,"ALAJUELA","SAN CARLOS","CUTRIS","SAN JOAQUIN","VIVIANNA BARRIENTOS ALVARADO",24695598,24695598,"lic.ruralsanjoaquin@mep.go.cr","CONTIGUO A LA IGLESIA CATOLICA"]
[5146,"LICEO RURAL EL CONCHO","COLEGIOS","PUBLICA","SAN CARLOS",56,2,12,2,10,13,"ALAJUELA","SAN CARLOS","POCOSOL","EL CONCHO","LETICIA ARRIETA CHACON",22005678,0,"lic.ruralelconcho@mep.go.cr","200 METROS SUR DEL SALON COMUNAL"]
[5148,"LICEO RURAL SAN RAFAEL","COLEGIOS","PUBLICA","SAN CARLOS",56,2,8,2,10,13,"ALAJUELA","SAN CARLOS","POCOSOL","SAN RAFAEL","XINIA MARIA ROJAS SALAZAR",22065930,24777082,"marixinia@yahoo.es","FRENTE A LA IGLESIA CATOLICA"]
[5149,"LICEO RURAL MEDIO QUESO","COLEGIOS","PUBLICA","SAN CARLOS",56,2,9,2,14,1,"ALAJUELA","LOS CHILES","LOS CHILES","MEDIO QUESO","KATTIA CARBALLO GARCIA",24713190,24713190,"liceomedioqueso@hotmail.com","DEL EBAIS 100 ESTE Y 50 SUR."]
[5150,"LICEO SAN MARCOS","COLEGIOS","PUBLICA","SAN CARLOS",56,2,7,2,10,11,"ALAJUELA","SAN CARLOS","CUTRIS","SAN MARCOS","AARON ALFARO MATA",24615910,24615910,"liceor.sanmarcos@gmail.com","18 KM AL NORTE DE LA ENTRADA DEL INGENIO"]
[5151,"LICEO BUENOS AIRES DE POCOSOL","COLEGIOS","PUBLICA","SAN CARLOS",56,2,7,2,10,13,"ALAJUELA","SAN CARLOS","POCOSOL","BUENOS AIRES","XENIA MARIA GALVEZ HIDALGO",24695341,24695341,"lic.buenosaires@mep.go.cr","100 ESTE Y 300 NORTE DE LA BOMBA BUENOS AIRES"]
[5152,"LICEO VERACRUZ","COLEGIOS","PUBLICA","ZONA NORTE NORTE",69,2,8,2,14,2,"ALAJUELA","LOS CHILES","CAÑO NEGRO","VERACRUZ","ERICK MIRANDA LOSTALO",24804545,24804545,"liceoruralveracruz@gmail.com","400M NORTE DE LA IGLESIA CATOLICA"]
[5154,"LICEO RURAL SAN JOAQUIN","COLEGIOS","PUBLICA","TURRIALBA",58,2,5,3,5,7,"CARTAGO","TURRIALBA","TUIS","SAN JOAQUIN","RICHARD ZUÑIGA MESEN",25311634,25311634,"lic.ruralsanjoaquindetuis@mep.go.cr","DETRAS TEMPLO CATOLICO"]
[5155,"LICEO RURAL PACAYITAS","COLEGIOS","PUBLICA","TURRIALBA",58,2,3,3,5,2,"CARTAGO","TURRIALBA","LA SUIZA","PACAYITAS","ADRIAN CARPIO GOMEZ",25312358,25312358,"liceoruralpacayitas@gmail.com","DIAGONAL DELEGACION POLICIAL DE PACAYITAS"]
[5156,"LICEO RURAL GRANO DE ORO","COLEGIOS","PUBLICA","TURRIALBA",58,2,5,3,5,12,"CARTAGO","TURRIALBA","CHIRRIPO","GRANO DE ORO","ADRIAN SALAZAR CASTILLO",22000372,0,"lic.ruralgranodeoro@mep.go.cr","CONTIGUO SALON COMUNAL"]
[5159,"LICEO SAMARA","COLEGIOS","PUBLICA","NICOYA",61,2,6,5,2,5,"GUANACASTE","NICOYA","SAMARA","SAMARA","MARIA BENITA GOMEZ MORENO",26561374,26563323,"lic.samara@mep.go.cr","COSTADO NORTE HOTEL VILLAS PLAYA SAMARA"]
[5161,"LICEO RURAL LA ESPERANZA","COLEGIOS","PUBLICA","SANTA CRUZ",62,2,1,5,2,1,"GUANACASTE","NICOYA","NICOYA","LA ESPERANZA","RODOLFO OROZCO JUAREZ",88603342,0,"rjuarezv18@yahoo.es","INSTALACIONES DEL SALON COMUNAL"]
[5162,"TELESECUNDARIA OSTIONAL","COLEGIOS","PUBLICA","SANTA CRUZ",62,2,4,5,3,6,"GUANACASTE","SANTA CRUZ","CUAJINIQUIL","OSTIONAL","MARCOS MORALES ZAPATA",26825101,0,"marcos.morales.zapata@mep.go.cr","100 MTS NORTE DE LA PLAZA DE DEPORTES"]
[5163,"LICEO RURAL JOSE LUIS JIMENEZ ALCALA","COLEGIOS","PUBLICA","SANTA CRUZ",62,2,4,5,3,6,"GUANACASTE","SANTA CRUZ","CUAJINIQUIL","MARBELLA","JOSE WILMAR DIAZ ORIAS",26828143,26828143,"lic.ruralmarbella.mep.go.cr","COSTADO ESTE DE LA PLAZA DE DEPORTES"]
[5165,"LICEO RURAL ISLA VENADO","COLEGIOS","PUBLICA","PENINSULAR",76,2,3,6,1,4,"PUNTARENAS","PUNTARENAS","LEPANTO","ISLA VENADO","GERARDO BENITO VILLEGAS LÓPEZ",26468087,26468087,"lic.ruralislavenado@mep.go.cr","200 M AL NORTE DE PLATA LA ESPAÑOLA"]
[5166,"LICEO FINCA ALAJUELA","COLEGIOS","PUBLICA","GRANDE DE TERRABA",75,2,9,6,5,5,"PUNTARENAS","OSA","PIEDRAS BLANCAS","FINCA ALAJUELA","JOSE DOMINGO LAZARO MAROTO",27411146,0,"liceofincaalajuela@yahoo.cr/magaja42@hotmail.com","1.5 K.DE LA BOMBA DE CHACARIT.CAMINO A PTO J."]
[5167,"TELESECUNDARIA BAHIA DRAKE","COLEGIOS","PUBLICA","GRANDE DE TERRABA",75,2,8,6,5,3,"PUNTARENAS","OSA","SIERPE","AGUJITAS DE DRAKE","JAVIER SALAS VELA",27881127,0,"xmsuarez@gmail.com","AL COSTADO DE LA GUARDIA RURAL,AGUJAS DE DRAK"]
[5168,"LICEO RURAL BOCA DE SIERPE","COLEGIOS","PUBLICA","GRANDE DE TERRABA",75,2,8,6,5,3,"PUNTARENAS","OSA","SIERPE","SIERPE","WENDY LATOUCHE SEGURA",27881232,27881232,"wenlas29@yahoo.es","FRENTE A PLAZA DE DEPORTES DE SIERPE DE OSA"]
[5170,"LICEO RURAL BARRA PARISMINA","COLEGIOS","PUBLICA","LIMON",66,2,5,7,3,1,"LIMON","SIQUIRRES","SIQUIRRES","BARRA DE PARISMINA","MANDRED FERNANDEZ RAMIREZ",27585720,27585720,"lic.ruralbarraparismina@mep.go.cr","FRENTE A IGLESIA CATÓLICA"]
[5171,"LICEO RURAL GAVILÁN","COLEGIOS","PUBLICA","SULA",77,2,5,7,1,2,"LIMON","LIMON","VALLE LA ESTRELLA","VESTA","FABIOLA MELENDEZ MARIN",22005133,0,"liceoruralgavilanvesta@gmail.com","VESTA VALLE LA ESTRELLA"]
[5173,"LICEO RURAL CAHUITA","COLEGIOS","PUBLICA","LIMON",66,2,8,7,4,3,"LIMON","TALAMANCA","CAHUITA","CAHUITA","GARY MICHELL THOMAS",27551131,27551131,"liccahuitatalamanca@gmail.com","250 M. NOROESTE DE LA TERMINAL DE BUSES"]
[5176,"LICEO RURAL BARRA DE TORTUGUERO","COLEGIOS","PUBLICA","GUAPILES",67,2,3,7,2,6,"LIMON","POCOCI","COLORADO","BARRA TORTUGUERO","BETTY MONTOYA LOZADA",27670452,27670452,"licruralbarradeltortuguer@mep.go.cr","75 ESTE DE CABINAS MARISCAR"]
[5177,"LICEO RURAL EL PORVENIR","COLEGIOS","PUBLICA","ZONA NORTE NORTE",69,2,3,2,13,2,"ALAJUELA","UPALA","AGUAS CLARAS","EL PORVENIR","SONIA ARANA GONZALEZ",87017288,87017288,"lic.elporvenir@mep.go.cr","100M SUR ESCUELA EL PORVERNIR"]
[5178,"LICEO LAS DELICIAS","COLEGIOS","PUBLICA","ZONA NORTE NORTE",69,2,1,2,13,5,"ALAJUELA","UPALA","DELICIAS","DELICIAS","ITZA ZAMORA LÓPEZ",24702950,24700155,"liceodelicias@gmail.com","300M NORTE DE LA IGLESIA CATOLICA"]
[5197,"UNIDAD PEDAGÓGICA CASA HOGAR","COLEGIOS","PUBLICA","GUAPILES",67,2,5,7,2,4,"LIMON","POCOCI","ROXANA","PUNTA DE RIEL","AZARIAS JIMENEZ ZAMORA",27634228,0,"azariasj@hotmail.com","350 MTS OESTE DEL ANTIGUO BAR KAMAKIRUS"]
[5219,"ESC. LEÓN XIII","EDUC. ESPECIAL","PUBLICA","SAN JOSE OESTE",72,4,5,1,13,4,"SAN JOSE","TIBAS","LEON XIII","LEÓN XIII","ROCÍO VARGAS CASAL",22228381,22228381,"eletrece@gmail.com","CONTIGUO AL INA"]
[5220,"ESC. JUAN ENRIQUE PESTALOZZI","EDUC. ESPECIAL","PUBLICA","SAN JOSE NORTE",71,4,2,1,8,7,"SAN JOSE","GOICOECHEA","PURRAL","PURRAL","XINIA PATRICIA VARGAS CORRALES",22850398,22850398,"xilose@hotmail.com","COSTADO OESTE DE LA IGLESIA CATOLICA"]
[5224,"ESC. LUIS DEMETRIO TINOCO CASTRO","EDUC. ESPECIAL","PUBLICA","SAN JOSE NORTE",71,4,2,1,8,7,"SAN JOSE","GOICOECHEA","PURRAL","LOS CUADROS","MARTIN NAVARRO FERNANDEZ",22296193,22296193,"escuelaluisdemetrio@gmail.com","FRENTE A LA PLAZA DE DEPORTES"]
[5226,"ESC. JORGE DEBRAVO","EDUC. ESPECIAL","PUBLICA","SAN JOSE CENTRAL",50,4,5,1,1,10,"SAN JOSE","SAN JOSE","HATILLO","HATILLO 8","JESSICA CAMPOS CASTRO",22310494,22914971,"jorgedebravo@hotmail.com","300 OESTE DE LA IGLESIA CATOLICA"]
[5231,"ESC. REVERENDO FRANCISCO SCHMITS","EDUC. ESPECIAL","PUBLICA","DESAMPARADOS",51,4,1,1,3,12,"SAN JOSE","DESAMPARADOS","GRAVILIAS","EL PORVENIR","JUAN CARLOS BADILLA BARRANTES",22596292,22596292,"reverendoschmitz@gmail.com","DE LA IGLESIA CATOLICA 150 SUR."]
[5232,"ESC. LAS GRAVILIAS","EDUC. ESPECIAL","PUBLICA","DESAMPARADOS",51,4,1,1,3,12,"SAN JOSE","DESAMPARADOS","GRAVILIAS","GRAVILIAS","SANDRA MARIA MORA ARGUEDAS",22590594,22195118,"escgravilias@gmail.com","75 MTS. ESTE DEPOSITO LAS GRAVILIAS."]
[5233,"ESC. DOMINGO FAUSTINO SARMIENTO","EDUC. ESPECIAL","PUBLICA","DESAMPARADOS",51,4,3,1,6,7,"SAN JOSE","ASERRI","SALITRILLOS","SALITRILLOS","MARVIN ALBERTO DIAZ CAMACHO",22308544,22308544,"escueladomingofaustino@gmail.com","FRENTE A LA PLAZA DE DEPORTES."]
[5234,"COLEGIO GRAVILIAS","EDUC. ESPECIAL","PUBLICA","DESAMPARADOS",51,4,1,1,3,12,"SAN JOSE","DESAMPARADOS","GRAVILIAS","GRAVILIAS","FERNANDO TORRES QUIROS",22590602,22597519,"colegiodegravilias@yahoo.com","200 MTS.ESTE DEL CUERPO DE BOMBEROS."]
[5237,"ESC. DR. ADOLFO JIMENEZ DE LA GUARDIA","EDUC. ESPECIAL","PUBLICA","ALAJUELA",54,4,3,2,1,12,"ALAJUELA","ALAJUELA","TAMBOR","TAMBOR","LAURA MARIA CHAVES QUIROS",24332701,24332701,"escuelaadolfojimenez@hotmail.com","200 MTS SUR PLAZA DE DEPORTES"]
[5239,"COLEGIO AMBIENTALISTA EL ROBLE","EDUC. ESPECIAL","PUBLICA","ALAJUELA",54,4,4,2,1,4,"ALAJUELA","ALAJUELA","SAN ANTONIO","EL ROBLE DE ALAJUELA","LUIS FERNANDO DELGADO ROJAS",24381386,24381386,"col.ambientalistaelroble@mep.go.cr","URBANIZACION LAS VEGAS, EL ROBLE, SN ANTONIO"]
[5240,"ESC. ARNULFO ARIAS MADRID","EDUC. ESPECIAL","PUBLICA","OCCIDENTE",55,4,7,2,11,3,"ALAJUELA","ZARCERO","TAPESCO","TAPEZCO","ÁLVARO IVÁN CHACÓN SABORÍO",24632745,24632745,"esc.arnulfoarias@hotmail.com","CONTIGUO AL TEMPLO CATÓLICO DE TAPEZCO"]
[5241,"ESC. PATRIARCA SAN JOSÉ","EDUC. ESPECIAL","SUBVENCIONADA","OCCIDENTE",55,4,1,2,2,1,"ALAJUELA","SAN RAMON","SAN RAMON","CENTRO","ANA PATRICIA CHAVES CAMPOS",24455670,24456160,"cpsj@ice.co.cr","100 ESTE Y 100 NORTE DE PERIMERCADOS"]
[5242,"ESC. JOAQUÍN LORENZO SANCHO QUESADA","EDUC. ESPECIAL","PUBLICA","OCCIDENTE",55,4,6,2,7,3,"ALAJUELA","PALMARES","BUENOS AIRES","BUENOS AIRES","LÍDICE CARVAJAL PÉREZ",24520190,24520190,"esc.joaquinsancho.q@hotmail.com","125 M. ESTE DE LA ERMITA DE BUENOS AIRES"]
[5243,"ESC. JOSE MARIA VARGAS ARIAS","EDUC. ESPECIAL","PUBLICA","SAN CARLOS",56,4,1,2,10,5,"ALAJUELA","SAN CARLOS","VENECIA","VENECIA","MARVIN ENRIQUE SIBAJA MADRIZ",24722058,24722058,"vargasarias.escuela@hotmail.com","COSTADO SUR DE LA CASA PARROQUIAL VENECIA"]
[5244,"ESC. OROSI","EDUC. ESPECIAL","PUBLICA","CARTAGO",57,4,8,3,2,3,"CARTAGO","PARAISO","OROSI","OROSI","EDWIN LEIVA ARRIETA",25333374,25333374,"escuelaorosi@gmail.com","COSTADO SUR PLAZA DE DEPORTES OROSI"]
[5246,"ESC. DOMINGO FAUSTINO SARMIENTO","EDUC. ESPECIAL","PUBLICA","CARTAGO",57,4,2,3,1,9,"CARTAGO","CARTAGO","DULCE NOMBRE","DULCE NOMBRE","LUIS FERNANDO GOMEZ CARBALLO",25513898,25922461,"domingofausar@gmail.com","FRENTE A LA PARROQUIA DE DULCE NOMBRE"]
[5247,"LICEO PARAISO","EDUC. ESPECIAL","PUBLICA","CARTAGO",57,4,5,3,2,1,"CARTAGO","PARAISO","PARAISO","SAN ANTONIO","GUILLERMO ZUNIGA CERDAS",25745850,25745850,"lparaiso69@hotmail.com","500M SUR DEL BANCO NACIONAL DE PARAISO"]
[5250,"ESC. SAN FRANCISCO","EDUC. ESPECIAL","PUBLICA","HEREDIA",59,4,6,4,6,4,"HEREDIA","SAN ISIDRO","SAN FRANCISCO","SAN FRANCISCO","SUSSY CORTES CARRERA",22688682,22688682,"escuelasanfrancisco05@gmail.com","COSTADO NORTE PLAZA DE DEPORTES"]
[5251,"ESC. ENRIQUE STRACHAN","EDUC. ESPECIAL","SUBVENCIONADA","HEREDIA",59,4,4,4,2,6,"HEREDIA","BARVA","SAN JOSE DE LA MONTAÑA","HOGAR BIBL.ROBLEALTO","NOELIA LEON BRIZO",22660578,22660039,"enriquestrachan@yahoo.com","700 NORTE 900 OESTE DE LA PLAZA DE DEPORTES"]
[5253,"ESC. LAS PALMITAS","EDUC. ESPECIAL","PUBLICA","SARAPIQUI",74,4,1,4,10,2,"HEREDIA","SARAPIQUI","LA VIRGEN","LAS PALMITAS","JOHEL UGALDE PANIAGUA",27611536,27611536,"elaspalmitas@gmail.com","COSTADO SUR DE LA PLAZA DE DEPORTES"]
[5256,"ESC. FILADELFIA","EDUC. ESPECIAL","PUBLICA","SANTA CRUZ",62,4,5,5,5,1,"GUANACASTE","CARRILLO","FILADELFIA","FILADELFIA","MA. CRISTINA VARGAS ONDOY",26888243,26888243,"esc.centralfiladelfia@mep.go.cr","COSTADO NORTE DEL PARQUE CENTRAL"]
[5257,"ESC. ANTONIO OBANDO ESPINOZA","EDUC. ESPECIAL","PUBLICA","CAÑAS",63,4,1,5,6,1,"GUANACASTE","CAÑAS","CAÑAS","SAN MARTIN","ZEANNE DIJERES ESPINOZA",26693627,0,"esc.antonioobandoespinoza@mep.go.cr","200 OESTE DE LA PLAZA DE TOROS CHOROTEGA"]
[5260,"LICEO PACÍFICO SUR","EDUC. ESPECIAL","PUBLICA","GRANDE DE TERRABA",75,4,6,6,5,1,"PUNTARENAS","OSA","PUERTO CORTES","CINCO ESQUINAS","ERICK MOLINA VILLARREAL",27866594,27866594,"liceopacificosur@hotmail.com","200 MTS. ESTE DE ABASTECEDOR CINCO ESQUINAS"]
[5264,"C.T.P. DE POCOCI","EDUC. ESPECIAL","PUBLICA","GUAPILES",67,4,1,7,2,1,"LIMON","POCOCI","GUAPILES","CENTRO","SERGIO DENIS LÓPEZ",27100816,27112794,"ctppococi@gmail.com","FRENTE AL HOTEL SUERRE."]
[5269,"CAIPAD APNAE","EDUC. ESPECIAL","SUBVENCIONADA","HEREDIA",59,4,6,4,9,1,"HEREDIA","SAN PABLO","SAN PABLO","SAN PABLO HEREDIA","GUISELLE FONSECA PICADO",22381782,22820838,"centroapnae@gmail.com","25 M AL OESTE DE LA FINCA DE RECREO DE APSE"]
[5270,"CAIPAD SILOR","EDUC. ESPECIAL","SUBVENCIONADA","OCCIDENTE",55,4,5,2,6,4,"ALAJUELA","NARANJO","CIRRI SUR","BARRIO LOS ANGELES","SHIRLEY BARRANTES BARRANTES",24512012,24514343,"caipad.atc@gmail.com","200 SUR 100 ESTE DEL CRUCE DE CIRRI"]
[5272,"CAIPAD EL SOL BRILLA PARA TODOS","EDUC. ESPECIAL","SUBVENCIONADA","OCCIDENTE",55,4,1,2,2,7,"ALAJUELA","SAN RAMON","SAN ISIDRO","CALLE PALMITOS","KAREN YESENIA ROJAS ROJAS",24450685,24450685,"elsolbrillaparatodos@hotmail.es","100 METROS OESTE DE LA IGLESIA, SAN ISIDRO"]
[5274,"CAIPAD APRODISA","EDUC. ESPECIAL","SUBVENCIONADA","ALAJUELA",54,4,8,2,5,1,"ALAJUELA","ATENAS","ATENAS","ATENAS CENTRO","MARTIN CAMPOS RETANA",24468088,24468088,"aprodisacr@gmail.com","CONTIGUO AL MINISTERIO DE SALUD, ATENAS"]
[5280,"CINDEA SAN JUAN DE DIOS","CINDEA","PUBLICA","DESAMPARADOS",51,5,2,1,3,3,"SAN JOSE","DESAMPARADOS","SAN JUAN DE DIOS","SAN JUAN DE DIOS","MARLENE MORALES SANCHEZ",22190913,22190913,"marlene.59@hotmail.es","DE LA IGLESIA DE SAN JUAN DE DIOS 500 AL SUR"]
[5281,"CINDEA PURISCAL","CINDEA","PUBLICA","PURISCAL",52,5,5,1,12,3,"SAN JOSE","ACOSTA","PALMICHAL","PALMICHAL DE ACOSTA","NANCY ZUNIGA MONTERO",24184409,24184409,"nancy.zuñiga.montero@gmail.com","300 OESTE DE LA PLAZA DE DEPORTES PALMICHAL"]
[5282,"CINDEA C.A.I. LA REFORMA","CINDEA","PUBLICA","ALAJUELA",54,5,4,2,1,8,"ALAJUELA","ALAJUELA","SAN RAFAEL","SAN RAFAEL OJO DE AGUA","GRETTEL MORALES ROJAS",24385113,24397434,"gremorro@hotmail.com","ALAJUELA-SAN RAFAEL"]
[5283,"CINDEA PUERTO VIEJO","CINDEA","PUBLICA","SARAPIQUI",74,5,2,4,10,3,"HEREDIA","SARAPIQUI","LAS HORQUETAS","TICARI","NIXON MARTINEZ MARTINEZ",27641145,27641145,"cindea.puertoviejocentral@mep.go.cr","1 K ESTE DE LA ENTRADA A TICARI, HORQUETAS"]
[5284,"NORTURNO PACIFICO SUR","COLEGIOS","PUBLICA","GRANDE DE TERRABA",75,5,6,6,5,1,"PUNTARENAS","OSA","PUERTO CORTES","CINCO ESQUINAS","ERICK MOLINA VILLARREAL",27864373,27864373,"lic.pacificosur@mep.go.cr","100 M. NORTE DE LA MUNICIPALIDAD DE OSA"]
[5288,"LICEO RURAL MANZANILLO","COLEGIOS","PUBLICA","PUNTARENAS",64,2,3,6,1,6,"PUNTARENAS","PUNTARENAS","MANZANILLO","MANZANILLO","RONNY GARITA CHAVARRIA",26610086,26613357,"lic.ruralmanzanillo@mep.go.cr","200 OESTE DEL SALON COMUNAL DE MANZANILLO"]
[5289,"LICEO RURAL DE CEDRAL","COLEGIOS","PUBLICA","PUNTARENAS",64,2,4,6,4,2,"PUNTARENAS","MONTES DE ORO","UNION","CEDRAL","RODNY ROJAS CAMPOS",26478375,26478375,"dougvc@gmail.com","DIAGONAL AL CEMENTERIO"]
[5290,"LICEO DE CASCAJAL","COLEGIOS","PUBLICA","SAN JOSE NORTE",71,2,6,1,11,5,"SAN JOSE","VASQUEZ DE CORONADO","CASCAJAL","CASCAJAL","EUGENIA VARGAS JIMENEZ",22943651,22943651,"liceocascajal@gmail.com","CONTIGUO A LA ESCUELA PIO XII"]
[5291,"LICEO RURAL BIJAGUAL","COLEGIOS","PUBLICA","LOS SANTOS",73,2,3,1,6,5,"SAN JOSE","ASERRI","LEGUA","BIJAGUAL","FREDDY CHACON CARVAJAL",89421470,0,"liceoruralbijagual@gmail.com","200 SUR DEL CENTRO DE ACOPIO DE ASPROFRIJO"]
[5293,"LICEO RURAL BOCA TAPADA","COLEGIOS","PUBLICA","SAN CARLOS",56,2,5,2,10,6,"ALAJUELA","SAN CARLOS","PITAL","BOCA TAPADA","MARIA LIDIETH ALFARO MONDRAGON",22065088,22065088,"liceoruralbocatapada@gmail.com","COSTADO NORTE DE LA PLAZA DE DEPORTES"]
[5294,"LICEO RURAL USEKLA","COLEGIOS","PUBLICA","SULA",77,2,4,7,4,1,"LIMON","TALAMANCA","BRATSI","SAN VICENTE","JANNIK RDO. BARRANTES RIVAS",86949102,0,"janricar@hotmail.com","A 8 K. AL NOROESTE DE LA ESCUELA DE SHIROLES"]
[5295,"LICEO LA PERLA","COLEGIOS","PUBLICA","LIMON",66,2,4,7,3,2,"LIMON","SIQUIRRES","PACUARITO","LA PERLA","DEIRY LIZANO MORA",27699901,27699901,"licoelaperla04drel@gmail.com","DETRÁS DEL COMISARIATO ASOPORVENIR DE PERLA 1"]
[5296,"LICEO RURAL SALVADOR DURAN OCAMPO","COLEGIOS","PUBLICA","SARAPIQUI",74,2,3,4,10,1,"HEREDIA","SARAPIQUI","PUERTO VIEJO","ZAPOTE","PATRICIA BRENES BRENES",22064072,27666283,"liceoruralelalamo@gmail.com","20 KILOMETROS AL SURESTRE DE PUERTO VIEJO"]
[5297,"COLEGIO LA PALMA","COLEGIOS","PUBLICA","COTO",65,2,3,6,7,2,"PUNTARENAS","GOLFITO","PUERTO JIMENEZ","LA PALMA","BRENDA GONZÁLEZ GONZÁLEZ",27351179,27351179,"colacpalma2013@gmail.com","DE LA ENTRADA A PLAYA BLANCA 300 M. AL SUR"]
[5299,"LICEO CANAÁN","COLEGIOS","PUBLICA","PEREZ ZELEDON",53,2,5,1,19,4,"SAN JOSE","PEREZ ZELEDON","RIVAS","CANAÁN","GRACE BRENES CAMPOS",27425113,27425114,"lic.canaan@mep.go.cr","200 METROS NORTE DE LA IGLESIA CATOLICA"]
[5300,"LICEO LAS ESPERANZAS","COLEGIOS","PUBLICA","PEREZ ZELEDON",53,2,10,1,19,1,"SAN JOSE","PEREZ ZELEDON","SAN ISIDRO DE EL GENERAL","LAS ESPERANZAS","HENRY NAVARRO ZUÑIGA",22009561,0,"lic.lasesperanzas@mep.go.cr","100 METROS NORTE DE LA PLAZA DE DEPORTES"]
[5301,"LICEO PLATANILLO DE BARÚ","COLEGIOS","PUBLICA","PEREZ ZELEDON",53,2,4,1,19,9,"SAN JOSE","PEREZ ZELEDON","BARU","PLATANILLO","GUSTAVO MORA ARIAS",27870510,27870510,"lic.platanillo@drepz.ed.cr","200 NORESTE DEL EBAIS DE PLATANILLO"]
[5302,"LICEO LOS ANGELES","COLEGIOS","PUBLICA","SAN CARLOS",56,2,5,2,10,6,"ALAJUELA","SAN CARLOS","PITAL","LOS ANGELES","MAUREEN VARELA ARAYA",24041060,24041060,"liceolosangelesdepital@hotmail.com","100 METROS NORTE DE LA PLAZA DE DEPORTES"]
[5303,"LICEO CAPITAN MANUEL QUIROS","COLEGIOS","PUBLICA","SAN CARLOS",56,2,12,2,10,11,"ALAJUELA","SAN CARLOS","CUTRIS","COOPEVEGA","ELMER VILLALOBOS GONZALEZ",24673033,24673033,"liceocamaqui@yahoo.es/lic.capitanmanuelquiros@mep.","100 METROS NOROESTE DE LA ESCUELA"]
[5304,"LICEO NICOLAS AGUILAR MURILLO","COLEGIOS","PUBLICA","SAN CARLOS",56,2,11,2,10,12,"ALAJUELA","SAN CARLOS","MONTERREY","SANTO DOMINGO","MAYNOR DURAN RODRIGUEZ",24780042,24780042,"nicolasagulilarmurillo@hotmail.es","CONTIGUO AL EBAIS"]
[5316,"LICEO CAPITÁN RAMON RIVAS","COLEGIOS","PUBLICA","LIMON",66,2,2,7,1,2,"LIMON","LIMON","VALLE LA ESTRELLA","BANANITO SUR","ROMMEL GUEVARA SALAS",27566337,27566337,"liceocapitan02@gmail.com","300 M. OESTE DE LA IGLESIA CATOLICA"]
[5317,"LICEO CANALETE","COLEGIOS","PUBLICA","ZONA NORTE NORTE",69,2,4,2,13,8,"ALAJUELA","UPALA","CANALETE","CANALETE","ISMAEL OROZCO MUÑOZ",24700970,24700970,"liceo.canalete2012@gmail.com","DE SORMARIA ROMERO 2KM SUROESTE HACIA GUACALI"]
[5318,"LICEO CORONEL MANUEL ARGÜELLO","COLEGIOS","PUBLICA","PURISCAL",52,2,7,1,16,5,"SAN JOSE","TURRUBARES","CARARA","BIJAGUAL","JORGE ANDRES CORDERO AMADOR",26451071,26451071,"lic.coronelmanuelarguello@mep.go.cr","DETRAS AGENCIA DEL MAG"]
[5336,"LICEO HERNAN VARGAS RAMIREZ","EDUC. ESPECIAL","PUBLICA","TURRIALBA",58,4,1,3,4,1,"CARTAGO","JIMENEZ","JUAN VIÑAS","JUAN VIÑAS","MARIA JULIA ORTEGA PEREZ",25322274,25322274,"lhernanvargas@gmail.com","CONTIGUO AL JUZGADO"]
[5347,"LICEO RURAL BUENA VISTA","COLEGIOS","PUBLICA","PEREZ ZELEDON",53,2,5,1,19,4,"SAN JOSE","PEREZ ZELEDON","RIVAS","BUENA VISTA","ROXANA GODÍNEZ SÁNCHEZ",27721635,27721635,"lic.ruralbuenavista@mep.go.cr","150 METROS SUR DEL TEMPLO CATOLICO"]
[5350,"LICEO SABANILLAS","COLEGIOS","PUBLICA","COTO",65,2,8,6,8,4,"PUNTARENAS","COTO BRUS","LIMONCITO","SABANILLAS","MARLER VILLALOBOS MÉNDEZ",27847047,27847047,"liceosabanillas@gmail.com","CONTIGUO A ENTRADA, AL VALLE DE LIMONCITO"]
[5353,"COLEGIO MEXICO","EDUC. ESPECIAL","PUBLICA","SAN JOSE CENTRAL",50,4,2,1,1,1,"SAN JOSE","SAN JOSE","CARMEN","ARANJUEZ","SANDRA VALERIO CALVO",22220068,22237537,"colegiomexicomep@gmail.com","300 NORTE DE LA IGLESIA SANTA TERESITA"]
[5356,"TELESECUNDARIA LOS ARBOLITOS","COLEGIOS","PUBLICA","SARAPIQUI",74,2,3,4,10,1,"HEREDIA","SARAPIQUI","PUERTO VIEJO","LOS ARBOLITOS","INGRA KARINA ALCOCER MENDOZA",0,27666283,"tvlosarbolitos@hotmail.com","30 KM NORTE DE PUERTO VIEJO"]
[5357,"CAIPAD FUNDACION SERVIO FLORES ARROYO","EDUC. ESPECIAL","SUBVENCIONADA","ALAJUELA",54,4,2,2,1,1,"ALAJUELA","ALAJUELA","ALAJUELA","FATIMA ALAJUELA","PAMELA MONTERO CARVAJAL",24429624,24429629,"fundacionservioflores@hotmail.com","300 M N HOTEL HOLIDAY INN B FATIMA, R SEGUNDO"]
[5364,"LICEO SAN JOSÉ","EDUC. ESPECIAL","PUBLICA","SAN JOSE OESTE",72,4,1,1,1,2,"SAN JOSE","SAN JOSE","MERCED","BARRIO MÉXICO","BANNY NG HIDALGO",22213849,22223167,"lsjsanjose@gmail.com","DE IGLESIA B° MÉXICO,10 M NORTE Y 700 M OESTE"]
[5365,"LICEO DE ESCAZÚ","EDUC. ESPECIAL","PUBLICA","SAN JOSE OESTE",72,4,3,1,2,2,"SAN JOSE","ESCAZU","SAN ANTONIO","SANTA TERESA","MANUEL ISIDRO MARÍN CASTRO",22287344,22280123,"liceoescazu@hotmail.com","COSTADO NORTE DEL ESTADIO"]
[5366,"C.T.P MAXIMO QUESADA","EDUC. ESPECIAL","PUBLICA","DESAMPARADOS",51,4,1,1,3,7,"SAN JOSE","DESAMPARADOS","PATARRA","SALITRILLOS","JUAN ANTONIO ARROYO VALENCIANO",22743185,22743185,"ctmq2001@gmail.com","SALITRILLOS-PATARRA DIAGONAL AL SUPER TENORIO"]
[5372,"LICEO DIURNO CIUDAD COLON","EDUC. ESPECIAL","PUBLICA","PURISCAL",52,4,5,1,7,1,"SAN JOSE","MORA","COLON","COLON","SILVIO CALDERON MONTERO",22491117,22491117,"liceodiurnociudadcolon@gmail.com","600 ESTE DE SERVICENTRO DELTA"]
[5373,"C.T.P. DE TURRUBARES","EDUC. ESPECIAL","PUBLICA","PURISCAL",52,4,6,1,16,1,"SAN JOSE","TURRUBARES","SAN PABLO","SAN PABLO","OLGA MARTE ESPINOZA GONZALEZ",24190256,24190361,"ctpturrubares@gmail.com","200 OESTE DEL PLANTEL DE MOPT"]
[5374,"C.T.P. LA GLORIA","EDUC. ESPECIAL","PUBLICA","PURISCAL",52,4,3,1,4,9,"SAN JOSE","PURISCAL","CHIRES","CRISTO REY","JUAN CARLOS BADILLA LEIVA",27781010,27781010,"ctp.lagloriadepuriscal@mep.go.cr","500 SUR ESCUELA SAN RAFAEL SOLORZANO SABORIO"]
[5381,"C.T.P. PLATANARES","EDUC. ESPECIAL","PUBLICA","PEREZ ZELEDON",53,4,7,1,19,6,"SAN JOSE","PEREZ ZELEDON","PLATANARES","SAN RAFAEL","MARLENE NUÑEZ SEGURA",27370025,27370168,"ctpplatanares@gmail.com","CONTIGUO AL TEMPLO CATOLICO SAN RAFAEL CENTRO"]
[5390,"ESC. MONSEÑOR DELFIN QUESADA CASTRO","EDUC. ESPECIAL","PUBLICA","ALAJUELA",54,4,7,2,8,5,"ALAJUELA","POAS","SABANA REDONDA","SABANA REDONDA","NIDIA MURILLO VINDAS",24822615,24822615,"escuelamondel@gmail.com","FRENTE SUPER EL TAURO, SÁBANA REDONDA, POÁS"]
[5396,"C.T.P. NATANIEL ARIAS MURILLO","EDUC. ESPECIAL","PUBLICA","SAN CARLOS",56,4,4,2,10,4,"ALAJUELA","SAN CARLOS","AGUAS ZARCAS","AGUAS ZARCAS","OLGER SANCHEZ ROJAS",24744189,24744037,"Ctp.natanielariasmurillo@mep.go.cr","CONTIGUO AL CEMENTERIO AGUAS ZARCAS"]
[5398,"COLEGIO FRANCISCA CARRASCO JIMENEZ","EDUC. ESPECIAL","PUBLICA","CARTAGO",57,4,2,3,1,6,"CARTAGO","CARTAGO","GUADALUPE o ARENILLA","CENTRO","LUIS G LEIVA ARRIETA",25517923,25517922,"colegio_francisca_arrasco@yahoo.es","550 SUROESTE DE LA GUARDIA RURAL"]
[5406,"LICEO SANTO DOMINGO","EDUC. ESPECIAL","PUBLICA","HEREDIA",59,4,5,4,3,2,"HEREDIA","SANTO DOMINGO","SAN VICENTE","YURUSTI","JULIO CESAR HERNANDEZ ROMERO",22443552,22443552,"liceonuevosantodomingo@gmail.com","DE CLINICA HUGO FONSECA 75 N 200 O Y 100 N"]
[5407,"LICEO ING. MANUEL BENAVIDES R.","EDUC. ESPECIAL","PUBLICA","HEREDIA",59,4,1,4,1,3,"HEREDIA","HEREDIA","SAN FRANCISCO","BARRIO LOURDES","CARMEN CHAVES FONSECA",22372433,22372433,"liceomanuelbenavides@yahoo.es","175 OESTE DEL HOSPITAL NUEVO SAN VICENTE P"]
[5408,"COLEGIO JOSÉ MARÍA GUTIÉRREZ","EDUC. ESPECIAL","PUBLICA","LIBERIA",60,4,3,5,4,3,"GUANACASTE","BAGACES","MOGOTE","GUAYABO","ALBINO MIRANDA CORRALES",26730550,26730550,"colegiojosemariag@gmail.com","DEL SALON COMUNAL DE GUAYABO 650 N/O"]
[5410,"C.T.P. DE CARTAGENA","EDUC. ESPECIAL","PUBLICA","SANTA CRUZ",62,4,3,5,3,5,"GUANACASTE","SANTA CRUZ","CARTAGENA","CARTAGENA","VICTORIA EUGENIA ZUÑIGA ZUNIGA",26750194,26750194,"ctpdecartagena@hotmail.com","1 KM NORTE DE LA IGLESIA CATOLICA CARTAGENA"]
[5411,"LICEO MAURILIO ALVARADO VARGAS","EDUC. ESPECIAL","PUBLICA","CAÑAS",63,4,3,5,8,1,"GUANACASTE","TILARAN","TILARAN","TILARAN","ISABEL ROJAS SIRIAS",26955226,26955226,"lic.maurilioalvaradovargas@mep.go.cr","75 METROS ESTE DE LA AGENCIA DEL ICE"]
[5428,"C.T.P. DE PARRITA","EDUC. ESPECIAL","PUBLICA","AGUIRRE",68,4,4,6,9,1,"PUNTARENAS","PARRITA","PARRITA","LA JULIETA","DORIS SALAZAR PORRAS",27799197,27799197,"colegiotecnicoparrita@gmail.com","DEL MERCADO MUNICIPAL DE PARRITA, 100 M NORTE"]
[5429,"C.T.P. DE JACO","EDUC. ESPECIAL","PUBLICA","AGUIRRE",68,4,5,6,11,1,"PUNTARENAS","GARABITO","JACO","COPEY","FERNANDO PUSEY HALL",26433694,26431459,"ctpjaco@gmail.com","200 MTS SUR DE MAXI PALI"]
[5430,"ESC. LIDER DE BIJAGUA","EDUC. ESPECIAL","PUBLICA","ZONA NORTE NORTE",69,4,4,2,13,4,"ALAJUELA","UPALA","BIJAGUA","BIJAGUA","PATRICIA UGALDE MORALES",24668401,24668401,"escuelabijagua@hotmail.com","150 SURESTE DE LA IGLESIA CATOLICA"]
[5433,"C.T.P. UPALA","EDUC. ESPECIAL","PUBLICA","ZONA NORTE NORTE",69,4,1,2,13,1,"ALAJUELA","UPALA","UPALA","UPALA","CRISTIAN PANIAGUA CASTAÑEDA",24700081,24700081,"ctpupala.direccion@gmail.com","100 ESTEDEL HOSPITAL UPALA"]
[5434,"CAIPAD ANDREA JIMENEZ","EDUC. ESPECIAL","SUBVENCIONADA","SAN JOSE CENTRAL",50,4,3,1,1,6,"SAN JOSE","SAN JOSE","SAN FCO DE DOS RIOS","LA CABAÑA","KENIA CHACON ESPINOZA",22180192,22505047,"iandreajimenez@hotmail.com","600 ESTE 400 SUR 50 ESTE DEL PARQUE OKAYAMA"]
[5437,"CAIPAD ASOCIACION TALLER PROTEGIDO ALAJUELA","EDUC. ESPECIAL","SUBVENCIONADA","ALAJUELA",54,4,2,2,1,1,"ALAJUELA","ALAJUELA","ALAJUELA","EL CARMEN CENTRO","JOSELYN ALVARADO LORIA",24402428,24410665,"protegido@ice.co.cr","100 M SUR, ANTIGUA BOMBA TOTAL"]
[5438,"CAIPAD PARAISO","EDUC. ESPECIAL","SUBVENCIONADA","CARTAGO",57,4,5,3,2,5,"CARTAGO","PARAISO","LLANOS SANTA LUCIA","LLANOS SANTA LUCIA","OLGA PEREZ HERNANDEZ",25751672,25751672,"caipadcr@hotmail.com","DE LA GUARDIA RURAL 50 M SUR Y 100 M OESTE"]
[5439,"CAIPAD FUNDACION AMOR Y ESPERANZA","EDUC. ESPECIAL","SUBVENCIONADA","SAN CARLOS",56,4,3,2,10,1,"ALAJUELA","SAN CARLOS","QUESADA","EL CARMEN","SHIRLEY PEREIRA BADILLA",24611726,24611726,"spereirab@fundae.org","SECCION 2-A, HOSPITAL DE SAN CARLOS"]
[5440,"CAIPAD AYUMISANCA","EDUC. ESPECIAL","SUBVENCIONADA","SAN CARLOS",56,4,3,2,10,1,"ALAJUELA","SAN CARLOS","QUESADA","BARRIO EL CARMEN","ALEJANDRA ESQUIVEL GONZALEZ",24603622,24605365,"caipad.ayumisanca@mep.go.cr","COSTADO NORTE DE LA PLAZA DE DEPORTES"]
[5446,"C.T.P. 27 DE ABRIL","EDUC. ESPECIAL","PUBLICA","SANTA CRUZ",62,4,2,5,3,3,"GUANACASTE","SANTA CRUZ","VEINTISIETE DE ABRIL","LOS JOBOS","JOHN HENRY VILLAFUERTE B.",26580054,0,"ctp27deabril@hotmail.es","75 ESTE CRUCE DE JUNQUILLAL"]
[5447,"CAIPAD ASCOPA","EDUC. ESPECIAL","SUBVENCIONADA","SAN JOSE CENTRAL",50,4,3,1,1,5,"SAN JOSE","SAN JOSE","ZAPOTE","BARRIO PINTO","MARIANELA CHACON MORA",22812813,22807721,"caipad.ascopa@gmail.com","600 METROS OESTE DEL ARCHIVO NACIONAL"]
[5448,"CAIPAD ASOPAFAM","EDUC. ESPECIAL","SUBVENCIONADA","PEREZ ZELEDON",53,4,3,1,19,3,"SAN JOSE","PEREZ ZELEDON","DANIEL FLORES","VILLA LIGIA","YENDRY BARRANTES NAVARRO",27721218,27712700,"caipad.asopafam@mep.go.cr","50 SUR DE LA SEDE DE LA UNED"]
[5467,"LICEO DE MORAVIA","EDUC. ESPECIAL","PUBLICA","SAN JOSE NORTE",71,4,5,1,14,1,"SAN JOSE","MORAVIA","SAN VICENTE","SAN RAFAEL","VICTOR HUGO CHAVES QUIROS",22359282,22351336,"liceomoravia@gmail.com","DE LA IGLESIA CATOLICA 300 NORTE Y 150 ESTE"]
[5479,"C.T.P. DE SABALITO","EDUC. ESPECIAL","PUBLICA","COTO",65,4,6,6,8,2,"PUNTARENAS","COTO BRUS","SABALITO","SAN RAFAEL","ROY CISNEROS SÁNCHEZ",27840616,27840616,"ctp.desabalito@mep.go.cr","600 MTS. SURESTE DE LA TOSTADORA RÍO BRUS"]
[5487,"ESC. GERARDO BADILLA MORA","EDUC. ESPECIAL","PUBLICA","OCCIDENTE",55,4,3,2,2,9,"ALAJUELA","SAN RAMON","ALFARO","SAN PEDRO","OLGA Mª ZAMORA CASTILLO",24456043,24456043,"escuelagerardobadillamora@gmail.com","FRENTE A IGLESIA CATÓLICA"]
[5495,"ESC. MONTERO Y PALITO","EDUC. ESPECIAL","PUBLICA","PUNTARENAS",64,4,3,6,1,13,"PUNTARENAS","PUNTARENAS","CHIRA","PALITO","GUISELLE FERNANDEZ MEDINA",26615578,26615578,"esc.monteroypalito@mep.go.cr","FRENTE AL CRUCE A MONTERO, PALITO-ISLA CHIRA"]
[5497,"CAIPAD ASADIS","EDUC. ESPECIAL","SUBVENCIONADA","OCCIDENTE",55,4,4,2,12,1,"ALAJUELA","VALVERDE VEGA","SARCHI NORTE","URB. LA EVA","MARIANELA ALPIZAR MARIN",24543895,24543895,"caipad_asadis@yahoo.com","COSTADO NORTE DEL ESTADIO MUNICIPAL"]
[5502,"COLEGIO DR. RICARDO MORENO CAÑAS","EDUC. ESPECIAL","PUBLICA","OCCIDENTE",55,4,6,2,7,2,"ALAJUELA","PALMARES","ZARAGOZA","RINCÓN DE ZARAGOZA","WARNER ANTONIO VEGA SOLÍS",24531551,24522992,"colegio_rincon@hotmail.com","100 M. SUR DEL BAR-RESTAURANTE LAS TEJAS"]
[5503,"COLEGIO AMBIENTALISTA DE PEJIBAYE","EDUC. ESPECIAL","PUBLICA","TURRIALBA",58,4,1,3,4,3,"CARTAGO","JIMENEZ","PEJIBAYE","LA HACIENDITA","GUIDO SOLANO TREJOS",25313404,25313404,"colpejibaye@gmail.com","BARRIO LA HACIENDITA, PEJIBAYE DE JIMENEZ"]
[5508,"CAIPAD ANAMPE","EDUC. ESPECIAL","SUBVENCIONADA","HEREDIA",59,4,5,4,3,2,"HEREDIA","SANTO DOMINGO","SAN VICENTE","SAN VICENTE","WENDY BRENES SANCHEZ",22449189,22446763,"infoanampe@gmail.com","SALON PARROQUIAL DE LA IGLESIA DEL ROSARIO"]
[5509,"CAIPAD PAIPAD-AFIACE","EDUC. ESPECIAL","SUBVENCIONADA","DESAMPARADOS",51,4,1,1,3,12,"SAN JOSE","DESAMPARADOS","GRAVILIAS","GRAVILIAS","ALEJANDRA GOMEZ BRENES",22594707,22597569,"caipadafiace@hotmail.com","DEL POLIDEP ESQ E 50 M N FTE A LA SUBES ICE"]
[5514,"COLEGIO DE BAGACES","EDUC. ESPECIAL","PUBLICA","LIBERIA",60,4,3,5,4,1,"GUANACASTE","BAGACES","BAGACES","BAGACES","SULMAN SALAS OSES",26711116,26711116,"colebagaces1968@hotmail.com","CONTIGUO AL GIMNACIO MUNICIPAL DE BAGACES"]
[5515,"LICEO TUCURRIQUE","EDUC. ESPECIAL","PUBLICA","TURRIALBA",58,4,1,3,4,2,"CARTAGO","JIMENEZ","TUCURRIQUE","TUCURRIQUE","CESAR PORTUGUEZ SANABRIA",25350309,25350309,"liceotucurrique@gmail.com","200 E.CENTRO AGRICOLA, ENT.CASERIO LA FLORA"]
[5518,"LICEO DE FLORENCIA","EDUC. ESPECIAL","PUBLICA","SAN CARLOS",56,4,2,2,10,2,"ALAJUELA","SAN CARLOS","FLORENCIA","FLORENCIA","NORMAN CASTRO CASTRO",24757006,24757006,"liceoflorencia@gmail.com","900 METROS NORTE DEL REPUESTOS JOYSA S. A."]
[5530,"LICEO SAN FRANCISCO","COLEGIOS","PUBLICA","PEREZ ZELEDON",53,2,6,1,19,8,"SAN JOSE","PEREZ ZELEDON","CAJON","SAN FRANCISCO","MIGUEL JIMENEZ BADILLA",22005300,0,"lic.sanfranciscodecajon@mep.go.cr","CONTIGUO AL SALON COMUNAL"]
[5531,"LICEO CONCEPCIÓN","COLEGIOS","PUBLICA","GRANDE DE TERRABA",75,2,5,6,3,5,"PUNTARENAS","BUENOS AIRES","PILAS","CONCEPCIÓN","DAMARIS FUNTES ABARCA",22065355,22065355,"liconce2009@hotmail.com","FRENTE A LA PLAZA DE DEPORTES,CONCEPCION"]
[5532,"LICEO BOCA DE ARENAL","COLEGIOS","PUBLICA","SAN CARLOS",56,2,7,2,10,11,"ALAJUELA","SAN CARLOS","CUTRIS","BOCA DE ARENAL","ROXANA ALFARO ARAYA",24695006,24695006,"lic.bocadearenal@mep.go.cr","175 ESTE DE LA MUEBLERIA HERMANOS SALAS"]
[5533,"EXPERIMENTAL BILINGÜE DE LOS ÁNGELES","COLEGIOS","PUBLICA","SAN CARLOS",56,2,6,2,10,7,"ALAJUELA","SAN CARLOS","LA FORTUNA","LOS ANGELES","LUIS ALBERTO ROJAS BOGANTES",24691644,24691442,"lebla2010@gmail.com","200 SUR DE LA GUARDIA RURAL"]
[5535,"LICEO DE GUARDIA","COLEGIOS","PUBLICA","LIBERIA",60,2,2,5,1,4,"GUANACASTE","LIBERIA","NACASCOLO","GUARDIA","GRACE LILLIANA MORALEZ LOPEZ",26670148,26670148,"lic.deguardia@mep.go.cr","800 MTS.E.Y 275 S.DE EL CENCINAI"]
[5536,"COLEGIO BARRA DE COLORADO","COLEGIOS","PUBLICA","GUAPILES",67,2,3,7,2,6,"LIMON","POCOCI","COLORADO","BARRA COLORADO NORTE","ARTURO COLOMER BENAVENTE",84811444,27677382,"lic.decolorado@mep.go.cr","50MTS SUR D ELA PLAZA DE FUTBOL"]
[5538,"COLEGIO DE TABARCIA","EDUC. ESPECIAL","PUBLICA","PURISCAL",52,4,5,1,7,3,"SAN JOSE","MORA","TABARCIA","TABARCIA","ILVIN PINEDA HERNANDEZ",24186271,24188373,"col.detabarcia@mep.go.cr","COSTADO ESTE DE LA PLAZA DE DEPORTES"]
[5541,"CAIPAD ACEFOPAVAS","EDUC. ESPECIAL","SUBVENCIONADA","HEREDIA",59,4,5,4,3,6,"HEREDIA","SANTO DOMINGO","SANTA ROSA","LA VALENCIA","NYDIA PEREZ QUINTERO",22375523,25623130,"acefopavas@gmail.com","200 NORTE DE JARDINES DEL RECUERDO"]
[5545,"C.T.P. DE MATAPALO","EDUC. ESPECIAL","PUBLICA","AGUIRRE",68,4,2,6,6,2,"PUNTARENAS","AGUIRRE","SAVEGRE","MATAPALO","FERNANDO ENRIQUEZ ESPINOZA",27875297,27875297,"colegiomatapalo1976@gmail.com","FRENTE A LA PLAZA DE DEPORTES COSTADO NORTE"]
[5546,"LICEO DE CORRALILLO","EDUC. ESPECIAL","PUBLICA","CARTAGO",57,4,7,3,1,7,"CARTAGO","CARTAGO","CORRALILLO","CORRALILLO","EDGAR ELADIO CORDERO ARIAS",25480608,25481444,"edgareladiocr@hotmail.com","500M NORTE IGLESIA DE CORRALILLO"]
[5557,"CENTRO ENSEÑANZA ESPECIAL LENIN SALAZAR QUESADA","EDUC. ESPECIAL","PUBLICA","DESAMPARADOS",51,4,5,1,12,1,"SAN JOSE","ACOSTA","SAN IGNACIO","TURRUJAL","TEODORA MALPARTIDA ARAYA",24103894,24103894,"ceea2003@gmail.com","COSTADO NORTE DE LA PLAZA DE TURRUJAL"]
[5567,"LICEO VENECIA","COLEGIOS","PUBLICA","LIMON",66,2,9,7,5,3,"LIMON","MATINA","CARRANDI","VENECIA","ALFREDO BRUNLEY ROBINSON",27977297,27977297,"colegiovenecia.limon@gmail.com","A UN COSTADO DEL EBAIS DE VENECIA"]
[5568,"COLEGIO SEPECUE","COLEGIOS","PUBLICA","SULA",77,2,3,7,4,4,"LIMON","TALAMANCA","TELIRE","SEPECUE","OSCAR ALMENGOR FERNÁNDEZ",86421756,0,"indio_oscar@yahoo.com","200 MTS. SUR DE LA DELEGACIÓN POLICIAL"]
[5571,"C.T.P. GUAYCARÁ","EDUC. ESPECIAL","PUBLICA","COTO",65,4,4,6,7,3,"PUNTARENAS","GOLFITO","GUAYCARA","RÍO CLARO","GRACE BEITA ALPÍZAR",27899047,27898458,"colegio_guaycara@hotmail.com","300 MTS SUR DEL SERVICENTRO RÍO CLARO"]
[5575,"LICEO RURAL ABROJO MOCTEZUMA","COLEGIOS","PUBLICA","COTO",65,2,13,6,10,1,"PUNTARENAS","CORREDORES","CORREDOR","ABROJO MONTEZUMA","JEFERSON ROJAS MÉNDEZ",27322287,27322287,"lic.ruralabrojomontezuma@mep.go.cr","16 KM. NORTE DE LAS VEGAS DE RÍO ABROJO"]
[5576,"LICEO RURAL SANTA ROSA","COLEGIOS","PUBLICA","COTO",65,2,11,6,10,4,"PUNTARENAS","CORREDORES","LAUREL","SANTA ROSA","ELIZABETH CARVAJAL CHACÓN",27322143,27322143,"supervisión11.coto@mep.go.cr","8 KM. AL SUR DE RÍO INCENDIO"]
[5577,"LICEO EL SAINO","COLEGIOS","PUBLICA","SAN CARLOS",56,2,5,2,10,6,"ALAJUELA","SAN CARLOS","PITAL","EL SAINO","GERARDO RODRIGUEZ BARBOZA",24038273,24038273,"licsaino@mep.go.cr","COSTADO NORTE DE LA PLAZA DE DEPORTES"]
[5578,"LICEO RURAL LA GUARIA DE POCOSOL","COLEGIOS","PUBLICA","SAN CARLOS",56,2,8,2,10,13,"ALAJUELA","SAN CARLOS","POCOSOL","LA GUARIA","MARIETH VILLALOBOS JIMENEZ",22065018,22065018,"liceolaguaria@gmail.com","FRENTE A LA ESCUELA LA GUARIA"]
[5579,"COLEGIO SAN ANTONIO","COLEGIOS","PUBLICA","PEREZ ZELEDON",53,2,8,1,19,7,"SAN JOSE","PEREZ ZELEDON","PEJIBAYE","SAN ANTONIO","JOSÉ LUIS OROZCO PÉREZ",27715964,27715964,"lic.academicosanantonio@mep.go.cr","200 ESTE DEL CEMENTERIO DE SAN ANTONIO"]
[5580,"LICEO RURAL SANTIAGO","COLEGIOS","PUBLICA","PEREZ ZELEDON",53,2,9,1,19,5,"SAN JOSE","PEREZ ZELEDON","SAN PEDRO","SANTIAGO","OTTO BARRANTES ELIZONDO",87870664,0,"lic.ruralsantiagodesanpedro@mep.go.cr","CONTIGUO A LA ESCUELA SANTIAGO"]
[5581,"LICEO RURAL SAN RAFAEL DE CABAGRA","COLEGIOS","PUBLICA","GRANDE DE TERRABA",75,2,12,6,3,3,"PUNTARENAS","BUENOS AIRES","POTRERO GRANDE","SAN RAFAEL CABAGRA","LUIS GUILLERMO JIMENEZ CESPEDE",86404445,27300159,"lrucab12@hotmail.com","SN RAFAEL,CABAGRA 100 MTS.SURESTE DEL EBAIS."]
[5582,"TELESECUNDARIA MASTATAL","COLEGIOS","PUBLICA","PURISCAL",52,2,3,1,4,9,"SAN JOSE","PURISCAL","CHIRES","MASTATAL","CARLOS ANDRES ZUÑIGA JIMENEZ",86035648,27781047,"andzuji9@hotmail.com","FRENTE A IGLESIA CATOLICA"]
[5583,"LICEO CUATRO BOCAS","COLEGIOS","PUBLICA","ZONA NORTE NORTE",69,2,2,2,13,2,"ALAJUELA","UPALA","AGUAS CLARAS","CUATRO BOCAS","MARIELOS SOLIS ALVARADO",86318702,24660220,"lcuatrobocas57@gmail.com","FRENTE A LA DELEGACION DE CUATRO BOCAS"]
[5584,"LICEO RURAL LA CONQUISTA","COLEGIOS","PUBLICA","SARAPIQUI",74,2,2,4,10,3,"HEREDIA","SARAPIQUI","LAS HORQUETAS","LA CONQUISTA","VERONICA PERAZA ALVAREZ",27643852,0,"veronicapeal@hotmail.com","2 KM AL NORTE DE LA BOMBA ISLA GRANDE"]
[5585,"LICEO RURAL LA ALDEA","COLEGIOS","PUBLICA","SARAPIQUI",74,2,3,4,10,1,"HEREDIA","SARAPIQUI","PUERTO VIEJO","LA ALDEA","WENDY SALAS SIBAJA",27666283,27666283,"tvaldea2003@gmail.com","CONTIGUO AL SALON COMUNAL"]
[5586,"LICEO EL PARAISO","COLEGIOS","PUBLICA","SARAPIQUI",74,2,1,4,10,2,"HEREDIA","SARAPIQUI","LA VIRGEN","EL PARAISO","HENRY RAMIREZ VASQUEZ",27610841,0,"liceoelparaiso@gmail.com","2 KM ESTE PIÑALES DE SANTA CLARA SAN GERARDO"]
[5587,"LICEO RURAL SAN JULIAN","COLEGIOS","PUBLICA","SARAPIQUI",74,2,3,4,10,1,"HEREDIA","SARAPIQUI","PUERTO VIEJO","SAN JULIAN","YURI VANESSA CASANOVA AZOFEIFA",27666283,0,"yurivca08@yahoo.com","50 METROS AL ESTE DE LA ESCUELA SAN JULIAN"]
[5588,"TELESECUNDARIA LAS BRISAS","COLEGIOS","PUBLICA","LIBERIA",60,2,1,5,10,1,"GUANACASTE","LA CRUZ","LA CRUZ","LAS BRISAS","IDANIA RUIZ RUIZ",26799174,26799174,"tvlasbrisas@hotmail.com","2 KM. SUR ESCUELA  LAS BRISAS"]
[5590,"LICEO JUNTAS DE CAOBA","COLEGIOS","PUBLICA","LIBERIA",60,2,5,5,10,2,"GUANACASTE","LA CRUZ","SANTA CECILIA","JUNTAS DEL CAOBA","FLOR COREA VIALES",85911286,0,"liceojuntasdecaoba@gmail.com","24 KM AL ESTE DE SANTA CECILIA"]
[5591,"LICEO SAN JORGE","COLEGIOS","PUBLICA","ZONA NORTE NORTE",69,2,8,2,13,7,"ALAJUELA","UPALA","YOLILLAL","SAN JORGE","JORGE MAURICIO ESCOBAR TELLEZ",24708576,24708576,"escobar@gmail.com","COSTADO SUR DEL PUSTO DE POLICIAS EN SAN JORG"]
[5596,"TELESECUNDARIA LOS JAZMINES B","COLEGIOS","PUBLICA","ZONA NORTE NORTE",69,2,8,2,13,1,"ALAJUELA","UPALA","UPALA","LOS JAZMINES B.","WILLIAM CASTRO RAMIREZ",24708340,24708340,"telesecudariajazminezb@gmail.com","FRENTE A LA ESC. PORFIRIO CAMPOS MUÑOZ."]
[5597,"C.T.P. LA MANSION","EDUC. ESPECIAL","PUBLICA","NICOYA",61,4,3,5,2,2,"GUANACASTE","NICOYA","MANSION","LA MANSION","GILBERTO PEÑA RUIZ",26591472,26591333,"ctpmansion@gmail.com","50 SUR DE LA PLAZA DE DEPORTES"]
[5598,"LICEO COQUITAL","COLEGIOS","PUBLICA","SAN CARLOS",56,2,9,2,14,1,"ALAJUELA","LOS CHILES","LOS CHILES","COQUITAL","JULIO CESAR HURTADO ACUÑA",87251552,0,"liceocoquital@gmail.com","FRENTE A LA ESCUELA DE COQUITAL"]
[5605,"LICEO SAN MIGUEL","EDUC. ESPECIAL","PUBLICA","DESAMPARADOS",51,4,2,1,3,2,"SAN JOSE","DESAMPARADOS","SAN MIGUEL","SAN MIGUEL","ALEJANDRO BRENES GAMBOA",22703743,22706444,"liceosanmigueldesampa@yahoo.com","FRENTE AL DEPOSITO LAS GRAVILIAS."]
[5615,"C.T.P. BARRIO IRVIN","EDUC. ESPECIAL","PUBLICA","LIBERIA",60,4,1,5,10,1,"GUANACASTE","LA CRUZ","LA CRUZ","BARRIO IRVIN","JOHANA AMPIE GUZMAN",26799561,26799561,"ctp.barrioirvin@mep.go.cr","150 ESTE DE LA ESCUELA BARRIO IRVIN"]
[5617,"LICEO DE MIRAMAR","EDUC. ESPECIAL","PUBLICA","PUNTARENAS",64,4,4,6,4,1,"PUNTARENAS","MONTES DE ORO","MIRAMAR","MIRAMAR","LIZBETH FERNANDEZ CHAVES",26397360,26399069,"liceodemiramar@yahoo.com","FRENTE AL CEMENTERIO"]
[5625,"C.T.P. DE GUATUSO","EDUC. ESPECIAL","PUBLICA","ZONA NORTE NORTE",69,4,5,2,15,1,"ALAJUELA","GUATUSO","SAN RAFAEL","SAN RAFAEL","MARIA ELID ARREDONDO DELGADO",24640181,24640181,"ctpguatuso@gmail.com","100 SUR DEL BANCO NACIONAL DE GUATUSO"]
[5626,"C.T.P. DE VENECIA","EDUC. ESPECIAL","PUBLICA","SAN CARLOS",56,4,1,2,10,5,"ALAJUELA","SAN CARLOS","VENECIA","SAN MARTIN","ANA DAISY ESQUIVEL VARGAS",24722059,24722059,"ctpvenecias@mep.go.cr","1 KM ESTE DEL SERVICENTRO VENECIA"]
[5635,"C.T.P. DE PACAYAS","EDUC. ESPECIAL","PUBLICA","CARTAGO",57,4,4,3,6,1,"CARTAGO","ALVARADO","PACAYAS","PACAYAS","RODOLFO HERNANDEZ VALERIO",25344027,25344155,null,"150 ESTE DE SUCURSAL DEL BANCO NACIONAL"]
[5639,"C.T.P. PUERTO VIEJO","EDUC. ESPECIAL","PUBLICA","SARAPIQUI",74,4,3,4,10,1,"HEREDIA","SARAPIQUI","PUERTO VIEJO","EL COLEGIO","VERA VILLALOBOS VINDAS",27666172,27666335,"ctppvs@costarricense.cr","800 METROS NORTE DEL BANCO NACIONAL"]
[5645,"LICEO BEBEDERO","COLEGIOS","PUBLICA","CAÑAS",63,2,1,5,6,4,"GUANACASTE","CAÑAS","BEBEDERO","URBANIZACION LAS LOMAS","JAVIER ELIAS ROJAS CORTES",26740446,26740446,"lic.debebedero@mep.go.cr","150 METROS ESTE DEL EBAIS"]
[5655,"LICEO DE SAN ANDRES","COLEGIOS","PUBLICA","LOS SANTOS",73,2,3,1,20,2,"SAN JOSE","LEON CORTES CASTRO","SAN ANDRES","SAN ANDRES","LAURA CRUZ JIMENEZ",25442281,25442281,"liceosanandres@yahoo.com","COSTADO SUR DEL TEMPLO CATOLICO"]
[5656,"LICEO RURAL SANTA CRUZ","COLEGIOS","PUBLICA","LOS SANTOS",73,2,3,1,20,5,"SAN JOSE","LEON CORTES CASTRO","SANTA CRUZ","SANTA CRUZ","JOSE ANDRES HIDALGO CORDERO",25441512,25442177,"andres.hidalgo.cordero@mep.go.cr","1 KM AL OESTE DELA IGLESIA"]
[5657,"LICEO RURAL SAN RAFAEL","COLEGIOS","PUBLICA","COTO",65,2,13,6,10,1,"PUNTARENAS","CORREDORES","CORREDOR","BAJO LOS INDIOS","YEINY VILLEGAS SOLÓRZANO",24322287,27322287,"yeiny.villegas.solorzano@mep.go.cr","SAN RAFAEL NORTE"]
[5658,"LICEO RURAL YERI","COLEGIOS","PUBLICA","GRANDE DE TERRABA",75,2,12,6,3,1,"PUNTARENAS","BUENOS AIRES","BUENOS AIRES","YERI","JEANETH MARIA ORTIZ DELGADO",27305078,0,"mariadelgado08@hotmail.com","10 KM. NORTE DEL CT.P.DE BUENOS AIRES"]
[5659,"LICEO RURAL CARTAGENA","COLEGIOS","PUBLICA","GUAPILES",67,2,4,7,6,4,"LIMON","GUACIMO","RIO JIMENEZ","CARTAGENA","CONRAD JAMES ROSES FRANCIS",27166987,0,"liruca2010@hotmail.com","FRENTE A LA PLAZA DE DEPORTES CARTAGENA"]
[5660,"TELESECUNDARIA LÍNEA VIEJA","COLEGIOS","PUBLICA","GUAPILES",67,2,5,7,2,6,"LIMON","POCOCI","COLORADO","LÍNEA VIEJA","EDGAR QUIROS FERNANDEZ",27633911,27633911,"edgar20qf@hotmail.com","ASENTAMIENTO LINEA VIEJA."]
[5661,"LICEO RURAL LAS MARIAS","COLEGIOS","PUBLICA","SARAPIQUI",74,2,3,4,10,1,"HEREDIA","SARAPIQUI","PUERTO VIEJO","LAS MARIAS","JOSE MANUEL VARGAS MENA",27666283,27666283,"jvarmena@gmail.com","25 KILOMETROS NORESTRE DE PUERTO VIEJO"]
[5662,"LICEO RURAL DE PUERTO VIEJO","COLEGIOS","PUBLICA","LIMON",66,2,8,7,4,1,"LIMON","TALAMANCA","BRATSI","PUERTO VIEJO","GLORIA EDWARDS SOLIS",27502027,27502027,"licpuertoviejotalamanca@gmail.com","100 M. DEL BANCO DE C.R. FRENTE A LA PLAYA"]
[5663,"LICEO RURAL LA PALMA","COLEGIOS","PUBLICA","PURISCAL",52,2,2,1,4,2,"SAN JOSE","PURISCAL","MERCEDES SUR","LA PALMA","LUIS CARLOS ALPIZAR MURILLO",24170223,24170223,"lapalmaliceorural@gmail.com","250M OESTE DE LA ESCUELA LA PALMA"]
[5664,"LICEO RURAL SAN ANTONIO","COLEGIOS","PUBLICA","PURISCAL",52,2,7,1,16,5,"SAN JOSE","TURRUBARES","CARARA","SAN ANTONIO","RAFAEL AGUERO BARQUERO",27798687,27798687,"lic.ruralsanantonio@mep.go.cr","200 SURESTE DE PLAZA DEPORTES"]
[5665,"TELESECUNDARIA BOCA RIO SAN CARLOS","COLEGIOS","PUBLICA","SAN CARLOS",56,2,5,2,10,6,"ALAJUELA","SAN CARLOS","PITAL","BOCA RIO SAN CARLOS","HANSEL ZUÑIGA JIMENEZ",22064538,0,"tele.bocario@mep.go.cr","300 METROS SUR DEL PUESTO DE POLICIA DE BOCA"]
[5666,"TELESECUNDARIA COOPE SAN JUAN","COLEGIOS","PUBLICA","SAN CARLOS",56,2,5,2,10,6,"ALAJUELA","SAN CARLOS","PITAL","COOPE SAN JUAN","RUDOLF SALAS STELLER",0,0,"telecoope@hotmail.com","5 KM NORTE DE LA ESCUELA LA GLORIA"]
[5667,"LICEO RURAL JUANILAMA","COLEGIOS","PUBLICA","SAN CARLOS",56,2,8,2,10,13,"ALAJUELA","SAN CARLOS","POCOSOL","JUANILAMA","SOFIA SEQUEIRA RUIZ",24478480,24777082,"lrjuanilama2004@hotmail.com","3 KM OESTE DE LA ENTRADA A TRES Y TRES"]
[5668,"TELESECUNDARIA LA URRACA","COLEGIOS","PUBLICA","SAN CARLOS",56,2,8,2,14,4,"ALAJUELA","LOS CHILES","SAN JORGE","LA URRACA","ANDREY AMPIE GUZMAN",0,0,"tvlaurraca@hotmail.com","3.5 KM DE LA ENTRADA DEL ASENTAMIENTO URRACA"]
[5669,"TELESECUNDARIA DE MEXICO","COLEGIOS","PUBLICA","ZONA NORTE NORTE",69,2,1,2,13,5,"ALAJUELA","UPALA","DELICIAS","MEXICO","LEITER PONCE GONZALEZ",22065361,22065361,"mexico5669@hotmail.com","100M OESTE DEL EBAIS"]
[5670,"LICEO COLONIA PUNTARENAS","COLEGIOS","PUBLICA","ZONA NORTE NORTE",69,2,8,2,13,1,"ALAJUELA","UPALA","UPALA","COLONIA PUNTARENAS","ADONAIS JIMENEZ VASQUEZ",24708386,24708386,"liceoruralcolonia@gmail.com","CONTIGUO A LA CENTRAL TELEFONICA DEL ICE"]
[5671,"LICEO COLONIA VILLA NUEVA","COLEGIOS","PUBLICA","ZONA NORTE NORTE",69,2,7,2,13,3,"ALAJUELA","UPALA","SAN JOSE O PIZOTE","VILLANUEVA","ROGER VALLE GUERRA",24702897,24702897,"lic.villanueva@mep.go.cr","EN EL SALON COMUNAL"]
[5672,"LICEO RURAL VALLE VERDE","COLEGIOS","PUBLICA","ZONA NORTE NORTE",69,2,2,2,13,2,"ALAJUELA","UPALA","AGUAS CLARAS","COLONIA BLANCA","MARIA CRISTINA VARGAS GRANDA",24660117,24660117,"maria.vargas.granda@mep.go.cr","SALON COMUNAL COLONIA BLANCA"]
[5673,"LICEO RURAL SAN LUIS","COLEGIOS","PUBLICA","ZONA NORTE NORTE",69,2,7,2,13,6,"ALAJUELA","UPALA","DOS RIOS","SAN LUIS DE DOS RIOS","JORGE MARIO PEÑA CORDERO",24702822,24702822,"lic.ruralidasanluis@mep.go.cr","100M ESTE, 50M SUR DEL SALON COMUNAL"]
[5674,"LICEO RURAL PIEDRAS AZULES","COLEGIOS","PUBLICA","LIBERIA",60,2,5,5,10,2,"GUANACASTE","LA CRUZ","SANTA CECILIA","PIEDRAS AZULES","VICTOR ACOSTA GUTIERREZ",22064068,0,"lic.ruralpiedrasazules@mep.go.cr","SALON COMUNAL DE PIEDRAS AZULES"]
[5676,"CINDEA ABANGARES","CINDEA","PUBLICA","CAÑAS",63,5,2,5,7,1,"GUANACASTE","ABANGARES","JUNTAS","SAO PABLO","MARIA ELENA RAMIREZ RAMIREZ",26620810,26620810,"elenna463@hotmail.com","C.T.P. ABANGARES, FTE. CEMENTERIO MUNICIPAL"]
[5677,"COLEGIO SAN MARTIN","COLEGIOS","PUBLICA","SAN CARLOS",56,2,3,2,10,1,"ALAJUELA","SAN CARLOS","QUESADA","SAN MARTIN","LESBIA NAVARRETE CORONADO",24612906,24612906,"colegiosanmartin_04@hotmail.com","500 SUR 200 ESTE DE LA IGLESIA CATOLICA"]
[5679,"COLEGIO CANDELARIA","COLEGIOS","PUBLICA","OCCIDENTE",55,2,8,2,6,1,"ALAJUELA","NARANJO","NARANJO","CANDELARIA","SEHIRIS VILLALOBOS CARAZO",24504950,24504950,"colegiocandelaria@gmail.com","ALTO MURILLO, CANDELARIA"]
[5680,"C.T.P. SANTA ANA","COLEGIOS","PUBLICA","SAN JOSE OESTE",72,3,4,1,9,3,"SAN JOSE","SANTA ANA","POZOS","LINDORA","SAÚL CASTAÑEDA SALAZAR",22036843,22036843,"ctp.santaana@yahoo.es","300 OESTE DE BANCO NACIONAL"]
[5682,"NOCTURNO LA JULIETA","COLEGIOS","PUBLICA","AGUIRRE",68,5,4,6,9,1,"PUNTARENAS","PARRITA","PARRITA","LA JULIETA","RONAL GOMEZ GONZALEZ",27795054,27795054,"ronaldgg89@hotmail.com","200 NORTE DEL MEGASUPER"]
[5683,"UNIDAD PEDAGOGICA RIO CUBA","COLEGIOS","PUBLICA","LIMON",66,2,7,7,5,3,"LIMON","MATINA","CARRANDI","CUBA CREEK","IVAN SOLANO LOPEZ",27978265,27978134,"upe.riocuba@mep.go.cr","CONTIGUO A LA PLAZA DE DEPORTES, CUBA CREEK"]
[5686,"CINDEA BRIBRI","CINDEA","PUBLICA","SULA",77,5,1,7,4,1,"LIMON","TALAMANCA","BRATSI","BRIBRI","YESENIA VALVERDE CANO",88054686,27510445,"cindeab5686@gmail.com","FTE. IGLESIA CATOLICA, INST. ESC.LIDER BRIBRI"]
[5687,"CINDEA 28 MILLAS","CINDEA","PUBLICA","LIMON",66,5,9,7,5,2,"LIMON","MATINA","BATAN","28 MILLAS","RICARDO REYES DOBLES",27184462,0,"cindea28millas@gmail.com","ESCUELA 28 MILLAS,COSTADO ESTE PLAZA DEPORTES"]
[5688,"CINDEA LIMON","CINDEA","PUBLICA","LIMON",66,5,1,7,1,1,"LIMON","LIMON","LIMON","LIMON CENTRO","LIGIA BUSTOS CRUZ",27584884,27584884,null,"LIMON CENTRO, COSTADO OESTE DE LA CATEDRAL"]
[5706,"NOCTURNO DE SIQUIRRES","COLEGIOS","PUBLICA","LIMON",66,5,4,7,3,1,"LIMON","SIQUIRRES","SIQUIRRES","SIQUIRRES","ADRIANA ENRIQUEZ GUZMAN",27684271,0,"colegionocturnodesiquirres@gmail.com","300 M. SUR DE LAS OFICINAS DE CORREOS DE C.R."]
[5707,"COLEGIO ACADEMICO DE COSTA DE PAJAROS","COLEGIOS","PUBLICA","PUNTARENAS",64,2,3,6,1,6,"PUNTARENAS","PUNTARENAS","MANZANILLO","COSTA DE PAJAROS","GREVEN MIRANDA CORRALES",26788294,26788294,"colegioacademicocostadepajaros@hotmail.com","100M NORTE DE LA ESCUELA BRISAS DEL GOLFO"]
[5708,"LICEO RURAL LA GARITA","COLEGIOS","PUBLICA","LIBERIA",60,2,1,5,10,3,"GUANACASTE","LA CRUZ","LA GARITA","LA GARITA","NELSON PEREZ JUNEZ",26797756,26799174,"lic.rurallagarita@mep.go.cr","350 SUR DEL COMANDO LA GARITA"]
[5709,"LICEO RURAL DE TARCOLES","COLEGIOS","PUBLICA","AGUIRRE",68,2,5,6,11,2,"PUNTARENAS","GARABITO","TARCOLES","TARCOLES","MILENA MUNOZ AGUIRRE",26370448,26370448,"liceoruraldetarcoles@hotmail.com","1 KM AL NORTE DE LA GUARDIA RURAL"]
[5710,"C.T.P. LOS CHILES","EDUC. ESPECIAL","PUBLICA","SAN CARLOS",56,4,9,2,14,1,"ALAJUELA","LOS CHILES","LOS CHILES","LOS CHILES","ASDRUBAL CALVO PAINAGUA",24711110,24711110,"ctp.loschiles@mep.go.cr","400 NORTE 100 OESTE DE LA CASA CURAL"]
[5718,"EXPERIMENTAL BILINGÜE DE RÍO JIMÉNEZ","COLEGIOS","PUBLICA","GUAPILES",67,2,4,7,6,4,"LIMON","GUACIMO","RIO JIMENEZ","RÍO JIMÉNEZ","MARIBEL VEGA DÍAZ",27621112,27621112,"lic.expbilinguejimenez@mep.go.cr","FTE.A ESC.BALSEVILLE,RIO JIMENEZ DE GUACIMO"]
[5719,"CAIPAD CAJANE-ASOCIACION ABRIENDO CAMINO","EDUC. ESPECIAL","SUBVENCIONADA","SAN JOSE CENTRAL",50,4,1,1,1,11,"SAN JOSE","SAN JOSE","SAN SEBASTIAN","PASO ANCHO","MARIA MERCEDES ENCISO ROJAS",22865373,22865373,"mechenciso@hotmail.com","DIAGONAL A LA IGLESIA CATOLICA DE LUNA PARK"]
[5728,"LICEO SANTA MARTA","COLEGIOS","PUBLICA","GRANDE DE TERRABA",75,2,2,6,3,9,"PUNTARENAS","BUENOS AIRES","BRUNKA","SANTA MARTA","LUBERTO WILLY TORRES ARRIETA",27302700,27302700,"colegiosantamarta@hotmail.com","200 OESTE, 500 N. Y 130 O DE LA IGLESIA. CAT."]
[5729,"COLEGIO PLAYAS DEL COCO","COLEGIOS","PUBLICA","SANTA CRUZ",62,2,6,5,5,3,"GUANACASTE","CARRILLO","SARDINAL","PLAYAS DEL COCO","CARLOS MIGUEL RUIZ ROSALES",26701597,26701597,"col.playasdelcoco@mep.go.cr","100 MTS OESTE Y 50 SUR DEL CORREO"]
[5732,"NOCTURNO GUAYCARÁ","COLEGIOS","PUBLICA","COTO",65,5,4,6,7,3,"PUNTARENAS","GOLFITO","GUAYCARA","GUAYCARÁ","JUAN ML. CHAVARRÍA HERNÁNDEZ",27897655,27897655,"cng5732@gmail.com","200 M O DE ESTACIÓN DE SERVICIO RÍO CLARO"]
[5734,"TELESECUNDARIA LAS COLONIAS","COLEGIOS","PUBLICA","SARAPIQUI",74,2,2,4,10,3,"HEREDIA","SARAPIQUI","LAS HORQUETAS","COLONIA CUBUJUQUI","VERONICA SALAS MORA",0,0,"tvlascolonias@outlook.com","SALON COMUNAL COLONIA CUBUJUQUI"]
[5735,"UNIDAD PEDAGÓGICA LA VALENCIA","COLEGIOS","PUBLICA","DESAMPARADOS",51,2,7,1,3,11,"SAN JOSE","DESAMPARADOS","SAN RAFAEL ABAJO","LA VALENCIA","LUIS ALBERTO MORALES CALDERON",22759945,22759945,"upvalenciacr@gmail.com","COSTADO ESTE PLAZA DE DEPORTES VALENCIA."]
[5746,"CINDEA VENECIA","CINDEA","PUBLICA","SAN CARLOS",56,5,1,2,10,5,"ALAJUELA","SAN CARLOS","VENECIA","VENECIA CENTRO","CARLOS EDUARDO TORRES SOTO",24721148,24721690,"cindeavenecia@hotmail.com","COSTADO SUR CASA PARROQUIAL DE VENECIA"]
[5747,"TELESECUNDARIA DULCE NOMBRE","COLEGIOS","PUBLICA","ALAJUELA",54,2,9,2,4,1,"ALAJUELA","SAN MATEO","SAN MATEO","DULCE NOMBRE","MARCO VEGA CHAVARRIA",83514016,0,"tlsecdulcenombre@gmail.com","11 KM NORTE DE SAN MATEO"]
[5748,"C.T.P. DE QUEPOS","COLEGIOS","PUBLICA","AGUIRRE",68,3,1,6,6,1,"PUNTARENAS","AGUIRRE","QUEPOS","JUNTA NARANJO","NURIA CHAVEZ VEGA",27771569,27771569,"ctpdequepos@gmail.com","JUNTA NARANJO FRENTE A MAXI PALI"]
[5752,"ESC. SILVESTRE GRANT GRIFFITH","EDUC. ESPECIAL","PUBLICA","LIMON",66,4,6,7,3,5,"LIMON","SIQUIRRES","EL CAIRO","EL CAIRO","ALEXANDER AGUILAR CASTRO",27654053,27654053,"esc.lidersilvestregrant@mep.go.cr","FRENTE A LAS OFICINAS DEL A Y A, CAIRO"]
[5774,"LICEO DE CHOMES","EDUC. ESPECIAL","PUBLICA","PUNTARENAS",64,4,3,6,1,3,"PUNTARENAS","PUNTARENAS","CHOMES","JUDAS","ADRIANA VILLARREAL LEFEBRE",26388136,26388136,"liceojudasdechomes@yahoo.com","400M OESTE, CARRETERA A PUNTA MORALES"]
[5777,"C.T.P. DE QUEPOS","EDUC. ESPECIAL","PUBLICA","AGUIRRE",68,4,1,6,6,1,"PUNTARENAS","AGUIRRE","QUEPOS","JUNTA NARANJO","NURIA CHAVEZ VEGA",27771569,27771569,"ctpdequepos@gmail.com","JUNTA NARANJO, FRENTE A MAXI PALI"]
[5792,"C.T.P. LA FORTUNA","EDUC. ESPECIAL","PUBLICA","SAN CARLOS",56,4,6,2,10,7,"ALAJUELA","SAN CARLOS","LA FORTUNA","LA FORTUNA","ROSIBEL GUERRA POTOY",24799137,24799773,"ctpfortunasc@gmail.com","FRENTE AL BANCO DE COSTA RICA DE LA FORTUNA"]
[5793,"C.T.P. SANTA ROSA","EDUC. ESPECIAL","PUBLICA","SAN CARLOS",56,4,8,2,10,13,"ALAJUELA","SAN CARLOS","POCOSOL","SANTA ROSA","ABRAHAM BARBOZA GOMEZ",24777012,24777012,"ctpdirector@hotmail.com","800 OESTE DEL PARQUE CENTRAL"]
[5794,"ESC. UNION DE ROSALES","EDUC. ESPECIAL","PUBLICA","ALAJUELA",54,4,2,2,1,10,"ALAJUELA","ALAJUELA","DESAMPARADOS","ROSALES","RITA IRENE VEGA ALPIZAR",22696150,22696150,"escuelaunionderosales@hotmail.es","4 K. AL NOROESTE DE LA PLAZA DE DEPORTES"]
[5806,"NOCTURNO DE PALMARES","COLEGIOS","PUBLICA","PEREZ ZELEDON",53,5,3,1,19,3,"SAN JOSE","PEREZ ZELEDON","DANIEL FLORES","PALMARES","IRIS LUCIA SOLIS AGUILAR",27712162,27712162,"col.nocturnopalmares@drepz.ed.cr","150 OESTE DE RITEVE  P.Z."]
[5807,"NOCTURNO DE CARIARI","COLEGIOS","PUBLICA","GUAPILES",67,5,3,7,2,5,"LIMON","POCOCI","CARIARI","CAMPO DE ATERRIZAJE","JIMMY VARGAS ARIAS",27673945,27673945,"nocturnocariari@hotmail.com","1.2 KM DE LA FUERZA PUBLICA"]
[5814,"LICEO VUELTA DE JORCO","COLEGIOS","PUBLICA","DESAMPARADOS",51,2,3,1,6,3,"SAN JOSE","ASERRI","VUELTA DE JORCO","VUELTA DE JORCO","ELIZABETH LOPEZ HIDALGO",24104630,24104630,"liceovueltadejorco@gmail.com","800 MTS.NORTE DE LA ESC.ALEJANDRO RODRIGUEZ."]
[5815,"NOCTURNO DE SINAÍ","COLEGIOS","PUBLICA","PEREZ ZELEDON",53,5,1,1,19,1,"SAN JOSE","PEREZ ZELEDON","SAN ISIDRO DE EL GENERAL","B° SINAI","ROGER ROJAS CESPEDES",27723365,27723365,"colegioacademiconocturnosinai@gmail.com","150 ESTE DE LA UNIVERSIDAD NACIONAL"]
[5816,"NOCTURNO OROTINA","COLEGIOS","PUBLICA","ALAJUELA",54,5,9,2,9,1,"ALAJUELA","OROTINA","OROTINA","EL KILOMETRO","BENJAMIN RODRIGUEZ VEGA",24279753,24279753,"colegionocturnodeorotina2013@gmail.com","INSTALACIONES DEL C.T.P RICARDO CASTRO BEER"]
[5817,"LICEO LA PALMERA","COLEGIOS","PUBLICA","SAN CARLOS",56,2,4,2,10,9,"ALAJUELA","SAN CARLOS","LA PALMERA","LA PALMERA","NAPOLEON RODRIGUEZ OBANDO",24740717,24740717,"lic.lapalmera@mep.go.cr","300 OESTE DEL SALON COMUNAL"]
[5818,"C.T.P. DE ESCAZÚ","COLEGIOS","PUBLICA","SAN JOSE OESTE",72,3,3,1,2,1,"SAN JOSE","ESCAZU","ESCAZU","BARRIO EL CARMEN","FREDDY LEANDRO CASTAÑEDA",22283380,25880759,"colegioctpe@ice.co.cr","100 OESTE Y 50 NORTE DEL SUPER AGUIMAR"]
[5820,"LICEO DE TERRABA","COLEGIOS","PUBLICA","GRANDE DE TERRABA",75,2,13,6,3,3,"PUNTARENAS","BUENOS AIRES","POTRERO GRANDE","TÉRRABA","MARCOS ANT. RIVERA FERNANDEZ",87148116,27305522,"liceoterraba2005@gmail.com","800 SUROESTE DEL LA IGLESIA CATOLICA"]
[5827,"SECCION NOCTURNA C.T.P. MONSEÑOR SANABRIA","COLEGIOS","PUBLICA","DESAMPARADOS",51,5,7,1,3,1,"SAN JOSE","DESAMPARADOS","DESAMPARADOS","DESAMPARADOS CENTRO","JUAN FELIPE CHACON CASTILLO",22592259,0,"vocasanabria@gmail.com","300 SUR DEL CENTRO MEDICO FAMILIAR."]
[5834,"UNIDAD PEDAGOGICA SAN DIEGO","COLEGIOS","PUBLICA","CARTAGO",57,2,6,3,3,2,"CARTAGO","LA UNION","SAN DIEGO","SAN DIEGO","WILLIAM MARTINEZ ORTEGA",22795011,22795011,"upsandiego@gmail.com","50M ESTE DEL TEMPLO CATOLICO DE SAN DIEGO"]
[5835,"CINDEA JICARAL","CINDEA","PUBLICA","PENINSULAR",76,5,4,6,1,4,"PUNTARENAS","PUNTARENAS","LEPANTO","JICARAL","GISELLE AMADOR CASANOVA",26500797,26500797,"cindeajicaral2012@hotmail.com","100 OESTE DE LA CLINICA DE JICARAL"]
[5836,"LICEO RURAL SANTO DOMINGO","COLEGIOS","PUBLICA","AGUIRRE",68,2,2,6,6,2,"PUNTARENAS","AGUIRRE","SAVEGRE","SANTO DOMINGO","MARTIN MUÑOS URBINA",22003070,27876105,"martin.munoz.urbina@mep.go.cr","50 MTS SUR DE LA ESCUELA SANTO DOMINGO SAVEG."]
[5837,"LICEO RURAL CERRITOS","COLEGIOS","PUBLICA","AGUIRRE",68,2,6,6,6,1,"PUNTARENAS","AGUIRRE","QUEPOS","CERRITOS","JENNY DELGADO JIMENEZ",27791343,27791343,"jenny.delgado.jimenez@mep.go.cr","300 M NORTE IGLESIA ALTOS DE TIERRA FERTIL"]
[5838,"LICEO RURAL COOPESILENCIO","COLEGIOS","PUBLICA","AGUIRRE",68,2,2,6,6,2,"PUNTARENAS","AGUIRRE","SAVEGRE","EL SILENCIO","MICHAEL NAVARRETE MORA",27876098,27876069,"michael.ortega.mora@mep.go.cr","400 MTS OESTE DE LA PLAZA DE DEPORTES"]
[5839,"TELESECUNDARIA LA CEIBA","COLEGIOS","PUBLICA","ALAJUELA",54,2,9,2,9,5,"ALAJUELA","OROTINA","LA CEIBA","LA CEIBA","MARLON PEREZ PICADO",24283285,24289926,"tele.laceiba@mep.go.cr","250 MTS NORTE DE LA IGLESIA CATOLICA"]
[5840,"LICEO RURAL LA LUCHITA","COLEGIOS","PUBLICA","CARTAGO",57,2,3,3,8,2,"CARTAGO","EL GUARCO","SAN ISIDRO","LA LUCHITA","ALVARO VALVERDE ROMERO",25712182,25712182,"liceolaluchita@costarricense.cr","1KM AL NORESTE DE LA ENTRADA HOTEL CERRO ALTO"]
[5841,"LICEO SAN CARLOS","COLEGIOS","PUBLICA","LOS SANTOS",73,2,1,1,5,3,"SAN JOSE","TARRAZU","SAN CARLOS","SAN CARLOS","MARCO VINICIO NARANJO SOTO",25466051,25463927,"vinicio.naranjo.soto@mep.go.cr","COSTADO NORTE DEL EBAIS."]
[5842,"LICEO RURAL ALTO GUAYMÍ","COLEGIOS","PUBLICA","COTO",65,2,14,6,7,4,"PUNTARENAS","GOLFITO","PAVON","ALTO GUAYMÍ","ROMERO LÓPEZ LÓPEZ",27801598,27322143,"romero.lopez.lopez@mep.go.cr","100 M CONTIGUO DE LA ESCUELA DE ALTO GUAYMÍ"]
[5843,"LICEO RURAL ALTO COMTE","COLEGIOS","PUBLICA","COTO",65,2,14,6,7,4,"PUNTARENAS","GOLFITO","PAVON","ALTO COMTE","HEBER GUERRA VÁSQUEZ",89768329,0,"heber.guerra.vasquez@mep.go.cr","11 KM SUR DE LA ESCUELA DE COMTE"]
[5844,"LICEO CUAJINIQUIL","COLEGIOS","PUBLICA","LIBERIA",60,2,1,5,10,4,"GUANACASTE","LA CRUZ","SANTA ELENA","CUAJINIQUIL","JOSE DANILO GONZALEZ ESPINOZA",26791104,26791104,"lcuajiniquil2005@yahoo.com","SALON COMUNAL, DIAGONAL A LA FUERZA PUBLICA"]
[5845,"LICEO EL CONSUELO","COLEGIOS","PUBLICA","LIBERIA",60,2,4,5,1,3,"GUANACASTE","LIBERIA","MAYORGA","EL CONSUELO","JOSE ALEXANDER DIAZ SIBAJA",26918211,26918211,"lic.elconsueloquebradagrande@mep.go.cr","ASENTAMIENTO EL CONSUELO, QUEBRADA GRANDE"]
[5846,"LICEO RURAL GANDOCA","COLEGIOS","PUBLICA","LIMON",66,2,8,7,4,2,"LIMON","TALAMANCA","SIXAOLA","GANDOCA","GETTY COREA MARTINEZ",27541100,27541100,"liceogandoca08@gmail.com","CONTIGUO AL SALÓN MULTIUSO"]
[5847,"LICEO RURAL LA CELINA","COLEGIOS","PUBLICA","LIMON",66,2,5,7,3,1,"LIMON","SIQUIRRES","SIQUIRRES","LA CELINA","ISABEL MCDERMOTT WINT",88807074,27687141,"liceoruralcelina@gmail.com","COSTADO ESTE DE PLAZA FUTBOL,LA CELINA IMPER."]
[5848,"LICEO INDÍGENA BOCA COHÉN","COLEGIOS","PUBLICA","SULA",77,2,5,7,1,2,"LIMON","LIMON","VALLE LA ESTRELLA","BOCA COHÉN","GERARDO MURILLO GAMBOA",83159616,0,"gerardomurillo1@yahoo.es","FRENTE A LA PLAZA DE DEPORTES DE BOCA COHÉN"]
[5849,"LICEO RURAL ROCA QUEMADA","COLEGIOS","PUBLICA","TURRIALBA",58,2,6,3,5,12,"CARTAGO","TURRIALBA","CHIRRIPO","TSINIKLARI","HELEN VILLANUEVA VARGAS",25140061,0,null,"TSINIKLARI, CHIRRIPO"]
[5850,"LICEO BELEN","COLEGIOS","PUBLICA","NICOYA",61,2,2,5,2,7,"GUANACASTE","NICOYA","BELEN DE NOSARITA","BELEN","XIOMARA ROJAS RUIZ",26849171,26849209,"lic.ruralbelen@mep.go.cr","150 NOROESTE DEL CEMENTERIO DE BELEN"]
[5851,"LICEO RURAL SANTA TERESA CÓBANO","COLEGIOS","PUBLICA","PENINSULAR",76,2,2,6,1,11,"PUNTARENAS","PUNTARENAS","COBANO","SANTA TERESA","ANGÉLICA ZELEDÓN AGÜERO",26400989,26400989,"liceoruralsantateresa@gmail.com","COSTADO NE DE LA PLAZA DE SANTA TERESA"]
[5852,"LICEO PICAGRES DE MORA","COLEGIOS","PUBLICA","PURISCAL",52,2,4,1,7,5,"SAN JOSE","MORA","PICAGRES","PICAGRES","CECILIA MORA ARCE",24170868,24160868,"liceodepicagresdemora@gmail.com","300 NORTE DE ESCUELA LUIS MONGE MADRIGAL"]
[5853,"TELESECUNDARIA EL CASTILLO FORTUNA","COLEGIOS","PUBLICA","SAN CARLOS",56,2,6,2,2,13,"ALAJUELA","SAN RAMON","PEÑAS BLANCAS","EL CASTILLO","BRAULIO ALFARO RODRIGUEZ",24791435,24791435,"tele.elcastillo@mep.go.cr","A UN COSTADO DEL SALON COMUNAL"]
[5854,"LICEO RURAL EL VENADO","COLEGIOS","PUBLICA","SAN CARLOS",56,2,11,2,10,10,"ALAJUELA","SAN CARLOS","VENADO","EL VENADO","VANESSA TORRES ALVAREZ",24788906,24788906,"liceoruralvenado@gmail.com","COSTADO ESTE DEL SALON COMUNAL"]
[5855,"TELESECUNDARIA SAN ANTONIO ZAPOTAL","COLEGIOS","PUBLICA","OCCIDENTE",55,2,3,2,2,12,"ALAJUELA","SAN RAMON","ZAPOTAL","SAN ANTONIO","ASDRÚBAL ARAYA ALPÍZAR",22065855,24454287,"tvsanantonio2005@gmail.com","CONTIGUO AL SALÓN COMUNAL SAN ANTONIO-ZAPOTAL"]
[5856,"TELESECUNDARIA COLONIA ANATERI","COLEGIOS","PUBLICA","OCCIDENTE",55,2,7,2,11,4,"ALAJUELA","ZARCERO","GUADALUPE","COLONIA ANATERI","GLORIA ROJAS SALAZAR",22005326,24633545,"telesecundariaanateri@yahoo.com","2 K. NORTE DE PARQUE DE ZARCERO Y 10 K. OESTE"]
[5857,"TELESECUNDARIA BAJOS TORO AMARILLO","COLEGIOS","PUBLICA","OCCIDENTE",55,2,4,2,12,3,"ALAJUELA","VALVERDE VEGA","TORO AMARILLO","BAJOS TORO AMARILLO","LUIS C. BARQUERO ÁVILA",24760069,0,"telesec.toroamarillo@gmail.com","FRENTE AL SALÓN COMUNAL"]
[5858,"LICEO RURAL LA GATA","COLEGIOS","PUBLICA","SARAPIQUI",74,2,3,4,10,1,"HEREDIA","SARAPIQUI","PUERTO VIEJO","LA GATA","JUANA MARIA HERNANDEZ PEREZ",27666283,27666283,"liceorurallagata@hotmail.com","SALON COMUNAL LA GATA 200 M SUR DEL EBAIS"]
[5859,"TELESECUNDARIA SAN GABRIEL DE UPALA","COLEGIOS","PUBLICA","ZONA NORTE NORTE",69,2,8,2,13,7,"ALAJUELA","UPALA","YOLILLAL","SAN GABRIEL","MARLENE GONZALEZ GONZALEZ",24700358,0,"socorromiranda95@yahoo.com","3KM ESTE DE LA ENTRADA DE CANO NEGRO, SALON"]
[5860,"LICEO RURAL LAS NUBES CRISTO REY","COLEGIOS","PUBLICA","SAN CARLOS",56,2,9,2,14,1,"ALAJUELA","LOS CHILES","LOS CHILES","LAS NUBES","JESSICA SOTO CORRALES",0,0,"liceolasnubes@gmail.com","FRENTE A LA PLAZA DE DEPORTES"]
[5869,"LICEO AEROPUERTO JERUSALEN","COLEGIOS","PUBLICA","PEREZ ZELEDON",53,2,10,1,19,1,"SAN JOSE","PEREZ ZELEDON","SAN ISIDRO DE EL GENERAL","ALTO LOS NUÑEZ","DANILO BRENES NAVARRO",27703561,27703561,"liceo.aeropuertojerusalen@mep.go.cr","CONTIGUO A LA PLAZA LAS RANAS"]
[5870,"UNIDAD PEDAGÓGICA SOTERO GONZÁLEZ BARQUERO","COLEGIOS","PUBLICA","DESAMPARADOS",51,2,2,1,3,3,"SAN JOSE","DESAMPARADOS","SAN JUAN DE DIOS","SAN JUAN DE DIOS","MARVIN JAEN GUZMAN",22198848,22595019,"upsoterogonzalez@hotmail.es","SAN JUAN DE DIOS 400 SUR DEL TEMPLO CATOLICO"]
[5871,"LICEO RURAL LONDRES","COLEGIOS","PUBLICA","AGUIRRE",68,2,1,6,6,3,"PUNTARENAS","AGUIRRE","NARANJITO","LONDRES CENTRO","GREIVIN BONILLA ARAYA",27791745,27791745,"greivin.bonilla.araya@mep.go.cr","DIAGONAL A LAS OFICINAS DEL AYA LONDRES"]
[5873,"LICEO DE BARBACOAS","COLEGIOS","PUBLICA","PURISCAL",52,2,4,1,4,3,"SAN JOSE","PURISCAL","BARBACOAS","BARBACOAS","GEOVANNY LOPEZ MENA",24171741,24171741,"liceobarbacoas@gmail.com","200 OESTE DEL TEMPLO CATOLICO"]
[5874,"LICEO AMBIENTALISTA DE HORQUETAS","COLEGIOS","PUBLICA","SARAPIQUI",74,2,2,4,10,3,"HEREDIA","SARAPIQUI","LAS HORQUETAS","LA RAMBLA","ANDREA PERAZA ROGADE",27644515,27644515,"lambientalista@gmail.com","FRENTE A TROPICAL GREEN LA RAMBLA"]
[5876,"LICEO DE COPAL","COLEGIOS","PUBLICA","NICOYA",61,2,3,5,2,4,"GUANACASTE","NICOYA","QUEBRADA HONDA","COPAL","JOSE EDUARDO QUIROS GOMEZ",26870258,26870258,"liceodecopal@hotmail.com","50 NORTE DE LA ESCUELA DE COPAL"]
[5881,"ESC. SAMARA","EDUC. ESPECIAL","PUBLICA","NICOYA",61,4,6,5,2,5,"GUANACASTE","NICOYA","SAMARA","SAMARA","LUISA VILLAREAL MUÑOZ",26560155,26560355,"esc.samara@mep.go.cr","COSTADO OESTE DE LA PLAZA DE DEPORTES"]
[5882,"EXPERIMENTAL BILINGÜE DE SIQUIRRES","COLEGIOS","PUBLICA","LIMON",66,2,4,7,3,1,"LIMON","SIQUIRRES","SIQUIRRES","BARRIO EL MANGAL","MARLON A. LEDGISTER THARPE",27681191,27681191,"cebsiquirres@gmail.com","DE LA RUTA 32, 150 M. NORTE Y 25 OESTE."]
[5886,"EXPERIMENTAL BILINGÜE DE SARCHI SUR","COLEGIOS","PUBLICA","OCCIDENTE",55,2,4,2,12,5,"ALAJUELA","VALVERDE VEGA","RODRIGUEZ","SAN JUAN","YERLIN JARA AMORES",24543148,24543148,"cbsarchi@gmail.com","1 K O.E DE CCSS SARCHÍ NORTE CALLE RODRIGUEZ"]
[5888,"CINDEA LOMAS DE COCORI","CINDEA","PUBLICA","PEREZ ZELEDON",53,5,10,1,19,1,"SAN JOSE","PEREZ ZELEDON","SAN ISIDRO DE EL GENERAL","LOMAS DE COCORI","LAURA ELIZONDO BARRIOS",27704220,0,"cindea.lomasdecocoricentral@mep.go.cr","100 OESTE DEL EBAIS DE LOMAS DE COCORI"]
[5889,"CINDEA FLORIDA","CINDEA","PUBLICA","LIMON",66,5,6,7,3,3,"LIMON","SIQUIRRES","FLORIDA","FLORIDA","DANIEL VARGAS RODRIGUEZ",27652345,0,"cindealaflorida@gmail.com","FLORIDA, 3OO NORTE DEL CEMENTERIO"]
[5891,"LICEO RURAL EL CARMEN PARRITA","COLEGIOS","PUBLICA","AGUIRRE",68,2,3,6,9,1,"PUNTARENAS","PARRITA","PARRITA","EL CARMEN","DIEGO BALTODANO ARCE",22005446,0,"diego.baltodano.arce@mep.go.cr","200 MTS OESTE DEL SALON COMUNAL EL CARMEN"]
[5893,"LICEO CIUDAD NEILY","EDUC. ESPECIAL","PUBLICA","COTO",65,4,9,6,10,1,"PUNTARENAS","CORREDORES","CORREDOR","CIUDAD NEILY","ROSA FERNÁNDEZ CARVAJAL",27833134,27833134,"lic.deciudadneilly@mep.go.cr","CONTIGUO A LA ESCUELA ECHANDI MONTERO"]
[5895,"LICEO RURAL AGUAS ZARCAS","COLEGIOS","PUBLICA","LIMON",66,2,2,7,1,4,"LIMON","LIMON","MATAMA","AGUAS ZARCAS","SANDRA ARTAVIA ORTEGA",22064592,0,"lic.ruralaguaszarcas@mep.go.cr","AGUAS ZARCAS CENTRO"]
[5897,"TELESECUNDARIA BELLA VISTA","COLEGIOS","PUBLICA","LIBERIA",60,2,5,5,10,2,"GUANACASTE","LA CRUZ","SANTA CECILIA","BELLA VISTA","LUIS ALBERTO ARIAS GARCIA",0,0,"tvbellavista5897@hotmail.com","BELLA VISTA CENTRO"]
[5900,"CAIPAD ACOCONE","EDUC. ESPECIAL","SUBVENCIONADA","SAN JOSE NORTE",71,4,6,1,11,3,"SAN JOSE","VASQUEZ DE CORONADO","DULCE NOMBRE DE JESUS","EL CARMEN","IGNACIO DAVILA MORA",22920930,0,"davilamora@gmail.com","SALON COMUNAL BARRIO DEL CARMEN"]
[5929,"NOCTURNO DE PUERTO VIEJO","COLEGIOS","PUBLICA","SARAPIQUI",74,5,3,4,10,1,"HEREDIA","SARAPIQUI","PUERTO VIEJO","EL COLEGIO","MARLON JUAREZ GUTIERREZ",27665421,27665421,"mjuarezq@gmail.com","1 KM NORTE DEL BANCO NACIONAL"]
[5930,"ESC. COOPA BUENA","EDUC. ESPECIAL","PUBLICA","COTO",65,4,7,6,8,3,"PUNTARENAS","COTO BRUS","AGUABUENA","COPABUENA","HARLEY CORDERO CRUZ",27340330,27340330,"arley.cordero.cruz@mep.go.cr","COSTADO SUR DEL SALÓN MULTIUSO DE COPA BUENA"]
[5938,"ESC. EL PARQUE","EDUC. ESPECIAL","PUBLICA","SAN CARLOS",56,4,9,2,14,1,"ALAJUELA","LOS CHILES","LOS CHILES","EL PARQUE","JUAN JOSE MORGAN ROMERO",24713090,24713090,"esc.idaelparque@mep.go.cr","FRENTE A LA IGLESIA CATOLICA EL PARQUE"]
[5943,"COLEGIO DE VALLE AZUL","EDUC. ESPECIAL","PUBLICA","OCCIDENTE",55,4,9,2,2,8,"ALAJUELA","SAN RAMON","ANGELES","VALLE AZUL","EIDA PIZARRO RODRÍGUEZ",24751530,24751530,"liceoacit@hotmail.com","DETRÁS DE LA PLAZA DE DEPORTES, VALLE AZUL"]
[5966,"SECCION NOCTURNA C.T.P. MARIO QUIROS SASSO","COLEGIOS","PUBLICA","CARTAGO",57,3,6,3,3,2,"CARTAGO","LA UNION","SAN DIEGO","SAN DIEGO","JUVENAL LEIVA OROZCO",22795239,22795206,"ctpmarioquiros@yahoo.com","TERRAMALL 150M ESTE, SAN DIEGO LA UNION"]
[5967,"LICEO RURAL NUEVA GUATEMALA","COLEGIOS","PUBLICA","CAÑAS",63,2,1,5,6,2,"GUANACASTE","CAÑAS","PALMIRA","NUEVA GUATEMALA","FREDDY RODRIGUEZ ALVAREZ",22005004,0,"colegionuevaguatemala@gmail.com","SALON COMUNAL NUEVA GUATEMALA"]
[5968,"LICEO RURAL CAÑON DE EL GUARCO","COLEGIOS","PUBLICA","LOS SANTOS",73,2,2,3,8,2,"CARTAGO","EL GUARCO","SAN ISIDRO","CAÑON GUARCO","SEDIEL SOLERA CARRANZA",25711460,25711460,"lic.ruralcanondelguarco@mep.go.cr","KM 58 CARRETERA INTERAMERICANA SUR"]
[5969,"LICEO RURAL SANTA ROSA","COLEGIOS","PUBLICA","CARTAGO",57,2,4,3,7,5,"CARTAGO","OREAMUNO","SANTA ROSA","SANTA ROSA","LUIS BRENES JIMENEZ",25367402,25367402,"irsr2006@gmail.com","CONTIGUO A CRUZ ROJA DE STA ROSA"]
[5970,"LICEO RURAL ISLAS DEL CHIRRIPO","COLEGIOS","PUBLICA","SARAPIQUI",74,2,2,4,10,3,"HEREDIA","SARAPIQUI","LAS HORQUETAS","FINCA 10 RIO FRIO","JOSE RAMON ESPINOZA LOPEZ",27642042,27642042,"lr.islaschirripo5970@gmail.com","SALON COMUNAL FINCA 10"]
[5971,"LICEO RURAL UNION DEL TORO","COLEGIOS","PUBLICA","SARAPIQUI",74,2,3,4,10,5,"HEREDIA","SARAPIQUI","CUREÑA","LA UNION DEL TORO","MICHAEL MORALES BALDI",22065132,0,"lic.ruraluniodelotro@hotmail.com","35 KILOMETS SUROESTE DE PUERTO VIEJO SARAPIQI"]
[5972,"LICEO RURAL SAN CARLOS PACUARITO","COLEGIOS","PUBLICA","LIMON",66,2,4,7,3,2,"LIMON","SIQUIRRES","PACUARITO","SAN CARLOS","MARVIN A. MANCIA ELIZONDO",22005247,0,"liceo.rural.sancarlos.pac@outlook.com","SALÓN COMUNAL."]
[5973,"LICEO EL CARMEN","COLEGIOS","PUBLICA","NICOYA",61,2,7,5,9,3,"GUANACASTE","NANDAYURE","ZAPOTAL","EL CARMEN","ARCADIO MORA GUADAMUZ",26562342,26562342,"liceo.elcarmen.nandayure@gmail.com","100 METROS SUR PLAZA DE DEPORTES"]
[5974,"TELESECUNDARIA LA CUREÑA","COLEGIOS","PUBLICA","SARAPIQUI",74,2,3,4,10,5,"HEREDIA","SARAPIQUI","CUREÑA","GOLFITO LA CUREÑA","DENNIS CARVAJAL HIDALGO",87075259,0,"telesecundaria2007@hotmail.com","COSTADO SUR DE LA PLAZA DE DEPORTES"]
[5975,"LICEO RURAL BANDERAS","COLEGIOS","PUBLICA","SAN CARLOS",56,2,8,2,10,13,"ALAJUELA","SAN CARLOS","POCOSOL","BANDERAS DE POCOSOL","JASON H. DUARTE DUARTE",22064016,22064016,"lic.banderasdepocosol@mep.go.cr","COSTADO OESTE DE LA PLAZA DE DEPORTES"]
[5976,"TELESECUNDARIA SAN JUAN","COLEGIOS","PUBLICA","OCCIDENTE",55,2,9,2,2,13,"ALAJUELA","SAN RAMON","PEÑAS BLANCAS","SAN JUAN PEÑAS BLANCAS","SHIRLEY ZUÑIGA GONZALEZ",24680598,0,"tele.sanjuan@mep.go.cr","DE LA PLAZA DE SAN JUAN, 50 M NOROESTE"]
[5979,"LICEO SAN NICOLAS DE TOLENTINO","COLEGIOS","PUBLICA","CARTAGO",57,2,2,3,1,4,"CARTAGO","CARTAGO","SAN NICOLAS","TARAS SAN NICOLAS","GUIDO ZARATE SANCHEZ",25372576,25372676,"liceosannicolastolentino@gmail.com","25M AL ESTE DEL TEMPLO DE TARAS"]
[5980,"CINDEA COLONIA PUNTARENAS","CINDEA","PUBLICA","ZONA NORTE NORTE",69,5,8,2,13,1,"ALAJUELA","UPALA","UPALA","COLONIA PUNTARENAS","ROGER VASQUEZ PICADO",24708050,24708050,"cindeacoloniapuntarenas@gmail.com","INSTALACIONES DEL LICEO COLONIA PUNTARENAS"]
[5981,"LICEO RURAL PARAÍSO","COLEGIOS","PUBLICA","COTO",65,2,8,6,3,7,"PUNTARENAS","BUENOS AIRES","CHANGUENA","PARAÍSO","GEINER ARAYA VARGAS",88100515,27735242,"lic.ruralparaiso@mep.go.cr","CONTIGUO A LA CASA DE SALUD DE PARAÍSO"]
[5984,"LICEO RURAL LABRADOR","COLEGIOS","PUBLICA","ALAJUELA",54,2,9,2,4,4,"ALAJUELA","SAN MATEO","LABRADOR","LABRADOR","MAUREN CASTRO SALAZAR",26352584,26352584,"mauren.castro.salazar@mep.go.cr","FRENTE A LA PLAZA DE DEPORTES"]
[5985,"LICEO RURAL ZAPATON","COLEGIOS","PUBLICA","PURISCAL",52,2,3,1,4,9,"SAN JOSE","PURISCAL","CHIRES","ZAPATON","ROBERT ADOLFO JIMENEZ HERRERA",87457972,0,"roberthjh13@yahoo.es","150 OESTE DEL TEMPLO CATOLICO"]
[5986,"LICEO RURAL KABEBATA","COLEGIOS","PUBLICA","TURRIALBA",58,2,7,3,5,12,"CARTAGO","TURRIALBA","CHIRRIPO","ALTO QUETZAL","REINALDO CARPIO ARGUEDAS",22064757,22064757,"liceofilacarbon2@hotmail.com","8KM AL ESTE DEL CENTRO DE ACOPIO DE GRANO DE"]
[5988,"LICEO QUEBRADA GANADO","COLEGIOS","PUBLICA","AGUIRRE",68,2,5,6,11,2,"PUNTARENAS","GARABITO","TARCOLES","QUEBRADA GANADO","MARJORIE ARCE BERMUDEZ",26371029,26371029,"lqg_2006@hotmail.com","CONTIGUO AL SALON COMUNAL"]
[5990,"LICEO LAS MERCEDES","COLEGIOS","PUBLICA","PEREZ ZELEDON",53,2,6,1,19,8,"SAN JOSE","PEREZ ZELEDON","CAJON","LAS MERCEDES","ALVARO BARRANTES CESPEDES",27312080,27311616,"lic.lasmercedes@mep.go.cr","150 NOROESTE DE LA ESC.REPUBLICA DE MEXICO"]
[5992,"LICEO LAGUNA","COLEGIOS","PUBLICA","OCCIDENTE",55,2,7,2,11,2,"ALAJUELA","ZARCERO","LAGUNA","Bº MARÍA AUXILIADORA","JEFFREY MEJIAS MESÉN",24634353,24632193,"catelar2006@hotmail.com","450 M. OESTE DEL EDIFICIO ELIAS VALENCIANO"]
[5993,"UNIDAD PEDAGOGICA BARRIO NUEVO","COLEGIOS","PUBLICA","CARTAGO",57,2,3,3,8,1,"CARTAGO","EL GUARCO","TEJAR","BARRIO NUEVO","MARCIA AGUILAR VALVERDE",25734889,25734889,"upbarrionuevo@hotmail.com","FRENTE A LA PLAZA DE DEPORTES BARRIO NUEVO"]
[5994,"LICEO LA AMISTAD","COLEGIOS","PUBLICA","SAN CARLOS",56,2,1,2,3,6,"ALAJUELA","GRECIA","RIO CUARTO","RIO CUARTO","VERNA DEL CARMEN CESPEDES ROJA",24655444,24655444,"liceolaamistad@mep.go.cr","600 METROS NORTE DE LA IGLESIA CATOLICA"]
[5995,"LICEO DE MAGALLANES","COLEGIOS","PUBLICA","OCCIDENTE",55,2,3,2,2,2,"ALAJUELA","SAN RAMON","SANTIAGO","MAGALLANES","LUIS DIEGO MELÉDNEZ ARAYA",24471192,24471192,"liceomagallanes2006@hotmail.com","500 M. OESTE DE LA ENTRADA A MAGALLANES"]
[5996,"EXPERIMENTAL BILINGÜE DE SAN RAMON","COLEGIOS","PUBLICA","OCCIDENTE",55,2,1,2,2,7,"ALAJUELA","SAN RAMON","SAN ISIDRO","CALLE VARELA","CARMEN E. CAMPOS BARRANTES",24453417,24453417,"lebsanramon@yahoo.es","450 M.NORESTE DE ESC.LABORATORIO,CALLE VARELA"]
[5998,"LICEO PACTO DEL JOCOTE","COLEGIOS","PUBLICA","ALAJUELA",54,2,5,2,1,2,"ALAJUELA","ALAJUELA","SAN JOSE","PACTO DEL JOCOTE","IVETH MARIA ACOSTA GOMEZ",24332726,24332726,"liceopactojocote2006@hotmail.com","800 MTS SUR DEL COLEGIO SANTA TERESITA"]
[5999,"LICEO RURAL SAN ISIDRO","COLEGIOS","PUBLICA","LOS SANTOS",73,2,3,1,20,4,"SAN JOSE","LEON CORTES CASTRO","SAN ISIDRO","SAN ISIDRO CENTRO","ALEXANDRA BUSTOS BOCKER",25464545,25464545,"alexandra.bustos.bocker@mep.go.cr","50 METROS SUR DE LA IGLESIA CATOLICA"]
[6000,"LICEO CUATRO ESQUINAS","COLEGIOS","PUBLICA","GUAPILES",67,2,3,7,2,5,"LIMON","POCOCI","CARIARI","CUATRO ESQUINAS","GUSTAVO ACUÑA ROJAS",27673850,27673850,"liceocuatroesquinas@gmail.com","300 MTS DE LA DELEGACION DE POLICIA"]
[6015,"CINDEA NICOYA","CINDEA","PUBLICA","NICOYA",61,5,1,5,2,1,"GUANACASTE","NICOYA","NICOYA","SAN MARTIN","BERNABELA ZUÑIGA DINARTE",26854546,26854546,"bernabelazd56@gmail.com","ESC.SAN MARTIN, COSTADO NORTE PLAZA DEPORTES"]
[6016,"C.T.P. ULADISLAO GAMEZ SOLANO","COLEGIOS","PUBLICA","SAN JOSE CENTRAL",50,3,4,1,18,4,"SAN JOSE","CURRIDABAT","TIRRASES","LAS MERCEDES","PABLO MASIS BONICHE",22765536,22765536,"ctpugamez@gmail.com","CONTIGUO AL CENCINAI DE TIRRASES"]
[6017,"LICEO LA LUCHA","COLEGIOS","PUBLICA","GRANDE DE TERRABA",75,2,3,6,3,3,"PUNTARENAS","BUENOS AIRES","POTRERO GRANDE","LA LUCHA POTRERO GRANDE","JUANA C. VILLALOBOS VARGAS",83325009,27714475,"lic.laluchadeprotrerogrande@mep.go.cr","1 KM. AL OESTE DE ESCUELA LA MARAVILLA"]
[6020,"LICEO DEPORTIVO DE GRECIA","COLEGIOS","PUBLICA","ALAJUELA",54,2,6,2,3,1,"ALAJUELA","GRECIA","GRECIA","GRECIA","PEDRO CAMBRONERO OROZCO",24941772,24941772,"ldeportivodegrecia@gmail.com","300 NORTE DEL MERCADO MUNICIPAL DE GRECIA"]
[6021,"SECCION NOCTURNA C.T.P. PUNTARENAS","COLEGIOS","PUBLICA","PUNTARENAS",64,3,1,6,1,8,"PUNTARENAS","PUNTARENAS","BARRANCA","BARRANCA PROGRESO","ERICK CENTENO HERRERA",26630274,26630274,"ctp.depuntarenas@mep.go.cr","150 OESTE DE LAS OFICINAS DE AYA"]
[6027,"LICEO HIGUITO","COLEGIOS","PUBLICA","DESAMPARADOS",51,2,2,1,3,2,"SAN JOSE","DESAMPARADOS","SAN MIGUEL","HIGUITO","TERESITA MONGE BARRANTES",22705334,22700974,"direcciondehiguito@gmail.com","DE LA GUARDIA DE PROXIMIDAD, 1 KM SUR"]
[6030,"LICEO VIRGEN MEDALLA MILAGROSA","COLEGIOS","PUBLICA","SAN JOSE NORTE",71,2,2,1,8,6,"SAN JOSE","GOICOECHEA","RANCHO REDONDO","VISTA DE MAR","DENNIS GOMEZ DUARTE",22294278,22294278,"liceomedallamilagrosa@hotmail.com","100 ESTE DE LA IGLESIA CATOLICA"]
[6032,"C.T.P. FERNANDO VOLIO JIMENEZ","COLEGIOS","PUBLICA","CARTAGO",57,3,7,3,1,11,"CARTAGO","CARTAGO","QUEBRADILLA","QUEBRADILLA","BERNARDITA BRENES BONILLA",25736828,25739313,"ctpfernandovolio@gmail.com","600M AL OESTE DEL PARQUE DE QUEBRADILLA"]
[6033,"C.T.P. INVU LAS CAÑAS","COLEGIOS","PUBLICA","ALAJUELA",54,3,2,2,1,10,"ALAJUELA","ALAJUELA","DESAMPARADOS","EL ERIZO INVU CAÑAS","BETTY SUAREZ VILLALTA",24406240,24406240,"ctpinvulascanas@gmail.com","DETRAS DE LA IGLESIA CATOLICA, EL ERIZO"]
[6034,"C.T.P. TRONADORA","COLEGIOS","PUBLICA","CAÑAS",63,3,3,5,8,3,"GUANACASTE","TILARAN","TRONADORA","TRONADORA","ANA JUDITH BOLICAR ULATE",26931066,26931066,"ctp.tronadora@mep.go.cr","200 METROS NORTE DEL REDONDEL DE TOROS"]
[6037,"CONED SAN JOSE","CONED","PUBLICA","SAN JOSE CENTRAL",50,5,2,1,1,2,"SAN JOSE","SAN JOSE","MERCED","PLAZA VIQUEZ","CLARA VILA SANTO DOMINGO",22480553,22582209,"csantodomingo@uned.ac.cr","LICEO DE COSTA RICA"]
[6041,"C.T.P. SABANILLA","EDUC. ESPECIAL","PUBLICA","ALAJUELA",54,4,3,2,1,7,"ALAJUELA","ALAJUELA","SABANILLA","SABANILLA ALAJUELA","ROXANA VARGAS ALFARO",24495632,24495632,"ctpsabanilla@gmail.com","700 M. SUROESTE IGLESIA CATÓLICA, SABANILLA"]
[6043,"TELESECUNDARIA LANAS","COLEGIOS","PUBLICA","PURISCAL",52,2,2,1,4,2,"SAN JOSE","PURISCAL","MERCEDES SUR","LANAS","CHISTIAN MORA MADRIGAL",24167075,24167075,"telesecundarialanas@gmail.com","100 ESTE DE LA ESCUELA LANAS"]
[6044,"TELESECUNDARIA EL LLANO","COLEGIOS","PUBLICA","PURISCAL",52,2,6,1,16,3,"SAN JOSE","TURRUBARES","SAN JUAN DE MATA","EL LLANO","LAURA VALVERDE ARLEY",24283281,24283281,"laurysvalar@hotmail.com","25 SUR ESCUELA MAURO FERNANDEZ"]
[6045,"LICEO RURAL YORKIN","COLEGIOS","PUBLICA","SULA",77,2,2,7,4,4,"LIMON","TALAMANCA","TELIRE","YORKIN","RANDALL GALLARDO NELSON",0,0,null,"DE LA ESCUELA DE YORKIN 200 M. SUR"]
[6046,"LICEO RURAL LA CASONA","COLEGIOS","PUBLICA","COTO",65,2,13,6,8,4,"PUNTARENAS","COTO BRUS","LIMONCITO","LA CASONA","LOIDA MORALES VEGA",84089659,0,"lic.rurallacasona@mep.go.cr","400 M O DEL EBAIS LA CASONA"]
[6050,"TELESECUNDARIA JARIS","COLEGIOS","PUBLICA","PURISCAL",52,2,5,1,7,6,"SAN JOSE","MORA","JARIS","JARIS","ALEJANDRO VALVERDE ARLEY",24165706,24165706,"alevalar@hotmail.com","CONTIGUO A LA CANCHA DE FUTBOL"]
[6055,"C.T.P. FRANCISCO JOSE ORLICH BOLMARCICH","EDUC. ESPECIAL","PUBLICA","OCCIDENTE",55,4,4,2,12,1,"ALAJUELA","VALVERDE VEGA","SARCHI NORTE","CALLE COLEGIO","JOSÉ ANTONIO MARTÍNEZ FAJARDO",24544012,24544012,"ctpfjo@gmail.com","300 M. SUROESTE DE LA PANADERÍA MUSMANI"]
[6057,"LICEO EXP. BILINGÜE DE BELÉN","EDUC. ESPECIAL","PUBLICA","HEREDIA",59,4,7,4,7,1,"HEREDIA","BELEN","SAN ANTONIO","SAN ANTONIO","WAGNER ALFARO ROMÁN",22390901,22390901,"liceobilinguebelen@gmail.com","DE LA C.ROJA,150 S. Y 75 E.SN.ANT. DE BELEN."]
[6069,"LICEO DE BARBACOAS","EDUC. ESPECIAL","PUBLICA","PURISCAL",52,4,4,1,4,3,"SAN JOSE","PURISCAL","BARBACOAS","BARBACOAS","GEOVANNY LOPEZ MENA",24171741,24171741,"liceobarbacoas@gmail.com",".00 OESTE DEL TEMPLO CATOLICO DE BARBACOAS"]
[6074,"ESC. CARRIZAL","EDUC. ESPECIAL","PUBLICA","PUNTARENAS",64,4,5,6,1,12,"PUNTARENAS","PUNTARENAS","CHACARITA","CARRIZAL","MARIA ISABEL MATA LEITON",26645545,26645545,"carrizal5700@gmail.com","COSTADO OESTE DE FERTICA, CHACARITA TRES"]
[6088,"ESC. VALLE AZUL","EDUC. ESPECIAL","PUBLICA","OCCIDENTE",55,4,9,2,2,8,"ALAJUELA","SAN RAMON","ANGELES","VALLE AZUL","ZULEMA HERRERA VARGAS",24751354,24751354,"escuela.direccion@hotmail.com","COSTADO ESTE DE LA IGLESIA CATÓLICA"]
[6096,"I.E.G.B. JUAN CALDERÓN VALVERDE","COLEGIOS","PUBLICA","DESAMPARADOS",51,2,5,1,12,3,"SAN JOSE","ACOSTA","PALMICHAL","CHIRRACA","VICTOR HUGO CALDERON LOPEZ",24100409,24100236,"iegb.juancalderon@yahoo.es","300 MTS. NORESTE DE LA ERMITA DE CHIRRACA."]
[6097,"LICEO LA TIGRA","COLEGIOS","PUBLICA","SAN CARLOS",56,2,2,2,10,8,"ALAJUELA","SAN CARLOS","LA TIGRA","LA TIGRA","ROBERTO CESPEDES MORA",24689331,24689331,"ctplatigra@gmail.com","100 ESTE 800 SUR DE LA ESCUELA LA TIGRA"]
[6101,"NOCTURNO DE POCORA","COLEGIOS","PUBLICA","GUAPILES",67,5,4,7,6,3,"LIMON","GUACIMO","POCORA","POCORA CENTRO","RONALD NAVARRETE SORIO",27601493,27601308,"col.nocturnodepocora@mep.go.cr","DE LA TERMINAL DE BUSES 125 METROS ESTE."]
[6103,"I.E.G.B. PARAISO","COLEGIOS","PUBLICA","LIMON",66,2,8,7,4,2,"LIMON","TALAMANCA","SIXAOLA","PARAISO","ELEAZAR VILLEGAS RODRÍGUEZ",27510519,27510519,"institutoparaisotalamanca@gmail.com","FRENTE AL SALON COMUNAL"]
[6104,"C.T.P. JOSE ALBERTAZZI","COLEGIOS","PUBLICA","DESAMPARADOS",51,3,2,1,3,13,"SAN JOSE","DESAMPARADOS","LOS GUIDO","SECTOR 5","ANA LUCIA BENAVIDES FERNANDEZ",22702273,22702273,"ctpalbertazzi@gmail.com","SECTOR 5,DE ALCOHOLICOS ANONIMOS 350 NOROESTE"]
[6105,"C.T.P. CARRIZAL","COLEGIOS","PUBLICA","ALAJUELA",54,3,1,2,1,3,"ALAJUELA","ALAJUELA","CARRIZAL","QUIZARRASES","INGRID SUSANA JIMENEZ LOPEZ",24830391,24830055,"ctpcarrizal15@gmail.com","200 MTS NOROESTE CALLE QUIZARRASES"]
[6106,"I.E.G.B. PBRO. YANUARIO QUESADA","COLEGIOS","PUBLICA","SAN JOSE OESTE",72,2,3,1,2,3,"SAN JOSE","ESCAZU","SAN RAFAEL","SAN RAFAEL CENTRO","CARMEN MARÍA SALAZAR DELGADO",22282013,22897762,"iegbyanuarioq@gmail.com","FRENTE A LA PLAZA DE DEPORTES"]
[6108,"I.E.G.B. REPÚBLICA DE PANAMÁ","COLEGIOS","PUBLICA","DESAMPARADOS",51,2,1,1,3,5,"SAN JOSE","DESAMPARADOS","SAN ANTONIO","SAN ANTONIO","CARLOS CORRALES HERRERA",22765225,22765225,"iegbsecundaria@gmail.com","CALLE PRINC 300 OESTE DEL CEMENTERIO"]
[6110,"LICEO DE FRAILES","EDUC. ESPECIAL","PUBLICA","DESAMPARADOS",51,4,4,1,3,6,"SAN JOSE","DESAMPARADOS","FRAILES","FRAILES","LUCRECIA AMADOR MEZA",25440166,25440166,"liceodefrailes@gmail.com","400 MTS. OESTE DEL TEMPLO CATOLICO DE FRAILES"]
[6112,"COLEGIO FINCA NARANJO","COLEGIOS","PUBLICA","COTO",65,2,11,6,10,4,"PUNTARENAS","CORREDORES","LAUREL","FINCA NARANJO","YORLEY NOVO SANDÍ",27801598,27801598,"col.academicofincanaranjo@mep.go.cr","300 M NOROESTE DE GUARDIA RURAL, FCA. NARANJO"]
[6113,"NOCTURNO DE SAN PEDRO","COLEGIOS","PUBLICA","PEREZ ZELEDON",53,5,9,1,19,5,"SAN JOSE","PEREZ ZELEDON","SAN PEDRO","SAN PEDRO","RAMIRO FONSECA FALLAS",27311535,27311535,"nocturnosanpedro@hotmail.com","250 SUR DEL TEMPLO CATOLICO SAN PEDRO"]
[6115,"LICEO SAN RAFAEL","COLEGIOS","PUBLICA","GUAPILES",67,2,1,7,2,7,"LIMON","POCOCI","LA COLONIA","SAN RAFAEL","WILBER JOSE MARIN JIMENEZ",27113482,27113482,"liceodesanrafael07@gmail.com","50MTS ESTE DEK EBAIS LA COLINA"]
[6127,"I.E.G.B. ANDRÉS BELLO LÓPEZ","COLEGIOS","PUBLICA","SAN JOSE OESTE",72,2,4,1,9,1,"SAN JOSE","SANTA ANA","SANTA ANA","SANTA ANA CENTRO","ROGELIO ESCOBAR CASCANTE",22826018,22826018,"secundaria.andresbellopez@gmail.com","100 OESTE DE LA IGLESIA CATÓLICA"]
[6128,"I.E.G.B. AMERICA CENTRAL","COLEGIOS","PUBLICA","SAN JOSE NORTE",71,2,1,1,8,1,"SAN JOSE","GOICOECHEA","GUADALUPE","BARRIO PILAR","MARIO VARGAS PEREZ",22533401,22806412,"0351americacentral@gmail.com","FRENTE AL GIMNASIO MUNICIPAL"]
[6129,"LICEO RURAL KATSI","COLEGIOS","PUBLICA","SULA",77,2,2,7,4,4,"LIMON","TALAMANCA","TELIRE","KATSI","EDÉN P.FROILANO FERNÁNDEZ",85989402,0,"liceoruralkatsi2007@gmail.com","30 M. OESTE DE LA ESCUELA KATSI."]
[6130,"C.T.P. GRANADILLA","COLEGIOS","PUBLICA","SAN JOSE CENTRAL",50,3,4,1,18,2,"SAN JOSE","CURRIDABAT","GRANADILLA","GRANADILLA SUR","ARMANDO QUESADA SABA",22732009,22738916,"ctpgranadilla@gmail.com","200 NORTE DEL RESIDENCIAL MONTERAN"]
[6133,"LICEO PUENTE DE PIEDRA","COLEGIOS","PUBLICA","ALAJUELA",54,2,10,2,3,7,"ALAJUELA","GRECIA","PUENTE DE PIEDRA","RINCON DE SALAS","ANA LINA BARRANTES RODRIGUEZ",24448257,24448257,"puentedepiedraliceo@yahoo.es","EN LAS INSTALACIONES DEPORTIVAS RINCON SALAS"]
[6135,"UNIDAD PEDAGÓGICA LA CRUZ","COLEGIOS","PUBLICA","DESAMPARADOS",51,2,5,1,12,2,"SAN JOSE","ACOSTA","GUAITIL","LA CRUZ","MARVIN CALDERON HERNANDEZ",24102494,24102494,"iegblacruz@yahoo.com","200 OESTE DE LA PLAZA DE FUTBOL"]
[6137,"LICEO OCCIDENTAL","COLEGIOS","PUBLICA","CARTAGO",57,2,1,3,1,2,"CARTAGO","CARTAGO","OCCIDENTAL","OCCIDENTAL","ANA T BARQUERO SANABRIA",25533771,25515058,"liceooccidentaldecartago@hotmail.com","100M NORTE DE LA CAPILLA LA ULTIMA JOYA"]
[6146,"I.E.G.B. NUESTRA SEÑORA DE SION","COLEGIOS","SUBVENCIONADA","PUNTARENAS",64,2,5,6,1,1,"PUNTARENAS","PUNTARENAS","PUNTARENAS","COCAL PUNTARENAS","LUIS FERNANDO ELIZONDO C.",26614422,26614422,"cecnssp@yahoo.es","25M NORTE DE LA PULPERIA FLOR DE CAÑA"]
[6147,"SECCION NOCTURNA C.T.P. DE BUENOS AIRES","COLEGIOS","PUBLICA","GRANDE DE TERRABA",75,5,1,6,3,1,"PUNTARENAS","BUENOS AIRES","BUENOS AIRES","LAS LOMAS","MARCOS W. NAVARRO CORDERO",27300045,27300045,"sncolegiotecnicobuenosaires@gmail.com","800 NORTE DE LA IGLESIA DE BUENOS AIRES"]
[6148,"SECCION NOCTURNA C.T.P. DE LIMON","COLEGIOS","PUBLICA","LIMON",66,5,1,7,1,1,"LIMON","LIMON","LIMON","CORALES 2","CARLOS HERNANDEZ ARCE",27954110,27954110,"ctplstncte@hotmail.com","Bº LOS CORALES 2, FRTE A ESCUELA LOS CORALES"]
[6149,"LICEO BUENOS AIRES","COLEGIOS","PUBLICA","GRANDE DE TERRABA",75,2,1,6,3,1,"PUNTARENAS","BUENOS AIRES","BUENOS AIRES","Bº LOS ÁNGELES","MARGOT NORA NAVARRO",27302360,27302360,"lic.academicodebuenosaires@mep.go.cr","75 ESTE DE LA ESCUELA HOLANDA"]
[6149,"SECCION NOCTURNA LICEO BUENOS AIRES","COLEGIOS","PUBLICA","GRANDE DE TERRABA",75,2,1,6,3,1,"PUNTARENAS","BUENOS AIRES","BUENOS AIRES","Bº LOS ANGELES","MARGOT NORA NAVARRO",27302360,27302360,"lic.academicodebuenosaires@mep.go.cr","75 ESTE DE LA ESCUELA HOLANDA"]
[6150,"C.T.P. ULADISLAO GAMEZ SOLANO","EDUC. ESPECIAL","PUBLICA","SAN JOSE CENTRAL",50,4,4,1,18,4,"SAN JOSE","CURRIDABAT","TIRRASES","TIRRASES","PABLO MASIS BONICHE",27605536,27605536,"ctpugamez@gmail.com","CONTIGUO AL CENCINAI TIRRASES"]
[6153,"I.E.G.B. EL PORVENIR","COLEGIOS","PUBLICA","LIBERIA",60,2,1,5,10,3,"GUANACASTE","LA CRUZ","LA GARITA","EL PORVENIR","ZELMIRA RIVAS JARQUÍN",26799174,26799174,"iegb.elporvenir@mep.go.cr","7 KM. NORESTE DE LA ESCUELA SONZAPOTE"]
[6156,"LICEO BILINGÜE ÍTALO COSTARRICENSE","COLEGIOS","PUBLICA","COTO",65,2,5,6,8,1,"PUNTARENAS","COTO BRUS","SAN VITO","SAN VITO","MARIO ALEXANDER LEÓN MARÍN",27734715,27734715,"liceo.italo.costarricense@hotmail.com","200 M ESTE DEL CAMPO DE ATERRIZAJE DE SAN VIT"]
[6157,"I.E.G.B. LA VICTORIA","COLEGIOS","PUBLICA","ZONA NORTE NORTE",69,2,3,2,13,3,"ALAJUELA","UPALA","SAN JOSE O PIZOTE","VICTORIA","LARRY JOSE GONZALEZ ORTIZ",24700454,24700454,"lago2169@hotmail.com","5 KM AL NORTE DE SAN JOSE DE UPALA"]
[6159,"LICEO DE VILLARREAL","EDUC. ESPECIAL","PUBLICA","SANTA CRUZ",62,4,3,5,3,9,"GUANACASTE","SANTA CRUZ","TAMARINDO","VILLARREAL","CARLOS ARMANDO MARTINEZ ARIAS",26530716,26530716,"villarrealcolegio@gmail.com","800 MTS OESTE DEL EBAIS"]
[6174,"ESC. FEDERICO SALAS CARVAJAL","EDUC. ESPECIAL","PUBLICA","OCCIDENTE",55,4,2,2,2,3,"ALAJUELA","SAN RAMON","SAN JUAN","SAN JUAN","LUIS FRANCISCO GONZÁLEZ SOLANO",24455538,24455538,"federicosalascarvajal@gmail.com","75 M. DE LA ERMITA DE SAN JUAN"]
[6177,"C.T.P. SARDINAL","EDUC. ESPECIAL","PUBLICA","SANTA CRUZ",62,4,6,5,5,3,"GUANACASTE","CARRILLO","SARDINAL","SARDINAL","HAYDEE SOLORZANO MIRANDA",26974095,26974095,"ctpsardinal@gmail.com","150 S 300 E DE LA CCSS, SARDINAL"]
[6188,"LICEO JOSE MARTI","EDUC. ESPECIAL","PUBLICA","PUNTARENAS",64,4,5,6,1,1,"PUNTARENAS","PUNTARENAS","PUNTARENAS","PUNTARENAS","HENRY VILLEGAS GOMEZ",26611339,26611339,"liceo.josemarti@mep.go.cr","DETRAS DE LA IGLESIA CATOLICA"]
[6189,"C.T.P DE COPAL","EDUC. ESPECIAL","PUBLICA","NICOYA",61,4,3,5,2,4,"GUANACASTE","NICOYA","QUEBRADA HONDA","CAPAL","JOSE EDUARDO QUIROS GOMEZ",26870258,26870258,"ctpdecopal@gmail.com","50 M OESTE DE LA ESCUELA NLAS MONTES LEAL"]
[6190,"C.T.P. NANDAYURE","EDUC. ESPECIAL","PUBLICA","NICOYA",61,4,7,5,9,1,"GUANACASTE","NANDAYURE","CARMONA","CARMONA","HANNIA MARIA AVILA QUIROS",26577364,26577010,"ctp.denandayure@mep.go.cr","BARRIO CAMBOYA 300 SUR DEL CEMENTERIO"]
[6191,"C.T.P. DE CORRALILLO","EDUC. ESPECIAL","PUBLICA","NICOYA",61,4,4,5,2,3,"GUANACASTE","NICOYA","SAN ANTONIO","CORRALILLO","REBECA ARNESTO TOLEDO",26878014,26878014,"ctp.decorralillo@mep.go.cr","300 NORTE DE LA IGLESIA CATOLICA"]
[6215,"UNIDAD PEDAGOGICA EL TORITO","COLEGIOS","PUBLICA","TURRIALBA",58,2,4,3,5,4,"CARTAGO","TURRIALBA","SANTA CRUZ","TORITO","LAURA MARCELA RAMOS FALLAS",88670127,0,"upe.eltorito@mep.go.cr","50 ESTE DE LA ESCUELA EL TORITO"]
[6216,"LICEO FELIX MATA VALLE","COLEGIOS","PUBLICA","CARTAGO",57,2,7,3,1,7,"CARTAGO","CARTAGO","CORRALILLO","LLANO DE ANGELES","MARCO FERNANDEZ HERNANDEZ",25482532,25482532,"liceofelixmata@yahoo.com","AULAS DE CATEQUESIS EN LA IGLESIA CATOLICA"]
[6217,"I.E.G.B. PELAYO MARCET CASAJUANA","COLEGIOS","PUBLICA","PUNTARENAS",64,2,6,6,1,7,"PUNTARENAS","PUNTARENAS","GUACIMAL","GUACIMAL","LUDY ULLOA LORIA",26471075,26471075,"esc.pelayomarcetcasajuana@mep.go.cr","FRENTE A LA IGLESIA CATOLICA DE GUACIMAL"]
[6219,"UNIDAD PEDAGÓGICA RÍO CELESTE","COLEGIOS","PUBLICA","ZONA NORTE NORTE",69,2,6,2,15,4,"ALAJUELA","GUATUSO","KATIRA","RIO CELESTE","MARIBEL ROJAS CONEJO",24610908,0,"iegbrioceleste@gmail.com","COSTADO SUR DE LA PLAZA DE DEPORTES"]
[6220,"LICEO RURAL COLONIA DEL VALLE","COLEGIOS","PUBLICA","NICOYA",61,2,8,5,9,6,"GUANACASTE","NANDAYURE","BEJUCO","COLONIA DEL VALLE","ANA CECILIA AUED FLORES",26558002,26558002,"acafauedflores@hotmail.com","BEJUCO DE COLONIA DEL VALLE"]
[6221,"CINDEA GUACIMO","CINDEA","PUBLICA","GUAPILES",67,5,4,7,6,1,"LIMON","GUACIMO","GUACIMO","GUACIMO","ERIC BERMUDEZ VALERIO",27168552,27168552,"cindeaguacimocr@gmail.com","150 M ESTE DEL BANCO DE COSTA RICA"]
[6222,"COLEGIO QUEBRADA GRANDE","COLEGIOS","PUBLICA","LIBERIA",60,2,4,5,1,1,"GUANACASTE","LIBERIA","LIBERIA","QUEBRADA GRANDE","WALTER NOGUERA CASTILLO",26918214,26918214,"liceoquebradagrande@gmail.com","CONTIGUO AL EBAIS DE QUEBRADA GRANDE"]
[6224,"LICEO RURAL COROMA","COLEGIOS","PUBLICA","SULA",77,2,3,7,4,4,"LIMON","TALAMANCA","TELIRE","COROMA","HEINER YASIN MAYORGA GABB",84904590,27511175,"liceocoroma@gmail.com","25 M. OESTE Y 200 M. SUR DE LA ESC. COROMA"]
[6227,"ESC. BUENOS AIRES","EDUC. ESPECIAL","PUBLICA","SARAPIQUI",74,4,2,4,10,3,"HEREDIA","SARAPIQUI","LAS HORQUETAS","HORQUETAS","SONIA JAEN JAEN",27641139,27641139,"escuelabuenosaires02@hotmail.com","COSTADO ESTE DEL CENCINAI"]
[6235,"LICEO RURAL NAMALDI","COLEGIOS","PUBLICA","SULA",77,2,6,7,5,1,"LIMON","MATINA","MATINA","NAMALDI","CARLOS VALVERDE MORALES",22005315,0,"carlosvalmo@gmail.com","BAJO CHIRRIPÓ. 12 K AL SUR DE ENTRADA BRISTOL"]
[6236,"LICEO RURAL PALMERA","COLEGIOS","PUBLICA","SULA",77,2,6,7,5,3,"LIMON","MATINA","CARRANDI","PALMERA","JEYNER MATA GRANADOS",86715325,0,"liceoruralpalmera@gmail.com","DE LA ENTRADA DE ZENT, 8 K. AL SUROESTE"]
[6237,"CONED CIUDAD NEILY","CONED","PUBLICA","COTO",65,5,9,6,10,1,"PUNTARENAS","CORREDORES","CORREDOR","CIUDAD NEILY","ANA ISABEL MONTERO GOMEZ",27833333,27835252,"anmontero@uned.ac.cr","150 M NORTE CRUZ ROJA"]
[6238,"CONED ALUNASA","CONED","PUBLICA","PUNTARENAS",64,5,8,6,2,2,"PUNTARENAS","ESPARZA","SAN JUAN GRANDE","JUANILAMA","JESUANA GUSELLA ARAYA ANGULO",26360000,26355252,"jaraya@alunasa.com","500 M SUR DE LA IGLESIA"]
[6239,"CONED LIBERIA","CONED","PUBLICA","LIBERIA",60,5,2,5,1,1,"GUANACASTE","LIBERIA","LIBERIA","CAPULIN","LYNETTE CAMACHO LOPEZ",26651397,26661849,"culiberia@uned.ac.cr","COLEGO INSTITUTO DE GUANACASTE"]
[6240,"CONED HEREDIA","CONED","PUBLICA","HEREDIA",59,5,2,4,1,2,"HEREDIA","HEREDIA","MERCEDES","MERCEDES SUR","MARCO SAAVEDRA REYES",22627189,22627189,"msaavedra@uned.ac.cr","ESCUELA MONTEBELLO"]
[6241,"CONED PALMARES","CONED","PUBLICA","OCCIDENTE",55,5,6,2,7,1,"ALAJUELA","PALMARES","PALMARES","EL VALLE","MARIA LUCIA BARBOZA VALVERDE",24533635,24520255,"mlbarboza@uned.ac.cr","DETRAS DEL REDONDEL DE TOROS"]
[6242,"CONED TURRIALBA","CONED","PUBLICA","TURRIALBA",58,5,2,3,5,1,"CARTAGO","TURRIALBA","TURRIALBA","BARRIO ARAGON","CLARA VILA SANTO DOMINGO",25563010,25567302,"larias@uned.ac.cr","CONTIGUO GIMNASIO MUNICIPAL"]
[6243,"CONED LIMON","CONED","PUBLICA","LIMON",66,5,2,7,1,1,"LIMON","LIMON","LIMON","BARRIO COLINA","MARILYN SANCHEZ SOTELA",27581900,27580464,"sansot.marilyn8@gmail.com","300 M SUROESTE DEL INA"]
[6244,"LICEO SONAFLUCA","COLEGIOS","PUBLICA","SAN CARLOS",56,2,6,2,10,7,"ALAJUELA","SAN CARLOS","LA FORTUNA","SONAFLUCA","KENDALL RODRIGUEZ RODRIGUEZ",24692660,24692660,"lic.sonafluca@mep.go.cr","COSTADO OESTE DE LA PLAZA DE DEPORTES"]
[6245,"CNV. ESCUELA CAROLINA DENT ALVARADO","COLEGIO NAC. VIRTUAL","PUBLICA","SAN JOSE CENTRAL",50,2,1,1,1,10,"SAN JOSE","SAN JOSE","HATILLO","SAGRADA FAMILIA","ADELAIDA MATA MATA",22262415,22262415,"cnvmts.carolinadentalvarado@mep.go.cr","CONTIGUO AL ESTADIO CLORITO PICADO"]
[6245,"CNV. ORATORIO DON BOSCO SOR MARIA ROMERO","COLEGIO NAC. VIRTUAL","PUBLICA","SAN JOSE CENTRAL",50,2,2,1,1,1,"SAN JOSE","SAN JOSE","CARMEN","BARRIO AMON","GABRIELA CALDERON ALVARADO",22574470,22573313,"oradonbosco@yahoo.com","325 OESTE DE LAS OFICINAS CENTRALES, INVU"]
[6245,"CNV. LICEO RODRIGO FACIO BRENES","COLEGIO NAC. VIRTUAL","PUBLICA","SAN JOSE CENTRAL",50,2,3,1,1,5,"SAN JOSE","SAN JOSE","ZAPOTE","ZAPOTE","JORGE ABARCA ALVAREZ",0,0,"cnacionalvirtualrodrigofacio@gmail.com","COSTADO NORTE DEL PARQUE NICARAGUA, ZAPOTE"]
[6245,"CNV. C.T.P. ULADISLAO GAMEZ SOLANO","COLEGIO NAC. VIRTUAL","PUBLICA","SAN JOSE CENTRAL",50,2,4,1,18,4,"SAN JOSE","CURRIDABAT","TIRRASES","15 DE AGOSTO","LEONARDO MORALES FERNANDEZ",22765536,22765536,"colevirtualctpuladislao@gmail.com","CONTIGUA EL CEN CINAI"]
[6245,"CNV. LICEO EDGAR CERVANTES VILLALTA","COLEGIO NAC. VIRTUAL","PUBLICA","SAN JOSE CENTRAL",50,2,5,1,1,10,"SAN JOSE","SAN JOSE","HATILLO","HATILLO CENTRO","BENLLY SALAZAR GODINEZ",22142497,22142497,"cnvmts.lecv@gmail.com","DELEGACION FUERZA PUBLICA 100 O,150 N Y 125 O"]
[6245,"CNV. LICEO JOSE JOAQUIN JIMENEZ NUÑEZ","COLEGIO NAC. VIRTUAL","PUBLICA","SAN JOSE NORTE",71,2,1,1,8,1,"SAN JOSE","GOICOECHEA","GUADALUPE","GUADALUPE","SONIA CASCANTE MADRIGAL",22215706,0,"sonia.cascante.madrigal@mep.go.cr","WALTMART GUADALUPE COSTADO OESTE"]
[6245,"CNV. ESCUELA JUAN FLORES UMAÑA","COLEGIO NAC. VIRTUAL","PUBLICA","SAN JOSE NORTE",71,2,2,1,8,5,"SAN JOSE","GOICOECHEA","IPIS","IPIS","ROY MATA MENESES",22450874,22450874,"cnvmtsjuanflores@hotmail.com","DE LA CLINICA JERUSALEM 75 ESTE"]
[6245,"CNV. COLEGIO BRAULIO CARRILLO COLINA","COLEGIO NAC. VIRTUAL","PUBLICA","SAN JOSE NORTE",71,2,4,1,13,1,"SAN JOSE","TIBAS","SAN JUAN","GONZALEZ TRUQUE TIB","VINICIO CAMACHO MONDRAGON",22363929,22363929,"vicamo@costarricense.cr","DE ANTOJITOS DE TIBAS 200 OESTE 200 NORTE"]
[6245,"CNV. LICEO SAN ANTONIO","COLEGIO NAC. VIRTUAL","PUBLICA","SAN JOSE NORTE",71,2,6,1,11,4,"SAN JOSE","VASQUEZ DE CORONADO","PATALILLO","PATALILLO","PRICILLA REYES ACOSTA",22294893,0,null,"CONTIGUO A LA COOPECORONADO"]
[6245,"CNV. LICEO SAN JOSE","COLEGIO NAC. VIRTUAL","PUBLICA","SAN JOSE OESTE",72,2,1,1,1,2,"SAN JOSE","SAN JOSE","MERCED","BARRIO MÉXICO","HENRY JIMENEZ ALVARADO",22588534,22588534,"cnvmts.sanjose@mep.go.cr","600 OESTE DEL PALI"]
[6245,"CNV. LICEO DE PAVAS","COLEGIO NAC. VIRTUAL","PUBLICA","SAN JOSE OESTE",72,2,2,1,1,9,"SAN JOSE","SAN JOSE","PAVAS","PAVAS","GREIVIN ESPINOZA AMPIE",22917187,0,"cnvmts.licdepavas@mep.go.cr","100 OESTE DEL HOSPITAL PSIQUIATRICO"]
[6245,"CNV. LICEO DE ESCAZU","COLEGIO NAC. VIRTUAL","PUBLICA","SAN JOSE OESTE",72,2,3,1,2,2,"SAN JOSE","ESCAZU","SAN ANTONIO","SAN ANTONIO","ELMER CARMONA CARAVACA",22287344,22287344,"cnvmts.escazu@mep.go.cr","FRENTE AL ESTADIO MUNICIPAL NICOLAS MASIS"]
[6245,"CNV. LICEO JULIO FONSECA GUTIERREZ","COLEGIO NAC. VIRTUAL","PUBLICA","SAN JOSE OESTE",72,2,5,1,1,7,"SAN JOSE","SAN JOSE","URUCA","LA PEREGRINA","JUAN CARLOS ZAMORA ALCAZAR",22917236,0,"cvirtualmatusa@gmail.com","CONTIGUO A LA ULTIMA PARADA DE AUTOBUSES"]
[6246,"CNV. COLEGIO RICARDO FERNANDEZ GUARDIA","COLEGIO NAC. VIRTUAL","PUBLICA","SAN JOSE CENTRAL",50,2,1,1,1,11,"SAN JOSE","SAN JOSE","SAN SEBASTIAN","COLONIA KENNEDY","JESSIE VALVERDE ANDRADE",22262372,22262372,"colegiovirtualrfg@yahoo.es","CONTIGUO AL JUZGADO CONTRAVENCIONAL"]
[6246,"CNV. C.T.P. DOS CERCAS","COLEGIO NAC. VIRTUAL","PUBLICA","DESAMPARADOS",51,2,1,1,3,10,"SAN JOSE","DESAMPARADOS","DAMAS","SAN LORENZO","MARLON SOLANO CESPEDES",22505502,22505502,"cnvmts.ctpdoscercas@mep.go.cr","200 OESTE DEL PALI DE FATIMA"]
[6246,"CNV. LICEO SAN MIGUEL","COLEGIO NAC. VIRTUAL","PUBLICA","DESAMPARADOS",51,2,2,1,3,2,"SAN JOSE","DESAMPARADOS","SAN MIGUEL","SAN MIGUEL","JUAN CARLOS GARBANZO FALLAS",25104116,25104116,"cnvmtsliceosanmiguel@gmail.com","FRENTE A FERRETERIA LAS GRAVILIAS"]
[6246,"CNV. LICEO JOSE ALBERTAZZI AVENDANO","COLEGIO NAC. VIRTUAL","PUBLICA","DESAMPARADOS",51,2,2,1,3,13,"SAN JOSE","DESAMPARADOS","LOS GUIDO","LOS GUIDO","REBECA AVILA MORALES",22702273,0,"avila2028@hotmail.com","LOS GUIDOS SECTOR 5, ALAMEDA 6"]
[6246,"CNV. LICEO DE ASERRI","COLEGIO NAC. VIRTUAL","PUBLICA","DESAMPARADOS",51,2,3,1,6,1,"SAN JOSE","ASERRI","ASERRI","EL COLEGIO","MANRIQUE MORA MORA",22303375,22300016,"cnvmtslda@gmail.com","200 OESTE  DEL PALAC MUNICIP ASERRI CENTRO"]
[6246,"CNV. LICEO SAN GABRIEL","COLEGIO NAC. VIRTUAL","PUBLICA","DESAMPARADOS",51,2,3,1,6,4,"SAN JOSE","ASERRI","SAN GABRIEL","BARRIO LA SALLE","KAROLINA ROJAS UMAÑA",25400120,25400120,"cnvmts.liceosangabriel@gmail.com","150 ESTE DEL ABASTECEDOR PADILLA"]
[6246,"CNV. C.T.P. DE ACOSTA","COLEGIO NAC. VIRTUAL","PUBLICA","DESAMPARADOS",51,2,5,1,12,1,"SAN JOSE","ACOSTA","SAN IGNACIO","SAN IGNACIO CENTRO","CINDY BRICEÑO CABALCETA",24103265,24103265,"cyndi.briceno.cabalceta@mep.go.cr","500 ESTE DE LA SUCURSAL BANCO NACIONAL"]
[6246,"CNV. LICEO DE CALLE FALLAS","COLEGIO NAC. VIRTUAL","PUBLICA","DESAMPARADOS",51,2,7,1,3,1,"SAN JOSE","DESAMPARADOS","DESAMPARADOS","CALLE FALLAS","ALEJANDRO DELGADILLO SOLANO",22509947,22594462,"cnvmtsliceodecallefallas@gmail.com","1KM SUR DEL MULTICENTRO DESAMPARADOS"]
[6247,"CNV. DARIO FLORES HERNANDEZ","COLEGIO NAC. VIRTUAL","PUBLICA","PURISCAL",52,2,1,1,4,1,"SAN JOSE","PURISCAL","SANTIAGO","SANTIAGO CENTRO","KATTIA LOPEZ DIAZ",24160510,0,"cnvmts.nocturnopuriscal@mep.go.cr","100 NORTE DE GUARDIA RURAL,ESC. DARIO FLORES"]
[6247,"CNV. LICEO CIUDAD COLON","COLEGIO NAC. VIRTUAL","PUBLICA","PURISCAL",52,2,5,1,7,1,"SAN JOSE","MORA","COLON","CIUDAD COLON CENTRO","ELIMEY KARLA AGUILAR GALVEZ",0,0,"marcotuliociudadcolon@gmail.com","400 ESTE DE LA ESTACION DE SERVICIO DELTA"]
[6248,"CNV. ESCUELA 12 DE MARZO","COLEGIO NAC. VIRTUAL","PUBLICA","PEREZ ZELEDON",53,2,1,1,19,1,"SAN JOSE","PEREZ ZELEDON","SAN ISIDRO DE EL GENERAL","SAN ISIDRO","HENRY VIQUEZ FERNANDEZ",27712701,27712701,"virtual.docedemarzo@drepz.ed.cr","ESCUELA 12 DE MARZO"]
[6248,"CNV. ESCUELA PEDRO PEREZ ZELEDON","COLEGIO NAC. VIRTUAL","PUBLICA","PEREZ ZELEDON",53,2,1,1,19,1,"SAN JOSE","PEREZ ZELEDON","SAN ISIDRO DE EL GENERAL","HOSPITAL","ESTEBAN VALVERDE VALVERDE",27705455,0,"cnvmts.pedroperez@mep.go.cr","COSTADO OESTE DEL HOSPITAL ESCALANTE PRADILLA"]
[6248,"CNV. ESCUELA SANTA CRUZ","COLEGIO NAC. VIRTUAL","PUBLICA","GRANDE DE TERRABA",75,2,1,6,3,1,"PUNTARENAS","BUENOS AIRES","BUENOS AIRES","SANTA CRUZ","WILFREDO MEDINA MENDOZA",27300895,27300895,"cnvmtsba@gmail.com","CONTIGUO A LA IGLESIA CATOLICA"]
[6248,"CNV. ESCUELA CORONADO","COLEGIO NAC. VIRTUAL","PUBLICA","GRANDE DE TERRABA",75,2,6,6,5,1,"PUNTARENAS","OSA","PUERTO CORTES","CORONADO","LILLIAN ALTAMIRANO JACAMO",27865778,27865778,"cnvmts.coronado@mep.go.cr","FRENTE AL CEN CINAI DE CORONADO OSA"]
[6249,"CNV. ESCUELA BERNARDO SOTO ALFARO","COLEGIO NAC. VIRTUAL","PUBLICA","ALAJUELA",54,2,1,2,1,1,"ALAJUELA","ALAJUELA","ALAJUELA","ALAJUELA CENTRO","MEYLIN RODRIGUEZ GARCIA",24314404,24314404,"cnvmts.sedebernardosoto@hotmail.com","COSTADO ESTE DE LA CRUZ ROJA DE ALAJUELA"]
[6249,"CNV. ESCUELA HOLANDA","COLEGIO NAC. VIRTUAL","PUBLICA","ALAJUELA",54,2,2,2,1,1,"ALAJUELA","ALAJUELA","ALAJUELA","BARRIO EL CARMEN","KARLA RAMIREZ ALFARO",24433068,24433068,"c.n.v.m.t.s.esc.holanda@gmail.com","FRENTE DE LA PLAZA DE DEPORTES"]
[6249,"CNV. LICEO SAN RAFAEL","COLEGIO NAC. VIRTUAL","PUBLICA","ALAJUELA",54,2,4,2,1,8,"ALAJUELA","ALAJUELA","SAN RAFAEL","SAN RAFAEL","LIGIA CORELLA ROJAS",24392566,24392566,"cnvmts.sedeliceosanrafael@gmail.com","DEL MEGASUPER DE SAN RAFAEL 50 SUR"]
[6249,"CNV. LICEO SAN JOSE DE ALAJUELA","COLEGIO NAC. VIRTUAL","PUBLICA","ALAJUELA",54,2,5,2,1,2,"ALAJUELA","ALAJUELA","SAN JOSE","BARRIO SAN JOSE","GILBERTO VASQUEZ ROJAS",24333279,24333279,"cnvmts05@hotmail.com","COSTADO NORTE PLAZA DE DEPORTES"]
[6249,"CNV. LICEO DE POAS","COLEGIO NAC. VIRTUAL","PUBLICA","ALAJUELA",54,2,7,2,8,1,"ALAJUELA","POAS","SAN PEDRO","SAN PEDRO","ADRIAN MENA ALEMAN",24483724,24483724,"cnvmts.poas@mep.go.cr","400 NORTE DEL TEMPLO CATOLICO"]
[6249,"CNV. ESCUELA CENTRAL DE ATENAS","COLEGIO NAC. VIRTUAL","PUBLICA","ALAJUELA",54,2,8,2,5,1,"ALAJUELA","ATENAS","ATENAS","ATENAS CENTRO","JACKELINE CASTRO GONZALEZ",24460186,24460186,"cnvmts.escuelacentraldeatenas@mep.go.cr","400 SUR DEL PALACIO MUNICIPAL"]
[6249,"CNV. ESCUELA PRIMO VARGAS VALVERDE","COLEGIO NAC. VIRTUAL","PUBLICA","ALAJUELA",54,2,9,2,9,1,"ALAJUELA","OROTINA","OROTINA","TRES MARIAS","JOSE LUIS VILLARREAL MORA",24282278,0,"cnvmts.primovargasvalverde@mep.go.cr","100 ESTE Y 200 SUR DE LA CCSS"]
[6249,"CNV. ESCUELA SIMON BOLIVAR PALACIOS","COLEGIO NAC. VIRTUAL","PUBLICA","ALAJUELA",54,2,10,2,3,1,"ALAJUELA","GRECIA","GRECIA","SECTOR SUR GRECIA","CESAR AZOFEIFA ROJAS",24941295,0,"nuevasoportunidadesgrecia.2010@gmail.com","400 METROS SUR DE LA CATEDRAL DE GRECIA"]
[6250,"CNV. ESCUELA JORGE WASHINGTON","COLEGIO NAC. VIRTUAL","PUBLICA","OCCIDENTE",55,2,1,2,2,1,"ALAJUELA","SAN RAMON","SAN RAMON","SAN RAMON CENTRO","HANSEL FERNANDEZ BADILLA",24476818,24476818,"marcotuliosalazarsr@gmail.com","100 SUR DE TRIBUNALES DE JUSTICIA SAN RAMON"]
[6250,"CNV. C.T.P. FRANCISCO JOSE ORLICH BOLMARCICH","COLEGIO NAC. VIRTUAL","PUBLICA","OCCIDENTE",55,2,4,2,12,1,"ALAJUELA","VALVERDE VEGA","SARCHI NORTE","SARCHI NORTE","JOSE GUILLERMO CHAVERRI MURILL",24541660,24541660,"marcotuliosarchi@gmail.com","300 SUR DEL BANCO DE COSTA RICA"]
[6250,"CNV. ESCUELA REPUBLICA DE COLOMBIA","COLEGIO NAC. VIRTUAL","PUBLICA","OCCIDENTE",55,2,5,2,6,1,"ALAJUELA","NARANJO","NARANJO","NARANJO CENTRO","ANDREA MADRIGAL MORERA",24500044,24500044,"cnvmtsrepcolombia@gmail.com","COSTADO OESTE DEL PARQUE"]
[6250,"CNV. ESCUELA PBRO. MANUEL BERNARDO GOMEZ","COLEGIO NAC. VIRTUAL","PUBLICA","OCCIDENTE",55,2,6,2,7,1,"ALAJUELA","PALMARES","PALMARES","PALMARES CENTRO","MARIA ISABEL QUIROS RODRIGUEZ",24522771,24533686,"cnvmts.pbromanuelbernardo@mep.go.cr","200 ESTE DE LA IGLESIA PALMARES"]
[6250,"CNV. LICEO DE ALFARO RUIZ","COLEGIO NAC. VIRTUAL","PUBLICA","OCCIDENTE",55,2,7,2,11,1,"ALAJUELA","ZARCERO","ZARCERO","BARRIO CEMENTERIO","JOSE FCO SANCHEZ ALVARADO",24631782,24633451,"cnvmts.alfaroruiz@mep.go.cr","FRENTE A CEMENTERIO MUNICIPAL"]
[6251,"CNV. ESCUELA JUAN CHAVES ROJAS","COLEGIO NAC. VIRTUAL","PUBLICA","SAN CARLOS",56,2,3,2,10,1,"ALAJUELA","SAN CARLOS","QUESADA","CENTRO","JUAN CHACON HERNANDEZ",24605317,0,"cnvmts.juanchavesrojas@mep.go.cr","300 NORTE DEL PARQUE DE CIUDAD QUESADA"]
[6251,"CNV. C.T.P. NATANIEL ARIAS MURILLO","COLEGIO NAC. VIRTUAL","PUBLICA","SAN CARLOS",56,2,4,2,10,4,"ALAJUELA","SAN CARLOS","AGUAS ZARCAS","AGUAS ZARCAS","HELEN AMELIA CAMPOS MIRANDA",24741837,0,"cnvmts.aguas.zarcas@hotmail.com","COSTADO OESTE CEMENTERIO DE AGUAS ZARCAS"]
[6251,"CNV. C.T.P. LA FORTUNA","COLEGIO NAC. VIRTUAL","PUBLICA","SAN CARLOS",56,2,6,2,10,7,"ALAJUELA","SAN CARLOS","LA FORTUNA","LA FORTUNA","MARVIN BLANCO JARA",24797251,0,"cnvmtsfortuna@gmail.com","FRENTE AL BANCO DE COSTA RICA"]
[6251,"CNV. C.T.P. SANTA ROSA DE POCOSOL","COLEGIO NAC. VIRTUAL","PUBLICA","SAN CARLOS",56,2,8,2,10,13,"ALAJUELA","SAN CARLOS","POCOSOL","SANTA ROSA","OMAR ROJAS SOLIS",24778598,24778598,"omar.rojas.solis@mep.go.cr","700 NORTE DEL PARQUE DE STA ROSA"]
[6252,"CNV. LICEO VICENTE LACHNER SANDOVAL","COLEGIO NAC. VIRTUAL","PUBLICA","CARTAGO",57,2,1,3,1,1,"CARTAGO","CARTAGO","ORIENTAL","LOS ANGELES","GIOVANNI CUBERO JIMENEZ",25911130,0,"geocubero14@hotmail.com","200 SUR DE LA BASILICA DE CARTAGO"]
[6252,"CNV. ESCUELA SAN IGNACIO DE LOYOLA","COLEGIO NAC. VIRTUAL","PUBLICA","CARTAGO",57,2,2,3,1,4,"CARTAGO","CARTAGO","SAN NICOLAS","SAN IGNACIO DE LOYOLA","CRISTIAN BOGANTES ARAYA",25372455,25372455,"crbogantes@hotmail.com","FRENTE A LA IGLESIA CATOLICA"]
[6252,"CNV. COLEGIO ELIAS LEIVA QUIROS","COLEGIO NAC. VIRTUAL","PUBLICA","CARTAGO",57,2,3,3,8,1,"CARTAGO","EL GUARCO","TEJAR","TEJAR","SHIRLEY BENAVIDES SERRANO",25529253,0,"cnvtejar@yahoo.com","75 SUR DEL EBAIS DEL TEJAR DEL GUARCO"]
[6252,"CNV. ESCUELA LIENDO Y GOICOECHEA","COLEGIO NAC. VIRTUAL","PUBLICA","CARTAGO",57,2,5,3,2,1,"CARTAGO","PARAISO","PARAISO","CENTRAL","MARIO MAROTO CALDERON",25745625,0,"cnvmtsparaiso@hotmail.com","COST SUR A LA IGLES NUEST SRA DE UJARRAS"]
[6252,"CNV. ESCUELA CENTRAL DE TRES RIOS","COLEGIO NAC. VIRTUAL","PUBLICA","CARTAGO",57,2,6,3,3,1,"CARTAGO","LA UNION","TRES RIOS","TRES RIOS CENTRO","CARLOS MACHADO COTO",0,0,"cnvmarcotuliosalazar3r@hotmail.com","COSTADO SUR DE LA IGLESIA CATOLICA"]
[6252,"CNV. LICEO DE TARRAZU","COLEGIO NAC. VIRTUAL","PUBLICA","LOS SANTOS",73,2,1,1,5,1,"SAN JOSE","TARRAZU","SAN MARCOS","SANTA CECILIA","MAURICIO GAMBOA GAMBOA",25465351,25469038,"cnvmts.tarrazu@mep.go.cr","100 NORTE DE COOPESANTOS RL"]
[6253,"CNV. LICEO TUCURRIQUE","COLEGIO NAC. VIRTUAL","PUBLICA","TURRIALBA",58,2,1,3,4,2,"CARTAGO","JIMENEZ","TUCURRIQUE","TUCURRIQUE","LILLIAM RODRIGUEZ BRENES",25350309,25350309,"cnvmtstucurrique@mep.go.cr","ENTRADA A LA FLORA"]
[6253,"CNV. COLEGIO DR. CLODOMIRO PICADO TWIGHT","COLEGIO NAC. VIRTUAL","PUBLICA","TURRIALBA",58,2,2,3,5,1,"CARTAGO","TURRIALBA","TURRIALBA","LAS AMERICAS","ALLAN PAUL ELLIS LEANDRO",22576465,0,"cnvmarcotuliosalazariet@hotmail.com","CONTIGUO AL ESTAD MUNIC RAF ANG CAMACHO"]
[6253,"CNV. C.T.P. LA SUIZA","COLEGIO NAC. VIRTUAL","PUBLICA","TURRIALBA",58,2,3,3,5,2,"CARTAGO","TURRIALBA","LA SUIZA","LA SUIZA","MA.DE LOS ANGELES MONTAYA A.",25311100,0,"cnvmtssedelasuiza@gmail.com","300 OESTE DE LA FUERZA PUBLICA LA SUIZA"]
[6253,"CNV. ESCUELA JABILLOS","COLEGIO NAC. VIRTUAL","PUBLICA","TURRIALBA",58,2,3,3,5,6,"CARTAGO","TURRIALBA","PAVONES","JABILLOS","MAYELA OVIEDO SALAZAR",25381513,25381513,"cnvmts.jabillos@mep.go.cr","ESCUELA DE JABILLOS"]
[6254,"CNV. C.T.P. HEREDIA","COLEGIO NAC. VIRTUAL","PUBLICA","HEREDIA",59,2,1,4,1,1,"HEREDIA","HEREDIA","HEREDIA","BARRIO FATIMA","MELIDA CEDEÑO CASTRO",25602838,0,"cnvmts2014@hotmail.com","CONTIGUO A LA COMANDANCIA DE HEREDIA"]
[6254,"CNV. LICEO MANUEL BENAVIDES RODRIGUEZ","COLEGIO NAC. VIRTUAL","PUBLICA","HEREDIA",59,2,1,4,1,1,"HEREDIA","HEREDIA","HEREDIA","SANTA LUCIA","DIXON GOMEZ QUIROS",22374955,22372433,"cnvmtsmaber@gmail.com","DEL HOSPITAL SAN VIC DE PAUL 200 OESTE"]
[6254,"CNV. IPEC BARVA","COLEGIO NAC. VIRTUAL","PUBLICA","HEREDIA",59,2,4,4,2,1,"HEREDIA","BARVA","BARVA","INVU DE BARVA","GEORGIE GISSELLE CAMPOS VARGAS",22620642,22620642,"colegiovirtualmarcotuliobarva@gmail.com","DETRAS DE LA ESCUELA PEDRO MURILLO"]
[6254,"CNV. COLEGIO LA AURORA","COLEGIO NAC. VIRTUAL","PUBLICA","HEREDIA",59,2,7,4,1,4,"HEREDIA","HEREDIA","ULLOA","LA AURORA","GERARDO MORA MAROTO",25890326,0,"cnvmtslaaurora@gmail.com","CONTIGUO A IGLESIA CATOLICA"]
[6254,"CNV. LICEO DE BELEN","COLEGIO NAC. VIRTUAL","PUBLICA","HEREDIA",59,2,7,4,7,1,"HEREDIA","BELEN","SAN ANTONIO","SAN ANTONIO BELEN","KARLA VILLALTA ALPIZAR",22938165,22938165,"cnvmts_belen@hotmail.com","DE LOS BOMBEROS 100 NORTE Y 50 ESTE"]
[6255,"CNV. INSTITUTO DE GUANACASTE","COLEGIO NAC. VIRTUAL","PUBLICA","LIBERIA",60,2,2,5,1,1,"GUANACASTE","LIBERIA","LIBERIA","CAPULIN","ILIANA CASTRO ORTEGA",22663558,0,"cnvmarcotuliosalazar@gmail.com","FRENTE A OFICINAS DEL MAG"]
[6255,"CNV. COLEGIO DE BAGACES","COLEGIO NAC. VIRTUAL","PUBLICA","LIBERIA",60,2,3,5,4,1,"GUANACASTE","BAGACES","BAGACES","BAGACES CENTRO","ROSA MAGDALENA DUARTE UGARTE",26711631,26711631,"cnvmts.licdebagaces@mep.go.cr","1KM NORTE DEL SERVICENTRO BAGACES"]
[6255,"CNV. COLEGIO SANTA CECILIA","COLEGIO NAC. VIRTUAL","PUBLICA","LIBERIA",60,2,5,5,10,2,"GUANACASTE","LA CRUZ","SANTA CECILIA","LOS MILLONARIOS","FELICIA VIALES ARAYA",26778086,26777067,"cnvmts.santacecilia@mep.go.cr","600 ESTE DE LA ESCUELA SANTA CECILIA"]
[6256,"CNV. ESCUELA CACIQUE NICOA DIRIA","COLEGIO NAC. VIRTUAL","PUBLICA","NICOYA",61,2,1,5,2,1,"GUANACASTE","NICOYA","NICOYA","EL CARMEN","ROSA VARGAS MORA",26864933,26864933,"rosavargasmora@hotmail.com","100 NORTE Y 25 ESTE DEL BANCO POPULAR"]
[6256,"CNV. C.T.P. LA MANSION","COLEGIO NAC. VIRTUAL","PUBLICA","NICOYA",61,2,3,5,2,2,"GUANACASTE","NICOYA","MANSION","LA MANSION","VIVIANA GUEVARA ESQUIVEL",0,0,"vguevaraes08@yahoo.es","LA MANSION COLEGIO TECNICO PROFESIONAL"]
[6257,"CNV. ESCUELA JOSEFINA LOPEZ BONILLA","COLEGIO NAC. VIRTUAL","PUBLICA","SANTA CRUZ",62,2,1,5,3,1,"GUANACASTE","SANTA CRUZ","SANTA CRUZ","SANTA CRUZ CENTRO","WARNER ALCOCER ALFARO",26806146,26806146,"cnvmts.josefinalopez@mep.go.cr","COSTADO SURESTE DE ESCUELA JOSEFINA LOPEZ"]
[6258,"CNV. ESCUELA MONSENOR LUIS LEIPOLD","COLEGIO NAC. VIRTUAL","PUBLICA","CAÑAS",63,2,1,5,6,1,"GUANACASTE","CAÑAS","CAÑAS","CENTRO CAÑAS","MILEIDY BRICENO JIMENEZ",26686239,0,"cnvmts.luisleipold@mep.go.cr","FRENTE A PLAZA COLON"]
[6258,"CNV. LICEO NOCTURNO MAURILIO ALVARADO VARGAS","COLEGIO NAC. VIRTUAL","PUBLICA","CAÑAS",63,2,3,5,8,1,"GUANACASTE","TILARAN","TILARAN","TILARAN CENTRO","LUIS BENAVIDES BARQUERO",26955226,26955226,"cnvmts.maurilioalvarado@mep.go.cr","DE LA AGENCIA DEL ICE 100 ESTE"]
[6259,"CNV. C.T.P. PUNTARENAS","COLEGIO NAC. VIRTUAL","PUBLICA","PUNTARENAS",64,2,1,6,1,8,"PUNTARENAS","PUNTARENAS","BARRANCA","EL PROGRESO","FERNANDO FERNANDEZ MADRIGAL",26640621,26630095,"cnvmts.ctpuntarenas@mep.go.cr","FRENTE URBANIZACION EL PROGRESO"]
[6259,"CNV. C.T.P. SANTA ELENA","COLEGIO NAC. VIRTUAL","PUBLICA","PUNTARENAS",64,2,6,6,1,9,"PUNTARENAS","PUNTARENAS","MONTE VERDE","SANTA ELENA","REBECA FALLAS ROMERO",26457381,0,"Supervisioncircuito06,puntarenas@mep.go.cr","300 NORTE DEL CONSEJO MUNICIPAL"]
[6260,"CNV. ESCUELA ALVARO PARIS STEPHENS","COLEGIO NAC. VIRTUAL","PUBLICA","COTO",65,2,1,6,7,1,"PUNTARENAS","GOLFITO","GOLFITO","GOLFITO","ERICK HIDALGO GOMEZ",27752315,0,"cnvmts.alvaroparisstephens@mep.go.cr","COSTADO DE LA PLAZA DE DEPORTES PUEBLO CIVIL"]
[6260,"CNV. ITALOCOSTARRICENSE","COLEGIO NAC. VIRTUAL","PUBLICA","COTO",65,2,5,6,8,1,"PUNTARENAS","COTO BRUS","SAN VITO","LA ISLA","JOHNNY RODRIGUEZ GAMBOA",27734306,27734306,"cnvmts.italocostarricense@mep.go.cr","DIAGONAL PLAZA DE FUTBOL"]
[6260,"CNV. COLEGIO NOCTURNO CIUDAD NEILY","COLEGIO NAC. VIRTUAL","PUBLICA","COTO",65,2,9,6,10,1,"PUNTARENAS","CORREDORES","CORREDOR","CIUDAD NEILY","JOSE MANUEL JUAREZ ZUÑIGA",27831792,27831792,"cnvmts.nocturnociudadnelly@mep.go.cr","CONTIGUO A LA ESCUELA ALBERTO ECHANDI MONTERO"]
[6261,"CNV. C.T.P. LIMON","COLEGIO NAC. VIRTUAL","PUBLICA","LIMON",66,2,1,7,1,1,"LIMON","LIMON","LIMON","CORALES DOS","XIOMARA NUNEZ UMANA",86587329,0,"Xio_da@hotmail.com","FRENTE A LA ESCUELA LIDER LOS CORALES"]
[6261,"CNV. C.T.P. ROBERTO EVANS DE SIQUIRRES","COLEGIO NAC. VIRTUAL","PUBLICA","LIMON",66,2,4,7,3,1,"LIMON","SIQUIRRES","SIQUIRRES","SIQUIRRES","SANDRA VARGAS PEREIRA",27681065,0,"cnvmtsctpsiquirres@hotmail.com","350 SUR DEL CORREO"]
[6261,"CNV. LICEO ACADEMICO DE SIXAOLA","COLEGIO NAC. VIRTUAL","PUBLICA","LIMON",66,2,8,7,4,2,"LIMON","TALAMANCA","SIXAOLA","SIXAOLA","MAURICIO ALFARO HIDALGO",27542060,27542344,"colegiomarcotuliotalamanca@gmail.com","300 ESTE DEL PUESTO POLICIAL DE FRONTERA"]
[6261,"CNV. ESCUELA DE BATAAN","COLEGIO NAC. VIRTUAL","PUBLICA","LIMON",66,2,9,7,5,2,"LIMON","MATINA","BATAN","BATAN","CRISTINA CRUZ SUAREZ",27186851,27184597,"cristinac04@gmail.com","CONTIGUO A LA SUCURSAL DE C.C.S.S."]
[6261,"CNV. C.T.P. TALAMANCA","COLEGIO NAC. VIRTUAL","PUBLICA","SULA",77,2,1,7,4,1,"LIMON","TALAMANCA","BRATSI","BRIBRI","SANTOS DIAZ DIAZ",27510060,27510244,"cnvmts.ctptalamanca@gmail.com","400 OESTE DEL AGROAPPTA"]
[6262,"CNV. ESCUELA CENTRAL GUAPILES","COLEGIO NAC. VIRTUAL","PUBLICA","GUAPILES",67,2,1,7,2,1,"LIMON","POCOCI","GUAPILES","GUAPILES CENTRO","JEFFRY JARA CARRILLO",27104015,27104015,"cnvmts.centraldeguapiles@mep.go.cr","DIAGONAL AL HOSPITAL CENTRAL DE GUAPILES"]
[6262,"CNV. ESCUELA CAMPO KENNEDY","COLEGIO NAC. VIRTUAL","PUBLICA","GUAPILES",67,2,3,7,2,5,"LIMON","POCOCI","CARIARI","CARIARI CENTRO","IVANNIA SALAZAR LEON",27675158,27675188,"cnvmts.esccampokennedy@mep.go.cr","FRENTE AL BANCO POPULAR DE CARIARI"]
[6262,"CNV. ESCUELA MANUEL MARIA GUTIERREZ","COLEGIO NAC. VIRTUAL","PUBLICA","GUAPILES",67,2,4,7,6,1,"LIMON","GUACIMO","GUACIMO","GUACIMO","JONNATHAN JIMENEZ CARRILLO",27168708,27168708,"colegiomarcotulioguacimo@hotmail.com","CONTIGUO AL PARQUE DE GUACIMO"]
[6263,"CNV. ESCUELA MARIA LUISA DE CASTRO","COLEGIO NAC. VIRTUAL","PUBLICA","AGUIRRE",68,2,1,6,6,1,"PUNTARENAS","AGUIRRE","QUEPOS","BOCA VIEJA","ERLIM QUESADA PEREZ",27774706,27774706,"cnvmts.marialuisadecastro@mep.go.cr","DEL ANTIGUO COMISARIATO YEYO 200 OESTE"]
[6264,"CNV. C.T.P. DE UPALA","COLEGIO NAC. VIRTUAL","PUBLICA","ZONA NORTE NORTE",69,2,1,2,13,1,"ALAJUELA","UPALA","UPALA","UPALA CENTRO","GREIVIN LATINO MENDEZ",24700081,24700081,"colegiovirtualctpupala@gmail.com","100 NORTE DEL HOSPITAL DE UPALA"]
[6266,"CONED NICOYA","CONED","PUBLICA","NICOYA",61,5,1,5,2,1,"GUANACASTE","NICOYA","NICOYA","NICOYA","MARIA FELIZ OBANDO BRICEÑO",26854738,26866679,"mobando@uned.ac.cr","75 M. ESTE CASA DEL MAESTRO"]
[6267,"LICEO RURAL LOS ALMENDROS","COLEGIOS","PUBLICA","SAN CARLOS",56,2,7,2,10,11,"ALAJUELA","SAN CARLOS","CUTRIS","ALMENDROS","ADRIAN GONZALEZ CORDERO",0,0,"liceolosalmendros@gmail.com","CENTRO LOS ALMENDROS"]
[6268,"CINDEA LOS CHILES","CINDEA","PUBLICA","SAN CARLOS",56,5,9,2,14,1,"ALAJUELA","LOS CHILES","LOS CHILES","LOS CHILES CENTRO","NOEL ORTIZ CASCO",24711879,24711879,"noelortiz1951@hotmail.com","COSTADO OESTE ESC. RICARDO VARGAS MURILLO"]
[6269,"COLEGIO MATA DE PLATANO","COLEGIOS","PUBLICA","SAN JOSE NORTE",71,2,2,1,8,4,"SAN JOSE","GOICOECHEA","MATA DE PLATANO","EL CARMEN","BEATRIZ BERMUDEZ ESTRADA",22455581,22455581,"lmataplatano@gmail.com","100 ESTE DE LA IGLESIA CATOLICA"]
[6273,"LICEO RURAL CERROS","COLEGIOS","PUBLICA","AGUIRRE",68,2,6,6,6,1,"PUNTARENAS","AGUIRRE","QUEPOS","SAN RAFAEL DE CERROS","RICARDO TORRES GONZALEZ",27773384,27773384,"ricardo.torres.gonzalez@mep.go.cr","DETRAS DE LA ESCUELA CERROS, SAN RAFAEL"]
[6274,"CONED CARTAGO","CONED","PUBLICA","CARTAGO",57,5,1,3,1,2,"CARTAGO","CARTAGO","OCCIDENTAL","CENTRAL","LUIS CARLOS MONGE GARRO",25914117,25914147,"lmonge@uned.ac.cr","50 M SUR ESTACON DE BOMBEROS"]
[6280,"C.T.P. PIEDADES SUR","EDUC. ESPECIAL","PUBLICA","OCCIDENTE",55,4,3,2,2,5,"ALAJUELA","SAN RAMON","PIEDADES SUR","PIEDADES SUR","HÉCTOR L. BRICEÑO HERNÁNDEZ",24478348,24478348,"ctp.piedades.sur@mep.go.cr","COSTADO SUROESTE DE LA PLAZA DE DEPORTES"]
[6294,"LICEO CAPITAN MANUEL QUIROS","EDUC. ESPECIAL","PUBLICA","SAN CARLOS",56,4,12,2,10,11,"ALAJUELA","SAN CARLOS","CUTRIS","COOPEVEGA","ELMER VILLALOBOS GONZALEZ",24673033,24673033,"liceocamaqui@yahoo.es","100 METROS NORESTE DEL LA ESCUELA COOPEVEGA"]
[6305,"C.T.P. DE CÓBANO","EDUC. ESPECIAL","PUBLICA","PENINSULAR",76,4,2,6,1,11,"PUNTARENAS","PUNTARENAS","COBANO","CÓBANO","MYRNA RODRÍGUEZ VARGAS",26420280,26420179,"ctpcobano@hotmail.com","300 M. SUR SURESTE DEL BANCO NACIONAL CÓBANO"]
[6322,"LICEO DE RIO FRIO","EDUC. ESPECIAL","PUBLICA","SARAPIQUI",74,4,2,4,10,3,"HEREDIA","SARAPIQUI","LAS HORQUETAS","RIO FRIO","ROCIO VARGAS MONTERO",27644116,27644116,"colegioderiofrio1970@gmail.com","400 OESTE DE LA ESCUELA FINCA ONCE"]
[6332,"LICEO SAN FRANCISCO DE COYOTE","EDUC. ESPECIAL","PUBLICA","NICOYA",61,4,8,5,9,6,"GUANACASTE","NANDAYURE","BEJUCO","SAN FRANCISO","ABRAHAM JOSE BERROCAL ROGERS",26551194,26551227,"abraham.berrocal.rogers@mep.go.cr","800 MTS SURESTE DEL RANCHO LOMA CLARA"]
[6333,"C.T.P. HOJANCHA","EDUC. ESPECIAL","PUBLICA","NICOYA",61,4,5,5,11,1,"GUANACASTE","HOJANCHA","HOJANCHA","LIBERTAD","BRAULIO MIRANDA MENDEZ",26599045,26599494,"ctphojancha1972@gmail.com","800 MTS DE LA ESCUELA VICTORIANO"]
[6334,"COLEGIO BOCAS DE NOSARA","EDUC. ESPECIAL","PUBLICA","NICOYA",61,4,6,5,2,6,"GUANACASTE","NICOYA","NOSARA","SANTA TERESITA","TERESITA VIALES MATARRITA",26820268,26820268,"lic.debocasdenosara@mep.go.cr","CENTRO SANTA TERESITA"]
[6335,"COLEGIO FINCA NARANJO","EDUC. ESPECIAL","PUBLICA","COTO",65,4,11,6,10,4,"PUNTARENAS","CORREDORES","LAUREL","NARANJO","YORLEY NOVO SANDÍ",27801598,27811598,"col.academicofincanaranjo@mep.go.cr","300 M. NOROESTE DE GUARDIA RURAL,FCA. NARANJO"]
[6350,"I.E.G.B. LIMON 2000","COLEGIOS","PUBLICA","LIMON",66,2,7,7,1,3,"LIMON","LIMON","RIO BLANCO","RIO BLANCO","IVONNE WRIGHT RUSSELL",27972815,27972815,"escuelalimon2000@yahoo.com","DE LA ESTACION DE RITEVE 250 M. OESTE."]
[6358,"C.T.P. VASQUEZ DE CORONADO","COLEGIOS","PUBLICA","SAN JOSE NORTE",71,3,6,1,11,4,"SAN JOSE","VASQUEZ DE CORONADO","PATALILLO","ROMILIOS","KATIA AMADOR PEREZ",22293801,22293801,"ctpvazquezdecoronado@gmail.com","800 NORTE DEL SALON EL PARÁ"]
[6359,"LICEO BOCA DE ARENAL","EDUC. ESPECIAL","PUBLICA","SAN CARLOS",56,4,7,2,10,11,"ALAJUELA","SAN CARLOS","CUTRIS","BOCA DE ARENAL","ROXANA ALFARO ARAYA",24695006,24695006,"lic.bocadearenal@mep.go.cr","175 ESTE DE MUEBLERIA SALAS"]
[6372,"LICEO TIERRA BLANCA","COLEGIOS","PUBLICA","CARTAGO",57,2,4,3,1,8,"CARTAGO","CARTAGO","TIERRA BLANCA","TIERRA BLANCA","SANDRA FIGUEROA BARQUERO",25302424,25302424,"liceotierrablanca@gmail.com","100 NORTE DE LA IGLESIA TIERRA BLANCA"]
[6375,"LICEO LOS ANGELES","COLEGIOS","PUBLICA","NICOYA",61,2,8,5,9,5,"GUANACASTE","NANDAYURE","PORVENIR","LOS ANGELES","CESAR MORA CAMACHO",22009385,22009385,"liceolosangeles2009@gmail.com","600 ESTE DE LA IGLESIA CATOLICA"]
[6376,"LICEO SAN JOSE DEL RIO","COLEGIOS","PUBLICA","SARAPIQUI",74,2,3,4,10,1,"HEREDIA","SARAPIQUI","PUERTO VIEJO","SAN JOSE DE RIO","FELIX TAPIA REYES",24762115,0,"liceosanjosedelrio@hotmail.com","BARRIO LA COLONIA"]
[6379,"C.T.P. SANTA BARBARA","EDUC. ESPECIAL","PUBLICA","SANTA CRUZ",62,4,7,5,3,7,"GUANACASTE","SANTA CRUZ","DIRIA","SANTA BARBARA","OLGER CASCANTE ACEVEDO",26811346,26811067,"ctp.desantabarbara@mep.co.cr","DEL PUENTE DE SANTA BARBARA 400 AL ESTE"]
[6381,"ESC. EL ROBLE","EDUC. ESPECIAL","PUBLICA","HEREDIA",59,4,3,4,4,5,"HEREDIA","SANTA BARBARA","SANTO DOMINGO","EL ROBLE","VERNY QUIROS BURGOS",24830095,0,"centroeducativoelroble.heredia@gmail.com","COSTADO SUR DE LA PLAZA DE DEPORTES"]
[6382,"C.T.P. AMBIENTALISTA ISAIAS RETANA","EDUC. ESPECIAL","PUBLICA","PEREZ ZELEDON",53,4,2,1,19,1,"SAN JOSE","PEREZ ZELEDON","SAN ISIDRO DE EL GENERAL","PEDREGOSO","MARVIN SANCHEZ MORA",27714243,27714243,"admin@ctpaira.ed.cr","1.5 KM N DEL CRUCE DE PEDREGOSO CALLE SN RAM"]
[6384,"LICEO DE TOBOSI","COLEGIOS","PUBLICA","CARTAGO",57,2,3,3,8,3,"CARTAGO","EL GUARCO","TOBOSI","TOBOSI","VERA VIOLETA ELIZONDO HERRERA",25720868,25720868,"liceotobosi09@gmail.com","EN AULAS PARROQUIALES DEL TEMPLO CATOLICO"]
[6385,"LICEO SAN ANTONIO","COLEGIOS","PUBLICA","GUAPILES",67,2,5,7,2,4,"LIMON","POCOCI","ROXANA","SAN ANTONIO","ALVARO ROMAN GONZALEZ",27632610,27632610,"lic.sanantoniodelhumo@mep.go.cr","50 MTS.N.Y 50 OESTE DE LA ESC.SAN.ANTONIO."]
[6406,"LICEO RURAL SHIKABALI","COLEGIOS","PUBLICA","TURRIALBA",58,2,6,7,1,2,"LIMON","LIMON","VALLE LA ESTRELLA","SHIKABALI","MARCO ANTONIO BRENES SOLANO",25140043,0,"xocwaricr@hotmail.com","COMUNIDAD SHIKIARI, ZONA INDIGENA ALTO CHIRRI"]
[6407,"LICEO RURAL KJAKUO SULO","COLEGIOS","PUBLICA","TURRIALBA",58,2,7,3,5,12,"CARTAGO","TURRIALBA","CHIRRIPO","ALTO PACUARE","ROY GERARDO MONTENEGRO NUÑEZ",25140438,0,"lic.rural.kjakuosulo@mep.go.cr","4 KILOMETROS ESTE DEL PUENTE DE VAREH"]
[6408,"COLEGIO INDÍGENA SHIROLES","COLEGIOS","PUBLICA","SULA",77,2,1,7,4,1,"LIMON","TALAMANCA","BRATSI","SHIROLES","MOISES PEREIRA MORA",27102843,27102843,"liceoshiroles@gmail.com","FRENTE A LAS INSTALACIONES ACOMUITA,SHIROLES"]
[6409,"LICEO RURAL SALITRE","COLEGIOS","PUBLICA","GRANDE DE TERRABA",75,2,12,6,3,1,"PUNTARENAS","BUENOS AIRES","BUENOS AIRES","SALITRE","LIDIA SUAREZ CALDERON",87739285,0,"lidia.suarez.calderon@mep.go.cr","4 KM ESTE DEL CENTRO DE BUENOS AIRES."]
[6411,"CENTRO DE EDUCACION ESPECIAL DE GUÁPILES","EDUC. ESPECIAL","PUBLICA","GUAPILES",67,4,4,7,6,1,"LIMON","GUACIMO","GUACIMO","EL COLEGIO","GRETHEL SOTO ALFARO",27166304,27166304,"cee.guapiles@mep.go.cr","200 N.Y 75 O.DEL COLEGIO NOCTURNO DE GUACIMO."]
[6427,"CONED ACOSTA","CONED","PUBLICA","DESAMPARADOS",51,5,5,1,12,1,"SAN JOSE","ACOSTA","SAN IGNACIO","SAN IGNACIO","MARCO VINICIO LEON MONTERO",88656993,0,"mleonm@uned.ac.cr","FRENTE A LA CLINICA DEL SEGURO SOCIAL"]
[6429,"I.E.G.B. ANSELMO GUTIÉRREZ BRICEÑO","COLEGIOS","PUBLICA","NICOYA",61,2,1,5,2,1,"GUANACASTE","NICOYA","NICOYA","QUIRIMAN","JOSE ANTONIO OBANDO ACOSTA",0,0,"antonioobando60@gmail.com","13 KM OESTE DE NICOYA"]
[6456,"COLEGIO OMAR SALAZAR OBANDO","COLEGIOS","PUBLICA","TURRIALBA",58,2,2,3,5,1,"CARTAGO","TURRIALBA","TURRIALBA","TURRIALBA","LUIS GUILLERMO BADILLA SOJO",40301961,25564992,"col.omarsalazarobando@mep.go.cr","COSTADO NORTE DEL CUERPO DE BOMBEROS."]
[6465,"LICEO RURAL VILLA HERMOSA","COLEGIOS","PUBLICA","GRANDE DE TERRABA",75,2,12,6,3,1,"PUNTARENAS","BUENOS AIRES","BUENOS AIRES","VILLA HERMOSA","ADRIANA MABEL TORRES ORTIZ",85393041,27300578,"adriana.torres.ortiz@mep.go.cr","20 KM.SUESTE DEL CENTRO DE BUENOS AIRES"]
[6475,"NOCTURNO DE BAGACES","COLEGIOS","PUBLICA","LIBERIA",60,5,3,5,4,1,"GUANACASTE","BAGACES","BAGACES","BAGACES","ANNY VILLAREAL CAMPOS",26711049,26711049,"cnbagaces@gmail.com","A UN COSTADO DEL GIMNACIO MUNICIPAL"]
[6479,"COLEGIO DE GUACIMO","COLEGIOS","PUBLICA","GUAPILES",67,2,4,7,6,1,"LIMON","GUACIMO","GUACIMO","LOS COLEGIOS","LENIN FERNANDO ALVARADO PORRAS",27165352,27165352,"colegioacademicoguacimo@hotmail.com","200MTS NORTE DE LA ALCALDIA MIXTA GUACIMO"]
[6480,"LICEO RURAL ALTO COHEN","COLEGIOS","PUBLICA","SULA",77,2,5,7,1,2,"LIMON","LIMON","VALLE LA ESTRELLA","ALTO COHEN","GERARDO SANDOVAL MORALES",0,0,"liceoruralaltocohen@hotmail.com","CONTIGUO A LA PLAZA DE DEPORTES, ALTO COHEN"]
[6496,"ESC. CAÑAZA","EDUC. ESPECIAL","PUBLICA","COTO",65,4,3,6,7,2,"PUNTARENAS","GOLFITO","PUERTO JIMENEZ","CAÑAZA","LORENA FERNÁNDEZ SÁBALA",22005788,27355041,"esc.canaza@mep.go.cr","CONTIGUO AL EBAIS, CAÑAZA"]
[6498,"LICEO RURAL YIMBA CAJC","COLEGIOS","PUBLICA","GRANDE DE TERRABA",75,2,11,6,3,4,"PUNTARENAS","BUENOS AIRES","BORUCA","CURRE","JOSE LAZARO ORTIZ",86158900,27300744,"liceoyimbacajc@gmail.com","32 KM. SUR DE B. AIRES FRENTE A ESCUELA CURRE"]
[6499,"CINDEA HEREDIANA","CINDEA","PUBLICA","LIMON",66,5,6,7,3,4,"LIMON","SIQUIRRES","GERMANIA","HEREDIANA","CARLOS CHAMBERS QUESADA",27654418,27654418,"cindeaherediana6499@hotmail.com","HEREDIANA, COSTADO SUR DE LA PLAZA"]
[6500,"COLEGIO DE PACUARE","COLEGIOS","PUBLICA","LIMON",66,2,1,7,1,1,"LIMON","LIMON","LIMON","OJO DE AGUA","EUGENIA P. PINNOCK ALLEN",27953162,27953162,"col.pacuare@mep.go.cr","25 M. AL ESTE DE LA ESC. PACUARE OJO DE AGUA"]
[6501,"COLEGIO FLORIDA","COLEGIOS","PUBLICA","LIMON",66,2,6,7,3,3,"LIMON","SIQUIRRES","FLORIDA","FLORIDA","EVETT FULLER FULLER",27652461,27652461,"col.florida@mep.go.cr","DEL CEMENTERIO 400 M NOROESTE EDIFICIO VERDE"]
[6502,"C.T.P. SANTO CRISTO DE ESQUIPULAS","COLEGIOS","PUBLICA","OCCIDENTE",55,3,6,2,7,6,"ALAJUELA","PALMARES","ESQUIPULAS","LA ERMITA","LUIS GMO. SALAS BOGANTES",24533107,24533148,"lisacres@hotmail.com","100 M. ESTE DE LA ESCUELA JULIA FERNÁNDEZ R."]
[6503,"C.T.P. DE DULCE NOMBRE","COLEGIOS","PUBLICA","CARTAGO",57,3,2,3,1,9,"CARTAGO","CARTAGO","DULCE NOMBRE","DULCE NOMBRE","EDGAR EVANS MEZA",25536190,25536190,"ctpdulcenombre@gmail.com","75 O 50 S Y 75 O DEL CEMENTERIO"]
[6504,"C.T.P. SAN PEDRO DE BARVA","COLEGIOS","PUBLICA","HEREDIA",59,3,4,4,2,2,"HEREDIA","BARVA","SAN PEDRO","SAN PEDRO","MARGARITA RAMIREZ BONILLA",22382053,22385053,"ctpsanpedro@gmail.com","200 MTS.NORTE DEL CAMPO SANTO SILENCIO Y PAZ"]
[6505,"C.T.P. DE PALMICHAL","COLEGIOS","PUBLICA","PURISCAL",52,3,5,1,12,3,"SAN JOSE","ACOSTA","PALMICHAL","PALMICHAL","BRAULIO MONTERO GONZALEZ",24184409,24184409,"ctppalmichal10@yahoo.es","400 MTS ESTE DE LA PLAZA DE DEPORTES"]
[6506,"C.T.P. BOLIVAR","COLEGIOS","PUBLICA","ALAJUELA",54,3,6,2,3,8,"ALAJUELA","GRECIA","BOLIVAR","LOS ANGELES","KATTIA MADRIGAL BALLESTERO",24941493,24941493,"ctpbolivar@yahoo.com","250 MTS OESTE DEL EBAIS DE LOS ANGELES"]
[6507,"C.T.P. SABANILLA","COLEGIOS","PUBLICA","ALAJUELA",54,3,3,2,1,7,"ALAJUELA","ALAJUELA","SABANILLA","SABANILLA","ROXANA VARGAS ALFARO",24495632,24495632,"ctpsabanilla@gmail.com","175 MTS AL SUROESTE DE LA COOPETRANSASI"]
[6508,"C.T.P. SAN RAFAEL DE POAS","COLEGIOS","PUBLICA","ALAJUELA",54,3,7,2,8,3,"ALAJUELA","POAS","SAN RAFAEL","SAN RAFAEL","HERNAN BONILLA CESPEDES",24487216,24487216,"ctpsanrafaeldepoas@gmail.com","COSTADO NORTE DEL TEMPLO CATOLICO DE SAN RAFA"]
[6511,"CINDEA LA BOMBA","CINDEA","PUBLICA","LIMON",66,5,2,7,1,4,"LIMON","LIMON","MATAMA","LA BOMBA","XIOMARA CALVIN WATSON",27561001,27561001,"salinis08@hotmail.com","DETRAS DE LA PLAZA DE FUTBOL"]
[6512,"LICEO SANTISIMA TRINIDAD","COLEGIOS","PUBLICA","GUAPILES",67,2,1,7,2,7,"LIMON","POCOCI","LA COLONIA","TORO AMARILLO","MIRNA VALLEJOS ARRIETA",27110581,0,"lic.santisimatrinidad@mep.go.cr","DEL CEMENTERIO CENTRAL DE GUAPILES 1KM OESTE"]
[6513,"CINDEA COBANO","CINDEA","PUBLICA","PENINSULAR",76,5,2,6,1,11,"PUNTARENAS","PUNTARENAS","COBANO","COBANO","JOSE FRANCISCO CASCANTE PORRAS",26420725,26420725,"cindea.cobano@gmail.com","375 E DEL BN CARRETERA A MONTEZUMA"]
[6515,"CINDEA DE PITAL","CINDEA","PUBLICA","SAN CARLOS",56,5,5,2,10,6,"ALAJUELA","SAN CARLOS","PITAL","PITAL","BETSABE MORERA CARVAJAL",24731054,0,null,"100 ESTE Y 400 SUR DEL TEMPLO CATOLICO"]
[6516,"CINDEA PEJIBAYE","CINDEA","PUBLICA","PEREZ ZELEDON",53,5,8,1,19,7,"SAN JOSE","PEREZ ZELEDON","PEJIBAYE","BARRIO EL COLEGIO","WENDY MARIN GARCIA",27360136,27360136,"cindeapejivayepz@gmail.com","BARRIO EL COLEGIO.DEL MAG 50 AL ESTE"]
[6517,"CINDEA MIRAMAR","CINDEA","PUBLICA","PUNTARENAS",64,5,4,6,4,1,"PUNTARENAS","MONTES DE ORO","MIRAMAR","MIRAMAR","MARCO VINICIO GOMEZ LEON",26397086,0,"cindeamiramar@gmail.com","LICEO DE  MIRAMAR, FRENTE AL CEMENTERIO"]
[6518,"CINDEA PUNTARENAS","CINDEA","PUBLICA","PUNTARENAS",64,5,5,6,1,12,"PUNTARENAS","PUNTARENAS","CHACARITA","CHACARITA","ADDA GINA GHIRALDINI",26637660,0,"cindeapunt@hotmail.com","DEL PLANTEL DEL MOPT 50 ESTE DE CHACARITA"]
[6519,"CINDEA JUDAS","CINDEA","PUBLICA","PUNTARENAS",64,5,3,6,1,3,"PUNTARENAS","PUNTARENAS","CHOMES","JUDAS","LUIS GERARDO GUZMAN DIAZ",26388068,26388068,"cindea.judas@mep.go.cr","LICEO JUDAS DE CHOMES"]
[6520,"CINDEA ESPARZA","CINDEA","PUBLICA","PUNTARENAS",64,5,8,6,2,1,"PUNTARENAS","ESPARZA","ESPIRITU SANTO","ESPARZA","DELIA RIOS JIMENEZ",26359000,0,"cindea.esparza@mep.go.cr","COSTADO N DE LA PARROQUIA DE ESPARZA"]
[6521,"CINDEA FLORENCIA","CINDEA","PUBLICA","SAN CARLOS",56,5,2,2,10,2,"ALAJUELA","SAN CARLOS","FLORENCIA","FLORENCIA CENTRO","ALICIA LEDEZMA ARIAS",24756504,0,"cindeaflorencia@gmail.com","1 KM ESTE DEL CEMENTERIO DE FLORENCIA"]
[6522,"CINDEA HUACAS","CINDEA","PUBLICA","SANTA CRUZ",62,5,3,5,3,9,"GUANACASTE","SANTA CRUZ","TAMARINDO","VILLARREAL","MITZY SALAZAR MORALES",26530984,26530984,"cindeahuacas@gmail.com","500 M OESTE DEL EBAIS DE VILLAREAL,SANTA CRUZ"]
[6523,"NOCTURNO DE JACO","COLEGIOS","PUBLICA","AGUIRRE",68,5,5,6,11,1,"PUNTARENAS","GARABITO","JACO","COPEY","OLENDIA IRIAS MENA",26433694,26433991,"nocturnojaco@gmail.com","300 MTS SUR DE MAXI PALI"]
[6524,"C.T.P. SAN ISIDRO DE HEREDIA","COLEGIOS","PUBLICA","HEREDIA",59,3,6,4,6,2,"HEREDIA","SAN ISIDRO","SAN JOSE","SAN JOSECITO","EDUARDO LOBO ZAMORA",22685475,22685475,"ctpsanisisdrodeeredia@gmail.com","D.DE LA IGLESIA STA.CECILIA,SN.JOSECITO"]
[6525,"C.T.P. SANTO DOMINGO","COLEGIOS","PUBLICA","HEREDIA",59,3,5,4,3,6,"HEREDIA","SANTO DOMINGO","SANTA ROSA","SANTA ROSA","RODOLFO ESQUIVEL HERNANDEZ",22445564,22445564,"ctpsantodomingo@gmail.com","FRENTE A PERIMERCADOS DE STA. ROSA, SALON COM"]
[6526,"C.T.P. MERCEDES NORTE","COLEGIOS","PUBLICA","HEREDIA",59,3,2,4,1,2,"HEREDIA","HEREDIA","MERCEDES","MERCEDES NORTE","LAURA RAMON ELIZONDO",22609731,22617445,"ctpmercedes.norte@mep.go.cr","400 M. NORTE DEL COLEGIO CLARETIANO"]
[6527,"C.T.P. MAXIMO QUESADA","COLEGIOS","PUBLICA","DESAMPARADOS",51,3,1,1,3,7,"SAN JOSE","DESAMPARADOS","PATARRA","PATARRA","JUAN ANTONIO ARROYO VALENCIANO",22743185,22743185,"cmqt2012@gmail.com","DE LA IGLESIA CATOLICA 1 KM SUR 800 ESTE"]
[6528,"C.T.P. PURRAL","COLEGIOS","PUBLICA","SAN JOSE NORTE",71,3,2,1,8,7,"SAN JOSE","GOICOECHEA","PURRAL","BELLA VISTA","MARJORIE CASTRO DURAN",22450691,22857061,"liceodepurral1996@gmail.com","600 ESTE DE LA IGLESIA CATOLICA"]
[6529,"C.T.P. ABELARDO BONILLA BALDARES","COLEGIOS","PUBLICA","SAN JOSE NORTE",71,3,5,1,14,2,"SAN JOSE","MORAVIA","SAN JERONIMO","SAN JERONIMO","ELIZABETH CASTRO CALVO",22947119,22947119,"coleabe2001@yahoo.es","125 ESTE DE LA ESCUELA APOLINAR LOBO UMANA"]
[6530,"C.T.P. PAVAS","COLEGIOS","PUBLICA","SAN JOSE OESTE",72,3,2,1,1,9,"SAN JOSE","SAN JOSE","PAVAS","CIUDADELA PAVAS","JORGE VILLEGAS RAMÍREZ",22962805,22962807,"ctpdepavas@hotmail.com","CONTIGUO A YEMA DORADA CTRO. COM. PLAZA PAVAS"]
[6531,"C.T.P. DE ASERRI","COLEGIOS","PUBLICA","DESAMPARADOS",51,3,3,1,6,7,"SAN JOSE","ASERRI","SALITRILLOS","SALITRILLOS","ANA CLAYTON HALL",22305222,22305222,"ctpaserri2@gmail.com","DEL ABASTECEDOR PRESTACIONES 400 E Y 50 S"]
[6532,"C.T.P. AMBIENTALISTA ISAIAS RETANA","COLEGIOS","PUBLICA","PEREZ ZELEDON",53,3,2,1,19,1,"SAN JOSE","PEREZ ZELEDON","SAN ISIDRO DE EL GENERAL","PEDREGOSO","MARVIN SANCHEZ MORA",27714243,27714243,"admin@ctpaira.ed.cr","1.5 KM AL N,DEL CRUCE PEDREGOSO CARRET SNRAMO"]
[6533,"C.T.P. OREAMUNO","COLEGIOS","PUBLICA","CARTAGO",57,3,4,3,7,1,"CARTAGO","OREAMUNO","SAN RAFAEL","CORAZON DE JESUS","JOSE BOLANOS RODRIGUEZ",25912973,25514409,"info@ctporeamuno.ed.cr","600 N DE LA PLAZA DE DEPORTES"]
[6534,"C.T.P. SANTA LUCIA","COLEGIOS","PUBLICA","CARTAGO",57,3,5,3,2,5,"CARTAGO","PARAISO","LLANOS SANTA LUCIA","SANTA LUCIA","ANABEL VARGAS CALDERON",25745990,25745990,"liceosantalucia@hotmail.com","800S DEL LA GUARDIA RURAL LLANOS DE SANTA LUC"]
[6535,"C.T.P. CALLE ZAMORA","COLEGIOS","PUBLICA","OCCIDENTE",55,3,1,2,2,6,"ALAJUELA","SAN RAMON","SAN RAFAEL","CALLE ZAMORA","ALBERTO HERNÁNDEZ ENRÍQUEZ",24450793,24450793,"ctpzamora@gmail.com","COSTADO SUR DE LA PLAZA DE FÚTBOL"]
[6536,"C.T.P. ROSARIO DE NARANJO","COLEGIOS","PUBLICA","OCCIDENTE",55,3,5,2,6,7,"ALAJUELA","NARANJO","EL ROSARIO","SECTOR VARGAS","SERGIO CORELLA HIDALGO",24510404,24510404,"ctprosario@hotmail.com","150 M. SUROESTE DEL TEMPLO CATÓLICO"]
[6537,"C.T.P. SANTA EULALIA","COLEGIOS","PUBLICA","ALAJUELA",54,3,8,2,5,7,"ALAJUELA","ATENAS","SANTA EULALIA","SANTA EULALIA","JESÚS BELLO MARQUEZ",24460703,24460703,"ctpsantaeulalia@hotmail.com","400 NOROESTE DE LAS BOMBAS DE AGUA DEL AYA"]
[6538,"C.T.P. DE CAÑAS","COLEGIOS","PUBLICA","CAÑAS",63,3,1,5,6,1,"GUANACASTE","CAÑAS","CAÑAS","CAÑAS","ELIETH FERNANDEZ CABEZAS",26689015,0,"ctpcanas@hotmail.com","B° SAN MARTIN DETRAS D ESCUELA ANTONIO OBANDO"]
[6539,"CINDEA LA PERLA","CINDEA","PUBLICA","SAN CARLOS",56,5,6,2,10,7,"ALAJUELA","SAN CARLOS","LA FORTUNA","LOS ANGELES","MARTA OVIEDO VILLALOBOS",24691247,24691247,"cindeaalp@gmail.com","ESCUELA LOS ANGELES"]
[6541,"CINDEA SANTA ROSA","CINDEA","PUBLICA","SAN CARLOS",56,5,8,2,10,13,"ALAJUELA","SAN CARLOS","POCOSOL","SANTA ROSA POCOSOL","HUGO GERARDO MURILLO SOTO",24777191,24777191,"cindeastarosa@gmail.com","COSTADO NORTE DEL PARQUE DE SANTA ROSA"]
[6547,"C.T.P. DE ATENAS","COLEGIOS","PUBLICA","ALAJUELA",54,3,8,2,5,1,"ALAJUELA","ATENAS","ATENAS","ATENAS","GRACE ZAMORA SÁNCHEZ",24461271,24461255,"ctp.atenas@mep.go.cr","500 SUR Y 150 NORESTE DE LOS TRIBUNALES DE JU"]
[6548,"C.T.P. DE MORA","COLEGIOS","PUBLICA","PURISCAL",52,3,5,1,7,1,"SAN JOSE","MORA","COLON","COLON","DORA ALICIA AGUILAR MATAMOROS",22490215,22493898,"ctp.demora@mep.go.cr","50 ESTE DEL TEMPLO CATOLICO"]
[6549,"C.T.P. ZARCERO","COLEGIOS","PUBLICA","OCCIDENTE",55,3,7,2,11,1,"ALAJUELA","ZARCERO","ZARCERO","GUADALUPE","SEYLYN ARAYA MORALES",24631213,24631213,"ctpz2013@yahoo.es","DEL CEMENT. ZARCERO 300 M.SUROESTE. MANO DER."]
[6550,"C.T.P. ESPARZA","COLEGIOS","PUBLICA","PUNTARENAS",64,3,7,6,2,4,"PUNTARENAS","ESPARZA","SAN RAFAEL","VARON","EZEQUIEL VARGAS SALAS",26355524,26355524,"ctpesparza2013@gmail.com","COSTADO SUR DE LA PLAZA"]
[6551,"NOCTURNO DE AMUBRI","COLEGIOS","PUBLICA","SULA",77,5,2,7,4,4,"LIMON","TALAMANCA","TELIRE","AMUBRI","PABLO GUERRA MIRANDA",87412553,0,"pablo_guerram@hotmail.com","FRENTE A EMISORA LA VOZ DE TALAMANCA, AMUBRI"]
[6552,"CINDEA GUATUSO","CINDEA","PUBLICA","ZONA NORTE NORTE",69,5,5,2,15,1,"ALAJUELA","GUATUSO","SAN RAFAEL","SAN RAFAEL","LISIMACO LINARES POTOY",89693629,0,"cindeaguatuso@gmail.com","DEL BANCO NACIONAL 300 SUR,SAN RAFAEL-GUATUSO"]
[6564,"LICEO COPEY","COLEGIOS","PUBLICA","LOS SANTOS",73,2,2,1,17,3,"SAN JOSE","DOTA","COPEY","SECTOR CENTRAL","KATTIA BLANCO HIDALGO",25411633,0,"kattia.blanco.hidalgo@mep.go.cr","AL LADO DEL TEMPLO CATOLICO DE COPEY"]
[6565,"LICEO RURAL SAN JOSE","COLEGIOS","PUBLICA","SAN CARLOS",56,2,10,2,14,3,"ALAJUELA","LOS CHILES","EL AMPARO","SAN JOSE","CARLOS ROJAS MORALES",24717127,24717127,"liceoruralsanjose@gmail.com","SALON COMUNAL FRENTE AL CENCINAI"]
[6567,"LICEO RURAL LA UNION","COLEGIOS","PUBLICA","GUAPILES",67,2,1,7,2,1,"LIMON","POCOCI","GUAPILES","LA UNION","CARLOS RETANA LOPEZ",27103944,0,"lic.rural.launion@mep.go.cr","BARRIO LA UNION CONTIGUO A LA CANCHA DE FUTBO"]
[6568,"LICEO RURAL RÍO GRANDE DE PAQUERA","COLEGIOS","PUBLICA","PENINSULAR",76,2,1,6,1,5,"PUNTARENAS","PUNTARENAS","PAQUERA","RÍO GRANDE","EDGAR MORA BOLANOS",26500128,26500128,"lic.ruralriogrande@gmail.com","50 ESTE DE LA IGLESIA CATÓLICA"]
[6569,"LICEO RURAL ARANJUEZ","COLEGIOS","PUBLICA","PUNTARENAS",64,2,2,6,1,2,"PUNTARENAS","PUNTARENAS","PITAHAYA","ARANJUEZ","NURY CHAVES GUERRERO",26611116,0,"liceoruralaranjuez@gmail.com","25 ESTE DE LA IGLESIA CATOLICA"]
[6570,"LICEO RURAL CHINA KICHA","COLEGIOS","PUBLICA","SULA",77,2,4,7,4,1,"LIMON","TALAMANCA","BRATSI","CHINA KICHA","DAGOBERTO ARIAS ZAPATA",0,0,"liceosasiwa@hotmail.com","DE LAS INSTAL. ADITICA, 6 K.CARRET.GAVILÁN C."]
[6571,"LICEO RURAL EL PROGRESO","COLEGIOS","PUBLICA","COTO",65,2,14,6,7,4,"PUNTARENAS","GOLFITO","PAVON","EL PROGRESO","JAFFETH SALAZAR ARROYO",22766129,22766129,"jaffeth.salazar.arroyo@mep.go.cr","1 KM ESTE ANTES DE LLEGAR A ESC. DEL PROGRESO"]
[6572,"CINDEA SAN ISIDRO","CINDEA","PUBLICA","OCCIDENTE",55,5,9,2,2,13,"ALAJUELA","SAN RAMON","PEÑAS BLANCAS","SAN ISIDRO","GRETTEL CASTRO MORALES",24680356,0,"cindeasanisidropb2013@gmail.com","SALON COMUNAL DE LA COMUNIDAD"]
[6573,"CINDEA LA PAZ","CINDEA","PUBLICA","OCCIDENTE",55,5,2,2,2,4,"ALAJUELA","SAN RAMON","PIEDADES NORTE","LA ESPERANZA","CARLOS LUIS LOPEZ ZUÑIGA",24458259,0,"cindealapaz@hotmail.com","JUNTO A LA ESCUELA NAUTILIO ACOSTA PIEPPER"]
[6574,"C.T.P. JOSE MARIA ZELEDON BRENES","COLEGIOS","PUBLICA","DESAMPARADOS",51,3,2,1,3,2,"SAN JOSE","DESAMPARADOS","SAN MIGUEL","EL LLANO","REBECA GRANADOS TAMAYO",22702308,22702308,"ctpjosemariaz@gmail.com","25 SUR, 75 OESTE DEL TEMPLO CATOLICO."]
[6576,"C.T.P. SANTA ELENA","COLEGIOS","PUBLICA","COTO",65,3,12,6,8,5,"PUNTARENAS","COTO BRUS","PITTIER","SANTA ELENA","HENRY RODRÍGUEZ MOJICA",27848114,27848114,"ctp.santaelenadepittier@mep.go.cr","2 KM. NOROESTE DE PLAZA DE DEPORTES FILA NAR."]
[6577,"C.T.P. DE PLATANAR","COLEGIOS","PUBLICA","SAN CARLOS",56,3,2,2,10,2,"ALAJUELA","SAN CARLOS","FLORENCIA","PLATANAR","MIGUEL ANGEL CARVAJAL JIMENEZ",24757122,24757122,"ctp.deplatanar@mep.go.cr","150 ESTE DEL CEMENTERIO DE PLATANAR"]
[6578,"C.T.P. BARRIO IRVIN","COLEGIOS","PUBLICA","LIBERIA",60,3,1,5,10,1,"GUANACASTE","LA CRUZ","LA CRUZ","BARRIO IRVIN","JOHANA AMPIE GUZMAN",26799174,26799174,"ctp.barrioirvin@mep.go.cr","150 ESTE DE LA ESCUELA IRVIN"]
[6579,"C.T.P. DE LIVERPOOL","COLEGIOS","PUBLICA","LIMON",66,3,7,7,1,3,"LIMON","LIMON","RIO BLANCO","LIVERPOOL","GENE BARNETT THOMPSON",27971909,27971909,"liceodeliverpool@hotmail.com","FRENTE AL EBAIS DE LIVERPOOL"]
[6580,"C.T.P. AGROPORTICA","COLEGIOS","PUBLICA","GUAPILES",67,3,2,7,2,3,"LIMON","POCOCI","RITA","ASENTAMIENTO AGROPORTICA","VICTOR CRUZ CASTRO",88043675,27673031,"ctp.deagroportica@mep.go.cr","DEL ANTIGUO ATERRIZAJE DE FINCA SAN PEDRO 1 K"]
[6581,"C.T.P. OROSI","COLEGIOS","PUBLICA","CARTAGO",57,3,8,3,2,3,"CARTAGO","PARAISO","OROSI","LA ANITA","ISABEL ARIAS CALDERON",25332504,25332503,"ctpdeorosi@gmail.com","800 SURESTE DEL BENEFICIO ORLICHS"]
[6582,"C.T.P. ROBERTO GAMBOA VALVERDE","COLEGIOS","PUBLICA","DESAMPARADOS",51,3,7,1,3,11,"SAN JOSE","DESAMPARADOS","SAN RAFAEL ABAJO","SAN RAFAEL ABAJO","LIGIA MARTIZA ABARCA CERVANTES",22752317,22753528,"ctprobertogamboav@gmail.com","100 ESTE DE LA GASOLINERA ANATOT"]
[6583,"C.T.P. BRAULIO ODIO HERRERA","COLEGIOS","PUBLICA","DESAMPARADOS",51,3,3,1,6,6,"SAN JOSE","ASERRI","MONTERREY","MONTERREY","RAFAEL MORA DURAN",25402450,25402450,"ctpboh@gmail.com","ESQUINA SUR DE LA PLAZA DE DEPORTES"]
[6584,"C.T.P. LAS PALMITAS","COLEGIOS","PUBLICA","GUAPILES",67,3,3,7,2,3,"LIMON","POCOCI","RITA","LAS PALMITAS","OSCAR ALFARO BARRANTES",27098328,27098328,"ctp.laspalmitas@mep.go.cr","200 S DE LA IGLESIA CATOLICA"]
[6585,"CINDEA RIO JIMENEZ","CINDEA","PUBLICA","GUAPILES",67,5,4,7,6,4,"LIMON","GUACIMO","RIO JIMENEZ","RIO JIMENEZ","VERNY ULATE MOLINA",83730752,0,"cindeariojimenez@hotmail.com","SALON COMUNAL DE RIO JIMENEZ, GUACIMO"]
[6586,"CINDEA LA RITA","CINDEA","PUBLICA","GUAPILES",67,5,2,7,2,1,"LIMON","POCOCI","GUAPILES","LA RITA","ANDY FLORES CASTRO",27633238,0,"cindealarita@gmail.com","ESCUELA LA RITA"]
[6587,"CINDEA NANDAYURE","CINDEA","PUBLICA","NICOYA",61,5,3,5,9,1,"GUANACASTE","NANDAYURE","CARMONA","CARMONA","MARJORIE BARRIENTOS ACOSTA",26575321,0,"cindea.nandayure@gmail.com","ESC. PRESBITERO JOSE DANIEL CARMONA BRICEÑO"]
[6624,"LICEO RURAL SIKRIYöK","COLEGIOS","PUBLICA","GRANDE DE TERRABA",75,2,12,6,3,1,"PUNTARENAS","BUENOS AIRES","BUENOS AIRES","YUAVIN","KATIA JIMENEZ MORA",87824481,0,"katia.jimenezmora@gmail.com","50 MTS. OESTE P.DE DEP. DE LA COM.DE YUAVIN"]
[6625,"LICEO RURAL JAK KSARI","COLEGIOS","PUBLICA","TURRIALBA",58,2,7,7,1,2,"LIMON","LIMON","VALLE LA ESTRELLA","ÑARI ÑAKA","DAVID GARCIA MONTERO",25140609,0,"david.garcia.montero@mep.go.cr","NARI NAK"]
[6626,"CINDEA SAN PABLO","CINDEA","PUBLICA","PURISCAL",52,5,6,1,16,1,"SAN JOSE","TURRUBARES","SAN PABLO","SAN PABLO","JANS SANCHEZ SANDI",85975969,0,"cindeasanpablo@gmail.com","50 M ESTE DE LA MUNIC. DE SAN PABLO"]
[6627,"CINDEA SAN JOAQUIN","CINDEA","PUBLICA","NICOYA",61,5,3,5,2,2,"GUANACASTE","NICOYA","MANSION","SAN JOAQUIN","DEIKA EMILET SANCHEZ CASTILLO",86338679,0,"de.i06@hotmail.com","ESCUELA CESAR FLORES"]
[6628,"CINDEA PUERTO JIMENEZ","CINDEA","PUBLICA","COTO",65,5,3,6,7,1,"PUNTARENAS","GOLFITO","GOLFITO","LA URBA","CYNTHIA ALVARADO RAMIREZ",27355244,37355244,"cindea.puertojimenez@mep.go.cr","COLEGIO TECNICO INDUSTRIAL DE PUERTO JIMENEZ"]
[6629,"CINDEA SAN VITO","CINDEA","PUBLICA","COTO",65,5,5,6,8,1,"PUNTARENAS","COTO BRUS","SAN VITO","SAN VITO","OLMAN FALLAS CAMBRONERO",27735449,27735449,"cindea.sanvito@mep.go.cr","SAN VITO CENTRO, FRENTE A LOS BOMBEROS"]
[6631,"UNIDAD PEDAGÓGICA DANIEL ODUBER QUIRÓS","COLEGIOS","PUBLICA","SAN JOSE OESTE",72,2,2,1,1,9,"SAN JOSE","SAN JOSE","PAVAS","VILLA ESPERANZA","FRANCISCO CORELLA ROJAS",22900500,22900500,"director@oduber-edu.org","DE LA ANTIGUA GAR 200 OESTE"]
[6632,"UNIDAD PEDAGOGICA ISLA CABALLO","COLEGIOS","PUBLICA","PUNTARENAS",64,2,5,6,1,1,"PUNTARENAS","PUNTARENAS","PUNTARENAS","PLAYA CORONADO","LUIS ENRIQUE RIVERA OVARES",88711310,26613441,"col.ruralislacaballo@mep.go.cr","PLAYA CORONADO, ISLA CABALLO"]
[6633,"C.T.P. DE BELEN","COLEGIOS","PUBLICA","HEREDIA",59,3,7,4,7,2,"HEREDIA","BELEN","LA RIBERA","LA RIBERA","WALTER BORBON PICADO",83803714,0,"ctpbelen@gmail.com","DE LA CRUZ R.150 S.Y 25 O.DE LA C.B.LA GRACIA"]
[6634,"C.T.P. DE ALAJUELITA","COLEGIOS","PUBLICA","SAN JOSE CENTRAL",50,3,6,1,10,1,"SAN JOSE","ALAJUELITA","ALAJUELITA","BARRIO SAN PABLO","GIOVANNI SOLIS ARCE",22145096,0,"ctpalajuelita@gmail.com","100 E, 400 N DEL MAXI PALI"]
[6635,"C.T.P. DE SAN RAFAEL DE ALAJUELA","COLEGIOS","PUBLICA","ALAJUELA",54,3,4,2,1,8,"ALAJUELA","ALAJUELA","SAN RAFAEL","SAN RAFAEL","RAUL CABEZAS ALVAREZ",24386986,24386986,"ctp.sanrafaeldealajuela@mep.go.cr","300 MTS OE. MEGASUPER,CONTIGUO A GRANJA MONIC"]
[6636,"LICEO RURAL TSIRURURI","COLEGIOS","PUBLICA","TURRIALBA",58,2,7,7,1,2,"LIMON","LIMON","VALLE LA ESTRELLA","SINOLI","CRISTIAN HIDALGO AVILA",25140481,0,"lic.ruraltsirururi@mep.go.cr","14 KM ESTE DE ALTO QUETZAL"]
[6639,"C.T.P. DEL ESTE","COLEGIOS","PUBLICA","HEREDIA",59,3,5,4,3,3,"HEREDIA","SANTO DOMINGO","SAN MIGUEL","SAN MIGUEL","CINTHYA LOBO CORDERO",22411295,22411295,"liceodeleste@gmail.com","100 MTS NORTE Y 50 OESTE DE AUTOS VILLALOBOS"]
[6640,"C.T.P. DE COPAL","COLEGIOS","PUBLICA","NICOYA",61,3,3,5,2,4,"GUANACASTE","NICOYA","QUEBRADA HONDA","COPAL","JOSE EDUARDO QUIROS GOMEZ",26870258,0,"ctpdecopal@gmail.com","50 OESTE DE ESCUELA BLAS MONTES LEAL"]
[6641,"C.T.P. LA TIGRA","COLEGIOS","PUBLICA","SAN CARLOS",56,3,2,2,10,8,"ALAJUELA","SAN CARLOS","LA TIGRA","LA TIGRA","ROBERTO CESPEDES MORA",24689331,24689331,"ctplatigra@gmail.com","100 SUR 800 ESTE DE LA ESCUELA LA TIGRA"]
[6650,"COLEGIO RODRIGO HERNÁNDEZ VARGAS","EDUC. ESPECIAL","PUBLICA","HEREDIA",59,4,4,4,2,1,"HEREDIA","BARVA","BARVA","BARVA","CARLOS H. RODRÍGUEZ VÍQUEZ",22373980,22635945,"colegiorhv@gmail.com","DETRAS DE LA ESCUELA PEDRO MURILLO PEREZ"]
[6652,"LICEO DE COLORADO","EDUC. ESPECIAL","PUBLICA","CAÑAS",63,4,4,5,7,4,"GUANACASTE","ABANGARES","COLORADO","COLORADO","ROSSE BERLY CHEVEZ GOMEZ",26780376,26780376,"liceodecolorado@gmail.com","2 KM OESTE DE LA CRUZ ROJA"]
[6666,"COLEGIO SAN FRANCISCO DE LA PALMERA","COLEGIOS","PUBLICA","SAN CARLOS",56,2,4,2,10,9,"ALAJUELA","SAN CARLOS","LA PALMERA","SAN FRANCISCO","MARIA ISABEL HERRERA QUIROS",0,0,null,"SALON COMUNAL DE SAN FRANCISCO DE LA PALMERA"]
[6667,"LICEO RURAL PALACIOS","COLEGIOS","PUBLICA","GUAPILES",67,2,3,7,2,5,"LIMON","POCOCI","CARIARI","PALACIOS","DAMARIS GARCIA VARGAS",83490088,0,"damaris.garcia.vargas@mep.go.cr"]
[6668,"CINDEA PAVAS","CINDEA","PUBLICA","SAN JOSE OESTE",72,5,2,1,1,9,"SAN JOSE","SAN JOSE","PAVAS","LOMAS","ROXANA VARGAS ARAYA",22131374,22131374,"cindea.rincon.grande.pavas@gmail.com","DE LA ESCUELA DE RINCON GRANDE 500 METROS O."]
[6669,"CINDEA ESCAZU","CINDEA","PUBLICA","SAN JOSE OESTE",72,5,3,1,2,1,"SAN JOSE","ESCAZU","ESCAZU","SAN MIGUEL","ADRIAN BOLAÑOS BENAVIDES",22286634,22286634,"cindeaescazu@gmail.com","ESC. REP DE VENEZUELA, SOTADO SUR DEL PARQUE"]
[6670,"CINDEA SAN ANTONIO DEL HUMO","CINDEA","PUBLICA","GUAPILES",67,5,5,7,2,4,"LIMON","POCOCI","ROXANA","SAN ANTONIO","BEATRIZ CASTILLO MENDEZ",0,0,null,"DE LA ESCUELA DE SAN ANTONIO 75 N Y 100 O"]
[6671,"CINDEA SAN MARTIN","CINDEA","PUBLICA","GUAPILES",67,5,1,7,2,2,"LIMON","POCOCI","JIMENEZ","SAN MARTIN","MINOR RODRIGUEZ SMITH",27111497,0,"cindea.sanmartin@gmail.com","ESCUELA DE SAN MARTIN"]
[6672,"CINDEA PAQUERA","CINDEA","PUBLICA","PENINSULAR",76,5,1,6,1,5,"PUNTARENAS","PUNTARENAS","PAQUERA","PAQUERA","KATTIA MADRIGAL GOMEZ",26410078,26410078,"cindeapaquera@gmail.com","CONTIGUO A OFICINAS DEL MAG. PAQUERA CENTRO"]
[6673,"CINDEA SAN MIGUEL","CINDEA","PUBLICA","SARAPIQUI",74,5,1,2,1,14,"ALAJUELA","ALAJUELA","SARAPIQUI","SAN MIGUEL","MAYELA CHACON CAMPOS",24760716,24760716,"cindeasanmiguel01@hotmail.com","FRENTE AL TEMPLO CATOLICO DE SAN MIGUEL"]
[6674,"CINDEA SURETKA","CINDEA","PUBLICA","SULA",77,5,1,7,4,1,"LIMON","TALAMANCA","BRATSI","SURETKA","FRANCO JIMENEZ ACOSTA",86019965,0,"cindeasuretka2015@gmail.com","FRENTE A COMERCIALIZADORA GERALD"]
[6675,"CINDEA REPUBLICA DE NICARAGUA","CINDEA","PUBLICA","SAN JOSE CENTRAL",50,5,1,1,1,3,"SAN JOSE","SAN JOSE","HOSPITAL","CRISTO REY","DAMARIS JIRON PEREZ",22260693,0,"cindeanicaragua@gmail.com","AVE 28-30,CALLE 10,400 N DE PATIOS DE INCOFER"]
[6676,"COLEGIO DE LEPANTO","COLEGIOS","PUBLICA","PENINSULAR",76,2,3,6,1,4,"PUNTARENAS","PUNTARENAS","LEPANTO","LEPANTO","GERARDO MEDINA MEDINA",0,0,"gerardo.medina.medina@mep.go.cr","ATRÁS DE INSTALACIONES DE LA IGLESIA CATÓLICA"]
[6714,"LICEO NUEVO DE PURISCAL","COLEGIOS","PUBLICA","PURISCAL",52,2,1,1,4,1,"SAN JOSE","PURISCAL","SANTIAGO","JUNQUILLO ARRIBA",0,0,0,0,0]
[6715,"LICEO DE CORREDORES","COLEGIOS","PUBLICA","COTO",65,2,null,6,10,1,"PUNTARENAS","CORREDORES","CORREDOR",null,0,0,0,0,0]
[6716,"LICEO DIURNO DE GUARARÍ","COLEGIOS","PUBLICA","HEREDIA",59,2,2,4,1,3,"HEREDIA","HEREDIA","SAN FRANCISCO","GUARARÍ",0,0,0,0,0]
[6717,"COLEGIO ACADÉMICO DE SIQUIRRES","COLEGIOS","PUBLICA","LIMÓN",66,2,5,7,3,1,"LIMON","SIQUIRRES","SIQUIRRES","SIQUIRRES",0,0,0,0,0]
[6718,"C.T.P. LA CARPIO","COLEGIOS","PUBLICA","SAN JOSÉ OESTE",72,3,5,1,1,7,"SAN JOSE","SAN JOSE","URUCA"," CARPIO",0,0,0,0,0]
[6719,"C.T.P HATILLO","COLEGIOS","PUBLICA","SAN JOSÉ CENTRAL",50,3,5,1,1,10,"SAN JOSE","SAN JOSE","HATILLO","HATILLO 2",0,0,0,0,0]
[6720,"CINDEA CIUDAD CORTÉS","CINDEA","PUBLICA","GRANDE DE TÉRRABA",75,5,6,6,5,1,"PUNTARENAS","OSA","PUERTO CORTES","OJO DE AGUA",0,0,0,0,0]
[6721,"CINDEA KABAKOL","CINDEA","PUBLICA","GRANDE DE TÉRRABA",75,5,12,6,3,3,"PUNTARENAS","BUENOS AIRES","POTRERO GRANDE","SAN RAFAEL DE CABAGRA",0,0,0,0,0]
[6722,"CINDEA BUENOS AIRES","CINDEA","PUBLICA","GRANDE DE TÉRRABA",75,5,1,6,3,1,"PUNTARENAS","BUENOS AIRES","BUENOS AIRES","LOMAS",0,0,0,0,0]
[6723,"CINDEA MONTERREY","CINDEA","PUBLICA","SAN CARLOS",56,5,11,2,10,12,"ALAJUELA","SAN CARLOS","MONTERREY","SANTO DOMINGO",0,0,0,0,0]
[6724,"CINDEA PAVÓN","CINDEA","PUBLICA","SAN CARLOS",56,5,10,2,14,3,"ALAJUELA","LOS CHILES","EL AMPARO","EL PAVÓN",0,0,0,0,0]
[6725,"CINDEA SARDINAL","CINDEA","PUBLICA","SANTA CRUZ",62,5,6,5,5,3,"GUANACASTE ","CARRILLO","SARDINAL","SARDINAL",0,0,0,0,0]
[6726,"CINDEA  BELÉN CARRILLO","CINDEA","PUBLICA","SANTA CRUZ",62,5,5,5,5,4,"GUANACASTE ","CARRILLO","BELEN","SAN FRANCISCO",0,0,0,0,0]
[6727,"CINDEA BEBEDERO","CINDEA","PUBLICA","CAÑAS",63,5,1,5,6,4,"GUANACASTE ","CAÑAS","BEBEDERO","BEBEDERO",0,0,0,0,0]
[6728,"CINDEA TILARÁN","CINDEA","PUBLICA","CAÑAS",63,5,3,5,8,1,"GUANACASTE ","TILARAN","TILARAN","EL CARMEN",0,0,0,0,0]
[6729,"CINDEA LA PALMA","CINDEA","PUBLICA","CAÑAS",63,5,4,5,7,1,"GUANACASTE ","ABANGARES","JUNTAS","LA PALMA",0,0,0,0,0]
[6730,"CINDEA JENARO BONILLA AGUILAR","CINDEA","PUBLICA","TURRIALABA",58,5,2,3,5,1,"CARTAGO","TURRIALBA","TURRIALBA","TURRIALBA",0,0,0,0,0]
[6731,"CINDEA TAYUTIC","CINDEA","PUBLICA","TURRIALBA",58,5,5,3,5,null,"CARTAGO","TURRIALBA","TAYUTIC","PLATANILLO",0,0,0,0,0]
[6732,"CINDEA PEJIBAYE","CINDEA","PUBLICA","TURRIALBA",58,5,1,3,4,3,"CARTAGO","JIMENEZ","PEJIBAYE","HACIENDITA",0,0,0,0,0]
[6733,"CINDEA SAN JOSÉ DE UPALA","CINDEA","PUBLICA","ZONA NORTE-NORTE",69,5,3,2,13,3,"ALAJUELA","UPALA","SAN JOSÉ","SAN JOSÉ",0,0,0,0,0]
[6734,"CINDEA AGUAS CLARAS","CINDEA","PUBLICA","ZONA NORTE-NORTE",69,5,2,2,13,2,"ALAJUELA","UPALA","AGUAS CLARAS","AGUAS CLARAS",0,0,0,0,0]
[6735,"CINDEA BRASILIA","CINDEA","PUBLICA","ZONA NORTE-NORTE",69,5,7,2,13,6,"ALAJUELA","UPALA","DOS RIOS","BRASILIA",0,0,0,0,0]
[6736,"CINDEA BIJAGUA","CINDEA","PUBLICA","ZONA NORTE-NORTE",69,5,4,2,13,4,"ALAJUELA","UPALA","BIJAGUA","BIJAGUA",0,0,0,0,0]
[6738,"CINDEA TUJANKIR","CINDEA","PUBLICA","ZONA NORTE-NORTE",69,5,6,2,15,4,"ALAJUELA","GUATUSO","KATIRA","TUJANKIR",0,0,0,0,0]
[7025,"CTP ING. CARLOS PASCUA ZUÑIGA","COLEGIOS","PUBLICA","HEREDIA",59,3,4,4,5,1,"HEREDIA","SAN RAFAEL","SAN RAFAEL","BARRIO SANTIAGO","MARIO SOTO QUIRÓS",22372710,22370266,"liceocarlospascuazuniga@yahoo.es","300 METROS SUR DEL TEMPLO CATOLICO"]
[7026,"CTP GUARARI","COLEGIOS","PUBLICA","HEREDIA",59,3,null,null,null,null,"HEREDIA","HEREDIA","GUARARI"]

{"sheet":"Plan Estu Especialidades","index":4,"n_rows":179,"n_cols":34,"rows_kept":179,"cut":false,"hidden":true,"merged":[[1,27,1,31],[1,2,2,2],[1,3,1,6],[1,7,1,11],[121,3,122,3],[121,4,121,6],[121,7,121,9],[121,2,122,2],[157,1,157,5],[157,6,158,6],[1,12,1,16],[1,17,1,21],[1,22,1,26],[131,3,131,5],[131,6,131,8],[131,2,132,2]]}
[null,1,{"$f":"B1+1","v":2},{"$f":"C1+1","v":3},4,5,6,7,8,9,10,11,12,13,14,15,16,17,18,19,20,21,22,23,24,25,26,27,28,29,30,31,32,33]
[null,null,"Nivel\nNombre especialidad",10,null,null,null,11,null,null,null,null,"Tutoria 11°",null,null,null,null,"12°",null,null,null,null,"Tutoria 12° de 6 y 7 estudiantes",null,null,null,null,"Tutoria 12° de 1 y 5 estudiantes"]
[null,null,null,"especialidad","ingles","dib.téc / inform","total","especialidad","ingles","dib.téc / inform","Labora","total","especialidad","ingles","dib.téc / inform","Labora","total","especialidad","ingles","dib.téc / inform","Labora","total","especialidad","ingles","dib.téc / inform","Labora","total","especialidad","ingles","dib.téc / inform","Labora","total","Tipo Labor@","Meses labor@"]
[null,1,"Accounting",18,6,0,{"$f":"SUM(D4:F4)","v":24},20,4,0,0,{"$f":"SUM(H4:K4)","v":24},{"$f":"H4/2","v":10},{"$f":"I4/2","v":2},{"$f":"J4/2","v":0},0,{"$f":"SUM(M4:P4)","v":12},22,2,0,0,{"$f":"SUM(R4:U4)","v":24},{"$f":"R4/2","v":11},{"$f":"S4/2","v":1},{"$f":"T4/2","v":0},0,{"$f":"SUM(W4:Z4)","v":12},7,1,0,0,{"$f":"SUM(AB4:AE4)","v":8},2,"de octubre a noviembre"]
[null,2,"Administración y Operación Aduanera (4,4,4)",20,4,0,24,22,2,0,0,{"$f":"SUM(H5:K5)","v":24},11,1,0,0,{"$f":"SUM(M5:P5)","v":12},22,2,0,0,{"$f":"SUM(R5:U5)","v":24},11,1,0,0,{"$f":"SUM(W5:Z5)","v":12},7,1,0,0,{"$f":"SUM(AB5:AE5)","v":8},2,"de setiembre a noviembre"]
[null,3,"Administración, Logística y Distribución (4,4,4)",20,4,0,24,20,4,0,0,24,10,2,0,0,12,20,4,0,0,24,10,2,0,0,12,7,1,0,0,8,1,"de febrero a marzo"]
[null,4,"Administration, Logistic and Distribution",20,4,0,{"$f":"SUM(D7:F7)","v":24},20,4,0,0,{"$f":"SUM(H7:K7)","v":24},10,2,0,0,{"$f":"SUM(M7:P7)","v":12},20,4,0,0,{"$f":"SUM(R7:U7)","v":24},10,2,0,0,{"$f":"SUM(W7:Z7)","v":12},7,1,0,0,{"$f":"SUM(AB7:AE7)","v":8},1,"de febrero a marzo"]
[null,5,"Agroecología",24,0,0,24,24,0,0,0,24,12,0,0,0,12,24,0,0,0,24,12,0,0,0,12,8,0,0,0,8,"S/V"]
[null,6,"Agroindustria Alimentaria con Téc. Agrícola",24,0,0,24,24,0,0,0,24,12,0,0,0,12,24,0,0,0,24,12,0,0,0,12,8,0,0,0,8,"S/V"]
[null,7,"Agroindustria Alimentaria con Téc. Pecuaria",24,0,0,24,24,0,0,0,24,12,0,0,0,12,24,0,0,0,24,12,0,0,0,12,8,0,0,0,8,"S/V"]
[null,8,"Agrojardinería (2,2,2)",22,2,0,24,22,2,0,0,24,11,1,0,0,12,22,2,0,0,24,11,1,0,0,12,7,1,0,0,8,"S/V"]
[null,9,"Agropecuario en Producción Agrícola",24,0,0,24,24,0,0,0,24,12,0,0,0,12,24,0,0,0,24,12,0,0,0,12,8,0,0,0,8,"S/V"]
[null,10,"Agropecuario en Producción Pecuaria",24,0,0,24,24,0,0,0,24,12,0,0,0,12,24,0,0,0,24,12,0,0,0,12,8,0,0,0,8,"S/V"]
[null,11,"Automotriz (4,2,0) (ingles 0,2,4)",0,0,0,{"$f":"SUM(D14:F14)","v":0},0,0,0,0,0,0,0,0,0,0,0,0,0,0,0,0,0,0,0,0,7,1,0,0,8,"S/V"]
[null,12,"Autoremodelado (2,2,2)",20,2,2,24,20,2,2,0,24,10,1,1,0,12,20,2,2,0,24,10,1,1,0,12,6,1,1,0,8,"S/V"]
[null,13,"Banca y Finanzas (4,4,4)",20,4,0,24,20,4,0,0,24,10,2,0,0,12,20,4,0,0,24,10,2,0,0,12,7,1,0,0,8,1,"de febrero a agosto"]
[null,14,"Bilingual Secretary (12,8,8)",12,12,0,24,16,8,0,0,24,8,4,0,0,12,16,8,0,0,24,8,4,0,0,12,7,1,0,0,8,1,"solamente de marzo"]
[null,15,"Ciberseguridad",20,4,0,24,20,4,0,0,24,10,2,0,0,12,20,4,0,0,24,10,2,0,0,12,0,0,0,0,0,"S/V"]
[null,16,"Computer networking  (2,2,2)",22,2,0,24,22,2,0,0,24,11,1,0,0,12,22,2,0,0,24,11,1,0,0,12,7,1,0,0,8,"S/V"]
[null,17,"Computer Science in Software Development  (2,2,2)",22,2,0,24,22,2,0,0,24,11,1,0,0,12,22,2,0,0,24,11,1,0,0,12,7,1,0,0,8,"S/V"]
[null,18,"Configuración y Soporte de Redes de Comunicación y Sistemas Operativos",20,4,0,24,20,4,0,0,24,10,2,0,0,12,20,4,0,0,24,10,2,0,0,12,0,0,0,0,0,"S/V"]
[null,19,"Construcción Civil (4,4,4)",18,2,4,24,18,2,4,0,24,9,1,2,0,12,18,2,4,0,24,9,1,2,0,12,6,1,1,0,8,"S/V"]
[null,20,"Contabilidad  (4,2,2)",20,4,0,24,20,4,0,0,24,10,2,0,0,12,20,4,0,0,24,10,2,0,0,12,7,1,0,0,8,2,"de setiembre a noviembre"]
[null,21,"Contabilidad y Auditoria (4,2,2)",null,null,null,0,null,null,null,null,0,0,0,0,0,0,22,2,0,0,24,11,1,0,0,12,7,1,0,0,8,2,"de setiembre a noviembre"]
[null,22,"Contabilidad y Control Interno",20,4,0,24,20,4,0,null,24,10,2,0,null,12,20,4,null,null,24,10,2,0,null,12,null,null,null,null,0]
[null,23,"Contabilidad y Costos  (4,2,2)",20,4,0,24,20,4,0,0,24,10,2,0,0,12,22,2,0,0,24,11,1,0,0,12,7,1,0,0,8,2,"de setiembre a noviembre"]
[null,24,"Contabilidad y Finanzas  (4,2,2)",20,4,0,24,20,4,0,0,24,10,2,0,0,12,22,2,0,0,24,11,1,0,0,12,7,1,0,0,8,1,"de febrero a junio"]
[null,25,"Desarrollo Web",20,4,0,24,20,4,0,0,24,10,2,0,0,12,20,4,0,0,24,10,2,0,0,12,0,0,0,0,0,"S/V"]
[null,26,"Dibujo Arquitectónico (2,2,2)",0,0,0,0,0,0,0,0,0,0,0,0,0,0,22,2,0,0,24,11,1,0,0,12,7,1,0,0,8,"S/V"]
[null,27,"Dibujo Técnico (2,2,2)",22,2,0,24,22,2,0,0,24,11,1,0,0,12,22,2,0,0,24,11,1,0,0,12,7,1,0,0,8,"S/V"]
[null,28,"Dibujo y Modelado para Edificaciones",20,4,0,24,20,4,null,null,24,10,2,0,null,12,20,4,null,null,24,10,2,0,null,12,null,null,null,null,0]
[null,29,"Diseño Gráfico (2,2,0)",22,2,0,24,22,2,0,0,24,11,1,0,0,12,22,2,0,0,24,11,1,0,0,12,7,1,0,0,8,"S/V"]
[null,30,"Diseño Publicitario (2,2,0)",20,2,2,24,20,2,2,0,24,10,1,1,0,12,22,2,0,0,24,11,1,0,0,12,7,1,0,0,8,1,"de abril a julio"]
[null,31,"Diseño y Confección de la moda (2,0,0)",22,2,0,24,22,2,0,0,24,11,1,0,0,12,22,2,0,0,24,11,1,0,0,12,7,1,0,0,8,1,"de abril a mayo"]
[null,32,"Diseño y Construcción Muebles y Estructuras(2,2,2)",22,2,0,24,22,2,0,0,24,11,1,0,0,12,22,2,0,0,24,11,1,0,0,12,7,1,0,0,8,"S/V"]
[null,33,"Diseño y Desarrollo Digital",20,4,0,24,20,4,0,0,24,10,2,0,0,12,20,4,0,0,24,10,2,0,0,12,5,1,2,0,8,2,"de julio a diciembre"]
[null,34,"Ecoturismo",16,8,0,24,16,8,0,0,24,{"$f":"H37/2","v":8},{"$f":"I37/2","v":4},{"$f":"J37/2","v":0},null,12,16,8,null,null,24,{"$f":"R37/2","v":8},{"$f":"S37/2","v":4},{"$f":"T37/2","v":0},null,12,null,null,null,null,0]
[null,35,"Ejecutivo Comercial y Servicio al Cliente",16,8,0,{"$f":"SUM(D38:F38)","v":24},16,8,null,null,24,8,4,0,null,12,16,8,null,null,24,8,4,0,null,12,null,null,null,null,0]
[null,36,"Ejecutivo para Centros de Servicio (12, 8 y 10)",0,0,0,0,0,0,0,0,0,0,0,0,0,0,14,10,0,0,24,7,5,0,0,12,7,1,0,0,8,2,"solamente de julio"]
[null,37,"Electromecánica (4,2,0)",20,4,null,24,20,2,2,0,24,10,1,1,0,12,20,4,0,0,24,10,2,0,0,12,7,1,0,0,8,"S/V"]
[null,38,"Electrónica en Mantenimiento y Eq. Cómputo (4,2,0)",20,0,4,24,20,2,2,0,24,10,1,1,0,12,20,4,0,0,24,10,2,0,0,12,7,1,0,0,8,"S/V"]
[null,39,"Electrónica en Telecomunicaciones (4,2,0)",20,0,4,24,20,2,2,0,24,10,1,1,0,12,20,4,0,0,24,10,2,0,0,12,7,1,0,0,8,"S/V"]
[null,40,"Electrónica Industrial (4,2,0)",20,4,0,24,20,4,0,0,24,10,2,0,0,12,20,4,0,0,24,10,2,0,0,12,7,1,0,0,8,"S/V"]
[null,41,"Electrotecnia (4,2,0)",20,0,4,24,20,2,2,0,24,10,1,1,0,12,20,4,0,0,24,10,2,0,0,12,7,1,0,0,8,"S/V"]
[null,42,"Executive Service Center (14,8,10)",10,14,0,24,16,8,0,0,24,8,4,0,0,12,14,10,0,0,24,7,5,0,0,12,7,1,0,0,8,2,"solamente de julio"]
[null,43,"Impresión Offset (0,0,4)",22,2,0,24,22,2,0,0,24,11,1,0,0,12,22,2,0,0,24,11,1,0,0,12,7,1,0,0,8,"S/V"]
[null,44,"Informática Empresarial  (4,4,4)",20,4,0,24,20,4,0,0,24,10,2,0,0,12,20,4,0,0,24,10,2,0,0,12,7,1,0,0,8,1]
[null,45,"Informática en desarrollo de software  (2,2,2)",22,2,0,24,22,2,0,0,24,11,1,0,0,12,22,2,0,0,24,11,1,0,0,12,7,1,0,0,8,"S/V"]
[null,46,"Informática en Redes (2,2,2)",0,0,0,0,0,0,0,0,0,0,0,0,0,0,0,0,0,0,0,0,0,0,0,0,7,1,0,0,8,"S/V"]
[null,47,"Informática en soporte  (2,2,2)",22,2,0,{"$f":"SUM(D50:F50)","v":24},22,2,0,0,{"$f":"SUM(H50:K50)","v":24},11,1,0,0,{"$f":"SUM(M50:P50)","v":12},22,2,0,0,{"$f":"SUM(R50:U50)","v":24},11,1,0,0,{"$f":"SUM(W50:Z50)","v":12},7,1,0,0,{"$f":"SUM(AB50:AE50)","v":8},"S/V"]
[null,48,"Information technology support (2,2,2)",22,2,0,24,22,2,0,0,24,11,1,0,0,12,22,2,0,0,24,11,1,0,0,12,7,1,0,0,8,"S/V"]
[null,49,"Mantenimiento Industrial (4,2,0)",20,0,4,24,18,2,4,0,24,9,1,2,0,12,20,4,0,0,24,10,2,0,0,12,7,1,0,0,8,"S/V"]
[null,50,"Mecánica de Precisión(2,2,2)",20,4,0,24,20,4,0,0,24,10,2,0,0,12,20,2,2,0,24,10,1,1,0,12,6,1,1,0,8,"S/V"]
[null,51,"Mecánica General (2,2,2)",20,2,2,24,20,2,2,0,24,10,1,1,0,12,20,2,2,0,24,10,1,1,0,12,6,1,1,0,8,1,"de abril a junio"]
[null,52,"Mecánica Naval (4,4,4)",20,4,0,24,20,4,0,0,24,10,2,0,0,12,20,4,0,0,24,10,2,0,0,12,1,1,0,0,2,"S/V"]
[null,53,"Mercadeo",20,4,0,24,20,4,0,null,24,10,2,0,null,12,20,4,null,null,24,10,2,0,null,12,null,null,null,null,0]
[null,54,"Operación de Empresas de Alojamiento",16,8,0,24,16,8,0,0,24,8,4,0,null,12,16,8,null,null,24,8,4,0,null,12,null,null,null,null,0]
[null,55,"Producción Agrícola y Pecuaria",20,4,0,{"$f":"SUM(D58:F58)","v":24},20,4,null,null,{"$f":"SUM(H58:K58)","v":24},{"$f":"H58/2","v":10},{"$f":"I58/2","v":2},{"$f":"J58/2","v":0},null,{"$f":"SUM(M58:P58)","v":12},20,4,null,null,{"$f":"SUM(R58:U58)","v":24},{"$f":"R58/2","v":10},{"$f":"S58/2","v":2},{"$f":"T58/2","v":0},null,{"$f":"SUM(W58:Z58)","v":12},null,null,null,null,{"$f":"SUM(AB58:AE58)","v":0}]
[null,56,"Productividad y Calidad (4,4,4)",20,4,0,24,20,4,0,0,24,10,2,0,0,12,20,4,0,0,24,10,2,0,0,12,7,1,0,0,8,2,"de julio a noviembre"]
[null,57,"Productivity and Quality ",20,4,0,24,20,4,0,0,24,10,2,0,0,12,20,4,0,0,24,10,2,0,0,12,7,1,0,0,8,2,"de julio a noviembre"]
[null,58,"Refrigeración y Aire Acondicionado (4,2,0)",20,2,2,24,20,2,2,0,24,10,1,1,0,12,20,2,2,0,24,10,1,1,0,12,7,1,0,0,8,2,"de agosto a octubre"]
[null,59,"Reparación de los Sistemas de Vehículos Livianos",20,4,0,24,20,4,0,0,24,10,2,0,0,12,20,4,0,0,24,10,2,0,0,12,0,0,0,0,0,"S/V"]
[null,60,"Riego y Drenaje (0,2,4)",24,0,0,24,22,2,0,0,24,11,1,0,0,12,20,4,0,0,24,10,2,0,0,12,7,1,0,0,8,"S/V"]
[null,61,"Salud Ocupacional (2,2,2)",22,2,0,{"$f":"SUM(D64:F64)","v":24},22,2,0,0,{"$f":"SUM(H64:K64)","v":24},{"$f":"H64/2","v":11},{"$f":"I64/2","v":1},{"$f":"J64/2","v":0},0,{"$f":"SUM(M64:P64)","v":12},22,2,0,0,{"$f":"SUM(R64:U64)","v":24},{"$f":"R64/2","v":11},{"$f":"S64/2","v":1},{"$f":"T64/2","v":0},0,{"$f":"SUM(W64:Z64)","v":12},7,1,0,0,{"$f":"SUM(AB64:AE64)","v":8},"S/V"]
[null,62,"Secretariado Ejecutivo  (4,4,4)",20,4,0,24,20,4,0,0,24,10,2,0,0,12,20,4,0,0,24,10,2,0,0,12,7,1,0,0,8,1,"solamente de abril"]
[null,63,"Turismo Costero (4,4,4)",0,4,0,4,12,4,0,0,16,6,2,0,0,8,4,4,0,0,8,2,2,0,0,4,1,1,0,0,2,"S/V"]
[null,64,"Turismo Ecológico (4,4,4)",null,null,0,0,null,null,null,0,0,0,0,0,0,0,20,4,0,0,24,10,2,0,0,12,7,1,0,0,8,2,"de julio a noviembre"]
[null,65,"Turismo en Alimentos y Bebidas (4,4,4) ",20,4,0,24,20,4,0,0,24,10,2,0,0,12,20,4,0,0,24,10,2,0,0,12,7,1,0,0,8,1,"de febrero a junio"]
[null,66,"Turismo en Hotelería y Eventos Especial (4,4,4)",null,null,null,0,null,null,null,0,0,0,0,0,0,0,20,4,0,0,24,10,2,0,0,12,7,1,0,0,8,1,"de febrero a junio"]
[null,67,"Turismo Rural  (4,4,4)",20,4,0,24,20,4,0,0,24,10,2,0,0,12,20,4,0,0,24,10,2,0,0,12,7,1,0,0,8,2,"de julio a noviembre"]
[null,68,"Gestión de la Producción ",20,4,null,24,20,4,null,null,24,10,2,0,null,12,20,4,null,null,24,10,2,0,null,12,null,null,null,null,0]
[null,69,"Instalación y mantenimiento de sistemas eléctricos Indutriales ",20,4,null,24,20,4,null,null,24,10,2,0,null,12,null,null,null,null,0,0,0,0,null,0,null,null,null,null,0]
[null,70,"Inteligencia Artificial",20,4,null,24,20,4,null,null,24,10,2,0,null,12,20,4,null,null,24,10,2,0,null,12,null,null,null,null,0]
[null,71,"Organización de operaciones y servicios de alimentos y bebidas",16,8,null,24,null,null,null,null,{"$f":"SUM(H74:K74)","v":0},0,0,0,null,0,null,null,null,null,0,0,0,0,null,0,null,null,null,null,0]
[null,72,"Desarrollo de aplicaciones móviles",20,4,null,24,null,null,null,null,0,null,null,null,null,0]
[null,73,"Gerencia y producción en cocina ",20,4,null,24,null,null,null,null,0,null,null,null,null,0]
[null,74,"Gestión de la calidad",20,4,null,24,null,null,null,null,0,0,0,0,null,0,null,null,null,null,0,0,0,0,null,0,null,null,null,null,0]
[null,null,null,null,null,null,null,null,null,null,null,null,null,null,null,null,null,null,null,null,{"$f":"SUM(U4:U77)","v":0}]
[null,null,null,null,null,null,null,null,null,null,null,null,null,null,null,null,null,null,null,null,{"$f":"+U78+K78","v":0}]
[]
[]
[null,null,"Especialidades Plan 2 Años","Grupo"]
[null,1,"Administración, Logística y Distribución - Plan 2 años",5,3]
[null,2,"Contabilidad - Plan 2 años",1,20]
[null,3,"Ejecutivo Comercial y Servicio al Cliente - Plan 2 años",3,35]
[null,4,"Ejecutivo para Centros de Servicio - Plan 2 años",3,36]
[null,5,"Electrotecnia - Plan 2 años",10,41]
[null,6,"Informática Empresarial - Plan 2 años",5,44]
[null,7,"Informática en desarrollo de software - Plan 2 años",4,45]
[null,8,"Informática en soporte - Plan 2 años",4,47]
[null,9,"Productividad y Calidad - Plan 2 años",6,56]
[null,10,"Secretariado Ejecutivo - Plan 2 años",2,62]
[null,11,"Turismo Ecológico - Plan 2 años",2,64]
[null,12,"Gestión de la Producción -Plan 2 años",2,68]
[null,50,"Accounting - Plan 2 años",5]
[null,51,"Banca y Finanzas - Plan 2 años",15]
[null,52,"Bilingual Secretary - Plan 2 años",9]
[null,53,"Construcción Civil - Plan 2 años",14]
[null,54,"Contabilidad y Auditoria - Plan 2 años",8]
[null,55,"Contabilidad y costos - Plan 2 años",8]
[null,56,"Dibujo Arquitectónico - Plan 2 años",4]
[null,57,"Dibujo Técnico - Plan 2 años",4]
[null,58,"Diseño Grafico - Plan 2 años",4]
[null,59,"Diseño Publicitario - Plan 2 años",13]
[null,60,"Electromecánica - Plan 2 años",10]
[null,61,"Electrónica en Telecomunicaciones",10]
[null,62,"Electrónica Industrial - Plan 2 años",7]
[null,63,"Executive Service Center - Plan 2 años",3]
[null,64,"Impresión Offset - Plan 2 años",4]
[null,65,"Informática en Redes - Plan 2 años",4]
[null,66,"Mantenimiento Industrial - Plan 2 años",11]
[null,67,"Refrigeración y Aire Acondicionado - Plan 2 años",12]
[null,68,"Gestión de la Producción - Plan 2 años",4]
[null,69,"Turismo Alimentos y Bebidas - Plan 2 años",2]
[null,70,"Turismo Hotelería y Eventos Especiales - Plan 2 años",2]
[null,71,"Turismo Rural - Plan 2 años",2]
[]
[]
[]
[]
[]
[null,null,"Nombre especialidad","Grupo","Nivel 1",null,null,"Nivel 2"]
[null,null,null,null,"especialidad","ingles","dibujo técnico","especialidad","ingles","dibujo técnico"]
[null,null,{"$f":"+IF('hoja de cálculo'!H248=\"\",\"\",'hoja de cálculo'!H248)","v":""},{"$f":"IF(C124=\"\",\"\",VLOOKUP(C124,$C$83:$D$118,2,0))","v":""},{"$f":"+IFERROR(VLOOKUP(D124,$C$134:$I$148,2,0),\"\")","v":""},{"$f":"+IFERROR(VLOOKUP(D124,$C$134:$I$148,3,0),\"\")","v":""},{"$f":"+IFERROR(VLOOKUP(D124,$C$134:$I$148,4,0),\"\")","v":""},{"$f":"+IFERROR(VLOOKUP(D124,$C$134:$I$148,5,0),\"\")","v":""},{"$f":"+IFERROR(VLOOKUP(D124,$C$134:$I$148,6,0),\"\")","v":""},{"$f":"+IFERROR(VLOOKUP(D124,$C$134:$I$148,7,0),\"\")","v":""}]
[null,null,{"$f":"+IF('hoja de cálculo'!H249=\"\",\"\",'hoja de cálculo'!H249)","v":""},{"$f":"IF(C125=\"\",\"\",VLOOKUP(C125,$C$83:$D$118,2,0))","v":""},{"$f":"+IFERROR(VLOOKUP(D125,$C$134:$I$148,2,0),\"\")","v":""},{"$f":"+IFERROR(VLOOKUP(D125,$C$134:$I$148,3,0),\"\")","v":""},{"$f":"+IFERROR(VLOOKUP(D125,$C$134:$I$148,4,0),\"\")","v":""},{"$f":"+IFERROR(VLOOKUP(D125,$C$134:$I$148,5,0),\"\")","v":""},{"$f":"+IFERROR(VLOOKUP(D125,$C$134:$I$148,6,0),\"\")","v":""},{"$f":"+IFERROR(VLOOKUP(D125,$C$134:$I$148,7,0),\"\")","v":""}]
[null,null,{"$f":"+IF('hoja de cálculo'!H250=\"\",\"\",'hoja de cálculo'!H250)","v":""},{"$f":"IF(C126=\"\",\"\",VLOOKUP(C126,$C$83:$D$118,2,0))","v":""},{"$f":"+IFERROR(VLOOKUP(D126,$C$134:$I$148,2,0),\"\")","v":""},{"$f":"+IFERROR(VLOOKUP(D126,$C$134:$I$148,3,0),\"\")","v":""},{"$f":"+IFERROR(VLOOKUP(D126,$C$134:$I$148,4,0),\"\")","v":""},{"$f":"+IFERROR(VLOOKUP(D126,$C$134:$I$148,5,0),\"\")","v":""},{"$f":"+IFERROR(VLOOKUP(D126,$C$134:$I$148,6,0),\"\")","v":""},{"$f":"+IFERROR(VLOOKUP(D126,$C$134:$I$148,7,0),\"\")","v":""}]
[null,null,{"$f":"+IF('hoja de cálculo'!H251=\"\",\"\",'hoja de cálculo'!H251)","v":""},{"$f":"IF(C127=\"\",\"\",VLOOKUP(C127,$C$83:$D$118,2,0))","v":""},{"$f":"+IFERROR(VLOOKUP(D127,$C$134:$I$148,2,0),\"\")","v":""},{"$f":"+IFERROR(VLOOKUP(D127,$C$134:$I$148,3,0),\"\")","v":""},{"$f":"+IFERROR(VLOOKUP(D127,$C$134:$I$148,4,0),\"\")","v":""},{"$f":"+IFERROR(VLOOKUP(D127,$C$134:$I$148,5,0),\"\")","v":""},{"$f":"+IFERROR(VLOOKUP(D127,$C$134:$I$148,6,0),\"\")","v":""},{"$f":"+IFERROR(VLOOKUP(D127,$C$134:$I$148,7,0),\"\")","v":""}]
[null,null,{"$f":"+IF('hoja de cálculo'!H252=\"\",\"\",'hoja de cálculo'!H252)","v":""},{"$f":"IF(C128=\"\",\"\",VLOOKUP(C128,$C$83:$D$118,2,0))","v":""},{"$f":"+IFERROR(VLOOKUP(D128,$C$134:$I$148,2,0),\"\")","v":""},{"$f":"+IFERROR(VLOOKUP(D128,$C$134:$I$148,3,0),\"\")","v":""},{"$f":"+IFERROR(VLOOKUP(D128,$C$134:$I$148,4,0),\"\")","v":""},{"$f":"+IFERROR(VLOOKUP(D128,$C$134:$I$148,5,0),\"\")","v":""},{"$f":"+IFERROR(VLOOKUP(D128,$C$134:$I$148,6,0),\"\")","v":""},{"$f":"+IFERROR(VLOOKUP(D128,$C$134:$I$148,7,0),\"\")","v":""}]
[]
[]
[]
[null,null,"Grupo especialidad","Nivel 1",null,null,"Nivel 2"]
[null,null,null,"especialidad","ingles","dibujo técnico","especialidad","ingles","dibujo técnico"]
[null,null,1,30,8,0,34,4,0,{"$f":"SUM(G134:I134)","v":38},null,"Contabilidad - Plan 2 años",1]
[null,null,2,30,8,0,34,4,0,{"$f":"SUM(G135:I135)","v":38},null,"Secretariado Ejecutivo - Plan 2 años",2]
[null,null,3,16,22,0,26,12,0,38,null,"Turismo Ecológico - Plan 2 años",2]
[null,null,4,36,2,0,34,4,0,38,null,"Turismo Alimentos y Bebidas - Plan 2 años",2]
[null,null,5,32,6,0,32,6,0,38,null,"Turismo Hotelería y Eventos Especiales - Plan 2 años",2]
[null,null,6,28,10,0,32,6,0,38,null,"Turismo Rural - Plan 2 años",2]
[null,null,7,28,4,6,36,2,0,38,null,"Ejecutivo Comercial y Servicio al Cliente - Plan 2 años",3]
[null,null,8,38,0,0,30,8,0,38,null,"Ejecutivo para Centros de Servicio - Plan 2 años",3]
[null,null,9,18,20,0,30,8,0,38,null,"Executive Service Center - Plan 2 años",3]
[null,null,10,28,4,6,36,2,0,38,null,"Informática en desarrollo de software - Plan 2 años",4]
[null,null,11,28,6,4,34,4,0,38,null,"Informática en soporte - Plan 2 años",4]
[null,null,12,28,4,6,34,4,0,38,null,"Dibujo Arquitectónico - Plan 2 años",4]
[null,null,13,32,2,6,34,2,2,38,null,"Dibujo Técnico - Plan 2 años",4]
[null,null,14,30,4,4,28,2,8,38,null,"Diseño Grafico - Plan 2 años",4]
[null,null,15,30,8,0,34,4,0,38,null,"Impresión Offset - Plan 2 años",4]
[null,null,null,null,null,null,null,null,null,null,null,"Informática en Redes - Plan 2 años",4]
[null,null,null,null,null,null,null,null,null,null,null,"Gestión de la Producción - Plan 2 años",4]
[null,null,null,null,null,null,null,null,null,null,null,"Administración, Logística y Distribución - Plan 2 años",5]
[null,null,null,null,null,null,null,null,null,null,null,"Informática Empresarial - Plan 2 años",5]
[null,null,"FORTALECIMIENTO INGLES","10°","11°","12°",null,null,null,null,null,"Accounting - Plan 2 años",5]
[null,null,"LECCIONES",4,3,3,null,null,null,null,null,"Productividad y Calidad - Plan 2 años",6]
[null,null,null,null,null,null,null,null,null,null,null,"Electrónica Industrial - Plan 2 años",7]
[null,null,null,null,null,null,null,null,null,null,null,"Contabilidad y Auditoria - Plan 2 años",8]
[null,null,null,null,null,null,null,null,null,null,null,"Contabilidad y costos - Plan 2 años",8]
[null,"Consolidado de lecciones no académicas",null,null,null,null,"Pendientes de asignar",null,null,null,null,"Bilingual Secretary - Plan 2 años",9]
[null,"No.","Lecciones Varias","Sigla","Aprobadas","Asignadas",null,null,null,null,null,"Electrotecnia - Plan 2 años",10]
[null,1,"Coordinación Académica","CA",null,null,null,null,null,null,null,"Electromecánica - Plan 2 años",10]
[null,2,"Coordinador Departamento","CD",null,null,null,null,null,null,null,"Electrónica en Telecomunicaciones",10]
[null,3,"Coordinación Empresa","CE",null,null,null,null,null,null,null,"Mantenimiento Industrial - Plan 2 años",11]
[null,4,"Coordinación Técnica","CT",null,null,null,null,null,null,null,"Refrigeración y Aire Acondicionado - Plan 2 años",12]
[null,5,"Comité Técnico Asesor","CTA",null,null,null,null,null,null,null,"Diseño Publicitario - Plan 2 años",13]
[null,6,"Fortalecimiento de Inglés","FI",null,null,null,null,null,null,null,"Construcción Civil - Plan 2 años",14]
[null,7,"Situaciones Especiales","SE",null,null,null,null,null,null,null,"Banca y Finanzas - Plan 2 años",15]
[null,8,"Núcleo Integrado","NI"]
[null,9,"Desarrollo de Talentos","DT"]
[null,10,"Fortalecimiento de áreas específicas","FAE"]
[null,11,"Programa de Capacitación Institucional","PCI"]
[null,12,"Pruebas por Suficiencia y Contratos ","PSC"]
[null,13,"Consejo de Curso (Hora Guía)","Guía"]
[null,14]
[null,15]
[null,16]
[null,17]
[null,18]
[null,19]
[null,20]

{"sheet":"PROYECTOS","index":5,"n_rows":750,"n_cols":7,"rows_kept":750,"cut":false,"hidden":true,"merged":[[14,0,14,5],[379,0,379,3],[325,0,325,4],[280,0,280,4],[614,0,614,5],[476,0,476,4],[257,0,257,5],[303,0,303,3],[397,0,397,6]]}
["Check","PROYECTOS"]
[null,"INFORMATICA FOD","PROYECTOS!A15","LISTO"]
[null,"VIDEOCONFERENCIAS","PROYECTOS!A257","Listo"]
[null,"CLUB 4S","PROYECTOS!A279","Listo"]
[null,"FORTALECIMIENTO INGLES","PROYECTOS!A302","no va "]
[null,"INSTITUCIONES CON APOYOS EN SECUNDARIA ","PROYECTOS!A324","Listo"]
[null,"UNIDADES PRODUCTIVAS","PROYECTOS!A375","no va "]
[null,"INNOVACIÓN EDUCATIVA","PROYECTOS!A378","Listo"]
[null,"COOPERATIVAS","PROYECTOS!A396","Listo"]
[null,"PLAN NACIONAL","PROYECTOS!A477","Listo"]
[null,"LABORA","PROYECTOS!A615","Listo"]
[]
[]
[]
["INFORMATICA FOD"]
["#","CODIGO ","CENTRO EDUCATIVO","DIRECCIÓN REGIONAL ","TOTAL DE LECCIONES","RECARGO"]
[1,3938,"Colegio Superior de Señoritas","SAN JOSÉ CENTRAL ",52,"SI"]
[2,3939,"Liceo Anastasio Alfaro","SAN JOSÉ NORTE",42,"SI","4179 CTP LA FORTUNA NO VA  POR CORREO 17/012/20 NO VA "]
[3,3940,"Liceo de Costa Rica","SAN JOSÉ CENTRAL ",52,"SI"]
[4,3941,"Liceo De San José","SAN JOSÉ OESTE",62,"SI"]
[5,3942,"Liceo Del Sur","SAN JOSÉ CENTRAL ",58,"SI"]
[6,3943,"Liceo Luis Dobles Segreda","SAN JOSÉ OESTE",70,"SI"]
[7,3944,"Liceo José Joaquín Vargas Calvo","SAN JOSÉ NORTE",66,"SI"]
[8,3945,"Liceo Napoleón Quesada Salazar","SAN JOSÉ NORTE",62,"SI"]
[9,3946,"Liceo Mauro Fernández Acuña","SAN JOSÉ NORTE",64,"SI"]
[10,3947,"Liceo Rodrigo Facio Brenes","SAN JOSÉ CENTRAL ",52,"SI"]
[11,3948,"Liceo Roberto Brenes Mesén","SAN JOSÉ CENTRAL ",56,"SI"]
[12,3949,"Liceo De Moravia","SAN JOSÉ NORTE",70,"SI"]
[13,3950,"Liceo Dr. José María Castro Madríz","SAN JOSÉ CENTRAL ",64,"SI"]
[14,3952,"Liceo de Escazú","SAN JOSÉ OESTE",88,"SI"]
[15,3953,"Liceo De Coronado","SAN JOSÉ NORTE",68,"SI"]
[16,3955,"Liceo Salvador Umaña Castro","SAN JOSÉ NORTE",36,"SI"]
[17,3956,"Liceo Edgar Cervantes Villalta","SAN JOSÉ CENTRAL ",66,"SI"]
[18,3957,"U.P Colegio Republica De Mexico","SAN JOSÉ CENTRAL ",42,"SI"]
[19,3958,"Liceo Laboratorio Emma Gamboa (U.C.R.)","SAN JOSÉ NORTE",18,"SI"]
[20,3959,"Liceo Santa Ana","SAN JOSÉ OESTE",92,"SI"]
[21,3960,"Liceo De Curridabat","SAN JOSÉ CENTRAL ",44,"SI"]
[22,3961,"Liceo De Alajuelita","SAN JOSÉ CENTRAL ",80,"SI"]
[23,3962,"Colegio De Cedros","SAN JOSÉ NORTE",34,"SI"]
[24,3963,"U.P. Jose Fidel Tristán","SAN JOSÉ OESTE",26,"SI"]
[25,3964,"Liceo Julio Fonseca Gutiérrez","SAN JOSÉ OESTE",40,"SI"]
[26,3968,"Liceo de Pavas","SAN JOSÉ OESTE",72,"SI"]
[27,3971,"U.P Cuatro Reinas","SAN JOSÉ OESTE",20,"SI"]
[28,3973,"Liceo Experimental Bilingüe La Trinidad","SAN JOSÉ NORTE",32,"SI"]
[29,3975,"U.P José Rafael Araya Rojas","SAN JOSÉ NORTE",38,"SI"]
[30,3977,"Liceo San Antonio","SAN JOSÉ NORTE",32,"SI"]
[31,3978,"Colegio Rincón Grande","SAN JOSÉ OESTE",54,"SI"]
[32,3979,"Liceo Teodoro Picado","SAN JOSÉ CENTRAL ",42,"SI"]
[33,3980,"Liceo Hernán Zamora Elizondo","SAN JOSÉ NORTE",38,"SI"]
[34,3982,"Liceo Monseñor Rubén Odio Herrera","DESAMPARADOS",76,"SI"]
[35,3983,"Liceo Calle Fallas","DESAMPARADOS",46,"SI"]
[36,3985,"Liceo San Miguel","DESAMPARADOS",88,"SI"]
[37,3986,"Colegio Ricardo Fernández Guardia","SAN JOSÉ CENTRAL ",46,"SI"]
[38,3988,"Liceo de San Antonio","DESAMPARADOS",56,"SI"]
[39,3989,"Liceo de Aserrí","DESAMPARADOS",84,"SI"]
[40,3990,"Liceo de Frailes","DESAMPARADOS",24,"SI"]
[41,3991,"Liceo San Gabriel de Aserrí","DESAMPARADOS",32,"SI"]
[42,3995,"Liceo Joaquín Gutiérrez Mangel","DESAMPARADOS",40,"SI"]
[43,3996,"Liceo Diurno de Ciudad Colón","PURISCAL",44,"SI"]
[44,3997,"Liceo de Puriscal","PURISCAL",54,"SI"]
[45,4000,"U.P Dr. Rafael Angel Calderón","PÉREZ ZELEDÓN ",38,"SI"]
[46,4001,"U.P José Breinderhoff","PÉREZ ZELEDÓN ",16,"SI"]
[47,4002,"Liceo Potrero Grande","GRANDE DE TÉRRABA",18,"SI"]
[48,4003,"Liceo El Carmen","GRANDE DE TÉRRABA",16,"SI"]
[49,4006,"Liceo Yolanda Oreamuno Unger","GRANDE DE TÉRRABA",16,"SI"]
[50,4008,"Liceo Fernando Volio Jiménez","PÉREZ ZELEDÓN ",44,"SI"]
[51,4009,"Liceo Unesco","PÉREZ ZELEDÓN ",60,"SI"]
[52,4010,"Liceo de San Pedro","PÉREZ ZELEDÓN ",28,"SI"]
[53,4013,"Liceo Tuetal Norte","ALAJUELA ",28,"SI"]
[54,4014,"Liceo San Roque","ALAJUELA ",26,"SI"]
[55,6133,"Liceo Puente de Piedra","ALAJUELA ",null,"SI"]
[56,4015,"Colegio Ambientalista El Roble","ALAJUELA ",52,"SI"]
[57,4018,"Instituto de Alajuela","ALAJUELA ",82,"SI"]
[58,4019,"Liceo de Atenas Martha Miramell","ALAJUELA ",70,"SI"]
[59,4020,"Liceo León Cortés Castro","ALAJUELA ",54,"SI"]
[60,4022,"Colegio Gregorio Ramírez Castro","ALAJUELA ",60,"SI"]
[61,4023,"Colegio El Carmen","ALAJUELA ",44,"SI"]
[62,4024,"Liceo San José","ALAJUELA ",58,"SI"]
[63,4025,"Liceo Otilio Ulate Blanco","ALAJUELA ",40,"SI"]
[64,4027,"Liceo San Rafael","ALAJUELA ",60,"SI"]
[65,4028,"Colegio Redentorista San Alfonso","ALAJUELA ",40,"SI"]
[66,4029,"Liceo de Turrúcares","ALAJUELA ",36,"SI"]
[67,4030,"Liceo Experimental Bilingüe de Grecia","ALAJUELA ",22,"SI"]
[68,4032,"Liceo Nuestra Señora de los Angeles","OCCIDENTE",50,"SI"]
[69,4033,"Instituto Superior Julio Acosta García","OCCIDENTE",86,"SI"]
[70,4034,"Liceo Experimental Bilingüe de Palmares","OCCIDENTE",86,"SI"]
[71,4035,"Colegio de Naranjo","OCCIDENTE",58,"SI"]
[72,4036,"Colegio de Valle Azul","OCCIDENTE",28,"SI"]
[73,4038,"Liceo Experimental Bilingüe de Naranjo","OCCIDENTE",28,"SI"]
[74,4040,"Liceo de Alfaro Ruíz","OCCIDENTE",30,"SI"]
[75,4043,"Liceo De Pavón","SAN CARLOS ",24,"SI"]
[76,4045,"Liceo De San Carlos","SAN CARLOS ",66,"SI"]
[77,4047,"Liceo de Chachagua","OCCIDENTE",26,"SI"]
[78,4050,"Liceo Vicente Lachner Sandoval","CARTAGO",80,"SI"]
[79,4051,"Colegio de San Luis Gonzaga","CARTAGO",96,"SI"]
[80,4052,"Liceo de Paraíso","CARTAGO",92,"SI"]
[81,4053,"Colegio Elías Leiva Quirós","CARTAGO",86,"SI"]
[82,4054,"Colegio Seráfico de San Francisco","CARTAGO",30,"SI"]
[83,4056,"U.P. Rafael Hernández Madriz","CARTAGO",24,"SI"]
[84,4057,"Liceo de Tarrazú","LOS SANTOS ",48,"SI"]
[85,4058,"Liceo de  Cot","CARTAGO",38,"SI"]
[86,4059,"Liceo Nuevo de San Diego","CARTAGO",32,"SI"]
[87,4060,"Liceo San Francisco","CARTAGO",54,"SI"]
[88,4065,"Liceo Ing. Alejandro Quesada Ramírez","CARTAGO",38,"SI"]
[89,4066,"Liceo Experimental José Figueres Ferrer","CARTAGO",32,"SI"]
[90,4067,"Liceo Braulio Carrillo Colina","CARTAGO",68,"SI"]
[91,4068,"Liceo Llano Bonito","LOS SANTOS ",12,"SI"]
[92,4069,"Instituto Dr. Clodomiro Picado Twight","TURRIALBA",62,"SI"]
[93,4070,"Liceo Hernán Vargas Ramírez","TURRIALBA",32,"SI"]
[230,4072,"Liceo Santa Teresita","TURRIALBA",20,"SI"]
[94,4073,"EXPERIMENTAL BILINGÜE DE TURRIALBA","TURRIALBA",20,"SI"]
[95,4077,"Liceo Ing. Samuel Sáenz Flores","HEREDIA",56,"SI"]
[96,4078,"Liceo de Heredia","HEREDIA",74,"SI"]
[97,4079,"Liceo Regional de Flores","HEREDIA",62,"SI"]
[98,4080,"Liceo Ing. Carlos Pascua Zúñiga","HEREDIA",58,"SI"]
[99,4082,"Liceo Mario Vindas Salazar","HEREDIA",48,"SI"]
[100,4083,"Conservatorio Castella","HEREDIA",22,"SI"]
[101,4084,"Liceo Santa Bárbara","HEREDIA",52,"SI"]
[102,4085,"Liceo Ing. Manuel Benavides Rodríguez","HEREDIA",76,"SI"]
[103,4086,"Colegio de San Isidro","HEREDIA",58,"SI"]
[104,4087,"Liceo Experimental Bilingüe de Belén","HEREDIA",56,"SI"]
[105,4088,"U.P. Liceo El Roble","HEREDIA",36,"SI"]
[106,4090,"Liceo de Santo Domingo","HEREDIA",56,"SI"]
[107,4091,"Liceo de Río Frío","SARAPIQUÍ",52,"SI"]
[108,4092,"Liceo Los Lagos","HEREDIA",36,"SI"]
[109,4093,"Liceo La Aurora","HEREDIA",36,"SI"]
[110,4097,"Colegio José María Gutiérrez","LIBERIA",22,"SI"]
[111,4099,"Liceo de Santa Cecilia","LIBERIA",22,"SI"]
[112,4100,"Liceo Experimental Bilingüe de la Cruz","LIBERIA",18,"SI"]
[113,4101,"Colegio de Bagaces","LIBERIA",44,"SI"]
[114,4102,"Instituto de Guanacaste","LIBERIA",62,"SI"]
[115,4103,"Liceo Laboratorio de Liberia","LIBERIA",32,"SI"]
[116,4104,"Colegio Bocas de Nosara","NICOYA",22,"SI"]
[117,4105,"Liceo de Nicoya","NICOYA",38,"SI"]
[118,4106,"Colegio San Francisco de Coyote","NICOYA",14,"SI"]
[119,4108,"Liceo Santa Cruz Climaco Pérez","SANTA CRUZ",70,"SI"]
[120,4110,"Liceo Maurilio Alvarado Vargas","CAÑAS",52,"SI"]
[121,4111,"Liceo Miguel Araya Venegas","CAÑAS",62,"SI"]
[122,4112,"Liceo San Rafael","CAÑAS",12,"SI"]
[123,4113,"Liceo de Colorado","CAÑAS",28,"SI"]
[124,4114,"Liceo Experimental Bilingüe Nuevo Arenal","CAÑAS",12,"SI"]
[125,4115,"Emiliano Odio Madrigal","PUNTARENAS",42,"SI"]
[126,4116,"Liceo Diurno José Martí","PUNTARENAS",44,"SI"]
[127,4117,"Liceo Diurno de Esparza","PUNTARENAS",50,"SI"]
[128,4118,"Liceo de Miramar","PUNTARENAS",46,"SI"]
[129,4119,"Liceo de Chacarita","PUNTARENAS",54,"SI"]
[130,4120,"Liceo Antonio Obando Chan","PUNTARENAS",74,"SI"]
[131,4121,"Liceo Judas de Chomes","PUNTARENAS",30,"SI"]
[132,4123,"Liceo Acádemico de Comte","COTO",28,"SI"]
[133,4124,"Liceo Pacífico Sur","GRANDE DE TÉRRABA",34,"SI"]
[134,4125,"Liceo de Ciudad Neily","COTO",56,"SI"]
[135,4127,"Liceo Experimental Bilingüe Agua Buena","COTO",30,"SI"]
[136,4128,"Liceo de Río Banano","LIMÓN ",16,"SI"]
[137,4129,"Liceo de Sixaola","LIMÓN ",14,"SI"]
[138,4130,"Liceo Rodrigo Solano Quirós","LIMÓN ",24,"SI"]
[139,4131,"Liceo Innovación Educativa de Matina","LIMÓN ",24,"SI"]
[140,4132,"Liceo de Maryland","LIMÓN ",20,"SI"]
[141,4133,"Colegio de Limón","LIMÓN ",90,"SI"]
[142,4134,"Liceo Nuevo de Limón","LIMÓN ",50,"SI"]
[143,4135,"Liceo Sulàyöm Amubri","SULÁ",12,"SI"]
[144,4137,"Liceo La Alegría De Siquirres","LIMÓN ",24,"SI"]
[145,4138,"Colegio de Ticaban","GUÁPILES",26,"SI"]
[146,4140,"Liceo Ambientalista de Llano Bonito","GUÁPILES",26,"SI"]
[147,4141,"Liceo Académico de Cariari","GUÁPILES",58,"SI"]
[148,4144,"Liceo Académico de Jiménez","GUÁPILES",34,"SI"]
[149,4145,"Colegio Académico La Rita","GUÁPILES",32,"SI"]
[150,4150,"Liceo de Bijagua","NORTE NORTE",24,"SI"]
[151,4151,"Liceo San José","NORTE NORTE",24,"SI"]
[152,4160,"C.T.P José Figueres","DESAMPARADOS",36,"SI"]
[153,4163,"C.T.P de Puriscal","PURISCAL",52,"SI"]
[154,4164,"C.T.P de Turrubares","PURISCAL",14,"SI"]
[155,4168,"C.T.P de Pejibaye","PÉREZ ZELEDÓN ",26,"SI"]
[156,4177,"C.T.P Los Chiles","SAN CARLOS ",32,"SI"]
[157,4193,"C.T.P de Puerto Viejo","SARAPIQUÍ",54,"SI"]
[158,4197,"C.T.P De Hojancha","NICOYA",28,"SI"]
[159,4198,"C.T.P.A de  Nicoya","NICOYA",42,"SI"]
[160,4206,"C.T.P de Sardinal","SANTA CRUZ",44,"SI"]
[161,4207,"C.T.P. Abangares","CAÑAS",42,"SI"]
[162,4208,"C.T.P de Jicaral","PENÍNSULAR",28,"SI"]
[163,4215,"C.T.P Umberto Melloni Campanini","COTO",42,"SI"]
[164,4220,"C.T.P de Puerto Jiménez","COTO",38,"SI"]
[165,4223,"C.T.P.A de Talamanca","SULÁ",44,"SI"]
[166,4227,"C.T.P de Pococí","GUÁPILES",84,"SI"]
[167,4837,"Nocturno Desamparados","DESAMPARADOS",30,"SI"]
[168,4869,"Liceo Nocturno de Liberia","LIBERIA",20,"SI"]
[169,4913,"LICEO DOS RIOS","NORTE NORTE",10,"SI"]
[170,5072,"Colegio de Gravilias","DESAMPARADOS",40,"SI"]
[171,5075,"Liceo Francisco Amiguette Herrera","SAN CARLOS ",20,"SI"]
[172,5076,"Liceo Gastón Peralta Carranza","SAN CARLOS ",22,"SI"]
[173,5077,"Liceo Rodrigo Hernández Vargas","HEREDIA",66,"SI"]
[174,5079,"Colegio de Villarreal","SANTA CRUZ",34,"SI"]
[175,5139,"Liceo Poasito","ALAJUELA ",14,"SI"]
[176,5151,"Liceo Buenos Aires De Pocosol","SAN CARLOS ",8,"SI"]
[177,5178,"Liceo Las Delicias","NORTE NORTE",20,"SI"]
[178,5297,"Liceo La Palma","COTO",24,"SI"]
[179,5303,"Liceo Capitán Manuel Quirós","SAN CARLOS ",12,"SI"]
[180,5304,"Liceo Nicolás Aguilar Murillo","SAN CARLOS ",14,"SI"]
[181,5316,"Liceo Capitán Ramón Rivas","LIMÓN ",22,"SI"]
[182,5318,"Liceo Coronel Manuel Argüello","PURISCAL",6,"SI"]
[183,5531,"Liceo Concepción","GRANDE DE TÉRRABA",12,"SI"]
[184,5533,"Experimental Bilingüe De Los Angeles","SAN CARLOS ",20,"SI"]
[185,5535,"Liceo Guardia","LIBERIA",24,"SI"]
[186,5536,"Colegio Barra de Colorado","GUÁPILES",6,"NO"]
[187,5567,"Liceo Venecia","LIMÓN ",28,"SI"]
[188,5568,"COLEGIO SEPECUE","SULÁ",12,"SI"]
[189,5577,"Colegio El Sahíno","SAN CARLOS ",12,"SI"]
[190,5579,"Liceo Académico San Antonio de Pejibaye","PÉREZ ZELEDÓN ",14,"SI"]
[191,5583,"LICEO CUATRO BOCAS ","NORTE-NORTE",14,"SI"]
[192,5586,"LICEO EL PARAISO","SARAPIQUI",16,"SI"]
[193,5677,"Colegio San Martin","SAN CARLOS ",34,"SI"]
[194,5679,"Colegio Candelaria Naranjo","OCCIDENTE",20,"SI"]
[195,5683,"U.P Río Cuba","LIMÓN ",16,"SI"]
[196,5707,"Liceo Académico Costa de Pájaros","PUNTARENAS",16,"SI"]
[197,5718,"Experimental Bilingüe de Río Jiménez","GUÁPILES",24,"SI"]
[198,5728,"Liceo Santa Marta","GRANDE DE TÉRRABA",18,"SI"]
[199,5735,"UP La Valencia","DESAMPARADOS",28,"SI"]
[200,5748,"CTP De Quepos","AGUIRRE",44,"SI"]
[201,5817,"LICEO LA PALMERA","SAN CARLOS ",20,"SI"]
[202,5820,"Liceo de Térraba","GRANDE DE TÉRRABA",8,"SI"]
[203,5834,"U.P. San Diego","CARTAGO",30,"SI"]
[204,5870,"U.P Sotero González Baraquero","DESAMPARADOS",22,"SI"]
[205,5874,"Liceo Ambientalista Horquetas","SARAPIQUÍ",18,"SI"]
[206,5882,"Colegio Experimental Bilingüe De Siquirres","LIMÓN ",24,"SI"]
[207,5979,"Colegio San Nicolas de Tolentino","CARTAGO",32,"SI"]
[208,5990,"Liceo Las Mercedes","PÉREZ ZELEDÓN ",34,"SI"]
[209,5993,"UP Barrio Nuevo ","CARTAGO",12,"SI"]
[210,5996,"Experimental Bilingüe de San Ramón","OCCIDENTE",26,"SI"]
[211,5998,"Liceo Pacto del Jocote","ALAJUELA ",36,"SI"]
[212,6000,"Liceo Cuatro Esquinas","GUÁPILES",18,"SI"]
[213,6017,"GRANDE TERRABA","LICEO LA LUCHA",10,"SI"]
[214,6030,"Liceo Virgen Medalla Milagrosa","SAN JOSÉ NORTE",28,"SI"]
[215,6096,"UNIDAD PEDAGÓGICA JUAN CALDERON VALVERDE","DESAMPARADOS",6,"SI"]
[216,6106,"IEGB Presbítero Yanuario Quesada","SAN JOSÉ OESTE",22,"SI"]
[217,6108,"IEGB República De Panamá","DESAMPARADOS",18,"SI"]
[218,6112,"Liceo Finca Naranjo","COTO",36,"SI"]
[219,6115,"Colegio San Rafael","GUÁPILES",34,"SI"]
[220,6127,"IEGB Andrés Bello López","SAN JOSÉ OESTE",20,"SI"]
[221,6128,"IEGB América Central","SAN JOSÉ NORTE",18,"SI"]
[222,6130,"CTP De Granadilla","SAN JOSÉ CENTRAL ",48,"SI"]
[223,6135,"UNIDAD PEDAGOGICA LA CRUZ","DESAMPARADOS",14,"SI"]
[224,6156,"Liceo Bilingüe Italo Costarricense","COTO",16,"SI"]
[225,6216,"LICEO LLANO LOS ANGELES","CARTAGO",18,"SI"]
[226,6505,"CTP Palmichal","PURISCAL",18,"SI"]
[227,6527,"CTP Máximo Quesada","DESAMPARADOS",30,"SI"]
[228,6528,"C.T.P. Purral","SAN JOSÉ NORTE",38,"SI"]
[229,6537,"C.T.P. de Santa Eulalia","ALAJUELA ",20,"SI"]
[230,6576,"C.T.P. Santa Elena","COTO",24,"SI"]
[231,6578,"Colegio Barrio Irvin","LIBERIA",28,"SI"]
[232,6579,"C.T.P. Liverpool","LIMÓN ",20,"SI"]
[233,6582,"CTP Roberto Gamboa Valverde","DESAMPARADOS",42,"SI"]
[null,6714,"LICEO NUEVO DE PURISCAL","PURISCAL",10,"SI"]
[null,6716,"LICEO DE GUARARI","HEREDIA",18,"SI"]
[234,6742,"LICEO DE SANTIAGO","CARTAGO",12,"SI"]
[235,6796,"COLEGIO LA CRUZ","LIBERIA",14,"SI"]
[]
[]
[]
["VIDEO CONFERENCIAS 40 LECCIONES 2023"]
["PROGRAMA","SUB PROGRAMA","REGION","CODIGO","NOMBRE DE INSTITUCION","LECCIONES "]
[573,2,53,4009,"LICEO UNESCO",40]
[573,2,54,4019,"LICEO DE ATENAS MARTHA MIRAMBELL UMAÑA",40]
[573,2,55,4034,"EXPERIMENTAL BILINGÜE DE PALMARES",40]
[573,2,57,4066,"EXPERIMENTAL BILINGÜE DE CARTAGO  CTP JOSE FIGUERES",40]
[573,2,58,4069,"COLEGIO DR. CLODOMIRO PICADO TWIGHT",40]
[573,2,58,4075,"COLEGIO AMBIENTALISTA DE PEJIBAYE",40]
[573,2,59,4078,"LICEO DE HEREDIA",40]
[573,2,74,4095,"LICEO LA VIRGEN",40]
[573,2,60,4102,"INSTITUTO DE GUANACASTE",40]
[573,3,69,4149,"LICEO DE KATIRA",40]
[573,3,51,4159,"C.T.P. MONSEÑOR SANABRIA",40]
[573,3,53,4168,"CTP PEJIBAYE",40]
[573,3,56,4183,"C.T.P SAN CARLOS",40]
[573,3,73,4188,"C.T.P. SAN PABLO ",40]
[573,3,61,4199,"C.T.P. LA MANSION",40]
[573,3,64,4209,"C.T.P. DE PUNTARENAS",40]
[573,3,65,4217,"C.T.P. GUAYCARA",40]
[]
[]
[]
[]
["CLUB 4 S ERAN 8 EN 2022"]
["REGION","CODIGO","NOMBRE DE INSTITUCION","DIURNO","NOCTURNA"]
["Grande de Térraba",4170,"CTP Buenos Aires",8,0]
["Occidente",4174,"CTP Piedades Sur",8,0]
["San Carlos",4179,"CTP Fortuna de San Carlos",8,0]
["San Carlos",4183,"CTP San Carlos",8,0]
["Nicoya",4196,"CTP Nandayure",8,0]
["Nicoya",4197,"CTP Hojancha",8,0]
["Nicoya",4199,"CTP La Mansión",8,0]
["Santa Cruz",4205,"CTP Cartagena",8,0]
["Coto",4214,"CTP Carlos Manuel Vicente Castro",8,0]
["Coto",4216,"CTP Sabalito",8,0]
["Coto",4218,"CTP Corredores",8,0]
["Limón",4222,"CTP Bataán",8,0]
["Zula",4223,"CTP Talamanca",8,0]
["Limón",4226,"CTP Roberto Evans Siquirres",8,0]
["Aguirre",4230,"CTP Parrita",8,0]
["Libería ",6578,"CTP Libería",8,0]
[]
[]
[]
[]
[]
["FORTALECIMIENTO INGLES TOTAL 695"]
["CODIGO ","NOMBRE DE INSTITUCION","LECC SECC DIURNA","LECC SEC NOCTURNA"]
[]
[]
[]
[]
[]
[]
[]
[]
[]
[]
[]
[]
[]
[]
[]
[]
[]
[]
[]
[]
["INSTITUCIONES CON APOYOS EN SECUNDARIA 2023"]
["Código Presupuestario",4,"Centro Educativo","APOYOS EN SECUNDARIA ","REFUERZO ACADEMICO "]
[5988,5427,"LICEO DE QUEBRADA GANADO","SI",30]
[4172,4461,"CTP RICARDO CASTRO BEER","SI",30]
[4019,4481,"LICEO MARTHA MIRAMBELL UMAÑA","SI",30]
[4110,5411,"LICEO MAURILIO ALVARADO V.","SI",30]
[4050,5715,"LICEO VICENTE LACHNER","SI",30]
[4052,5247,"LICEO PARAÍSO","SI",30]
[4214,4764,"CTP CARLOS MANUEL VICENTE C.","SI",30]
[3982,6953,"LICEO MONSEÑOR RUBÉN ODIO","SI",30]
[4124,5260,"LICEO PACÍFICO SUR","SI",30]
[4141,6755,"LICEO CARIARI","SI",30]
[4090,5406,"LICEO SANTO DOMINGO","SI",30]
[4078,5716,"LICEO DE HEREDIA","SI",30]
[4101,5514,"COLEGIO DE BAGACES","SI",30]
[4133,4774,"COLEGIO DE LIMÓN DIURNO","SI",30]
[4226,4787,"C.T.P. PADRE ROBERTO EVANS SAUNDERS","SI",30]
[5841,6950,"LICEO SAN CARLOS","SI",30]
[4045,4522,"LICEO SAN CARLOS","SI",30]
[4150,6739,"LICEO BIJAGUA","SI",30]
[5671,6978,"LICEO COLONIA VILLA NUEVA","SI",30]
[5166,6876,"LICEO FINCA ALAJUELA","SI",30]
[4232,5433,"CTP UPALA","SI",30]
[4039,5485,"DR. RICARDO CAÑAS MORENO","SI",30]
[4033,6645,"INSTITUTO JULIO ACOSTA GARCÍA","SI",30]
[6676,6949,"COLEGIO ACADÉMICO DE LEPANTO","SI",30]
[4009,6647,"LICEO UNESCO","SI",30]
[4118,5617,"LICEO MIRAMAR","SI",30]
[4121,5774,"LICEO CHOMES","SI",30]
[4120,6747,"LICEO ANTONIO OBANDO CHAN","SI",30]
[4119,5556,"LICEO DE CHACARITA","SI",30]
[4105,6957,"LICEO DE NICOYA","SI",30]
[3997,6646,"LICEO PURISCAL","SI",30]
[3998,5538,"LICEO TABARCIA","SI",30]
[3956,4336,"EDGAR CERVANTES VILLALTA","SI",30]
[3948,5714,"LICEO ROBERTO BRENES MESÉN","SI",30]
[3945,5713,"LICEO NAPOLEÓN QUESADA","SI",30]
[3980,5633,"LICEO HERNÁN ZAMORA E.","SI",30]
[3959,4276,"LICEO DE SANTA ANA","SI",30]
[4108,6951,"LICEO DE SANTA CRUZ","SI",30]
[4091,6322,"LICEO DE RÍO FRIO","SI",30]
[4135,6948,"COLEGIO SULAYON","SI",30]
[4069,6952,"INSTITUTO DE EDUCACIÓN DR. CLODOMIRO PICADO","SI",30]
[4075,5503,"COLEGIO AMBIENTALISTA DE PEJIBAYE","SI",30]
[4070,5336,"LICEO HERNÁN VARGAS","SI",30]
[]
[]
[]
[]
[]
[]
[]
[]
[]
[" INNOVACIÓN EDUCATIVA  2024"]
["CÓDIGO ","REGIONAL ","NOMBRE INSTITUCIÓN ","LECCIONES INFORMATICA EDUCATIVA INNOVACIÓN EDUCATIVA"]
[4176,"San Carlos","CTP Nataniel Arias Murillo",60]
[4180,"San Carlos","Colegio Técnico Profesional de Pital",38]
[4210,"Peninsular","CTP de Paquera ",36]
[4211,"Peninsular","Ctp de Cobano",36]
[4223,"Sulá","CTP DE TALAMANCA",36]
[5748,"AGUIRRRE","COLEGIO TECNICO PROFESIONAL DE QUEPOS ",38]
[6032,"Cartago","CTP Fernando Volio Jiménez",36]
[6034,"CAÑAS","CTP TRONADORA",36]
[6105,"Alajuela","Colegio Técnica Profesional de Carrizal",42]
[6529,"San José Norte","CTP ABELARDO BONILLA BALDARES",36]
[6532,"Pérez Zeledón","Colegio Técnico Ambientalista Isaías Retana Arias",36]
[6581,"Cartago","CTP Orosi",32]
[6639,"Heredia","Colegio Técnico Profesional del Este",36]
[]
[]
[]
["COOPERATIVAS "]
["REGIONAL","REGIÓN","CODIGO","NOMBRE DE INSTITUCION","TIPO DE RECARGO","LECCIONES ","FORMA_PAGO"]
[50,"SAN JOSÉ CENTRAL",4157,"CTP. SAN SEBASTIÁN","COOPERATIVAS SECUNDARIA TECNICA",12,"60 MINUTOS"]
[51,"DESAMPARADOS",4158,"CTP. DOS  CERCAS","COOPERATIVAS SECUNDARIA TECNICA",12,"60 MINUTOS"]
[51,"DESAMPARADOS",4160,"CTP. JOSE FIGUERES","COOPERATIVAS SECUNDARIA TECNICA",12,"60 MINUTOS"]
[51,"DESAMPARADOS",4161,"CTP. SAN JUAN SUR","COOPERATIVAS SECUNDARIA TECNICA",12,"60 MINUTOS"]
[51,"DESAMPARADOS",4162,"CTP. DE ACOSTA","COOPERATIVAS SECUNDARIA TECNICA",12,"60 MINUTOS"]
[51,"DESAMPARADOS",6527,"CTP. MÁXIMO QUESADA","COOPERATIVAS SECUNDARIA TECNICA",12,"60 MINUTOS"]
[52,"PURISCAL",4164,"CTP. TURRUBARES","COOPERATIVAS SECUNDARIA TECNICA",12,"60 MINUTOS"]
[52,"PURISCAL",4165,"CTP. LA GLORIA","COOPERATIVAS SECUNDARIA TECNICA",12,"60 MINUTOS"]
[53,"PÉREZ ZELEDÓN",4168,"CTP. PEJIBAYE","COOPERATIVAS SECUNDARIA TECNICA",12,"60 MINUTOS"]
[53,"PÉREZ ZELEDÓN",4169,"CTP. GENERAL VIEJO","COOPERATIVAS SECUNDARIA TECNICA",12,"60 MINUTOS"]
[54,"ALAJUELA",4171,"CTP. JESUS OCAÑA ROJAS","COOPERATIVAS SECUNDARIA TECNICA",12,"60 MINUTOS"]
[54,"ALAJUELA",4173,"CTP. DE SAN MATEO","COOPERATIVAS SECUNDARIA TECNICA",12,"60 MINUTOS"]
[54,"ALAJUELA",6105,"CTP. CARRIZAL","COOPERATIVAS SECUNDARIA TECNICA",12,"60 MINUTOS"]
[54,"ALAJUELA",6506,"CTP DE BOLIVAR","COOPERATIVAS SECUNDARIA TECNICA",12,"60 MINUTOS"]
[54,"ALAJUELA",6537,"CTP. SANTA EULALIA","COOPERATIVAS SECUNDARIA TECNICA",12,"60 MINUTOS"]
[54,"ALAJUELA",6547,"CTP. ATENAS","COOPERATIVAS SECUNDARIA TECNICA",12,"60 MINUTOS"]
[54,"ALAJUELA",6635,"CTP. SAN RAFAEL DE ALAJUELA","COOPERATIVAS SECUNDARIA TECNICA",12,"60 MINUTOS"]
[55,"OCCIDENTE",4174,"CTP. PIEDADES SUR","COOPERATIVAS SECUNDARIA TECNICA",12,"60 MINUTOS"]
[55,"OCCIDENTE",6502,"CTP. SANTO CRISTO DE ESQUIPULAS","COOPERATIVAS SECUNDARIA TECNICA",12,"60 MINUTOS"]
[55,"OCCIDENTE",6535,"CTP. CALLE ZAMORA","COOPERATIVAS SECUNDARIA TECNICA",12,"60 MINUTOS"]
[55,"OCCIDENTE",6536,"CTP. ROSARIO DE NARANJO","COOPERATIVAS SECUNDARIA TECNICA",12,"60 MINUTOS"]
[55,"OCCIDENTE",6549,"CTP. DE ZARCERO","COOPERATIVAS SECUNDARIA TECNICA",12,"60 MINUTOS"]
[56,"SAN CARLOS",4176,"CTP. AGUAS ZARCAS","COOPERATIVAS SECUNDARIA TECNICA",12,"60 MINUTOS"]
[56,"SAN CARLOS",4178,"CTP. VENECIA","COOPERATIVAS SECUNDARIA TECNICA",12,"60 MINUTOS"]
[56,"SAN CARLOS",4179,"CTP. FORTUNA","COOPERATIVAS SECUNDARIA TECNICA",12,"60 MINUTOS"]
[56,"SAN CARLOS",4180,"CTP. DE PITAL","COOPERATIVAS SECUNDARIA TECNICA",12,"60 MINUTOS"]
[56,"SAN CARLOS",4182,"CTP. SANTA ROSA","COOPERATIVAS SECUNDARIA TECNICA",12,"60 MINUTOS"]
[56,"SAN CARLOS",4183,"CTP. REG. DE SAN CARLOS","COOPERATIVAS SECUNDARIA TECNICA",12,"60 MINUTOS"]
[56,"SAN CARLOS",6577,"CTP. DE PLATANAR","COOPERATIVAS SECUNDARIA TECNICA",12,"60 MINUTOS"]
[57,"CARTAGO",4185,"CTP. DE PACAYAS","COOPERATIVAS SECUNDARIA TECNICA",12,"60 MINUTOS"]
[57,"CARTAGO",6032,"CTP. FERNANDO VOLIO JIMENEZ","COOPERATIVAS SECUNDARIA TECNICA",12,"60 MINUTOS"]
[57,"CARTAGO",6503,"CTP. DULCE NOMBRE","COOPERATIVAS SECUNDARIA TECNICA",12,"60 MINUTOS"]
[57,"CARTAGO",6533,"CTP. DE OREAMUNO","COOPERATIVAS SECUNDARIA TECNICA",12,"60 MINUTOS"]
[57,"CARTAGO",6534,"CTP. SANTA LUCÍA","COOPERATIVAS SECUNDARIA TECNICA",12,"60 MINUTOS"]
[58,"TURRIALBA",4189,"CTP. DE LA SUIZA","COOPERATIVAS SECUNDARIA TECNICA",12,"60 MINUTOS"]
[59,"HEREDIA",4190,"CTP. DE FLORES","COOPERATIVAS SECUNDARIA TECNICA",12,"60 MINUTOS"]
[59,"HEREDIA",6504,"CTP. SAN PEDRO DE BARVA","COOPERATIVAS SECUNDARIA TECNICA",12,"60 MINUTOS"]
[59,"HEREDIA",6526,"CTP. MERCEDES NORTE","COOPERATIVAS SECUNDARIA TECNICA",12,"60 MINUTOS"]
[59,"HEREDIA",6639,"CTP. DEL ESTE","COOPERATIVAS SECUNDARIA TECNICA",12,"60 MINUTOS"]
[60,"LIBERIA",4195,"CTP. DE LA FORTUNA DE BAGACES","COOPERATIVAS SECUNDARIA TECNICA",12,"60 MINUTOS"]
[61,"NICOYA",4196,"CTP. DE NANDAYURE","COOPERATIVAS SECUNDARIA TECNICA",12,"60 MINUTOS"]
[61,"NICOYA",4197,"CTP. HOJANCHA","COOPERATIVAS SECUNDARIA TECNICA",12,"60 MINUTOS"]
[61,"NICOYA",4198,"CTP. DE NICOYA","COOPERATIVAS SECUNDARIA TECNICA",12,"60 MINUTOS"]
[61,"NICOYA",4199,"CTP. MANSION","COOPERATIVAS SECUNDARIA TECNICA",12,"60 MINUTOS"]
[61,"NICOYA",4200,"CTP. CORRALILLO","COOPERATIVAS SECUNDARIA TECNICA",12,"60 MINUTOS"]
[61,"NICOYA",6640,"CTP. COPAL","COOPERATIVAS SECUNDARIA TECNICA",12,"60 MINUTOS"]
[62,"SANTA CRUZ",4201,"CTP. DE CARRILLO","COOPERATIVAS SECUNDARIA TECNICA",12,"60 MINUTOS"]
[62,"SANTA CRUZ",4202,"CTP. 27 DE ABRIL","COOPERATIVAS SECUNDARIA TECNICA",12,"60 MINUTOS"]
[62,"SANTA CRUZ",4203,"CTP. DE SANTA CRUZ","COOPERATIVAS SECUNDARIA TECNICA",12,"60 MINUTOS"]
[62,"SANTA CRUZ",4204,"CTP. DE SANTA BARBARA","COOPERATIVAS SECUNDARIA TECNICA",12,"60 MINUTOS"]
[62,"SANTA CRUZ",5410,"CTP. DE CARTAGENA","COOPERATIVAS SECUNDARIA TECNICA",12,"60 MINUTOS"]
[63,"CAÑAS",4207,"CTP. DE ABANGARES","COOPERATIVAS SECUNDARIA TECNICA",12,"60 MINUTOS"]
[63,"CAÑAS",6538,"CTP. DE CAÑAS","COOPERATIVAS SECUNDARIA TECNICA",12,"60 MINUTOS"]
[64,"PUNTARENAS",4209,"CTP. DE PUNTARENAS","COOPERATIVAS SECUNDARIA TECNICA",12,"60 MINUTOS"]
[64,"PUNTARENAS",6550,"CTP. DE ESPARZA","COOPERATIVAS SECUNDARIA TECNICA",12,"60 MINUTOS"]
[65,"COTO",4214,"CTP. CARLOS ML. VICENTE C.","COOPERATIVAS SECUNDARIA TECNICA",12,"60 MINUTOS"]
[65,"COTO",4215,"CTP. HUMBERTO MELLONI ","COOPERATIVAS SECUNDARIA TECNICA",12,"60 MINUTOS"]
[65,"COTO",4216,"CTP. DE SABALITO","COOPERATIVAS SECUNDARIA TECNICA",12,"60 MINUTOS"]
[65,"COTO",4217,"CTP. GUAYCARA","COOPERATIVAS SECUNDARIA TECNICA",12,"60 MINUTOS"]
[65,"COTO",4218,"CTP. CORREDORES","COOPERATIVAS SECUNDARIA TECNICA",12,"60 MINUTOS"]
[65,"COTO",6576,"CTP. HENRY FRANCOIS PITTIER","COOPERATIVAS SECUNDARIA TECNICA",12,"60 MINUTOS"]
[66,"LIMÓN",4222,"CTP. DE BATAAN","COOPERATIVAS SECUNDARIA TECNICA",12,"60 MINUTOS"]
[67,"GUÁPILES",4227,"CTP. DE POCOCI","COOPERATIVAS SECUNDARIA TECNICA",12,"60 MINUTOS"]
[67,"GUÁPILES",4228,"CTP. DE GUACIMO","COOPERATIVAS SECUNDARIA TECNICA",12,"60 MINUTOS"]
[67,"GUÁPILES",6584,"CTP. LAS PALMITAS","COOPERATIVAS SECUNDARIA TECNICA",12,"60 MINUTOS"]
[68,"AGUIRRE",4230,"CTP. PARRITA","COOPERATIVAS SECUNDARIA TECNICA",12,"60 MINUTOS"]
[68,"AGUIRRE",4231,"CTP. DE MATAPALO","COOPERATIVAS SECUNDARIA TECNICA",12,"60 MINUTOS"]
[69,"ZONA NORTE",4181,"CTP. GUATUSO","COOPERATIVAS SECUNDARIA TECNICA",12,"60 MINUTOS"]
[69,"ZONA NORTE",4232,"CTP.  UPALA","COOPERATIVAS SECUNDARIA TECNICA",12,"60 MINUTOS"]
[71,"SAN JOSÉ NORTE",4155,"CTP. DE CALLE BLANCOS","COOPERATIVAS SECUNDARIA TECNICA",12,"60 MINUTOS"]
[73,"LOS SANTOS",4186,"CTP. DANIEL FLORES ZAVALETA","COOPERATIVAS SECUNDARIA TECNICA",12,"60 MINUTOS"]
[73,"LOS SANTOS",4188,"CTP. SAN PABLO LEON CORTES","COOPERATIVAS SECUNDARIA TECNICA",12,"60 MINUTOS"]
[75,"GRANDE DE TÉRRABA",4170,"CTP. DE BUENOS AIRES","COOPERATIVAS SECUNDARIA TECNICA",12,"60 MINUTOS"]
[75,"GRANDE DE TÉRRABA",4213,"CTP. OSA","COOPERATIVAS SECUNDARIA TECNICA",12,"60 MINUTOS"]
[76,"PENSINSULAR",4211,"CTP. DE CÓBANO","COOPERATIVAS SECUNDARIA TECNICA",12,"60 MINUTOS"]
[]
[]
["PLAN NACIONAL "]
["REGIÓN ","CODIGO 02/03/05","CODIGO 04","NOMBRE DE INSTITUCION","ESTADO"]
[50,3942,4332,"LICEO DEL SUR","SI"]
[50,3956,4336,"LICEO EDGAR CERVANTES VILLALTA","SI"]
[50,3961,4311,"LICEO ALAJUELITA","SI"]
[50,3971,4333,"LICEO DE CUATRO REINAS","SI"]
[50,3986,4274,"LICEO RICARDO FERNANDEZ","SI"]
[50,4826,4313,"IPEC SAN JOSE","SI"]
[50,6016,6150,"C.T.P. ULADISLAO GAMEZ SOLANO","SI"]
[51,3985,5605,"LICEO SAN MIGUEL","SI"]
[51,3989,4379,"LICEO DE ASERRI","SI"]
[51,3990,6110,"LICEO DE FRAILES","SI"]
[51,3993,6109,"LICEO DE SABANILLAS","SI"]
[51,4158,4378,"C.T.P. DOS CERCAS","SI"]
[51,4162,4368,"C.T.P. DE ACOSTA","SI"]
[51,5072,5234,"LICEO DE GRAVILIAS","SI"]
[51,6527,5366,"LICEO MAXIMO QUESADA","SI"]
[52,3996,5372,"LICEO DE CIUDAD COLON","SI"]
[52,3998,5538,"COLEGIO DE TABARCIA","SI"]
[52,4163,4389,"CTP PURISCAL","SI"]
[52,4164,5373,"C.T.P. TURRUBARES","SI"]
[52,4165,5374,"C.T.P. LA GLORIA","SI"]
[52,5873,6069,"LICEO DE BARBABCOAS","SI"]
[53,4166,4409,"C.T.P. SAN ISIDRO","SI"]
[53,4167,5381,"C.T.P. PLATANARES","SI"]
[53,6532,6382,"C.T.P. AMBIENTALISTA ISAIAS RETANA","SI"]
[54,4015,5239,"COLEGIO AMBIENTALISTA EL ROBLE","SI"]
[54,4019,4481,"LICEO MARTHA MIRANBEL UMAÑA","SI"]
[54,4020,4473,"LICEO LEON CORTES CASTRO","SI"]
[54,4021,4460,"LICEO DE POAS","SI"]
[54,4024,4908,"LICEO SAN JOSE","SI"]
[54,4172,4461,"C.T.P RICARDO CASTRO BEER","SI"]
[54,4847,4472,"I.P.E.C. MARIA PACHECO","SI"]
[54,6507,6041,"LICEO DE SABANILLAS","SI"]
[54,"X",4475,"COL. MARISTA","SI"]
[55,4032,4512,"LICEOS NUESTRA SEÑORA DE LOS ANGELES","SI"]
[55,4036,5943,"LICEO DE VALLE AZUL","SI"]
[55,4039,5485,"LICEO DR. RICARDO MORENO CAÑAS","SI"]
[55,4040,4511,"LICEO ALFARO RUIZ","SI"]
[55,4174,6280,"C.T.P. DE PIEDADES SUR","SI"]
[55,4175,6055,"C.T.P FRANCISCO J. ORLICH","SI"]
[55,5676,6756,"COLEGIO LA CANDELARIA","SI"]
[56,4042,5518,"LICEO DE FLORENCIA","SI"]
[56,4045,4522,"LICEO SAN CARLOS","SI"]
[56,4176,5396,"C.T.P. NATANIEL ARIAS (AGUAS ZARCAS)","SI"]
[56,4177,5710,"C.T.P. LOS CHILES","SI"]
[56,4178,5626,"C.T.P. DE VENECIA","SI"]
[56,4179,5792,"C.T.P. DE LA FORTUNA","SI"]
[56,4181,5625,"C.T.P. DE GUATUSO","SI"]
[56,4182,5793,"C.T.P. SANTA ROSA","SI"]
[56,5303,6294,"LICEO CAPITAN MANUEL QUIROS","SI"]
[56,5532,6359,"LICEO BOCA DE ARENAL","SI"]
[57,4052,5247,"LICEO DE PARAISO","SI"]
[57,4057,4581,"LICEO DE TARRAZU","SI"]
[57,4061,5546,"LICEO DE CORRALILLO","SI"]
[57,4064,5398,"LICEO FRANCISCA CARRASCO","SI"]
[57,4067,4547,"LICEO BRAULIO CARRILLO","SI"]
[57,4185,5635,"C.T.P. DE PACAYAS","SI"]
[57,5082,4573,"C.T.P. ING. MARIO QUIROS S.","SI"]
[58,4070,5336,"LICEO HERNAN VARGAS RAMIREZ","SI"]
[58,4071,5515,"LICEO DE TUCURRIQUE","SI"]
[58,4075,5503,"LICEO DE PEJIBAYE","SI"]
[58,4189,4594,"C.T.P. LA SUIZA","SI"]
[59,4085,5407,"LICEO ING. MANUEL BENAVIDES","SI"]
[59,4087,6057,"LICEO EXP. BILINGUE BELEN","SI"]
[59,4088,4633,"LICEO EL ROBLE","SI"]
[59,4090,5406,"LICEO DE SANTO DOMINGO","SI"]
[59,4190,4902,"C.T.P. DE FLORES","SI"]
[59,4192,4625,"C.T.P. DE ULLOA","SI"]
[59,5077,6650,"LICEO RODRIGO HERNANDEZ V.","SI"]
[60,4097,5408,"LICEO JOSE MARIA GUTIERREZ","SI"]
[60,4101,5514,"COLEGIO DE BAGACES","SI"]
[60,4194,4681,"C.T.P. LIBERIA","SI"]
[60,4195,4906,"C.T.P. LA FORTUNA","SI"]
[60,6578,5615,"LICEO BARRIO IRVIN","SI"]
[61,4104,6334,"COLEGIO BOCAS DE NOSARA","SI"]
[61,4106,6332,"LICEO SAN FRANCISCO DE COYOTE","SI"]
[61,4196,6190,"C.T.P. NANDAYURE","SI"]
[61,4197,6333,"C.T.P. HOJANCHA","SI"]
[61,4198,4697,"C.T.P. DE NICOYA","SI"]
[61,4199,5597,"C.T.P. DE MANSION","SI"]
[61,4200,6191,"C.T.P. DE CORRALILLO","SI"]
[61,6640,6189,"C.T.P. DE COPAL","SI"]
[62,4201,4715,"C.T.P. CARRILLO","SI"]
[62,4202,5446,"C.T.P. 27 DE ABRIL","SI"]
[62,4203,4709,"C.T.P. SANTA CRUZ","SI"]
[62,4204,6379,"C.T.P. DE SANTA BARBARA","SI"]
[62,4205,5410,"C.T.P. DE CARTAGENA","SI"]
[62,4206,6177,"C.T.P.SARDINAL","SI"]
[62,5079,6159,"LICEO DE VILLARREAL","SI"]
[63,4110,5411,"LICEO MAURILIO ALVARADO VARGAS","SI"]
[63,4111,4722,"LICEO MIGUEL ARAYA V.","SI"]
[63,4113,6652,"LICEO DE COLORADO","SI"]
[63,4207,4728,"C.T.P. ABANGARES","SI"]
[64,4116,6188,"LICEO JOSE MARTI","SI"]
[64,4118,5617,"LICEO DE MIRAMAR","SI"]
[64,4121,5774,"LICEO DE CHOMES ","SI"]
[64,4208,4752,"C.T.P. DE JICARAL","SI"]
[64,4209,4732,"C.T.P. DE PUNTARENAS","SI"]
[64,4210,4750,"C.T.P. DE PAQUERA","SI"]
[65,4125,5893,"LICEO DE CIUDAD NEILY","SI"]
[65,4214,4764,"C.T.P. CARLOS ML. VICENTE","SI"]
[65,4215,4763,"C.T.P. HUMBERTO MELLONI CAMPAN","SI"]
[65,4216,5479,"C.T.P. SABALITO","SI"]
[65,4217,5571,"C.T.P. GUAYCARA","SI"]
[65,4218,4767,"C.T.P. CORREDORES","SI"]
[65,4220,4769,"C.T.P. PUERTO JIMENEZ","SI"]
[65,6112,6335,"COLEGIO FINCA NARANJO","SI"]
[66,4133,4774,"COLEGIO DE LIMON DIURNO","SI"]
[66,4222,4776,"C.T.P. DE BATAAN","SI"]
[66,4226,4787,"C.T.P. PADRE ROBERTO EVANS SAUNDERS","SI"]
[67,4141,6755,"LICEO DE CARIARI","SI"]
[67,4227,5264,"C.T.P. DE POCOCI","SI"]
[67,4228,4803,"C.T.P. GUACIMO","SI"]
[68,4229,5429,"C.T.P. DE JACO","SI"]
[68,4230,5428,"C.T.P. DE PARRITA","SI"]
[68,4231,5545,"C.T.P. DE MATAPALO","SI"]
[68,5748,5777,"C.T.P. DE QUEPOS","SI"]
[69,4232,5433,"C.T.P. DE UPALA","SI"]
[71,3949,5467,"LICEO DE MORAVIA","SI"]
[71,3953,4331,"LICEO DE CORONADO","SI"]
[71,3962,4304,"LICEO DE CEDROS","SI"]
[71,4155,4246,"C.T.P. CALLE BLANCOS","SI"]
[71,6528,4329,"C.T.P. PURRAL","SI"]
[72,3941,5364,"LICEO DE SAN JOSE","SI"]
[72,3952,5365,"LICEO DE ESCAZU","SI"]
[72,3959,4276,"LICEO SANTA ANA","SI"]
[72,3968,4325,"LICEO DE PAVAS","SI"]
[74,4091,6322,"LICEO DE RIO FRIO","SI"]
[74,4193,5639,"C.T.P. PUERTO VIEJO","SI"]
[75,4124,5260,"LICEO PACIFICO SUR","SI"]
[75,4170,4425,"C.T.P. DE BUENOS AIRES","SI"]
[75,4213,4762,"C.T.P. DE OSA","SI","  "]
[76,4211,6305,"C.T.P. DE COBANO","SI"]
[77,4223,4789,"C.T.P. DE TALAMANCA","SI"]
[]
[]
[]
["LABORA"]
["Dirección Regional","Código Presupuestario","Institución ","Nombre del Director (a)","DIURNO","NOCTURNO"]
["San José Central",4157,"San Sebastián",null,30,10]
["San José Central",6016,"Uladislao Gámez Solano",null,30,10]
["San José Central",6130,"Granadilla",null,30,0]
["San José Central",6634,"Alajuelita",null,30]
["San José Central",6719,"Hatillo",null,16]
["Desamparados",4158,"Dos Cercas",null,30]
["Desamparados",4159,"Vocacional Monseñor  Sanabria",null,30,10]
["Desamparados",4160,"José Figueres Ferrer",null,30,10]
["Desamparados",4161,"San Juan Sur",null,30,10]
["Desamparados",4162,"Acosta",null,30,0]
["Desamparados",6104,"José Albertazzi Avendaño",null,30,10]
["Desamparados",6527,"Máximo Quesada",null,30]
["Desamparados",6531,"Aserrí",null,30,10]
["Desamparados",6574,"José María Zeledón Brenes",null,30]
["Desamparados",6582,"Roberto Gamboa Valverde",null,30]
["Desamparados",6583,"Braulio Odio Herrera",null,16]
["Puriscal",4163,"Puriscal",null,30,10]
["Puriscal",4164,"Turrubares",null,16]
["Puriscal",4165,"La Gloria",null,16]
["Puriscal",6505,"Palmichal",null,30,10]
["Puriscal",6548,"Mora",null,16]
["Pérez Zeledón",4166,"San Isidro de Pérez Zeledón",null,30,10]
["Pérez Zeledón",4167,"Platanares",null,30,10]
["Pérez Zeledón",4168,"Pejibaye",null,30,10]
["Pérez Zeledón",4169,"General Viejo",null,30,10]
["Pérez Zeledón",6532,"Isaías Retana Arias",null,30]
["Alajuela",4171,"Jesús Ocaña Rojas",null,30]
["Alajuela",4172,"Ricardo Castro Beer",null,30]
["Alajuela",4173,"San Mateo",null,30,10]
["Alajuela",6033,"INVU Las Cañas",null,30,10]
["Alajuela",6105,"Carrizal",null,30,10]
["Alajuela",6506,"Bolívar",null,30]
["Alajuela",6507,"Sabanilla",null,30]
["Alajuela",6508,"San Rafael de Poás",null,30]
["Alajuela",6537,"Santa Eulalia",null,30]
["Alajuela",6547,"Atenas",null,30,10]
["Alajuela",6635,"San Rafael de Alajuela",null,30,10]
["Occidente",4174,"Piedades Sur",null,30]
["Occidente",4175,"Francisco J. Orlich",null,30]
["Occidente",6502,"Santo Cristo de Esquipulas ",null,30,10]
["Occidente",6535,"Calle Zamora",null,30,10]
["Occidente",6536,"Rosario de Naranjo",null,30,10]
["Occidente",6549,"Zarcero",null,30]
["San Carlos",4176,"Nataniel Arias Murillo",null,30,10]
["San Carlos",4177,"Los Chiles",null,30]
["San Carlos",4178,"Venecia",null,30]
["San Carlos",4179,"La Fortuna de San Carlos",null,30]
["San Carlos",4180,"Pital",null,30,10]
["San Carlos",4182,"Santa Rosa de Pocosol",null,30]
["San Carlos",4183,"Regional de San Carlos",null,30,10]
["San Carlos",6577,"Platanar",null,30]
["San Carlos",6641,"La Tigra",null,30]
["Cartago",4184,"COVAO Diurno",null,30]
["Cartago",4185,"Pacayas",null,30]
["Cartago",5082,"Mario Quirós Sasso",null,30,10]
["Cartago",6032,"Fernando Volio Jiménez",null,30]
["Cartago",6503,"Dulce Nombre",null,30]
["Cartago",6533,"Oreamuno",null,30]
["Cartago",6534,"Santa Lucía",null,30]
["Cartago",6581,"Orosí",null,30]
["Turrialba",4189,"La Suiza",null,30,10]
["Heredia",4190,"Flores",null,30]
["Heredia",4191,"Heredia",null,30]
["Heredia",4192,"Ulloa",null,30]
["Heredia",6504,"San Pedro de Barva",null,30,10]
["Heredia",6524,"San Isidro de Heredia",null,30]
["Heredia",6525,"Santo Domingo",null,30]
["Heredia",6526,"Mercedes Norte",null,30]
["Heredia",6633,"Belén",null,16]
["Heredia",6639,"Del Este",null,30]
["Liberia",4194,"Liberia",null,30,10]
["Liberia",4195,"La Fortuna de Bagaces",null,30]
["Liberia",6578,"Barrio Irvin",null,30]
["Nicoya",4196,"Nandayure",null,30]
["Nicoya",4197,"Hojancha",null,30]
["Nicoya",4198,"Nicoya",null,30,10]
["Nicoya",4199,"La Mansión",null,16]
["Nicoya",4200,"Corralillo",null,30,5]
["Nicoya",6640,"Copal",null,16]
["Santa Cruz",4201,"Carrillo",null,30,10]
["Santa Cruz",4202,"27 de Abril",null,30]
["Santa Cruz",4203,"Santa Cruz",null,30]
["Santa Cruz",4204,"Santa Bárbara",null,16]
["Santa Cruz",4205,"Cartagena",null,30]
["Santa Cruz",4206,"Sardinal",null,30]
["Cañas",4207,"Abangares",null,30]
["Cañas",6034,"Tronadora",null,16]
["Cañas",6538,"Cañas",null,30,10]
["Puntarenas",4209,"Puntarenas",null,30,10]
["Puntarenas",4212,"Santa Elena de Monteverde",null,30]
["Puntarenas",6550,"Esparza",null,16]
["Coto",4214,"Carlos Manuel Vicente Castro",null,30]
["Coto",4215,"Umberto Melloni Campanini",null,30]
["Coto",4216,"Sabalito",null,30]
["Coto",4217,"Guaycara",null,30,10]
["Coto",4218,"Corredores",null,30,10]
["Coto",4220,"Puerto Jiménez",null,30]
["Coto",6576,"Henri Francois Pittier",null,16]
["Limón",4221,"Limón",null,30]
["Limón",4222,"Bataan",null,30,10]
["Limón",4224,"Valle La Estrella",null,30]
["Limón",4226,"Padre Roberto Evans Sauders",null,30,10]
["Limón",6579,"Liverpool",null,30]
["Guápiles",4227,"Pococí",null,30]
["Guápiles",4228,"Guácimo",null,30]
["Guápiles",6580,"Agroportica",null,30]
["Guápiles",6584,"Las Palmitas",null,30]
["Aguirre",4229,"Jacó",null,30]
["Aguirre",4230,"Parrita",null,30]
["Aguirre",4231,"Matapalo",null,30]
["Aguirre",5748,"Quepos",null,30]
["Norte Norte",4181,"Guatuso",null,30]
["Norte Norte",4232,"Upala",null,30]
["San José Norte",4155,"Calle Blancos",null,30]
["San José Norte",6358,"Vásquez de Coronado",null,30]
["San José Norte",6528,"Purral",null,30]
["San José Norte",6529,"Abelardo Bonilla Baldares",null,30]
["San José Oeste",4156,"Educación Comercial y de Servicios",null,30]
["San José Oeste",5680,"Santa Ana",null,16]
["San José Oeste",5818,"Escazú",null,30]
["San José Oeste",6530,"Pavas",null,30]
["San José Oeste",6718,"La Carpio",null,16]
["Los Santos",4186,"José Daniel Flores Zavaleta",null,30]
["Los Santos",4188,"San Pablo de León Cortés",null,30]
["Sarapiquí",4193,"Puerto Viejo",null,30]
["Grande de Térraba",4170,"Buenos Aires",null,30]
["Grande de Térraba",4213,"Osa",null,30]
["Peninsular",4208,"Jicaral",null,30]
["Peninsular",4210,"Paquera",null,30]
["Peninsular",4211,"Cóbano",null,30]
["Sulá",4223,"Talamanca",null,30]
["Alajuela",4844,"Carlos Luis Fallas Sibaja",null,null,46]
["Cartago",4857,"COVAO Nocturno",null,null,40]
[null,null,null,null,{"$f":"SUM(E617:E749)","v":3734},{"$f":"SUM(F617:F749)","v":451}]

{"sheet":"Hoja4","index":6,"n_rows":109,"n_cols":11,"rows_kept":109,"cut":false,"hidden":true,"merged":[]}
["PLAN DOS AÑOS:",null,"EDUCACION FISICA"]
["DIURNO",null,"NO APLICA"]
["NOCTURNO",null,"SEPARADO"]
["DIURNO Y NOCTURNO",null,"MIXTO"]
[]
[]
["RESPUESTA"]
["SI"]
["NO"]
[]
[]
[]
[null,null,null,null,null,null,null,"CTP NUEVOS"]
[null,"SECCIONES NOCTURNAS"]
[]
["CODIGO PRESUPUESTARIO","DESCRIPCION","DETALLE","AÑO INICIO","CLAVE",null,"CODIGO PRESUPUESTARIO","DESCRIPCION","AÑO INICIO","CLAVE"]
[4155,"Calle Blancos","SI",0,1,null,0,null,null,{"$f":"IF(G17=0,1,2)","v":1}]
[4157,"San Sebastián","SI",0,1,null,0,null,null,1]
[4159,"Monseñor Víctor Manuel Sanabria","SI",0,1,null,0,null,null,1]
[4160,"José Figueres Ferrer","SI",0,1,null,0,null,null,1]
[4161,"San Juan Sur","SI",0,1,null,0,null,null,1]
[4162,"Acosta","SI",0,1,null,0,null,null,1]
[4163,"Puriscal","SI",0,1]
[4166,"San Isidro de Pérez Zeledón","SI",0,1]
[4167,"Platanares","SI",0,1]
[4168,"Pejibaye","SI",0,1]
[4169,"General Viejo","SI",0,1,null,"CODIGO PRESUPUESTARIO","NOMBRE ","PLAN DOS AÑOS","CLAVE"]
[4173,"San Mateo","SI",0,1]
[4176,"Nataniel Arias Murillo","SI",0,1,null,6550,"CTP ESPARZA","SI",2]
[4177,"Los Chiles","SI",0,1,null,6576,"CTP SANTA ELENA DE PITTIER","SI",2]
[4178,"Venecia","SI",0,1,null,6640,"COPAL","NO",2,"2021 NO VA"]
[4179,"La Fortuna de San Carlos","SI",0,1]
[4180,"Pital","SI",0,1]
[4181,"Guatuso","SI",0,1]
[4182,"Santa Rosa de Pocosol","SI",0,1]
[4183,"Regional de San Carlos","SI",0,1]
[4185,"Pacayas","SI",0,1]
[4186,"José Daniel Flores Zavaleta","SI",0,1]
[4188,"San Pablo de León Cortés","SI",0,1]
[4189,"La Suiza","SI",0,1]
[4191,"Heredia","SI",0,1]
[4193,"Puerto Viejo","SI",0,1]
[4194,"Liberia","SI",0,1]
[4195,"La Fortuna de Bagaces","SI",0,1]
[4196,"Nandayure","SI",0,1]
[4197,"Hojancha","SI",0,1]
[4198,"Nicoya","SI",0,1]
[4200,"Corralillo","SI",0,1]
[4201,"Carrillo","SI",0,1]
[4202,"27 de abril","SI",0,1]
[4203,"Santa Cruz","SI",0,1]
[4204,"Santa Bárbara","SI",0,1]
[4205,"Cartagena","SI",0,1]
[4206,"Sardinal","SI",0,1]
[4207,"Abangares","SI",0,1]
[4208,"Jicaral","SI",0,1]
[4208,"Jicaral","SI",0,1]
[4209,"Puntarenas","SI",0,1]
[4210,"Paquera","SI",0,1]
[4211,"Cóbano","SI",0,1]
[4212,"Santa Elena de Monteverde","SI",0,1]
[4213,"Osa","SI",0,1]
[4214,"Carlos Manuel Vicente Castro","SI",0,1]
[4215,"Umberto Melloni Campanini","SI",0,1]
[4217,"Guaycara","SI",0,1]
[4218,"Corredores","SI",0,1]
[4220,"Puerto Jiménez","SI",0,1]
[4221,"Limón","SI",0,1]
[4222,"Bataan","SI",0,1]
[4226,"Padre Roberto Evans Sauders","SI",0,1]
[4227,"Pococí","SI",0,1]
[4229,"Jacó","SI",0,1]
[4230,"Parrita","SI",0,1]
[4232,"Upala","SI",0,2]
[4844,"Carlos Luis Fallas Sibaja","SI",0,1]
[4857,"COVAO Nocturno","SI",0,1]
[5748,"Quepos","SI",0,1]
[5818,"Escazú","SI",0,1]
[6016,"Uladislao Gámez Solano","SI",0,1]
[6033,"INVU Las Cañas","SI",0,1]
[6034,"Tronadora","SI",0,1]
[6104,"José Albertazzi Avendaño","SI",0,1,null,null,{"$f":"+A89=#REF!","v":{"$error":"#REF!"}}]
[6105,"Carrizal","SI",0,1]
[6130,"Granadilla","SI",0,1]
[6358,"Vásquez de Coronado","SI",0,1]
[6502,"Santo Cristo de Esquipulas","SI",0,1]
[6503,"Dulce Nombre","SI",0,1]
[6504,"San Pedro de Barva","SI",0,1]
[6505,"Palmichal","SI",0,1]
[6507,"Sabanilla","SI",0,1]
[6524,"San Isidro de Heredia","SI",0,1]
[6525,"Santo Domingo","SI",0,1]
[6528,"Purral","SI",0,1]
[6529,"Abelardo Bonilla Baldares","SI",0,1]
[6530,"Pavas","SI",0,1]
[6531,"Aserrí","SI",0,1]
[6532,"Isaías Retana Arias","SI",0,1]
[6534,"Santa Lucía","SI",0,1]
[6535,"Calle Zamora","SI",0,1]
[6536,"Rosario de Naranjo","SI",0,1]
[6538,"Cañas","SI",0,1]
[6547,"Atenas","SI",0,1]
[6577,"Platanar","SI",0,1]
[6578,"Barrio Irvin","SI",0,1]
[6579,"Liverpool","SI",0,1]
[6583,"Braulio Odio Herrera","SI",0,1]
[6584,"Las Palmitas","SI",0,1]
[6635,"San Rafael de Alajuela","SI",0,1]
[6641,"La Tigra","SI",0,1]

{"sheet":"REAJUSTES Y CASOS ESPEC","index":7,"n_rows":114,"n_cols":6,"rows_kept":114,"cut":false,"hidden":true,"merged":[[0,0,0,4],[92,0,92,3],[97,0,97,5]]}
["LECCIONES PARA REAJUSTE 2023"]
["Institucion","SUB","REGION","CÓDIGO","Reajuste"]
["CTP SAN SEBASTIAN",3,50,4157]
["CTP DE GRANADILLA",3,50,6130]
["CTP HATILLO",3,50,6719]
["CTP DE DOS CERCAS",3,51,4158]
["CTP MONS. SANABRIA",3,51,4159]
["CTP JOSE FIGUERES FERRER",3,51,4160]
["CTP SAN JUAN SUR",3,51,4161]
["CTP DE ACOSTA",3,51,4162]
["CTP JOSE ALBERTAZZI",3,51,6104]
["CTP DE ASERRI",3,51,6531]
["CTP JOSE MARIA ZELEDON",3,51,6574]
["CTP DE ROBERTO GAMBOA",3,51,6582]
["CTP DE PURISCAL",3,52,4163]
["CTP DE TURRUBARES",3,52,4164]
["CTP LA GLORIA",3,52,4165]
["CTP PALMICHAL",3,52,6505]
["C.T.P. SAN ISIDRO",3,53,4166]
["C.T.P. PLATANARES",3,53,4167]
["C.T.P. PEJIBALLE",3,53,4168]
["C.T.P.  DE GENERAL VIEJO",3,53,4169]
["CTP  ISAIAS RETANA",3,53,6532]
["CTP CARLOS LUIS FALLAS",5,54,4844]
["CTP BOLIVAR",3,54,6506]
["C.T.P PIEDAD DEL SUR",3,55,4174]
["CTP SANTO CRISTO DE ESQ",3,55,6502]
["CTP ROSARIO DE NARANJO",3,55,6536]
["CTP ZARCERO",3,55,6549]
["C.T.P. PITAL",3,56,4180]
["C.T.P. GUATUSO",3,56,4181]
["C.T.P.N.SAN CARLOS",3,56,4183]
["C.T.P. PACAYAS",3,57,4185]
["CTP MARIO QUIROS SASSO",3,57,5082]
["CTP FERNANDO VOLIO",3,57,6032]
["CTP DULCE NOMBRE",3,57,6503]
["CTP OREAMUNO",3,57,6533]
["CTP LLANOS DE SANTA LUCIA",3,57,6534]
["CTP DE OROSI",3,57,6581]
["CTP LA SUIZA",3,58,4189]
["C.T.P. DE HEREDIA",3,59,4191]
["C.T.P. DE ULLOA",3,59,4192]
["CTP MERCEDES NORTE",3,59,6256]
["CTP SAN ISIDRO",3,59,6524]
["CTP SANTO DOMINGO",3,59,6525]
["CTP DE BELEN",3,59,6633]
["CTP DEL ESTE",3,59,6639]
["CTP LIBERIA",3,60,4194]
["CTP LA FORTUNA",3,60,4195]
["CTP DE BARRIO IRVIN",3,60,6578]
["CTP NANDAYURE",3,61,4196]
["CTP HOJANCHA",3,61,4197]
["CTP MANSION ",3,61,4199]
["CTP COPAL",3,61,6640]
["CTP CARRILLO",3,62,4201]
["CTP 27 DE ABRIL",3,62,4202]
["CTP SANTA CRUZ",3,62,4203]
["CTP SANTA BARBARA",3,62,4204]
["CTP CARTAGENA",3,62,4205]
["CTP SARDINAL",3,62,4206]
["CTP DE ABANGARES",3,63,4207]
["CTP DE CAÑAS",3,63,6538]
["CTP PUNTARENAS",3,64,4209]
["C.T.P. CARLOS ML. VICENTE",3,65,4214]
["C.T.P. UMBERTO MELLONI CAMPANINI",3,65,4215]
["C.T.P. SABALITO",3,65,4216]
["C.T.P. GUAYCARA",3,65,4217]
["C.T.P. CORREDORES",3,65,4218]
["C.T.P. PUERTO JIMENEZ",3,65,4220]
["CTP DE SANTA ELENA DE PITTIER",3,65,6576]
["CTP DE LIMON",3,66,4221]
["CTP DE BATAAN",3,66,4222]
["CTP PADRE ROBERTO EVANS",3,66,4226]
["CTP DE LIVERPOOL",3,66,6579]
["CTP DE POCOCI",3,67,4227]
["CTP GUACIMO",3,67,4228]
["CTP AGROPORTICA",3,67,6580]
["CTP PALMITAS",3,67,6584]
["CTP DE PARRITA",3,68,4230]
["CTP DE CALLE BLANCOS ",3,71,4155]
["CTP VASQUEZ DE CORONADO",3,71,6358]
["CTP PURRAL",3,71,6528]
["CTP ABELARDO BONILLA",3,71,6529]
["COTEPECOS",3,72,4156]
["CTP SANTA ANA",3,72,5680]
["CTP DE ESCAZU",3,72,5818]
["CTP PAVAS",3,72,6530]
["CTP JOSE DANIEL FLORES Z.",3,73,4186]
["C.T.P.  DE BUENOS AIRES",3,75,4170]
["C.T.P. DE OSA",3,75,4213]
["CTP JICARAL",3,76,4208]
["CTP PAQUERA",3,76,4210]
["TOTAL",null,null,null,{"$f":"SUM(E3:E92)","v":0}]
[]
[]
[]
[]
["LECCIONES LICENCIAS 2023"]
["SUBPROGRAMA","REGIÓN ","CÓDIGO ","CANTIDAD DE LECCIONES","CLASE DE PUESTO","ESPECIALIDAD"]
[3,56,4177,8,"Profesor de Enseñanza Media (G. de E.) ","Ciencias"]
[3,52,4163,2,"Profesor de Enseñanza Media (G. de E.) ","Estudios Sociales/Educación Cívica"]
[3,53,4166,8,"Profesor de Enseñanza Técnico Profesional (III y IV Ciclos, Enseñanza Especial y Escuela Laboratorio) (G. de E.)","Música/Música"]
[3,53,4168,8,"Profesor de Enseñanza Media (G. de E.) ","Estudios Sociales/Educación Cívica"]
[3,55,4174,8,"Profesor de Enseñanza Media (G. de E.) ","Estudios Sociales/Educación Cívica"]
[3,62,4201,8,"Profesor de Enseñanza Media (G. de E.)","Inglés"]
[3,62,4204,2,"Profesor de Enseñanza Media (G. de E.) ","Física"]
[3,76,4210,8,"Profesor de Enseñanza Media (G. de E.) ","Inglés"]
[3,64,4212,8,"Profesor de Enseñanza Media (G. de E.)","Biología"]
[3,57,6032,6,"Profesor de Enseñanza Media (G. de E.) ","Francés"]
[3,71,6358,8,"Profesor de Enseñanza Media (G. de E.) ","Física"]
[3,57,6503,2,"Profesor de Enseñanza Media (G. de E.) ","Francés"]
[3,59,6526,8,"Profesor de Enseñanza Media (G. de E.) ","Español"]
[3,55,6535,2,"Profesor de Enseñanza Media (G. de E.) ","Inglés"]
[null,null,null,{"$f":"SUM(D100:D113)","v":86}]

{"sheet":"Cuadro de Personal","index":8,"n_rows":4254,"n_cols":50,"rows_kept":1125,"cut":true,"hidden":false,"merged":[[1579,2,1580,27],[1614,2,1615,27],[1649,2,1650,27],[1684,2,1685,27],[1719,2,1720,27],[1754,2,1755,27],[1789,2,1790,27],[1824,2,1825,27],[1859,2,1860,27],[1894,2,1895,27],[1929,2,1930,27],[1964,2,1965,27],[1999,2,2000,27],[2034,2,2035,27],[2069,2,2070,27],[1782,8,1782,10],[1817,8,1817,10],[1852,8,1852,10],[1887,8,1887,10],[1922,8,1922,10],[1957,8,1957,10],[1992,8,1992,10],[2027,8,2027,10],[2062,8,2062,10],[1673,8,1673,10],[1665,9,1665,10],[1797,9,1797,10],[1783,4,1783,27],[1818,4,1818,27],[1853,4,1853,27],[1866,3,1866,6],[1866,9,1866,10],[1429,8,1429,10],[1294,2,1296,27],[1329,2,1331,27],[1364,2,1366,27],[1338,11,1338,16],[885,3,885,6],[912,3,912,5],[912,7,912,8],[912,26,912,28],[905,1,905,6],[905,8,905,10],[918,25,919,25],[947,26,947,28],[918,17,919,17],[930,3,930,6],[1362,8,1362,10],[1397,8,1397,10],[940,1,940,6],[940,8,940,10],[941,1,941,6],[939,1,939,6],[939,8,939,10],[933,3,933,6],[933,9,933,10],[934,3,934,6],[934,9,934,10],[953,25,954,25],[960,9,960,10],[961,3,961,6],[904,8,904,10],[899,9,899,10],[900,9,900,10],[1509,2,1510,27],[1062,3,1062,6],[1052,26,1052,28],[1075,3,1075,6],[1075,9,1075,10],[1087,7,1087,8],[1087,26,1087,28],[1157,26,1157,28],[1149,1,1149,6],[984,2,985,27],[1019,2,1020,27],[1054,2,1055,27],[1089,2,1090,27],[1124,2,1125,27],[1159,2,1160,27],[1194,2,1195,27],[1229,2,1230,27],[1264,2,1265,27],[1299,2,1300,27],[1334,2,1335,27],[1369,2,1370,27],[1404,2,1405,27],[1439,2,1440,27],[1047,8,1047,10],[1082,8,1082,10],[1117,8,1117,10],[1152,8,1152,10],[1187,8,1187,10],[1222,8,1222,10],[1257,8,1257,10],[1292,8,1292,10],[1327,8,1327,10],[824,9,824,10],[827,3,827,6],[1432,8,1432,10],[1052,7,1052,8],[1065,9,1065,10],[1062,9,1062,10],[1206,9,1206,10],[1297,7,1297,8],[872,8,872,10],[907,8,907,10],[179,2,180,27],[214,2,215,27],[249,2,250,27],[284,2,285,27],[319,2,320,27],[354,2,355,27],[389,2,390,27],[424,2,425,27],[459,2,460,27],[494,2,495,27],[529,2,530,27],[564,2,565,27],[599,2,600,27],[634,2,635,27],[669,2,670,27],[879,2,880,27],[883,26,883,27],[242,8,242,10],[277,8,277,10],[312,8,312,10],[347,8,347,10],[382,8,382,10],[44,3,44,6],[44,9,44,10],[45,3,45,6],[45,9,45,10],[46,3,46,6],[46,9,46,10],[47,3,47,6],[47,9,47,10],[48,3,48,6],[48,9,48,10],[49,3,49,6],[49,9,49,10],[50,3,50,6],[50,9,50,10],[309,8,309,10],[611,9,611,10],[576,9,576,10],[541,9,541,10],[506,9,506,10],[471,9,471,10],[436,9,436,10],[371,9,371,10],[341,9,341,10],[305,9,305,10],[193,9,193,10],[170,8,170,10],[157,9,157,10],[288,3,289,6],[137,8,137,10],[172,8,172,10],[207,8,207,10],[164,9,164,10],[3,3,4,27],[901,3,901,6],[901,9,901,10],[902,3,902,6],[902,9,902,10],[896,3,896,6],[896,9,896,10],[897,3,897,6],[897,9,897,10],[898,3,898,6],[898,9,898,10],[899,3,899,6],[883,8,884,8],[883,9,884,10],[883,17,884,17],[883,18,883,22],[883,23,884,23],[887,9,887,10],[51,3,51,6],[51,9,51,10],[887,3,887,6],[15,2,15,27],[16,2,16,27],[17,2,17,27],[18,2,18,27],[195,3,195,6],[883,25,884,25],[157,3,157,6],[835,8,835,10],[890,9,890,10],[218,9,219,10],[166,9,166,10],[930,9,930,10],[931,3,931,6],[931,9,931,10],[932,3,932,6],[932,9,932,10],[925,9,925,10],[926,3,926,6],[926,9,926,10],[883,24,884,24],[883,11,883,16],[918,11,918,16],[886,3,886,6],[886,9,886,10],[893,9,893,10],[903,8,903,10],[924,3,924,6],[924,9,924,10],[925,3,925,6],[920,3,920,6],[920,9,920,10],[888,3,888,6],[888,9,888,10],[889,3,889,6],[892,3,892,6],[892,9,892,10],[893,3,893,6],[885,9,885,10],[904,1,904,6],[900,3,900,6],[67,8,67,10],[882,0,884,0],[882,1,884,1],[882,2,882,27],[889,9,889,10],[890,3,890,6],[906,1,906,6],[914,2,915,27],[877,26,877,28],[842,26,842,28],[317,3,317,5],[317,7,317,8],[317,26,317,28],[311,1,311,6],[856,3,856,6],[867,3,867,6],[870,8,870,10],[842,3,842,5],[842,7,842,8],[882,28,884,28],[883,2,884,2],[883,3,884,6],[883,7,884,7],[894,3,894,6],[894,9,894,10],[895,3,895,6],[895,9,895,10],[891,3,891,6],[891,9,891,10],[827,9,827,10],[828,3,828,6],[828,9,828,10],[953,23,954,23],[918,18,918,22],[918,23,919,23],[918,24,919,24],[941,8,941,10],[952,0,954,0],[952,1,954,1],[952,2,952,27],[918,26,918,27],[917,0,919,0],[917,1,919,1],[917,2,917,27],[958,3,958,6],[958,9,958,10],[959,3,959,6],[959,9,959,10],[953,24,954,24],[953,26,953,27],[953,17,954,17],[953,18,953,22],[949,2,950,27],[938,8,938,10],[935,3,935,6],[935,9,935,10],[936,3,936,6],[936,9,936,10],[937,3,937,6],[937,9,937,10],[947,3,947,5],[947,7,947,8],[953,11,953,16],[942,8,942,10],[917,28,919,28],[918,2,919,2],[918,3,919,6],[918,7,919,7],[918,8,919,8],[918,9,919,10],[927,3,927,6],[927,9,927,10],[928,3,928,6],[928,9,928,10],[929,3,929,6],[929,9,929,10],[921,3,921,6],[921,9,921,10],[922,3,922,6],[922,9,922,10],[923,3,923,6],[923,9,923,10],[955,3,955,6],[955,9,955,10],[956,3,956,6],[956,9,956,10],[953,8,954,8],[953,9,954,10],[975,8,975,10],[970,3,970,6],[970,9,970,10],[971,3,971,6],[971,9,971,10],[952,28,954,28],[953,2,954,2],[953,3,954,6],[953,7,954,7],[967,3,967,6],[967,9,967,10],[968,3,968,6],[968,9,968,10],[969,3,969,6],[969,9,969,10],[963,9,963,10],[964,3,964,6],[964,9,964,10],[965,3,965,6],[960,3,960,6],[957,3,957,6],[957,9,957,10],[965,9,965,10],[966,3,966,6],[961,9,961,10],[962,3,962,6],[962,9,962,10],[963,3,963,6],[966,9,966,10],[1006,3,1006,6],[1006,9,1006,10],[1007,3,1007,6],[1007,9,1007,10],[1008,8,1008,10],[1009,1,1009,6],[1017,26,1017,28],[976,1,976,6],[982,3,982,5],[982,7,982,8],[982,26,982,28],[972,3,972,6],[972,9,972,10],[973,8,973,10],[974,1,974,6],[974,8,974,10],[991,9,991,10],[992,3,992,6],[992,9,992,10],[988,17,989,17],[988,18,988,22],[988,23,989,23],[988,24,989,24],[988,25,989,25],[988,26,988,27],[996,3,996,6],[979,2,981,27],[1014,2,1016,27],[977,8,977,10],[975,1,975,6],[1039,3,1039,6],[1039,9,1039,10],[1040,3,1040,6],[1000,3,1000,6],[1000,9,1000,10],[1001,3,1001,6],[1001,9,1001,10],[1002,3,1002,6],[1002,9,1002,10],[997,3,997,6],[997,9,997,10],[998,3,998,6],[998,9,998,10],[999,3,999,6],[999,9,999,10],[1010,1,1010,6],[1010,8,1010,10],[1011,1,1011,6],[1038,3,1038,6],[1038,9,1038,10],[1029,9,1029,10],[1030,3,1030,6],[1030,9,1030,10],[1003,3,1003,6],[1003,9,1003,10],[1009,8,1009,10],[1004,3,1004,6],[1004,9,1004,10],[1005,3,1005,6],[1005,9,1005,10],[1017,3,1017,5],[1017,7,1017,8],[987,0,989,0],[987,1,989,1],[987,2,987,27],[987,28,989,28],[988,2,989,2],[988,3,989,6],[988,7,989,7],[988,8,989,8],[988,9,989,10],[990,3,990,6],[990,9,990,10],[991,3,991,6],[993,3,993,6],[993,9,993,10],[994,3,994,6],[994,9,994,10],[995,3,995,6],[995,9,995,10],[988,11,988,16],[996,9,996,10],[1012,8,1012,10],[1027,3,1027,6],[1027,9,1027,10],[1028,3,1028,6],[1028,9,1028,10],[1029,3,1029,6],[1022,0,1024,0],[1022,1,1024,1],[1022,2,1022,27],[1022,28,1024,28],[1023,2,1024,2],[1023,3,1024,6],[1023,7,1024,7],[1037,3,1037,6],[1037,9,1037,10],[1081,1,1081,6],[1073,3,1073,6],[1073,9,1073,10],[1074,3,1074,6],[1074,9,1074,10],[1034,3,1034,6],[1034,9,1034,10],[1035,3,1035,6],[1035,9,1035,10],[1036,3,1036,6],[1036,9,1036,10],[1031,3,1031,6],[1031,9,1031,10],[1032,3,1032,6],[1032,9,1032,10],[1033,3,1033,6],[1033,9,1033,10],[1040,9,1040,10],[1041,3,1041,6],[1041,9,1041,10],[1042,3,1042,6],[1076,9,1076,10],[1077,3,1077,6],[1077,9,1077,10],[1087,3,1087,5],[1072,3,1072,6],[1072,9,1072,10],[1066,3,1066,6],[1066,9,1066,10],[1067,3,1067,6],[1023,24,1024,24],[1023,25,1024,25],[1023,26,1023,27],[1025,3,1025,6],[1025,9,1025,10],[1026,3,1026,6],[1026,9,1026,10],[1023,8,1024,8],[1023,9,1024,10],[1023,17,1024,17],[1023,18,1023,22],[1023,23,1024,23],[1044,1,1044,6],[1044,8,1044,10],[1045,1,1045,6],[1045,8,1045,10],[1046,1,1046,6],[1042,9,1042,10],[1043,8,1043,10],[1052,3,1052,5],[1057,0,1059,0],[1057,1,1059,1],[1057,2,1057,27],[1057,28,1059,28],[1058,2,1059,2],[1071,3,1071,6],[1071,9,1071,10],[1115,1,1115,6],[1115,8,1115,10],[1058,18,1058,22],[1058,23,1059,23],[1058,24,1059,24],[1058,25,1059,25],[1058,26,1058,27],[1060,3,1060,6],[1060,9,1060,10],[1058,3,1059,6],[1058,7,1059,7],[1058,8,1059,8],[1058,9,1059,10],[1058,17,1059,17],[1063,9,1063,10],[1064,3,1064,6],[1093,26,1093,27],[1064,9,1064,10],[1065,3,1065,6],[1105,3,1105,6],[1105,9,1105,10],[1063,3,1063,6],[1067,9,1067,10],[1068,3,1068,6],[1068,9,1068,10],[1149,8,1149,10],[1150,1,1150,6],[1150,8,1150,10],[1141,3,1141,6],[1141,9,1141,10],[1142,3,1142,6],[1142,9,1142,10],[1101,9,1101,10],[1102,3,1102,6],[1102,9,1102,10],[1103,3,1103,6],[1103,9,1103,10],[1104,3,1104,6],[1104,9,1104,10],[1112,3,1112,6],[1111,3,1111,6],[1111,9,1111,10],[1122,3,1122,5],[1122,7,1122,8],[1134,9,1134,10],[1122,26,1122,28],[1106,3,1106,6],[1106,9,1106,10],[1101,3,1101,6],[1116,1,1116,6],[1107,3,1107,6],[1107,9,1107,10],[1108,3,1108,6],[1108,9,1108,10],[1092,28,1094,28],[1093,2,1094,2],[1093,3,1094,6],[1093,7,1094,7],[1093,8,1094,8],[1093,9,1094,10],[1100,3,1100,6],[1100,9,1100,10],[1096,3,1096,6],[1096,9,1096,10],[1097,3,1097,6],[1093,17,1094,17],[1093,18,1093,22],[1093,23,1094,23],[1093,24,1094,24],[1093,25,1094,25],[1069,3,1069,6],[1069,9,1069,10],[1070,3,1070,6],[1070,9,1070,10],[1078,8,1078,10],[1079,1,1079,6],[1079,8,1079,10],[1080,1,1080,6],[1080,8,1080,10],[1076,3,1076,6],[1095,3,1095,6],[1095,9,1095,10],[1140,3,1140,6],[1140,9,1140,10],[1133,9,1133,10],[1134,3,1134,6],[1092,0,1094,0],[1092,1,1094,1],[1092,2,1092,27],[1112,9,1112,10],[1113,8,1113,10],[1114,1,1114,6],[1114,8,1114,10],[1097,9,1097,10],[1098,3,1098,6],[1098,9,1098,10],[1099,3,1099,6],[1099,9,1099,10],[1109,3,1109,6],[1109,9,1109,10],[1110,3,1110,6],[1110,9,1110,10],[1151,1,1151,6],[1157,3,1157,5],[1157,7,1157,8],[1163,23,1164,23],[1127,0,1129,0],[1127,1,1129,1],[1127,2,1127,27],[1128,24,1129,24],[1128,25,1129,25],[1128,26,1128,27],[1135,3,1135,6],[1135,9,1135,10],[1136,3,1136,6],[1136,9,1136,10],[1137,3,1137,6],[1137,9,1137,10],[1146,3,1146,6],[1146,9,1146,10],[1147,3,1147,6],[1147,9,1147,10],[1148,8,1148,10],[1131,3,1131,6],[1131,9,1131,10],[1132,3,1132,6],[1132,9,1132,10],[1133,3,1133,6],[1143,3,1143,6],[1143,9,1143,10],[1144,3,1144,6],[1144,9,1144,10],[1145,3,1145,6],[1145,9,1145,10],[1205,9,1205,10],[1185,8,1185,10],[1180,3,1180,6],[1180,9,1180,10],[1206,3,1206,6],[1181,3,1181,6],[1181,9,1181,10],[1171,9,1171,10],[1172,3,1172,6],[1172,9,1172,10],[1173,3,1173,6],[1127,28,1129,28],[1128,2,1129,2],[1128,3,1129,6],[1128,7,1129,7],[1128,8,1129,8],[1128,9,1129,10],[1128,17,1129,17],[1128,18,1128,22],[1128,23,1129,23],[1138,3,1138,6],[1138,9,1138,10],[1139,3,1139,6],[1139,9,1139,10],[1163,25,1164,25],[1163,26,1163,27],[1165,3,1165,6],[1165,9,1165,10],[1166,3,1166,6],[1166,9,1166,10],[1163,9,1164,10],[1154,2,1156,27],[1162,28,1164,28],[1163,2,1164,2],[1163,3,1164,6],[1163,7,1164,7],[1177,3,1177,6],[1177,9,1177,10],[1178,3,1178,6],[1178,9,1178,10],[1179,3,1179,6],[1179,9,1179,10],[1173,9,1173,10],[1174,3,1174,6],[1174,9,1174,10],[1175,3,1175,6],[1170,3,1170,6],[1170,9,1170,10],[1171,3,1171,6],[1210,9,1210,10],[1211,3,1211,6],[1211,9,1211,10],[1212,3,1212,6],[1212,9,1212,10],[1207,3,1207,6],[1207,9,1207,10],[1208,3,1208,6],[1208,9,1208,10],[1209,3,1209,6],[1209,9,1209,10],[1163,11,1163,16],[1188,4,1188,27],[1167,3,1167,6],[1167,9,1167,10],[1168,3,1168,6],[1168,9,1168,10],[1169,3,1169,6],[1169,9,1169,10],[1163,24,1164,24],[1175,9,1175,10],[1176,3,1176,6],[1176,9,1176,10],[1186,1,1186,6],[1192,3,1192,5],[1192,7,1192,8],[1192,26,1192,28],[1182,3,1182,6],[1182,9,1182,10],[1183,8,1183,10],[1184,1,1184,6],[1184,8,1184,10],[1198,18,1198,22],[1198,23,1199,23],[1198,24,1199,24],[1198,25,1199,25],[1198,26,1198,27],[1197,0,1199,0],[1197,1,1199,1],[1197,2,1197,27],[1200,3,1200,6],[1200,9,1200,10],[1201,3,1201,6],[1201,9,1201,10],[1202,3,1202,6],[1202,9,1202,10],[1163,8,1164,8],[1198,17,1199,17],[1163,17,1164,17],[1163,18,1163,22],[1162,0,1164,0],[1162,1,1164,1],[1162,2,1162,27],[1185,1,1185,6],[1197,28,1199,28],[1198,2,1199,2],[1198,3,1199,6],[1198,7,1199,7],[1198,8,1199,8],[1198,9,1199,10],[1250,9,1250,10],[1251,3,1251,6],[1251,9,1251,10],[1252,3,1252,6],[1252,9,1252,10],[1253,8,1253,10],[1203,3,1203,6],[1203,9,1203,10],[1204,3,1204,6],[1204,9,1204,10],[1205,3,1205,6],[1248,3,1248,6],[1248,9,1248,10],[1239,9,1239,10],[1240,3,1240,6],[1233,24,1234,24],[1210,3,1210,6],[1233,25,1234,25],[1233,26,1233,27],[1198,11,1198,16],[1233,11,1233,16],[1220,1,1220,6],[1220,8,1220,10],[1221,1,1221,6],[1216,3,1216,6],[1216,9,1216,10],[1297,26,1297,28],[1232,0,1234,0],[1232,1,1234,1],[1232,2,1232,27],[1232,28,1234,28],[1233,2,1234,2],[1233,3,1234,6],[1233,7,1234,7],[1247,3,1247,6],[1247,9,1247,10],[1291,1,1291,6],[1283,3,1283,6],[1283,9,1283,10],[1284,3,1284,6],[1284,9,1284,10],[1244,3,1244,6],[1244,9,1244,10],[1245,3,1245,6],[1245,9,1245,10],[1246,3,1246,6],[1246,9,1246,10],[1241,3,1241,6],[1241,9,1241,10],[1262,3,1262,5],[1262,7,1262,8],[1262,26,1262,28],[1249,3,1249,6],[1238,3,1238,6],[1238,9,1238,10],[1239,3,1239,6],[1282,3,1282,6],[1282,9,1282,10],[1276,3,1276,6],[1276,9,1276,10],[1277,3,1277,6],[1256,1,1256,6],[1240,9,1240,10],[1213,3,1213,6],[1213,9,1213,10],[1219,8,1219,10],[1235,3,1235,6],[1235,9,1235,10],[1236,3,1236,6],[1236,9,1236,10],[1233,8,1234,8],[1233,9,1234,10],[1278,3,1278,6],[1278,9,1278,10],[1279,3,1279,6],[1279,9,1279,10],[1223,4,1223,27],[1258,4,1258,27],[1217,3,1217,6],[1217,9,1217,10],[1218,8,1218,10],[1219,1,1219,6],[1215,9,1215,10],[1227,3,1227,5],[1227,7,1227,8],[1227,26,1227,28],[1214,3,1214,6],[1214,9,1214,10],[1215,3,1215,6],[1268,18,1268,22],[1280,3,1280,6],[1280,9,1280,10],[1249,9,1249,10],[1250,3,1250,6],[1233,17,1234,17],[1233,18,1233,22],[1233,23,1234,23],[1254,1,1254,6],[1254,8,1254,10],[1255,1,1255,6],[1255,8,1255,10],[1242,3,1242,6],[1242,9,1242,10],[1243,3,1243,6],[1243,9,1243,10],[1332,3,1332,5],[1332,7,1332,8],[1310,3,1310,6],[1310,9,1310,10],[1311,3,1311,6],[1285,3,1285,6],[1285,9,1285,10],[1305,3,1305,6],[1305,9,1305,10],[1306,3,1306,6],[1306,9,1306,10],[1307,3,1307,6],[1286,3,1286,6],[1286,9,1286,10],[1287,3,1287,6],[1287,9,1287,10],[1297,3,1297,5],[1332,26,1332,28],[1267,0,1269,0],[1267,1,1269,1],[1267,2,1267,27],[1267,28,1269,28],[1268,2,1269,2],[1281,3,1281,6],[1281,9,1281,10],[1325,1,1325,6],[1325,8,1325,10],[1326,1,1326,6],[1317,3,1317,6],[1317,9,1317,10],[1318,3,1318,6],[1318,9,1318,10],[1277,9,1277,10],[1237,3,1237,6],[1237,9,1237,10],[1288,8,1288,10],[1289,1,1289,6],[1289,8,1289,10],[1290,1,1290,6],[1290,8,1290,10],[1321,3,1321,6],[1321,9,1321,10],[1271,3,1271,6],[1271,9,1271,10],[1272,3,1272,6],[1272,9,1272,10],[1273,3,1273,6],[1316,3,1316,6],[1316,9,1316,10],[1268,23,1269,23],[1268,24,1269,24],[1268,25,1269,25],[1268,26,1268,27],[1270,3,1270,6],[1270,9,1270,10],[1268,3,1269,6],[1268,7,1269,7],[1268,8,1269,8],[1268,9,1269,10],[1268,17,1269,17],[1273,9,1273,10],[1274,3,1274,6],[1274,9,1274,10],[1275,3,1275,6],[1275,9,1275,10],[1268,11,1268,16],[1337,0,1339,0],[1337,1,1339,1],[1337,2,1337,27],[1338,24,1339,24],[1338,25,1339,25],[1302,28,1304,28],[1303,2,1304,2],[1303,3,1304,6],[1303,7,1304,7],[1303,8,1304,8],[1303,9,1304,10],[1361,1,1361,6],[1367,3,1367,5],[1367,7,1367,8],[1367,26,1367,28],[1315,3,1315,6],[1315,9,1315,10],[1359,1,1359,6],[1359,8,1359,10],[1360,1,1360,6],[1360,8,1360,10],[1351,3,1351,6],[1351,9,1351,10],[1352,3,1352,6],[1352,9,1352,10],[1311,9,1311,10],[1312,3,1312,6],[1312,9,1312,10],[1303,17,1304,17],[1303,18,1303,22],[1303,23,1304,23],[1303,24,1304,24],[1303,25,1304,25],[1303,26,1303,27],[1302,0,1304,0],[1302,1,1304,1],[1302,2,1302,27],[1322,9,1322,10],[1323,8,1323,10],[1324,1,1324,6],[1324,8,1324,10],[1307,9,1307,10],[1308,3,1308,6],[1308,9,1308,10],[1309,3,1309,6],[1309,9,1309,10],[1319,3,1319,6],[1319,9,1319,10],[1320,3,1320,6],[1320,9,1320,10],[1313,3,1313,6],[1313,9,1313,10],[1314,3,1314,6],[1314,9,1314,10],[1322,3,1322,6],[1303,11,1303,16],[1346,3,1346,6],[1346,9,1346,10],[1347,3,1347,6],[1347,9,1347,10],[1356,3,1356,6],[1356,9,1356,10],[1357,3,1357,6],[1357,9,1357,10],[1358,8,1358,10],[1341,3,1341,6],[1341,9,1341,10],[1342,3,1342,6],[1342,9,1342,10],[1343,3,1343,6],[1353,3,1353,6],[1353,9,1353,10],[1354,3,1354,6],[1354,9,1354,10],[1355,3,1355,6],[1355,9,1355,10],[1350,3,1350,6],[1350,9,1350,10],[1343,9,1343,10],[1344,3,1344,6],[1344,9,1344,10],[1345,9,1345,10],[1340,3,1340,6],[1340,9,1340,10],[1390,3,1390,6],[1390,9,1390,10],[1391,3,1391,6],[1391,9,1391,10],[1381,9,1381,10],[1382,3,1382,6],[1382,9,1382,10],[1383,3,1383,6],[1337,28,1339,28],[1338,2,1339,2]],"bounds":{"rows_first":500,"rows_last":125,"rows_between":500,"halvings":2},"merged_total":8005,"flags":["merged_cut"]}
[]
[]
[]
[null,null,null,{"$f":"IF(AR18=0,\"\",+\"Por favor revisar las siguientes incongruencia entre las lecciones co-curriculares asignadas y las lecciones co-curriculares aprobadas: \"&AF14&AG14&AH14&AI14&AJ14&AK14&AL14&AM14)","v":""}]
[]
[]
[null,null,"Ministerio de Educación Pública",null,null,null,null,null,null,null,null,null,null,null,null,null,null,null,null,null,null,null,null,null,null,null,null,null,null,null,null,null,null,null,null,null,null,null,null,null,null,null,null,null,"Lecciones de exceso (completar propiedad)","Lecciones Planeamiento",null,{"$f":"+SUM(AV67:AV4247)","v":120}]
[null,null,"Dirección de Recursos Humanos"]
[null,null,"Departamento de Asignación del Recurso Humano"]
[null,null,"Cuadro de Personal"]
[]
[null,null,"Colegio:",null,{"$f":"IF(Información!E11=0,\"\",Información!F11)","v":""},null,null,null,"Dirección Regional:",null,{"$f":"IF(Información!E11=0,\"\",Información!C22)","v":""},null,null,"Circuito:",null,{"$f":"IF(Información!E11=0,\"\",Información!C23)","v":""},null,"Código Presupuestario:",null,null,null,{"$f":"IF(Información!E11=0,\"\",Información!B11&\"-\"&Información!C11&\"-\"&Información!D11&\"-\"&Información!E11)","v":""},null,null,null,"Fecha:",{"$f":"IF('hoja de cálculo'!S9=0,\"\",'hoja de cálculo'!S9)","v":""}]
[]
[null,null,null,null,null,null,null,null,null,null,null,null,null,null,null,null,null,null,null,null,null,null,null,null,null,null,null,null,null,null,null,{"$f":"+IF(AF18<>0,\"tiene diferencias en \"&AF15&\" por \"&AF18&\" lecciones, \",\"\")","v":""},{"$f":"+IF(AG18<>0,\"tiene diferencias en \"&AG15&\" por \"&AG18&\" lecciones, \",\"\")","v":""},"","","","",null,""]
[null,null,"Notas Explicativas:",null,null,null,null,null,null,null,null,null,null,null,null,null,null,null,null,null,null,null,null,null,null,null,null,null,null,null,null,"Coordinación Académica","Coordinador Departamento","Coordinación Empresa","Coordinación Técnica","Comité Técnico Asesor","Fortalecimiento del Inglés",null,"Situaciones Especiales"]
[null,null,"Columna \"Ausente\":     si un funcionario tiene permiso, ascenso, reubicación u otra condición que lo ausente del Centro Educativo, debe anotarse una \"A\" en esta columna.",null,null,null,null,null,null,null,null,null,null,null,null,null,null,null,null,null,null,null,null,null,null,null,null,null,null,null,"Total Co-curriculares",{"$f":"+SUM(AF25:AF4247)","v":0},0,0,0,0,0,null,0,0,0,0,0]
[null,null,"Columna \"Sustituto\":    si un funcionario sustituye a otro, debe indicarse en esta columna el número de fila del funcionario a quien sustituye.",null,null,null,null,null,null,null,null,null,null,null,null,null,null,null,null,null,null,null,null,null,null,null,null,null,null,null,"Total Asignadas",{"$f":"+'hoja de cálculo'!J27","v":0},{"$f":"+'hoja de cálculo'!R80","v":0},{"$f":"+'hoja de cálculo'!J45+'hoja de cálculo'!J25","v":0},{"$f":"+'hoja de cálculo'!J26+'hoja de cálculo'!J46","v":0},{"$f":"+'hoja de cálculo'!J28+'hoja de cálculo'!J47","v":0},{"$f":"+'hoja de cálculo'!J33+'hoja de cálculo'!J52","v":0}]
[null,null,"Simbología Control 1:   E=excede las 48 lecciones máximas autorizadas por funcionario,    √=lecciones asignadas dentro del rango autorizado",null,null,null,null,null,null,null,null,null,null,null,null,null,null,null,null,null,null,null,null,null,null,null,null,null,null,null,"Diferencias",{"$f":"+AF16-AF17","v":0},{"$f":"+AG16-AG17","v":0},0,0,0,0,null,0,0,0,0,0,{"$f":"SUM(AF18:AQ18)","v":0}]
[null,null,"Simbología Control 2:  S=sin asignar todas las lecciones autorizadas,    E=excede las lecciones autorizadas,    √=lecciones asignadas coincide con lecciones autorizadas"]
[]
[]
[1,{"$f":"IFERROR(VLOOKUP(A22,'hoja de cálculo'!$A$22:'hoja de cálculo'!$C$321,3,0),\"\")","v":""},null,null,null,null,null,null,null,null,null,null,null,null,null,null,null,null,null,null,null,null,null,null,null,null,null,null,null,null,null,null,null,null,null,null,null,null,null,null,null,null,null,null,null,null,null,null,null,{"$f":"+IF(B22=\"\",0,1)","v":0}]
["Ausente","Sustituto",{"$f":"IFERROR(VLOOKUP(A22,'hoja de cálculo'!$A$7:'hoja de cálculo'!$H$321,8,0),\"\")","v":"Lecciones de Reajuste"},null,null,null,null,null,null,null,null,null,null,null,null,null,null,null,null,null,null,null,null,null,null,null,null,null,"Cont. 1","Control Asig. x funcionario",null,null,null,null,null,null,null,null,null,null,null,null,null,null,null,null,null,null,null,{"$f":"+IF(AX22>0,AX22+1,0)","v":0}]
[null,null,"Nº","Nombre del servidor",null,null,null,"Nº de cédula","Grupo Prof.","Especialidad",null,"Nivel",null,null,null,null,null,"Sub- Total","Leccs. Co-curriculares",null,null,null,null,"Sub- Total","Pl","Total Leccs.","Nº de leccs.",null,null,null,null,"CA","CD","CE","CT","CTA","FI",null,"SE",null,null,null,null,null,null,null,null,null,null,{"$f":"+IF(AX23>0,AX23+1,0)","v":0}]
[null,null,null,null,null,null,null,null,null,null,null,"7º","8º","9º","10º","11º","12º",null,null,null,null,null,null,null,null,null,"Prop.","Ints.",null,null,null,{"$f":"+IF($AF$24=0,0,SUMIF($S25:$W25,$AF$24,$S64:$W64))","v":0},{"$f":"+IF($AG$24=0,0,SUMIF($S25:$W25,$AG$24,$S64:$W64))","v":0},{"$f":"+IF($AH$24=0,0,SUMIF($S25:$W25,$AH$24,$S64:$W64))","v":0},{"$f":"+IF($AI$24=0,0,SUMIF($S25:$W25,$AI$24,$S64:$W64))","v":0},{"$f":"+IF($AJ$24=0,0,SUMIF($S25:$W25,$AJ$24,$S64:$W64))","v":0},{"$f":"+IF($AK$24=0,0,SUMIF($S25:$W25,$AK$24,$S64:$W64))","v":0},{"$f":"+IF($AL$24=0,0,SUMIF($S25:$W25,$AL$24,$S64:$W64))","v":0},{"$f":"+IF($AM$24=0,0,SUMIF($S25:$W25,$AM$24,$S64:$W64))","v":0},{"$f":"+IF($AN$24=0,0,SUMIF($S25:$W25,$AN$24,$S64:$W64))","v":0},{"$f":"+IF($AO$24=0,0,SUMIF($S25:$W25,$AO$24,$S64:$W64))","v":0},{"$f":"+IF($AP$24=0,0,SUMIF($S25:$W25,$AP$24,$S64:$W64))","v":0},{"$f":"+IF($AQ$24=0,0,SUMIF($S25:$W25,$AQ$24,$S64:$W64))","v":0},null,{"$f":"+SUM(AS26:AS4247)","v":0},{"$f":"+SUM(AT26:AT4247)","v":0},null,null,null,{"$f":"+IF(AX24>0,AX24+1,0)","v":0}]
[null,null,1,null,null,null,null,null,null,null,null,null,null,null,null,null,null,{"$f":"+SUM(L26:Q26)","v":0},null,null,null,null,null,{"$f":"+SUM(R26:W26)","v":0},{"$f":"IF(X26=0,0,IF(X26>48,\"E\",IF(X26<44,0,IF(A26=\"A\",0,48-X26))))","v":0},{"$f":"+IF(Y26=\"E\",\"E\",(X26+Y26))","v":0},null,{"$f":"+IF(Z26=\"E\",\"E\",(Z26-AA26))","v":0},{"$f":"IF(A26=\"A\",\"√\",IF(Z26>48,\"E\",\"√\"))","v":"√"},{"$f":"+IF(AC26=\"√\",1,0)","v":1},null,null,null,null,null,null,null,null,null,null,null,null,null,null,null,null,null,null,null,{"$f":"+IF(OR(AA26+AB26>0,D26<>0,H26<>0,I26<>0,J26<>0),AX25+1,0)","v":0}]
[null,null,2,null,null,null,null,null,null,null,null,null,null,null,null,null,null,{"$f":"+SUM(L27:Q27)","v":0},null,null,null,null,null,0,0,{"$f":"+IF(Y27=\"E\",\"E\",(X27+Y27))","v":0},null,{"$f":"+IF(Z27=\"E\",\"E\",(Z27-AA27))","v":0},{"$f":"IF(A27=\"A\",\"√\",IF(Z27>48,\"E\",\"√\"))","v":"√"},{"$f":"+IF(AC27=\"√\",1,0)","v":1},null,null,null,null,null,null,null,null,null,null,null,null,null,null,null,null,null,null,null,{"$f":"+IF(OR(AA27+AB27>0,D27<>0,H27<>0,I27<>0,J27<>0),AX26+1,0)","v":0}]
[null,null,3,null,null,null,null,null,null,null,null,null,null,null,null,null,null,{"$f":"+SUM(L28:Q28)","v":0},null,null,null,null,null,{"$f":"+SUM(R28:W28)","v":0},{"$f":"IF(X28=0,0,IF(X28>48,\"E\",IF(X28<44,0,IF(A28=\"A\",0,48-X28))))","v":0},{"$f":"+IF(Y28=\"E\",\"E\",(X28+Y28))","v":0},null,{"$f":"+IF(Z28=\"E\",\"E\",(Z28-AA28))","v":0},{"$f":"IF(A28=\"A\",\"√\",IF(Z28>48,\"E\",\"√\"))","v":"√"},{"$f":"+IF(AC28=\"√\",1,0)","v":1},null,null,null,null,null,null,null,null,null,null,null,null,null,null,null,null,null,null,null,0]
[null,null,4,null,null,null,null,null,null,null,null,null,null,null,null,null,null,0,null,null,null,null,null,0,0,0,null,0,"√",1,null,null,null,null,null,null,null,null,null,null,null,null,null,null,null,null,null,null,null,0]
[null,null,5,null,null,null,null,null,null,null,null,null,null,null,null,null,null,0,null,null,null,null,null,0,0,0,null,0,"√",1,null,null,null,null,null,null,null,null,null,null,null,null,null,null,null,null,null,null,null,0]
[null,null,6,null,null,null,null,null,null,null,null,null,null,null,null,null,null,0,null,null,null,null,null,0,0,0,null,0,"√",{"$f":"+IF(AC31=\"√\",1,0)","v":1},null,null,null,null,null,null,null,null,null,null,null,null,null,null,null,null,null,null,null,0]
[null,null,7,null,null,null,null,null,null,null,null,null,null,null,null,null,null,0,null,null,null,null,null,0,0,0,null,0,"√",{"$f":"+IF(AC32=\"√\",1,0)","v":1},null,null,null,null,null,null,null,null,null,null,null,null,null,null,null,null,null,null,null,0]
[null,null,8,null,null,null,null,null,null,null,null,null,null,null,null,null,null,0,null,null,null,null,null,0,0,0,null,0,"√",{"$f":"+IF(AC33=\"√\",1,0)","v":1},null,null,null,null,null,null,null,null,null,null,null,null,null,null,null,null,null,null,null,0]
[null,null,9,null,null,null,null,null,null,null,null,null,null,null,null,null,null,0,null,null,null,null,null,0,0,0,null,0,"√",{"$f":"+IF(AC34=\"√\",1,0)","v":1},null,null,null,null,null,null,null,null,null,null,null,null,null,null,null,null,null,null,null,0]
[null,null,10,null,null,null,null,null,null,null,null,null,null,null,null,null,null,0,null,null,null,null,null,0,0,0,null,0,"√",1,null,null,null,null,null,null,null,null,null,null,null,null,null,null,null,null,null,null,null,0]
[null,null,11,null,null,null,null,null,null,null,null,null,null,null,null,null,null,0,null,null,null,null,null,0,0,0,null,0,"√",1,null,null,null,null,null,null,null,null,null,null,null,null,null,null,null,null,null,null,null,0]
[null,null,12,null,null,null,null,null,null,null,null,null,null,null,null,null,null,0,null,null,null,null,null,0,0,0,null,0,"√",1,null,null,null,null,null,null,null,null,null,null,null,null,null,null,null,null,null,null,null,0]
[null,null,13,null,null,null,null,null,null,null,null,null,null,null,null,null,null,0,null,null,null,null,null,0,0,0,null,0,"√",1,null,null,null,null,null,null,null,null,null,null,null,null,null,null,null,null,null,null,null,0]
[null,null,14,null,null,null,null,null,null,null,null,null,null,null,null,null,null,0,null,null,null,null,null,0,0,0,null,0,"√",1,null,null,null,null,null,null,null,null,null,null,null,null,null,null,null,null,null,null,null,0]
[null,null,15,null,null,null,null,null,null,null,null,null,null,null,null,null,null,0,null,null,null,null,null,0,0,0,null,0,"√",1,null,null,null,null,null,null,null,null,null,null,null,null,null,null,null,null,null,null,null,0]
[null,null,16,null,null,null,null,null,null,null,null,null,null,null,null,null,null,0,null,null,null,null,null,0,0,0,null,0,"√",1,null,null,null,null,null,null,null,null,null,null,null,null,null,null,null,null,null,null,null,0]
[null,null,17,null,null,null,null,null,null,null,null,null,null,null,null,null,null,0,null,null,null,null,null,0,0,0,null,0,"√",1,null,null,null,null,null,null,null,null,null,null,null,null,null,null,null,null,null,null,null,0]
[null,null,18,null,null,null,null,null,null,null,null,null,null,null,null,null,null,0,null,null,null,null,null,0,0,0,null,0,"√",1,null,null,null,null,null,null,null,null,null,null,null,null,null,null,null,null,null,null,null,0]
[null,null,19,null,null,null,null,null,null,null,null,null,null,null,null,null,null,0,null,null,null,null,null,0,0,0,null,0,"√",1,null,null,null,null,null,null,null,null,null,null,null,null,null,null,null,null,null,null,null,0]
[null,null,20,null,null,null,null,null,null,null,null,null,null,null,null,null,null,0,null,null,null,null,null,0,0,0,null,0,"√",1,null,null,null,null,null,null,null,null,null,null,null,null,null,null,null,null,null,null,null,0]
[null,null,21,null,null,null,null,null,null,null,null,null,null,null,null,null,null,0,null,null,null,null,null,0,0,0,null,0,"√",1,null,null,null,null,null,null,null,null,null,null,null,null,null,null,null,null,null,null,null,0]
[null,null,22,null,null,null,null,null,null,null,null,null,null,null,null,null,null,0,null,null,null,null,null,0,0,0,null,0,"√",1,null,null,null,null,null,null,null,null,null,null,null,null,null,null,null,null,null,null,null,0]
[null,null,23,null,null,null,null,null,null,null,null,null,null,null,null,null,null,0,null,null,null,null,null,0,0,0,null,0,"√",1,null,null,null,null,null,null,null,null,null,null,null,null,null,null,null,null,null,null,null,0]
[null,null,24,null,null,null,null,null,null,null,null,null,null,null,null,null,null,0,null,null,null,null,null,0,0,0,null,0,"√",1,null,null,null,null,null,null,null,null,null,null,null,null,null,null,null,null,null,null,null,0]
[null,null,25,null,null,null,null,null,null,null,null,null,null,null,null,null,null,0,null,null,null,null,null,0,0,0,null,0,"√",1,null,null,null,null,null,null,null,null,null,null,null,null,null,null,null,null,null,null,null,0]
[null,null,26,null,null,null,null,null,null,null,null,null,null,null,null,null,null,0,null,null,null,null,null,0,0,0,null,0,"√",1,null,null,null,null,null,null,null,null,null,null,null,null,null,null,null,null,null,null,null,0]
[null,null,27,null,null,null,null,null,null,null,null,null,null,null,null,null,null,0,null,null,null,null,null,0,0,0,null,0,"√",1,null,null,null,null,null,null,null,null,null,null,null,null,null,null,null,null,null,null,null,0]
[null,null,28,null,null,null,null,null,null,null,null,null,null,null,null,null,null,0,null,null,null,null,null,0,0,0,null,0,"√",1,null,null,null,null,null,null,null,null,null,null,null,null,null,null,null,null,null,null,null,0]
[null,null,29,null,null,null,null,null,null,null,null,null,null,null,null,null,null,0,null,null,null,null,null,0,0,0,null,0,"√",1,null,null,null,null,null,null,null,null,null,null,null,null,null,null,null,null,null,null,null,0]
[null,null,30,null,null,null,null,null,null,null,null,null,null,null,null,null,null,0,null,null,null,null,null,0,0,0,null,0,"√",1,null,null,null,null,null,null,null,null,null,null,null,null,null,null,null,null,null,null,null,0]
[null,null,31,null,null,null,null,null,null,null,null,null,null,null,null,null,null,0,null,null,null,null,null,0,0,0,null,0,"√",1,null,null,null,null,null,null,null,null,null,null,null,null,null,null,null,null,null,null,null,0]
[null,null,32,null,null,null,null,null,null,null,null,null,null,null,null,null,null,0,null,null,null,null,null,0,0,0,null,0,"√",1,null,null,null,null,null,null,null,null,null,null,null,null,null,null,null,null,null,null,null,0]
[null,null,33,null,null,null,null,null,null,null,null,null,null,null,null,null,null,0,null,null,null,null,null,0,0,0,null,0,"√",1,null,null,null,null,null,null,null,null,null,null,null,null,null,null,null,null,null,null,null,0]
[null,null,34,null,null,null,null,null,null,null,null,null,null,null,null,null,null,0,null,null,null,null,null,0,0,0,null,0,"√",1,null,null,null,null,null,null,null,null,null,null,null,null,null,null,null,null,null,null,null,0]
[null,null,35,null,null,null,null,null,null,null,null,null,null,null,null,null,null,0,null,null,null,null,null,0,0,0,null,0,"√",1,null,null,null,null,null,null,null,null,null,null,null,null,null,null,null,null,null,null,null,0]
[null,null,36,null,null,null,null,null,null,null,null,null,null,null,null,null,null,0,null,null,null,null,null,0,0,0,null,0,"√",1,null,null,null,null,null,null,null,null,null,null,null,null,null,null,null,null,null,null,null,0]
[null,null,37,null,null,null,null,null,null,null,null,null,null,null,null,null,null,0,null,null,null,null,null,0,0,0,null,0,"√",1,null,null,null,null,null,null,null,null,null,null,null,null,null,null,null,null,null,null,null,0]
[null,null,38,null,null,null,null,null,null,null,null,null,null,null,null,null,null,{"$f":"+SUM(L63:Q63)","v":0},null,null,null,null,null,{"$f":"+SUM(R63:W63)","v":0},{"$f":"IF(X63=0,0,IF(X63>48,\"E\",IF(X63<44,0,IF(A63=\"A\",0,48-X63))))","v":0},{"$f":"+IF(Y63=\"E\",\"E\",(X63+Y63))","v":0},null,{"$f":"+IF(Z63=\"E\",\"E\",(Z63-AA63))","v":0},{"$f":"IF(A63=\"A\",\"√\",IF(Z63>48,\"E\",\"√\"))","v":"√"},{"$f":"+IF(AC63=\"√\",1,0)","v":1},null,null,null,null,null,null,null,null,null,null,null,null,null,null,null,null,null,null,null,0]
[null,null,null,null,null,null,null,null,"Total de lecciones asignadas:",null,null,{"$f":"+SUM(L26:L63)-SUMIF($A26:$A63,\"A\",L26:L63)","v":0},{"$f":"+SUM(M26:M63)-SUMIF($A26:$A63,\"A\",M26:M63)","v":0},0,0,{"$f":"+SUM(P26:P63)-SUMIF($A26:$A63,\"A\",P26:P63)","v":0},{"$f":"+SUM(Q26:Q63)-SUMIF($A26:$A63,\"A\",Q26:Q63)","v":0},{"$f":"+SUM(R26:R63)-SUMIF($A26:$A63,\"A\",R26:R63)","v":0},{"$f":"+SUM(S26:S63)-SUMIF($A26:$A63,\"A\",S26:S63)","v":0},0,0,0,0,0,{"$f":"+SUM(Y26:Y63)","v":0},{"$f":"+SUM(Z26:Z63)-SUMIF($A26:$A63,\"A\",Z26:Z63)","v":0},{"$f":"+SUM(AA26:AA63)","v":0},{"$f":"+SUM(AB26:AB63)-SUMIF($A26:$A63,\"A\",AB26:AB63)","v":0},{"$f":"IF($C23=\"\",\"\",IF(AND(R67=\"√\",AD64=38),\"√\",\"Er\"))","v":"√"},{"$f":"+SUM(AD26:AD63)","v":38},null,null,null,null,null,null,null,null,null,null,null,null,null,null,null,{"$f":"+Y64","v":0},null,null,null,{"$f":"+IF(AX22>0,AX25+1,0)","v":0}]
[null,null,null,null,null,null,null,null,"Total de lecciones aprobadas:",null,null,{"$f":"+IF(C23=\"\",\"\",VLOOKUP($A22,'hoja de cálculo'!$A$17:$AJ$321,31,0))","v":0},{"$f":"+IF(C23=\"\",\"\",VLOOKUP($A22,'hoja de cálculo'!$A$17:$AJ$321,32,0))","v":0},{"$f":"+IF(C23=\"\",\"\",VLOOKUP($A22,'hoja de cálculo'!$A$17:$AJ$321,33,0))","v":0},{"$f":"+IF(C23=\"\",\"\",VLOOKUP($A22,'hoja de cálculo'!$A$17:$AJ$321,34,0))","v":0},{"$f":"+IF(C23=\"\",\"\",VLOOKUP($A22,'hoja de cálculo'!$A$17:$AJ$321,35,0))","v":0},{"$f":"+IF(C23=\"\",\"\",VLOOKUP($A22,'hoja de cálculo'!$A$17:$AJ$321,36,0))","v":0},{"$f":"+SUM(L65:Q65)","v":0},null,null,null,null,null,null,null,null,null,null,null,null,null,null,null,null,null,null,null,null,null,null,null,null,null,null,null,null,null,null,null,{"$f":"+IF(AX64>0,AX64+1,0)","v":0}]
[null,null,null,null,null,null,null,null,"Total de secciones",null,"Control:",{"$f":"+IF(C23=\"\",\"\",VLOOKUP($A22,'hoja de cálculo'!$A$17:$AQ$321,38,0))","v":0},{"$f":"+IF(C23=\"\",\"\",VLOOKUP($A22,'hoja de cálculo'!$A$17:$AQ$321,39,0))","v":0},{"$f":"+IF(C23=\"\",\"\",VLOOKUP($A22,'hoja de cálculo'!$A$17:$AQ$321,40,0))","v":0},{"$f":"+IF(C23=\"\",\"\",VLOOKUP($A22,'hoja de cálculo'!$A$17:$AQ$321,41,0))","v":0},{"$f":"+IF(C23=\"\",\"\",VLOOKUP($A22,'hoja de cálculo'!$A$17:$AQ$321,42,0))","v":0},{"$f":"+IF(C23=\"\",\"\",VLOOKUP($A22,'hoja de cálculo'!$A$17:$AQ$321,43,0))","v":0},{"$f":"+SUM(L66:Q66)","v":0},null,null,null,null,null,null,null,null,null,null,null,null,null,null,null,null,null,null,null,null,null,null,null,null,null,null,null,null,null,null,null,0]
[null,null,null,null,null,null,null,null,"Control 2",null,"Control:",{"$f":"IF(L65=\"\",\"\",IF(L64>L65,\"E\",IF(L64<L65,\"S\",\"√\")))","v":"√"},{"$f":"IF(M65=\"\",\"\",IF(M64>M65,\"E\",IF(M64<M65,\"S\",\"√\")))","v":"√"},"√","√","√","√",{"$f":"IF($C23=\"\",\"\",IF(AND(L67=\"√\",M67=\"√\",N67=\"√\",O67=\"√\",P67=\"√\",Q67=\"√\"),\"√\",\"Error\"))","v":"√"},null,null,null,null,null,null,null,null,null,null,null,null,null,null,null,null,null,null,null,null,null,null,null,null,null,null,null,null,null,{"$f":"+IF(OR(B67=\"\",B67=\"Lecciones de TIE asignadas -√-\"),1,0)","v":1},null,0]
[null,null,null,null,null,null,null,null,"Plan de Estudios",null,"Control:",{"$f":"+IF(C23=\"\",\"\",VLOOKUP($A22,'hoja de cálculo'!$A$17:$BD$321,51,0))","v":0},{"$f":"+IF(C23=\"\",\"\",VLOOKUP($A22,'hoja de cálculo'!$A$17:$BD$321,52,0))","v":0},{"$f":"+IF(C23=\"\",\"\",VLOOKUP($A22,'hoja de cálculo'!$A$17:$BD$321,53,0))","v":0},{"$f":"+IF(C23=\"\",\"\",VLOOKUP($A22,'hoja de cálculo'!$A$17:$BD$321,54,0))","v":0},{"$f":"+IF(C23=\"\",\"\",VLOOKUP($A22,'hoja de cálculo'!$A$17:$BD$321,55,0))","v":0},{"$f":"+IF(C23=\"\",\"\",VLOOKUP($A22,'hoja de cálculo'!$A$17:$BD$321,56,0))","v":0},null,null,null,null,null,null,null,null,null,null,null,null,null,null,null,null,null,null,null,null,null,null,null,null,null,null,null,{"$f":"+IF(AB68<0,-AB68,0)","v":0},null,null,null,null,0]
[null,null,null,"Observaciones:",{"$f":"+IF(OR(C23=\"Lecciones Labor@ Diurnas\",C23=\"Lecciones Labor@ Nocturno\"),\"Recuerde generar el informe de labores de lecciones Labor@\",\"\")","v":""},null,null,null,null,null,null,null,null,null,null,null,null,null,null,null,null,null,null,null,null,null,null,null,null,null,null,null,null,null,null,null,null,null,null,null,null,null,null,null,null,null,null,null,null,0]
[null,null,null,null,null,null,null,null,null,null,null,null,null,null,null,null,null,null,null,null,null,null,null,null,null,null,null,null,null,null,null,null,null,null,null,null,null,null,null,null,null,null,null,null,null,null,null,null,null,0]
[null,null,null,null,null,null,null,null,null,null,null,null,null,null,null,null,null,null,null,null,null,null,null,null,null,null,null,null,null,null,null,null,null,null,null,null,null,null,null,null,null,null,null,null,null,null,null,null,null,0]
[null,null,null,null,null,null,null,null,null,null,null,null,null,null,null,null,null,null,null,null,null,null,null,null,null,null,null,null,null,null,null,null,null,null,null,null,null,null,null,null,null,null,null,null,null,null,null,null,null,0]
[null,null,null,null,null,null,null,null,null,null,null,null,null,null,null,null,null,null,null,null,null,null,null,null,null,null,"Hoja de Cálculo",null,null,null,null,null,null,null,null,null,null,null,null,null,null,null,null,null,null,null,null,null,null,0]
[null,null,null,null,null,null,null,null,null,null,null,null,null,null,null,null,null,null,null,null,null,null,null,null,null,null,null,null,null,null,null,null,null,null,null,null,null,null,null,null,null,null,null,null,null,null,null,null,null,{"$f":"+IF(AX73>0,AX73+1,0)","v":0}]
[null,null,{"$f":"+\"Declaración Jurada: El suscrito Director \"&$D$4245&\" del \"&$E$12&\", código \"&Información!$E$11&\", hace constar que los datos consignados en éste formulario son veraces y responden al estado real de ésta institución.\"&\" Cualquier inexactitud o falsedad estaré incurriendo en las responsabilidades administrativas y disciplinarias, sin perjuicio de las acciones civiles.\"","v":"Declaración Jurada: El suscrito Director  del , código , hace constar que los datos consignados en éste formulario son veraces y responden al estado real de ésta institución. Cualquier inexactitud o falsedad estaré incurriendo en las responsabilidades administrativas y disciplinarias, sin perjuicio de las acciones civiles."},null,null,null,null,null,null,null,null,null,null,null,null,null,null,null,null,null,null,null,null,null,null,null,null,null,null,null,null,null,null,null,null,null,null,null,null,null,null,null,null,null,null,null,null,null,null,0]
[null,null,null,null,null,null,null,null,null,null,null,null,null,null,null,null,null,null,null,null,null,null,null,null,null,null,null,null,null,null,null,null,null,null,null,null,null,null,null,null,null,null,null,null,null,null,null,null,null,0]
[{"$f":"+A22+1","v":2},{"$f":"IFERROR(VLOOKUP(A77,'hoja de cálculo'!$A$22:'hoja de cálculo'!$C$321,3,0),\"\")","v":""},null,null,null,null,null,null,null,null,null,null,null,null,null,null,null,null,null,null,null,null,null,null,null,null,null,null,null,null,null,null,null,null,null,null,null,null,null,null,null,null,null,null,null,null,null,null,null,{"$f":"+IF(B77=\"\",0,1)","v":0}]
["Ausente","Sustituto",{"$f":"IFERROR(VLOOKUP(A77,'hoja de cálculo'!$A$7:'hoja de cálculo'!$H$321,8,0),\"\")","v":""},null,null,null,null,null,null,null,null,null,null,null,null,null,null,null,null,null,null,null,null,null,null,null,null,null,"Cont. 1",null,null,null,null,null,null,null,null,null,null,null,null,null,null,null,null,null,null,null,null,{"$f":"+IF(AX77>0,AX77+1,0)","v":0}]
[null,null,"Nº","Nombre del servidor",null,null,null,"Nº de cédula","Grupo Prof.","Especialidad",null,"Nivel",null,null,null,null,null,"Sub- Total","Leccs. Co-curriculares",null,null,null,null,"Sub- Total","Pl","Total Leccs.","Nº de leccs.",null,null,null,null,null,null,null,null,null,null,null,null,null,null,null,null,null,null,null,null,null,null,{"$f":"+IF(AX78>0,AX78+1,0)","v":0}]
[null,null,null,null,null,null,null,null,null,null,null,"7º","8º","9º","10º","11º","12º",null,"CE",null,null,null,null,null,null,null,"Prop.","Ints.",null,null,null,{"$f":"+IF($AF$24=0,0,SUMIF($S80:$W80,$AF$24,$S99:$W99))","v":0},{"$f":"+IF($AG$24=0,0,SUMIF($S80:$W80,$AG$24,$S99:$W99))","v":0},{"$f":"+IF($AH$24=0,0,SUMIF($S80:$W80,$AH$24,$S99:$W99))","v":0},{"$f":"+IF($AI$24=0,0,SUMIF($S80:$W80,$AI$24,$S99:$W99))","v":0},{"$f":"+IF($AJ$24=0,0,SUMIF($S80:$W80,$AJ$24,$S99:$W99))","v":0},{"$f":"+IF($AK$24=0,0,SUMIF($S80:$W80,$AK$24,$S99:$W99))","v":0},{"$f":"+IF($AL$24=0,0,SUMIF($S80:$W80,$AL$24,$S99:$W99))","v":0},{"$f":"+IF($AM$24=0,0,SUMIF($S80:$W80,$AM$24,$S99:$W99))","v":0},{"$f":"+IF($AN$24=0,0,SUMIF($S80:$W80,$AN$24,$S99:$W99))","v":0},{"$f":"+IF($AO$24=0,0,SUMIF($S80:$W80,$AO$24,$S99:$W99))","v":0},{"$f":"+IF($AP$24=0,0,SUMIF($S80:$W80,$AP$24,$S99:$W99))","v":0},{"$f":"+IF($AQ$24=0,0,SUMIF($S80:$W80,$AQ$24,$S99:$W99))","v":0},null,null,null,null,null,null,{"$f":"+IF(AX79>0,AX79+1,0)","v":0}]
[null,null,1,null,null,null,null,null,null,null,null,null,null,null,null,null,null,{"$f":"+SUM(L81:Q81)","v":0},null,null,null,null,null,{"$f":"+SUM(R81:W81)","v":0},{"$f":"IF(X81=0,0,IF(X81>48,\"E\",IF(X81<44,0,IF(A81=\"A\",0,48-X81))))","v":0},{"$f":"+IF(Y81=\"E\",\"E\",(X81+Y81))","v":0},null,{"$f":"+IF(Z81=\"E\",\"E\",(Z81-AA81))","v":0},{"$f":"IF(A81=\"A\",\"√\",IF(Z81>48,\"E\",\"√\"))","v":"√"},{"$f":"+IF(AC81=\"√\",1,0)","v":1},null,null,null,null,null,null,null,null,null,null,null,null,null,null,null,null,null,null,null,{"$f":"+IF(OR(AA81+AB81>0,D81<>0,H81<>0,I81<>0,J81<>0),AX80+1,0)","v":0}]
[null,null,2,null,null,null,null,null,null,null,null,null,null,null,null,null,null,0,null,null,null,null,null,0,0,0,null,0,{"$f":"IF(A82=\"A\",\"√\",IF(Z82>48,\"E\",\"√\"))","v":"√"},1,null,null,null,null,null,null,null,null,null,null,null,null,null,null,null,null,null,null,null,0]
[null,null,3,null,null,null,null,null,null,null,null,null,null,null,null,null,null,0,null,null,null,null,null,0,0,0,null,0,"√",1,null,null,null,null,null,null,null,null,null,null,null,null,null,null,null,null,null,null,null,0]
[null,null,4,null,null,null,null,null,null,null,null,null,null,null,null,null,null,0,null,null,null,null,null,0,0,0,null,0,"√",1,null,null,null,null,null,null,null,null,null,null,null,null,null,null,null,null,null,null,null,0]
[null,null,5,null,null,null,null,null,null,null,null,null,null,null,null,null,null,0,null,null,null,null,null,0,0,0,null,0,"√",1,null,null,null,null,null,null,null,null,null,null,null,null,null,null,null,null,null,null,null,0]
[null,null,6,null,null,null,null,null,null,null,null,null,null,null,null,null,null,0,null,null,null,null,null,0,0,0,null,0,"√",1,null,null,null,null,null,null,null,null,null,null,null,null,null,null,null,null,null,null,null,0]
[null,null,7,null,null,null,null,null,null,null,null,null,null,null,null,null,null,0,null,null,null,null,null,0,0,0,null,0,"√",1,null,null,null,null,null,null,null,null,null,null,null,null,null,null,null,null,null,null,null,0]
[null,null,8,null,null,null,null,null,null,null,null,null,null,null,null,null,null,0,null,null,null,null,null,0,0,0,null,0,"√",1,null,null,null,null,null,null,null,null,null,null,null,null,null,null,null,null,null,null,null,0]
[null,null,9,null,null,null,null,null,null,null,null,null,null,null,null,null,null,0,null,null,null,null,null,0,0,0,null,0,"√",1,null,null,null,null,null,null,null,null,null,null,null,null,null,null,null,null,null,null,null,0]
[null,null,10,null,null,null,null,null,null,null,null,null,null,null,null,null,null,0,null,null,null,null,null,0,0,0,null,0,"√",1,null,null,null,null,null,null,null,null,null,null,null,null,null,null,null,null,null,null,null,0]
[null,null,11,null,null,null,null,null,null,null,null,null,null,null,null,null,null,0,null,null,null,null,null,0,0,0,null,0,"√",1,null,null,null,null,null,null,null,null,null,null,null,null,null,null,null,null,null,null,null,0]
[null,null,12,null,null,null,null,null,null,null,null,null,null,null,null,null,null,0,null,null,null,null,null,0,0,0,null,0,"√",1,null,null,null,null,null,null,null,null,null,null,null,null,null,null,null,null,null,null,null,0]
[null,null,13,null,null,null,null,null,null,null,null,null,null,null,null,null,null,0,null,null,null,null,null,0,0,0,null,0,"√",1,null,null,null,null,null,null,null,null,null,null,null,null,null,null,null,null,null,null,null,0]
[null,null,14,null,null,null,null,null,null,null,null,null,null,null,null,null,null,0,null,null,null,null,null,0,0,0,null,0,"√",1,null,null,null,null,null,null,null,null,null,null,null,null,null,null,null,null,null,null,null,0]
[null,null,15,null,null,null,null,null,null,null,null,null,null,null,null,null,null,0,null,null,null,null,null,0,0,0,null,0,"√",1,null,null,null,null,null,null,null,null,null,null,null,null,null,null,null,null,null,null,null,0]
[null,null,16,null,null,null,null,null,null,null,null,null,null,null,null,null,null,0,null,null,null,null,null,0,0,0,null,0,"√",1,null,null,null,null,null,null,null,null,null,null,null,null,null,null,null,null,null,null,null,0]
[null,null,17,null,null,null,null,null,null,null,null,null,null,null,null,null,null,0,null,null,null,null,null,0,0,0,null,0,"√",1,null,null,null,null,null,null,null,null,null,null,null,null,null,null,null,null,null,null,null,0]
[null,null,18,null,null,null,null,null,null,null,null,null,null,null,null,null,null,0,null,null,null,null,null,0,0,0,null,0,"√",1,null,null,null,null,null,null,null,null,null,null,null,null,null,null,null,null,null,null,null,0]
[null,null,null,null,null,null,null,null,"Total de lecciones asignadas:",null,null,{"$f":"+SUM(L81:L98)-SUMIF($A81:$A98,\"A\",L81:L98)","v":0},{"$f":"+SUM(M81:M98)-SUMIF($A81:$A98,\"A\",M81:M98)","v":0},0,0,{"$f":"+SUM(P81:P98)-SUMIF($A81:$A98,\"A\",P81:P98)","v":0},{"$f":"+SUM(Q81:Q98)-SUMIF($A81:$A98,\"A\",Q81:Q98)","v":0},{"$f":"+SUM(R81:R98)-SUMIF($A81:$A98,\"A\",R81:R98)","v":0},{"$f":"+SUM(S81:S98)-SUMIF($A81:$A98,\"A\",S81:S98)","v":0},{"$f":"+SUM(T81:T98)-SUMIF($A81:$A98,\"A\",T81:T98)","v":0},0,0,0,{"$f":"+SUM(R99:W99)","v":0},{"$f":"+SUM(Y81:Y98)","v":0},{"$f":"+SUM(Z81:Z98)-SUMIF($A81:$A98,\"A\",Z81:Z98)","v":0},{"$f":"+SUM(AA81:AA98)","v":0},{"$f":"+SUM(AB81:AB98)-SUMIF($A81:$A98,\"A\",AB81:AB98)","v":0},{"$f":"IF($C78=\"\",\"\",IF(AND(R102=\"√\",AD99=18),\"√\",\"Er\"))","v":""},{"$f":"+SUM(AD81:AD98)","v":18},null,null,null,null,null,null,null,null,null,null,null,null,null,null,null,{"$f":"+Y99","v":0},null,null,null,{"$f":"+IF(AX77>0,AX80+1,0)","v":0}]
[null,null,null,null,null,null,null,null,"Total de lecciones aprobadas:",null,null,{"$f":"+IF(C78=\"\",\"\",VLOOKUP($A77,'hoja de cálculo'!$A$17:$AJ$321,31,0))","v":""},{"$f":"+IF(C78=\"\",\"\",VLOOKUP($A77,'hoja de cálculo'!$A$17:$AJ$321,32,0))","v":""},{"$f":"+IF(C78=\"\",\"\",VLOOKUP($A77,'hoja de cálculo'!$A$17:$AJ$321,33,0))","v":""},{"$f":"+IF(C78=\"\",\"\",VLOOKUP($A77,'hoja de cálculo'!$A$17:$AJ$321,34,0))","v":""},{"$f":"+IF(C78=\"\",\"\",VLOOKUP($A77,'hoja de cálculo'!$A$17:$AJ$321,35,0))","v":""},{"$f":"+IF(C78=\"\",\"\",VLOOKUP($A77,'hoja de cálculo'!$A$17:$AJ$321,36,0))","v":""},{"$f":"+SUM(L100:Q100)","v":0},null,null,null,null,null,null,null,null,null,null,null,null,null,null,null,null,null,null,null,null,null,null,null,null,null,null,null,null,null,null,null,{"$f":"+IF(AX99>0,AX99+1,0)","v":0}]
[null,null,null,null,null,null,null,null,"Total de secciones",null,"Control:",{"$f":"+IF(C78=\"\",\"\",VLOOKUP($A77,'hoja de cálculo'!$A$17:$AQ$321,38,0))","v":""},{"$f":"+IF(C78=\"\",\"\",VLOOKUP($A77,'hoja de cálculo'!$A$17:$AQ$321,39,0))","v":""},{"$f":"+IF(C78=\"\",\"\",VLOOKUP($A77,'hoja de cálculo'!$A$17:$AQ$321,40,0))","v":""},{"$f":"+IF(C78=\"\",\"\",VLOOKUP($A77,'hoja de cálculo'!$A$17:$AQ$321,41,0))","v":""},{"$f":"+IF(C78=\"\",\"\",VLOOKUP($A77,'hoja de cálculo'!$A$17:$AQ$321,42,0))","v":""},{"$f":"+IF(C78=\"\",\"\",VLOOKUP($A77,'hoja de cálculo'!$A$17:$AQ$321,43,0))","v":""},{"$f":"+SUM(L101:Q101)","v":0},null,null,null,null,null,null,null,null,null,null,null,null,null,null,null,null,null,null,null,null,null,null,null,null,null,null,null,null,null,null,null,{"$f":"+IF(AX100>0,AX100+1,0)","v":0}]
[null,null,null,null,null,null,null,null,"Control 2",null,"Control:",{"$f":"IF(L100=\"\",\"\",IF(L99>L100,\"E\",IF(L99<L100,\"S\",\"√\")))","v":""},{"$f":"IF(M100=\"\",\"\",IF(M99>M100,\"E\",IF(M99<M100,\"S\",\"√\")))","v":""},"","","","",{"$f":"IF($C58=\"\",\"\",IF(AND(L102=\"√\",M102=\"√\",N102=\"√\",O102=\"√\",P102=\"√\",Q102=\"√\"),\"√\",\"Error\"))","v":"Error"},null,null,null,null,null,null,null,null,null,null,null,null,null,null,null,null,null,null,null,null,null,null,null,null,null,null,null,null,null,{"$f":"+IF(OR(B102=\"\",B102=\"Lecciones de TIE asignadas -√-\"),1,0)","v":1},null,0]
[null,null,null,null,null,null,null,null,"Plan de Estudios",null,"Control:",{"$f":"+IF(C78=\"\",\"\",VLOOKUP($A77,'hoja de cálculo'!$A$17:$BD$321,51,0))","v":""},{"$f":"+IF(C78=\"\",\"\",VLOOKUP($A77,'hoja de cálculo'!$A$17:$BD$321,52,0))","v":""},{"$f":"+IF(C78=\"\",\"\",VLOOKUP($A77,'hoja de cálculo'!$A$17:$BD$321,53,0))","v":""},{"$f":"+IF(C78=\"\",\"\",VLOOKUP($A77,'hoja de cálculo'!$A$17:$BD$321,54,0))","v":""},{"$f":"+IF(C78=\"\",\"\",VLOOKUP($A77,'hoja de cálculo'!$A$17:$BD$321,55,0))","v":""},{"$f":"+IF(C78=\"\",\"\",VLOOKUP($A77,'hoja de cálculo'!$A$17:$BD$321,56,0))","v":""},null,null,null,null,null,null,null,null,null,null,null,null,null,null,null,null,null,null,null,null,null,null,null,null,null,null,null,{"$f":"+IF(AB103<0,-AB103,0)","v":0},null,null,null,null,0]
[null,null,null,"Observaciones:",{"$f":"+IF(OR(C78=\"Lecciones Labor@ Diurnas\",C78=\"Lecciones Labor@ Nocturno\"),\"Recuerde generar el informe de labores de lecciones Labor@\",\"\")","v":""},null,null,null,null,null,null,null,null,null,null,null,null,null,null,null,null,null,null,null,null,null,null,null,null,null,null,null,null,null,null,null,null,null,null,null,null,null,null,null,null,null,null,null,null,0]
[null,null,null,null,null,null,null,null,null,null,null,null,null,null,null,null,null,null,null,null,null,null,null,null,null,null,null,null,null,null,null,null,null,null,null,null,null,null,null,null,null,null,null,null,null,null,null,null,null,0]
[null,null,null,null,null,null,null,null,null,null,null,null,null,null,null,null,null,null,null,null,null,null,null,null,null,null,null,null,null,null,null,null,null,null,null,null,null,null,null,null,null,null,null,null,null,null,null,null,null,0]
[null,null,null,null,null,null,null,null,null,null,null,null,null,null,null,null,null,null,null,null,null,null,null,null,null,null,null,null,null,null,null,null,null,null,null,null,null,null,null,null,null,null,null,null,null,null,null,null,null,0]
[null,null,null,null,null,null,null,null,null,null,null,null,null,null,null,null,null,null,null,null,null,null,null,null,null,null,"Hoja de Cálculo",null,null,null,null,null,null,null,null,null,null,null,null,null,null,null,null,null,null,null,null,null,null,0]
[null,null,null,null,null,null,null,null,null,null,null,null,null,null,null,null,null,null,null,null,null,null,null,null,null,null,null,null,null,null,null,null,null,null,null,null,null,null,null,null,null,null,null,null,null,null,null,null,null,{"$f":"+IF(AX108>0,AX108+1,0)","v":0}]
[null,null,{"$f":"+\"Declaración Jurada: El suscrito Director \"&$D$4245&\" del \"&$E$12&\", código \"&Información!$E$11&\", hace constar que los datos consignados en éste formulario son veraces y responden al estado real de ésta institución.\"&\" Cualquier inexactitud o falsedad estaré incurriendo en las responsabilidades administrativas y disciplinarias, sin perjuicio de las acciones civiles.\"","v":"Declaración Jurada: El suscrito Director  del , código , hace constar que los datos consignados en éste formulario son veraces y responden al estado real de ésta institución. Cualquier inexactitud o falsedad estaré incurriendo en las responsabilidades administrativas y disciplinarias, sin perjuicio de las acciones civiles."},null,null,null,null,null,null,null,null,null,null,null,null,null,null,null,null,null,null,null,null,null,null,null,null,null,null,null,null,null,null,null,null,null,null,null,null,null,null,null,null,null,null,null,null,null,null,{"$f":"+IF(AX109>0,AX109+1,0)","v":0}]
[null,null,null,null,null,null,null,null,null,null,null,null,null,null,null,null,null,null,null,null,null,null,null,null,null,null,null,null,null,null,null,null,null,null,null,null,null,null,null,null,null,null,null,null,null,null,null,null,null,{"$f":"+IF(AX110>0,AX110+1,0)","v":0}]
[{"$f":"+A77+1","v":3},{"$f":"IFERROR(VLOOKUP(A112,'hoja de cálculo'!$A$22:'hoja de cálculo'!$C$321,3,0),\"\")","v":""},null,null,null,null,null,null,null,null,null,null,null,null,null,null,null,null,null,null,null,null,null,null,null,null,null,null,null,null,null,null,null,null,null,null,null,null,null,null,null,null,null,null,null,null,null,null,null,{"$f":"+IF(B112=\"\",0,1)","v":0}]
["Ausente","Sustituto",{"$f":"IFERROR(VLOOKUP(A112,'hoja de cálculo'!$A$7:'hoja de cálculo'!$H$321,8,0),\"\")","v":""},null,null,null,null,null,null,null,null,null,null,null,null,null,null,null,null,null,null,null,null,null,null,null,null,null,"Cont. 1",null,null,null,null,null,null,null,null,null,null,null,null,null,null,null,null,null,null,null,null,{"$f":"+IF(AX112>0,AX112+1,0)","v":0}]
[null,null,"Nº","Nombre del servidor",null,null,null,"Nº de cédula","Grupo Prof.","Especialidad",null,"Nivel",null,null,null,null,null,"Sub- Total","Leccs. Co-curriculares",null,null,null,null,"Sub- Total","Pl","Total Leccs.","Nº de leccs.",null,null,null,null,null,null,null,null,null,null,null,null,null,null,null,null,null,null,null,null,null,null,{"$f":"+IF(AX113>0,AX113+1,0)","v":0}]
[null,null,null,null,null,null,null,null,null,null,null,"7º","8º","9º","10º","11º","12º",null,null,null,null,null,null,null,null,null,"Prop.","Ints.",null,null,null,{"$f":"+IF($AF$24=0,0,SUMIF($S115:$W115,$AF$24,$S134:$W134))","v":0},{"$f":"+IF($AG$24=0,0,SUMIF($S115:$W115,$AG$24,$S134:$W134))","v":0},{"$f":"+IF($AH$24=0,0,SUMIF($S115:$W115,$AH$24,$S134:$W134))","v":0},{"$f":"+IF($AI$24=0,0,SUMIF($S115:$W115,$AI$24,$S134:$W134))","v":0},{"$f":"+IF($AJ$24=0,0,SUMIF($S115:$W115,$AJ$24,$S134:$W134))","v":0},{"$f":"+IF($AK$24=0,0,SUMIF($S115:$W115,$AK$24,$S134:$W134))","v":0},{"$f":"+IF($AL$24=0,0,SUMIF($S115:$W115,$AL$24,$S134:$W134))","v":0},{"$f":"+IF($AM$24=0,0,SUMIF($S115:$W115,$AM$24,$S134:$W134))","v":0},{"$f":"+IF($AN$24=0,0,SUMIF($S115:$W115,$AN$24,$S134:$W134))","v":0},{"$f":"+IF($AO$24=0,0,SUMIF($S115:$W115,$AO$24,$S134:$W134))","v":0},{"$f":"+IF($AP$24=0,0,SUMIF($S115:$W115,$AP$24,$S134:$W134))","v":0},{"$f":"+IF($AQ$24=0,0,SUMIF($S115:$W115,$AQ$24,$S134:$W134))","v":0},null,null,null,null,null,null,{"$f":"+IF(AX114>0,AX114+1,0)","v":0}]
[null,null,1,null,null,null,null,null,null,null,null,null,null,null,null,null,null,{"$f":"+SUM(L116:Q116)","v":0},null,null,null,null,null,{"$f":"+SUM(R116:W116)","v":0},{"$f":"IF(X116=0,0,IF(X116>48,\"E\",IF(X116<44,0,IF(A116=\"A\",0,48-X116))))","v":0},{"$f":"+IF(Y116=\"E\",\"E\",(X116+Y116))","v":0},null,{"$f":"+IF(Z116=\"E\",\"E\",(Z116-AA116))","v":0},{"$f":"IF(A116=\"A\",\"√\",IF(Z116>48,\"E\",\"√\"))","v":"√"},{"$f":"+IF(AC116=\"√\",1,0)","v":1},null,null,null,null,null,null,null,null,null,null,null,null,null,null,null,null,null,null,null,{"$f":"+IF(OR(AA116+AB116>0,D116<>0,H116<>0,I116<>0,J116<>0),AX115+1,0)","v":0}]
[null,null,2,null,null,null,null,null,null,null,null,null,null,null,null,null,null,0,null,null,null,null,null,0,0,0,null,0,{"$f":"IF(A117=\"A\",\"√\",IF(Z117>48,\"E\",\"√\"))","v":"√"},1,null,null,null,null,null,null,null,null,null,null,null,null,null,null,null,null,null,null,null,0]
[null,null,3,null,null,null,null,null,null,null,null,null,null,null,null,null,null,0,null,null,null,null,null,0,0,0,null,0,"√",1,null,null,null,null,null,null,null,null,null,null,null,null,null,null,null,null,null,null,null,0]
[null,null,4,null,null,null,null,null,null,null,null,null,null,null,null,null,null,0,null,null,null,null,null,0,0,0,null,0,"√",1,null,null,null,null,null,null,null,null,null,null,null,null,null,null,null,null,null,null,null,0]
[null,null,5,null,null,null,null,null,null,null,null,null,null,null,null,null,null,0,null,null,null,null,null,0,0,0,null,0,"√",1,null,null,null,null,null,null,null,null,null,null,null,null,null,null,null,null,null,null,null,0]
[null,null,6,null,null,null,null,null,null,null,null,null,null,null,null,null,null,0,null,null,null,null,null,0,0,0,null,0,"√",1,null,null,null,null,null,null,null,null,null,null,null,null,null,null,null,null,null,null,null,0]
[null,null,7,null,null,null,null,null,null,null,null,null,null,null,null,null,null,0,null,null,null,null,null,0,0,0,null,0,"√",1,null,null,null,null,null,null,null,null,null,null,null,null,null,null,null,null,null,null,null,0]
[null,null,8,null,null,null,null,null,null,null,null,null,null,null,null,null,null,0,null,null,null,null,null,0,0,0,null,0,"√",1,null,null,null,null,null,null,null,null,null,null,null,null,null,null,null,null,null,null,null,0]
[null,null,9,null,null,null,null,null,null,null,null,null,null,null,null,null,null,0,null,null,null,null,null,0,0,0,null,0,"√",1,null,null,null,null,null,null,null,null,null,null,null,null,null,null,null,null,null,null,null,0]
[null,null,10,null,null,null,null,null,null,null,null,null,null,null,null,null,null,0,null,null,null,null,null,0,0,0,null,0,"√",1,null,null,null,null,null,null,null,null,null,null,null,null,null,null,null,null,null,null,null,0]
[null,null,11,null,null,null,null,null,null,null,null,null,null,null,null,null,null,0,null,null,null,null,null,0,0,0,null,0,"√",1,null,null,null,null,null,null,null,null,null,null,null,null,null,null,null,null,null,null,null,0]
[null,null,12,null,null,null,null,null,null,null,null,null,null,null,null,null,null,0,null,null,null,null,null,0,0,0,null,0,"√",1,null,null,null,null,null,null,null,null,null,null,null,null,null,null,null,null,null,null,null,0]
[null,null,13,null,null,null,null,null,null,null,null,null,null,null,null,null,null,0,null,null,null,null,null,0,0,0,null,0,"√",1,null,null,null,null,null,null,null,null,null,null,null,null,null,null,null,null,null,null,null,0]
[null,null,14,null,null,null,null,null,null,null,null,null,null,null,null,null,null,0,null,null,null,null,null,0,0,0,null,0,"√",1,null,null,null,null,null,null,null,null,null,null,null,null,null,null,null,null,null,null,null,0]
[null,null,15,null,null,null,null,null,null,null,null,null,null,null,null,null,null,0,null,null,null,null,null,0,0,0,null,0,"√",1,null,null,null,null,null,null,null,null,null,null,null,null,null,null,null,null,null,null,null,0]
[null,null,16,null,null,null,null,null,null,null,null,null,null,null,null,null,null,0,null,null,null,null,null,0,0,0,null,0,"√",1,null,null,null,null,null,null,null,null,null,null,null,null,null,null,null,null,null,null,null,0]
[null,null,17,null,null,null,null,null,null,null,null,null,null,null,null,null,null,0,null,null,null,null,null,0,0,0,null,0,"√",1,null,null,null,null,null,null,null,null,null,null,null,null,null,null,null,null,null,null,null,0]
[null,null,18,null,null,null,null,null,null,null,null,null,null,null,null,null,null,0,null,null,null,null,null,0,0,0,null,0,"√",1,null,null,null,null,null,null,null,null,null,null,null,null,null,null,null,null,null,null,null,0]
[null,null,null,null,null,null,null,null,"Total de lecciones asignadas:",null,null,{"$f":"+SUM(L116:L133)-SUMIF($A116:$A133,\"A\",L116:L133)","v":0},{"$f":"+SUM(M116:M133)-SUMIF($A116:$A133,\"A\",M116:M133)","v":0},0,0,{"$f":"+SUM(P116:P133)-SUMIF($A116:$A133,\"A\",P116:P133)","v":0},{"$f":"+SUM(Q116:Q133)-SUMIF($A116:$A133,\"A\",Q116:Q133)","v":0},{"$f":"+SUM(R116:R133)-SUMIF($A116:$A133,\"A\",R116:R133)","v":0},{"$f":"+SUM(S116:S133)-SUMIF($A116:$A133,\"A\",S116:S133)","v":0},{"$f":"+SUM(T116:T133)-SUMIF($A116:$A133,\"A\",T116:T133)","v":0},0,0,0,{"$f":"+SUM(R134:W134)","v":0},{"$f":"+SUM(Y116:Y133)","v":0},{"$f":"+SUM(Z116:Z133)-SUMIF($A116:$A133,\"A\",Z116:Z133)","v":0},{"$f":"+SUM(AA116:AA133)","v":0},{"$f":"+SUM(AB116:AB133)-SUMIF($A116:$A133,\"A\",AB116:AB133)","v":0},{"$f":"IF($C113=\"\",\"\",IF(AND(R137=\"√\",AD134=18),\"√\",\"Er\"))","v":""},{"$f":"+SUM(AD116:AD133)","v":18},null,null,null,null,null,null,null,null,null,null,null,null,null,null,null,{"$f":"+Y134","v":0},null,null,null,{"$f":"+IF(AX112>0,AX115+1,0)","v":0}]
[null,null,null,null,null,null,null,null,"Total de lecciones aprobadas:",null,null,{"$f":"+IF(C113=\"\",\"\",VLOOKUP($A112,'hoja de cálculo'!$A$17:$AJ$321,31,0))","v":""},{"$f":"+IF(C113=\"\",\"\",VLOOKUP($A112,'hoja de cálculo'!$A$17:$AJ$321,32,0))","v":""},{"$f":"+IF(C113=\"\",\"\",VLOOKUP($A112,'hoja de cálculo'!$A$17:$AJ$321,33,0))","v":""},{"$f":"+IF(C113=\"\",\"\",VLOOKUP($A112,'hoja de cálculo'!$A$17:$AJ$321,34,0))","v":""},{"$f":"+IF(C113=\"\",\"\",VLOOKUP($A112,'hoja de cálculo'!$A$17:$AJ$321,35,0))","v":""},{"$f":"+IF(C113=\"\",\"\",VLOOKUP($A112,'hoja de cálculo'!$A$17:$AJ$321,36,0))","v":""},{"$f":"+SUM(L135:Q135)","v":0},null,null,null,null,null,null,null,null,null,null,null,null,null,null,null,null,null,null,null,null,null,null,null,null,null,null,null,null,null,null,null,{"$f":"+IF(AX134>0,AX134+1,0)","v":0}]
[null,null,null,null,null,null,null,null,"Total de secciones",null,"Control:",{"$f":"+IF(C113=\"\",\"\",VLOOKUP($A112,'hoja de cálculo'!$A$17:$AQ$321,38,0))","v":""},{"$f":"+IF(C113=\"\",\"\",VLOOKUP($A112,'hoja de cálculo'!$A$17:$AQ$321,39,0))","v":""},{"$f":"+IF(C113=\"\",\"\",VLOOKUP($A112,'hoja de cálculo'!$A$17:$AQ$321,40,0))","v":""},{"$f":"+IF(C113=\"\",\"\",VLOOKUP($A112,'hoja de cálculo'!$A$17:$AQ$321,41,0))","v":""},{"$f":"+IF(C113=\"\",\"\",VLOOKUP($A112,'hoja de cálculo'!$A$17:$AQ$321,42,0))","v":""},{"$f":"+IF(C113=\"\",\"\",VLOOKUP($A112,'hoja de cálculo'!$A$17:$AQ$321,43,0))","v":""},{"$f":"+SUM(L136:Q136)","v":0},null,null,null,null,null,null,null,null,null,null,null,null,null,null,null,null,null,null,null,null,null,null,null,null,null,null,null,null,null,null,null,{"$f":"+IF(AX135>0,AX135+1,0)","v":0}]
[null,null,null,null,null,null,null,null,"Control 2",null,"Control:",{"$f":"IF(L135=\"\",\"\",IF(L134>L135,\"E\",IF(L134<L135,\"S\",\"√\")))","v":""},{"$f":"IF(M135=\"\",\"\",IF(M134>M135,\"E\",IF(M134<M135,\"S\",\"√\")))","v":""},"","","","",{"$f":"IF($C93=\"\",\"\",IF(AND(L137=\"√\",M137=\"√\",N137=\"√\",O137=\"√\",P137=\"√\",Q137=\"√\"),\"√\",\"Error\"))","v":"Error"},null,null,null,null,null,null,null,null,null,null,null,null,null,null,null,null,null,null,null,null,null,null,null,null,null,null,null,null,null,{"$f":"+IF(OR(B137=\"\",B137=\"Lecciones de TIE asignadas -√-\"),1,0)","v":1},null,{"$f":"+IF(AX136>0,AX136+1,0)","v":0}]
[null,null,null,null,null,null,null,null,"Plan de Estudios",null,"Control:",{"$f":"+IF(C113=\"\",\"\",VLOOKUP($A112,'hoja de cálculo'!$A$17:$BD$321,51,0))","v":""},{"$f":"+IF(C113=\"\",\"\",VLOOKUP($A112,'hoja de cálculo'!$A$17:$BD$321,52,0))","v":""},{"$f":"+IF(C113=\"\",\"\",VLOOKUP($A112,'hoja de cálculo'!$A$17:$BD$321,53,0))","v":""},{"$f":"+IF(C113=\"\",\"\",VLOOKUP($A112,'hoja de cálculo'!$A$17:$BD$321,54,0))","v":""},{"$f":"+IF(C113=\"\",\"\",VLOOKUP($A112,'hoja de cálculo'!$A$17:$BD$321,55,0))","v":""},{"$f":"+IF(C113=\"\",\"\",VLOOKUP($A112,'hoja de cálculo'!$A$17:$BD$321,56,0))","v":""},null,null,null,null,null,null,null,null,null,null,null,null,null,null,null,null,null,null,null,null,null,null,null,null,null,null,null,{"$f":"+IF(AB138<0,-AB138,0)","v":0},null,null,null,null,{"$f":"+IF(AX137>0,AX137+1,0)","v":0}]
[null,null,null,"Observaciones:",{"$f":"+IF(OR(C113=\"Lecciones Labor@ Diurnas\",C113=\"Lecciones Labor@ Nocturno\"),\"Recuerde generar el informe de labores de lecciones Labor@\",\"\")","v":""},null,null,null,null,null,null,null,null,null,null,null,null,null,null,null,null,null,null,null,null,null,null,null,null,null,null,null,null,null,null,null,null,null,null,null,null,null,null,null,null,null,null,null,null,{"$f":"+IF(AX138>0,AX138+1,0)","v":0}]
[null,null,null,null,null,null,null,null,null,null,null,null,null,null,null,null,null,null,null,null,null,null,null,null,null,null,null,null,null,null,null,null,null,null,null,null,null,null,null,null,null,null,null,null,null,null,null,null,null,{"$f":"+IF(AX139>0,AX139+1,0)","v":0}]
[null,null,null,null,null,null,null,null,null,null,null,null,null,null,null,null,null,null,null,null,null,null,null,null,null,null,null,null,null,null,null,null,null,null,null,null,null,null,null,null,null,null,null,null,null,null,null,null,null,{"$f":"+IF(AX140>0,AX140+1,0)","v":0}]
[null,null,null,null,null,null,null,null,null,null,null,null,null,null,null,null,null,null,null,null,null,null,null,null,null,null,null,null,null,null,null,null,null,null,null,null,null,null,null,null,null,null,null,null,null,null,null,null,null,{"$f":"+IF(AX141>0,AX141+1,0)","v":0}]
[null,null,null,null,null,null,null,null,null,null,null,null,null,null,null,null,null,null,null,null,null,null,null,null,null,null,"Hoja de Cálculo",null,null,null,null,null,null,null,null,null,null,null,null,null,null,null,null,null,null,null,null,null,null,0]
[null,null,null,null,null,null,null,null,null,null,null,null,null,null,null,null,null,null,null,null,null,null,null,null,null,null,null,null,null,null,null,null,null,null,null,null,null,null,null,null,null,null,null,null,null,null,null,null,null,{"$f":"+IF(AX143>0,AX143+1,0)","v":0}]
[null,null,{"$f":"+\"Declaración Jurada: El suscrito Director \"&$D$4245&\" del \"&$E$12&\", código \"&Información!$E$11&\", hace constar que los datos consignados en éste formulario son veraces y responden al estado real de ésta institución.\"&\" Cualquier inexactitud o falsedad estaré incurriendo en las responsabilidades administrativas y disciplinarias, sin perjuicio de las acciones civiles.\"","v":"Declaración Jurada: El suscrito Director  del , código , hace constar que los datos consignados en éste formulario son veraces y responden al estado real de ésta institución. Cualquier inexactitud o falsedad estaré incurriendo en las responsabilidades administrativas y disciplinarias, sin perjuicio de las acciones civiles."},null,null,null,null,null,null,null,null,null,null,null,null,null,null,null,null,null,null,null,null,null,null,null,null,null,null,null,null,null,null,null,null,null,null,null,null,null,null,null,null,null,null,null,null,null,null,{"$f":"+IF(AX144>0,AX144+1,0)","v":0}]
[null,null,null,null,null,null,null,null,null,null,null,null,null,null,null,null,null,null,null,null,null,null,null,null,null,null,null,null,null,null,null,null,null,null,null,null,null,null,null,null,null,null,null,null,null,null,null,null,null,{"$f":"+IF(AX145>0,AX145+1,0)","v":0}]
[{"$f":"+A112+1","v":4},{"$f":"IFERROR(VLOOKUP(A147,'hoja de cálculo'!$A$22:'hoja de cálculo'!$C$321,3,0),\"\")","v":""},null,null,null,null,null,null,null,null,null,null,null,null,null,null,null,null,null,null,null,null,null,null,null,null,null,null,null,null,null,null,null,null,null,null,null,null,null,null,null,null,null,null,null,null,null,null,null,{"$f":"+IF(B147=\"\",0,1)","v":0}]
["Ausente","Sustituto",{"$f":"IFERROR(VLOOKUP(A147,'hoja de cálculo'!$A$7:'hoja de cálculo'!$H$321,8,0),\"\")","v":""},null,null,null,null,null,null,null,null,null,null,null,null,null,null,null,null,null,null,null,null,null,null,null,null,null,"Cont. 1",null,null,null,null,null,null,null,null,null,null,null,null,null,null,null,null,null,null,null,null,{"$f":"+IF(AX147>0,AX147+1,0)","v":0}]
[null,null,"Nº","Nombre del servidor",null,null,null,"Nº de cédula","Grupo Prof.","Especialidad",null,"Nivel",null,null,null,null,null,"Sub- Total","Leccs. Co-curriculares",null,null,null,null,"Sub- Total","Pl","Total Leccs.","Nº de leccs.",null,null,null,null,null,null,null,null,null,null,null,null,null,null,null,null,null,null,null,null,null,null,0]
[null,null,null,null,null,null,null,null,null,null,null,"7º","8º","9º","10º","11º","12º",null,null,null,null,null,null,null,null,null,"Prop.","Ints.",null,null,null,{"$f":"+IF($AF$24=0,0,SUMIF($S150:$W150,$AF$24,$S169:$W169))","v":0},{"$f":"+IF($AG$24=0,0,SUMIF($S150:$W150,$AG$24,$S169:$W169))","v":0},{"$f":"+IF($AH$24=0,0,SUMIF($S150:$W150,$AH$24,$S169:$W169))","v":0},{"$f":"+IF($AI$24=0,0,SUMIF($S150:$W150,$AI$24,$S169:$W169))","v":0},{"$f":"+IF($AJ$24=0,0,SUMIF($S150:$W150,$AJ$24,$S169:$W169))","v":0},{"$f":"+IF($AK$24=0,0,SUMIF($S150:$W150,$AK$24,$S169:$W169))","v":0},{"$f":"+IF($AL$24=0,0,SUMIF($S150:$W150,$AL$24,$S169:$W169))","v":0},{"$f":"+IF($AM$24=0,0,SUMIF($S150:$W150,$AM$24,$S169:$W169))","v":0},{"$f":"+IF($AN$24=0,0,SUMIF($S150:$W150,$AN$24,$S169:$W169))","v":0},{"$f":"+IF($AO$24=0,0,SUMIF($S150:$W150,$AO$24,$S169:$W169))","v":0},{"$f":"+IF($AP$24=0,0,SUMIF($S150:$W150,$AP$24,$S169:$W169))","v":0},{"$f":"+IF($AQ$24=0,0,SUMIF($S150:$W150,$AQ$24,$S169:$W169))","v":0},null,null,null,null,null,null,0]
[null,null,1,null,null,null,null,null,null,null,null,null,null,null,null,null,null,{"$f":"+SUM(L151:Q151)","v":0},null,null,null,null,null,{"$f":"+SUM(R151:W151)","v":0},{"$f":"IF(X151=0,0,IF(X151>48,\"E\",IF(X151<44,0,IF(A151=\"A\",0,48-X151))))","v":0},{"$f":"+IF(Y151=\"E\",\"E\",(X151+Y151))","v":0},null,{"$f":"+IF(Z151=\"E\",\"E\",(Z151-AA151))","v":0},{"$f":"IF(A151=\"A\",\"√\",IF(Z151>48,\"E\",\"√\"))","v":"√"},{"$f":"+IF(AC151=\"√\",1,0)","v":1},null,null,null,null,null,null,null,null,null,null,null,null,null,null,null,null,null,null,null,{"$f":"+IF(OR(AA151+AB151>0,D151<>0,H151<>0,I151<>0,J151<>0),AX150+1,0)","v":0}]
[null,null,2,null,null,null,null,null,null,null,null,null,null,null,null,null,null,0,null,null,null,null,null,0,0,0,null,0,{"$f":"IF(A152=\"A\",\"√\",IF(Z152>48,\"E\",\"√\"))","v":"√"},1,null,null,null,null,null,null,null,null,null,null,null,null,null,null,null,null,null,null,null,0]
[null,null,3,null,null,null,null,null,null,null,null,null,null,null,null,null,null,0,null,null,null,null,null,0,0,0,null,0,"√",1,null,null,null,null,null,null,null,null,null,null,null,null,null,null,null,null,null,null,null,0]
[null,null,4,null,null,null,null,null,null,null,null,null,null,null,null,null,null,0,null,null,null,null,null,0,0,0,null,0,"√",1,null,null,null,null,null,null,null,null,null,null,null,null,null,null,null,null,null,null,null,0]
[null,null,5,null,null,null,null,null,null,null,null,null,null,null,null,null,null,0,null,null,null,null,null,0,0,0,null,0,"√",1,null,null,null,null,null,null,null,null,null,null,null,null,null,null,null,null,null,null,null,0]
[null,null,6,null,null,null,null,null,null,null,null,null,null,null,null,null,null,0,null,null,null,null,null,0,0,0,null,0,"√",1,null,null,null,null,null,null,null,null,null,null,null,null,null,null,null,null,null,null,null,0]
[null,null,7,null,null,null,null,null,null,null,null,null,null,null,null,null,null,0,null,null,null,null,null,0,0,0,null,0,"√",1,null,null,null,null,null,null,null,null,null,null,null,null,null,null,null,null,null,null,null,0]
[null,null,8,null,null,null,null,null,null,null,null,null,null,null,null,null,null,0,null,null,null,null,null,0,0,0,null,0,"√",1,null,null,null,null,null,null,null,null,null,null,null,null,null,null,null,null,null,null,null,0]
[null,null,9,null,null,null,null,null,null,null,null,null,null,null,null,null,null,0,null,null,null,null,null,0,0,0,null,0,"√",1,null,null,null,null,null,null,null,null,null,null,null,null,null,null,null,null,null,null,null,0]
[null,null,10,null,null,null,null,null,null,null,null,null,null,null,null,null,null,0,null,null,null,null,null,0,0,0,null,0,"√",1,null,null,null,null,null,null,null,null,null,null,null,null,null,null,null,null,null,null,null,0]
[null,null,11,null,null,null,null,null,null,null,null,null,null,null,null,null,null,0,null,null,null,null,null,0,0,0,null,0,"√",1,null,null,null,null,null,null,null,null,null,null,null,null,null,null,null,null,null,null,null,0]
[null,null,12,null,null,null,null,null,null,null,null,null,null,null,null,null,null,0,null,null,null,null,null,0,0,0,null,0,"√",1,null,null,null,null,null,null,null,null,null,null,null,null,null,null,null,null,null,null,null,0]
[null,null,13,null,null,null,null,null,null,null,null,null,null,null,null,null,null,0,null,null,null,null,null,0,0,0,null,0,"√",1,null,null,null,null,null,null,null,null,null,null,null,null,null,null,null,null,null,null,null,0]
[null,null,14,null,null,null,null,null,null,null,null,null,null,null,null,null,null,0,null,null,null,null,null,0,0,0,null,0,"√",1,null,null,null,null,null,null,null,null,null,null,null,null,null,null,null,null,null,null,null,0]
[null,null,15,null,null,null,null,null,null,null,null,null,null,null,null,null,null,0,null,null,null,null,null,0,0,0,null,0,"√",1,null,null,null,null,null,null,null,null,null,null,null,null,null,null,null,null,null,null,null,0]
[null,null,16,null,null,null,null,null,null,null,null,null,null,null,null,null,null,0,null,null,null,null,null,0,0,0,null,0,"√",1,null,null,null,null,null,null,null,null,null,null,null,null,null,null,null,null,null,null,null,0]
[null,null,17,null,null,null,null,null,null,null,null,null,null,null,null,null,null,0,null,null,null,null,null,0,0,0,null,0,"√",1,null,null,null,null,null,null,null,null,null,null,null,null,null,null,null,null,null,null,null,0]
[null,null,18,null,null,null,null,null,null,null,null,null,null,null,null,null,null,0,null,null,null,null,null,0,0,0,null,0,"√",1,null,null,null,null,null,null,null,null,null,null,null,null,null,null,null,null,null,null,null,0]
[null,null,null,null,null,null,null,null,"Total de lecciones asignadas:",null,null,{"$f":"+SUM(L151:L168)-SUMIF($A151:$A168,\"A\",L151:L168)","v":0},{"$f":"+SUM(M151:M168)-SUMIF($A151:$A168,\"A\",M151:M168)","v":0},0,0,{"$f":"+SUM(P151:P168)-SUMIF($A151:$A168,\"A\",P151:P168)","v":0},{"$f":"+SUM(Q151:Q168)-SUMIF($A151:$A168,\"A\",Q151:Q168)","v":0},{"$f":"+SUM(R151:R168)-SUMIF($A151:$A168,\"A\",R151:R168)","v":0},{"$f":"+SUM(S151:S168)-SUMIF($A151:$A168,\"A\",S151:S168)","v":0},{"$f":"+SUM(T151:T168)-SUMIF($A151:$A168,\"A\",T151:T168)","v":0},0,0,0,{"$f":"+SUM(R169:W169)","v":0},{"$f":"+SUM(Y151:Y168)","v":0},{"$f":"+SUM(Z151:Z168)-SUMIF($A151:$A168,\"A\",Z151:Z168)","v":0},{"$f":"+SUM(AA151:AA168)","v":0},{"$f":"+SUM(AB151:AB168)-SUMIF($A151:$A168,\"A\",AB151:AB168)","v":0},{"$f":"IF($C148=\"\",\"\",IF(AND(R172=\"√\",AD169=18),\"√\",\"Er\"))","v":""},{"$f":"+SUM(AD151:AD168)","v":18},null,null,null,null,null,null,null,null,null,null,null,null,null,null,null,{"$f":"+Y169","v":0},null,null,null,{"$f":"+IF(AX147>0,AX150+1,0)","v":0}]
[null,null,null,null,null,null,null,null,"Total de lecciones aprobadas:",null,null,{"$f":"+IF(C148=\"\",\"\",VLOOKUP($A147,'hoja de cálculo'!$A$17:$AJ$321,31,0))","v":""},{"$f":"+IF(C148=\"\",\"\",VLOOKUP($A147,'hoja de cálculo'!$A$17:$AJ$321,32,0))","v":""},{"$f":"+IF(C148=\"\",\"\",VLOOKUP($A147,'hoja de cálculo'!$A$17:$AJ$321,33,0))","v":""},{"$f":"+IF(C148=\"\",\"\",VLOOKUP($A147,'hoja de cálculo'!$A$17:$AJ$321,34,0))","v":""},{"$f":"+IF(C148=\"\",\"\",VLOOKUP($A147,'hoja de cálculo'!$A$17:$AJ$321,35,0))","v":""},{"$f":"+IF(C148=\"\",\"\",VLOOKUP($A147,'hoja de cálculo'!$A$17:$AJ$321,36,0))","v":""},{"$f":"+SUM(L170:Q170)","v":0},null,null,null,null,null,null,null,null,null,null,null,null,null,null,null,null,null,null,null,null,null,null,null,null,null,null,null,null,null,null,null,{"$f":"+IF(AX169>0,AX169+1,0)","v":0}]
[null,null,null,null,null,null,null,null,"Total de secciones",null,"Control:",{"$f":"+IF(C148=\"\",\"\",VLOOKUP($A147,'hoja de cálculo'!$A$17:$AQ$321,38,0))","v":""},{"$f":"+IF(C148=\"\",\"\",VLOOKUP($A147,'hoja de cálculo'!$A$17:$AQ$321,39,0))","v":""},{"$f":"+IF(C148=\"\",\"\",VLOOKUP($A147,'hoja de cálculo'!$A$17:$AQ$321,40,0))","v":""},{"$f":"+IF(C148=\"\",\"\",VLOOKUP($A147,'hoja de cálculo'!$A$17:$AQ$321,41,0))","v":""},{"$f":"+IF(C148=\"\",\"\",VLOOKUP($A147,'hoja de cálculo'!$A$17:$AQ$321,42,0))","v":""},{"$f":"+IF(C148=\"\",\"\",VLOOKUP($A147,'hoja de cálculo'!$A$17:$AQ$321,43,0))","v":""},{"$f":"+SUM(L171:Q171)","v":0},null,null,null,null,null,null,null,null,null,null,null,null,null,null,null,null,null,null,null,null,null,null,null,null,null,null,null,null,null,null,null,0]
[null,null,null,null,null,null,null,null,"Control 2",null,"Control:",{"$f":"IF(L170=\"\",\"\",IF(L169>L170,\"E\",IF(L169<L170,\"S\",\"√\")))","v":""},{"$f":"IF(M170=\"\",\"\",IF(M169>M170,\"E\",IF(M169<M170,\"S\",\"√\")))","v":""},"","","","",{"$f":"IF($C128=\"\",\"\",IF(AND(L172=\"√\",M172=\"√\",N172=\"√\",O172=\"√\",P172=\"√\",Q172=\"√\"),\"√\",\"Error\"))","v":"Error"},null,null,null,null,null,null,null,null,null,null,null,null,null,null,null,null,null,null,null,null,null,null,null,null,null,null,null,null,null,{"$f":"+IF(OR(B172=\"\",B172=\"Lecciones de TIE asignadas -√-\"),1,0)","v":1},null,0]
[null,null,null,null,null,null,null,null,"Plan de Estudios",null,"Control:",{"$f":"+IF(C148=\"\",\"\",VLOOKUP($A147,'hoja de cálculo'!$A$17:$BD$321,51,0))","v":""},{"$f":"+IF(C148=\"\",\"\",VLOOKUP($A147,'hoja de cálculo'!$A$17:$BD$321,52,0))","v":""},{"$f":"+IF(C148=\"\",\"\",VLOOKUP($A147,'hoja de cálculo'!$A$17:$BD$321,53,0))","v":""},{"$f":"+IF(C148=\"\",\"\",VLOOKUP($A147,'hoja de cálculo'!$A$17:$BD$321,54,0))","v":""},{"$f":"+IF(C148=\"\",\"\",VLOOKUP($A147,'hoja de cálculo'!$A$17:$BD$321,55,0))","v":""},{"$f":"+IF(C148=\"\",\"\",VLOOKUP($A147,'hoja de cálculo'!$A$17:$BD$321,56,0))","v":""},null,null,null,null,null,null,null,null,null,null,null,null,null,null,null,null,null,null,null,null,null,null,null,null,null,null,null,{"$f":"+IF(AB173<0,-AB173,0)","v":0},null,null,null,null,0]
[null,null,null,"Observaciones:",{"$f":"+IF(OR(C148=\"Lecciones Labor@ Diurnas\",C148=\"Lecciones Labor@ Nocturno\"),\"Recuerde generar el informe de labores de lecciones Labor@\",\"\")","v":""},null,null,null,null,null,null,null,null,null,null,null,null,null,null,null,null,null,null,null,null,null,null,null,null,null,null,null,null,null,null,null,null,null,null,null,null,null,null,null,null,null,null,null,null,0]
[null,null,null,null,null,null,null,null,null,null,null,null,null,null,null,null,null,null,null,null,null,null,null,null,null,null,null,null,null,null,null,null,null,null,null,null,null,null,null,null,null,null,null,null,null,null,null,null,null,0]
[null,null,null,null,null,null,null,null,null,null,null,null,null,null,null,null,null,null,null,null,null,null,null,null,null,null,null,null,null,null,null,null,null,null,null,null,null,null,null,null,null,null,null,null,null,null,null,null,null,0]
[null,null,null,null,null,null,null,null,null,null,null,null,null,null,null,null,null,null,null,null,null,null,null,null,null,null,null,null,null,null,null,null,null,null,null,null,null,null,null,null,null,null,null,null,null,null,null,null,null,0]
[null,null,null,null,null,null,null,null,null,null,null,null,null,null,null,null,null,null,null,null,null,null,null,null,null,null,"Hoja de Cálculo",null,null,null,null,null,null,null,null,null,null,null,null,null,null,null,null,null,null,null,null,null,null,0]
[null,null,null,null,null,null,null,null,null,null,null,null,null,null,null,null,null,null,null,null,null,null,null,null,null,null,null,null,null,null,null,null,null,null,null,null,null,null,null,null,null,null,null,null,null,null,null,null,null,0]
[null,null,{"$f":"+\"Declaración Jurada: El suscrito Director \"&$D$4245&\" del \"&$E$12&\", código \"&Información!$E$11&\", hace constar que los datos consignados en éste formulario son veraces y responden al estado real de ésta institución.\"&\" Cualquier inexactitud o falsedad estaré incurriendo en las responsabilidades administrativas y disciplinarias, sin perjuicio de las acciones civiles.\"","v":"Declaración Jurada: El suscrito Director  del , código , hace constar que los datos consignados en éste formulario son veraces y responden al estado real de ésta institución. Cualquier inexactitud o falsedad estaré incurriendo en las responsabilidades administrativas y disciplinarias, sin perjuicio de las acciones civiles."},null,null,null,null,null,null,null,null,null,null,null,null,null,null,null,null,null,null,null,null,null,null,null,null,null,null,null,null,null,null,null,null,null,null,null,null,null,null,null,null,null,null,null,null,null,null,0]
[null,null,null,null,null,null,null,null,null,null,null,null,null,null,null,null,null,null,null,null,null,null,null,null,null,null,null,null,null,null,null,null,null,null,null,null,null,null,null,null,null,null,null,null,null,null,null,null,null,0]
[{"$f":"+A147+1","v":5},{"$f":"IFERROR(VLOOKUP(A182,'hoja de cálculo'!$A$22:'hoja de cálculo'!$C$321,3,0),\"\")","v":""},null,null,null,null,null,null,null,null,null,null,null,null,null,null,null,null,null,null,null,null,null,null,null,null,null,null,null,null,null,null,null,null,null,null,null,null,null,null,null,null,null,null,null,null,null,null,null,{"$f":"+IF(B182=\"\",0,1)","v":0}]
["Ausente","Sustituto",{"$f":"IFERROR(VLOOKUP(A182,'hoja de cálculo'!$A$7:'hoja de cálculo'!$H$321,8,0),\"\")","v":""},null,null,null,null,null,null,null,null,null,null,null,null,null,null,null,null,null,null,null,null,null,null,null,null,null,"Cont. 1",null,null,null,null,null,null,null,null,null,null,null,null,null,null,null,null,null,null,null,null,{"$f":"+IF(AX182>0,AX182+1,0)","v":0}]
[null,null,"Nº","Nombre del servidor",null,null,null,"Nº de cédula","Grupo Prof.","Especialidad",null,"Nivel",null,null,null,null,null,"Sub- Total","Leccs. Co-curriculares",null,null,null,null,"Sub- Total","Pl","Total Leccs.","Nº de leccs.",null,null,null,null,null,null,null,null,null,null,null,null,null,null,null,null,null,null,null,null,null,null,0]
[null,null,null,null,null,null,null,null,null,null,null,"7º","8º","9º","10º","11º","12º",null,null,null,null,null,null,null,null,null,"Prop.","Ints.",null,null,null,{"$f":"+IF($AF$24=0,0,SUMIF($S185:$W185,$AF$24,$S204:$W204))","v":0},{"$f":"+IF($AG$24=0,0,SUMIF($S185:$W185,$AG$24,$S204:$W204))","v":0},{"$f":"+IF($AH$24=0,0,SUMIF($S185:$W185,$AH$24,$S204:$W204))","v":0},{"$f":"+IF($AI$24=0,0,SUMIF($S185:$W185,$AI$24,$S204:$W204))","v":0},{"$f":"+IF($AJ$24=0,0,SUMIF($S185:$W185,$AJ$24,$S204:$W204))","v":0},{"$f":"+IF($AK$24=0,0,SUMIF($S185:$W185,$AK$24,$S204:$W204))","v":0},{"$f":"+IF($AL$24=0,0,SUMIF($S185:$W185,$AL$24,$S204:$W204))","v":0},{"$f":"+IF($AM$24=0,0,SUMIF($S185:$W185,$AM$24,$S204:$W204))","v":0},{"$f":"+IF($AN$24=0,0,SUMIF($S185:$W185,$AN$24,$S204:$W204))","v":0},{"$f":"+IF($AO$24=0,0,SUMIF($S185:$W185,$AO$24,$S204:$W204))","v":0},{"$f":"+IF($AP$24=0,0,SUMIF($S185:$W185,$AP$24,$S204:$W204))","v":0},{"$f":"+IF($AQ$24=0,0,SUMIF($S185:$W185,$AQ$24,$S204:$W204))","v":0},null,null,null,null,null,null,0]
[null,null,1,null,null,null,null,null,null,null,null,null,null,null,null,null,null,{"$f":"+SUM(L186:Q186)","v":0},null,null,null,null,null,{"$f":"+SUM(R186:W186)","v":0},{"$f":"IF(X186=0,0,IF(X186>48,\"E\",IF(X186<44,0,IF(A186=\"A\",0,48-X186))))","v":0},{"$f":"+IF(Y186=\"E\",\"E\",(X186+Y186))","v":0},null,{"$f":"+IF(Z186=\"E\",\"E\",(Z186-AA186))","v":0},{"$f":"IF(A186=\"A\",\"√\",IF(Z186>48,\"E\",\"√\"))","v":"√"},{"$f":"+IF(AC186=\"√\",1,0)","v":1},null,null,null,null,null,null,null,null,null,null,null,null,null,null,null,null,null,null,null,{"$f":"+IF(OR(AA186+AB186>0,D186<>0,H186<>0,I186<>0,J186<>0),AX185+1,0)","v":0}]
[null,null,2,null,null,null,null,null,null,null,null,null,null,null,null,null,null,0,null,null,null,null,null,0,0,0,null,0,{"$f":"IF(A187=\"A\",\"√\",IF(Z187>48,\"E\",\"√\"))","v":"√"},1,null,null,null,null,null,null,null,null,null,null,null,null,null,null,null,null,null,null,null,0]
[null,null,3,null,null,null,null,null,null,null,null,null,null,null,null,null,null,0,null,null,null,null,null,0,0,0,null,0,"√",1,null,null,null,null,null,null,null,null,null,null,null,null,null,null,null,null,null,null,null,0]
[null,null,4,null,null,null,null,null,null,null,null,null,null,null,null,null,null,0,null,null,null,null,null,0,0,0,null,0,"√",1,null,null,null,null,null,null,null,null,null,null,null,null,null,null,null,null,null,null,null,0]
[null,null,5,null,null,null,null,null,null,null,null,null,null,null,null,null,null,0,null,null,null,null,null,0,0,0,null,0,"√",1,null,null,null,null,null,null,null,null,null,null,null,null,null,null,null,null,null,null,null,0]
[null,null,6,null,null,null,null,null,null,null,null,null,null,null,null,null,null,0,null,null,null,null,null,0,0,0,null,0,"√",1,null,null,null,null,null,null,null,null,null,null,null,null,null,null,null,null,null,null,null,0]
[null,null,7,null,null,null,null,null,null,null,null,null,null,null,null,null,null,0,null,null,null,null,null,0,0,0,null,0,"√",1,null,null,null,null,null,null,null,null,null,null,null,null,null,null,null,null,null,null,null,0]
[null,null,8,null,null,null,null,null,null,null,null,null,null,null,null,null,null,0,null,null,null,null,null,0,0,0,null,0,"√",1,null,null,null,null,null,null,null,null,null,null,null,null,null,null,null,null,null,null,null,0]
[null,null,9,null,null,null,null,null,null,null,null,null,null,null,null,null,null,0,null,null,null,null,null,0,0,0,null,0,"√",1,null,null,null,null,null,null,null,null,null,null,null,null,null,null,null,null,null,null,null,0]
[null,null,10,null,null,null,null,null,null,null,null,null,null,null,null,null,null,0,null,null,null,null,null,0,0,0,null,0,"√",1,null,null,null,null,null,null,null,null,null,null,null,null,null,null,null,null,null,null,null,0]
[null,null,11,null,null,null,null,null,null,null,null,null,null,null,null,null,null,0,null,null,null,null,null,0,0,0,null,0,"√",1,null,null,null,null,null,null,null,null,null,null,null,null,null,null,null,null,null,null,null,0]
[null,null,12,null,null,null,null,null,null,null,null,null,null,null,null,null,null,0,null,null,null,null,null,0,0,0,null,0,"√",1,null,null,null,null,null,null,null,null,null,null,null,null,null,null,null,null,null,null,null,0]
[null,null,13,null,null,null,null,null,null,null,null,null,null,null,null,null,null,0,null,null,null,null,null,0,0,0,null,0,"√",1,null,null,null,null,null,null,null,null,null,null,null,null,null,null,null,null,null,null,null,0]
[null,null,14,null,null,null,null,null,null,null,null,null,null,null,null,null,null,0,null,null,null,null,null,0,0,0,null,0,"√",1,null,null,null,null,null,null,null,null,null,null,null,null,null,null,null,null,null,null,null,0]
[null,null,15,null,null,null,null,null,null,null,null,null,null,null,null,null,null,0,null,null,null,null,null,0,0,0,null,0,"√",1,null,null,null,null,null,null,null,null,null,null,null,null,null,null,null,null,null,null,null,0]
[null,null,16,null,null,null,null,null,null,null,null,null,null,null,null,null,null,0,null,null,null,null,null,0,0,0,null,0,"√",1,null,null,null,null,null,null,null,null,null,null,null,null,null,null,null,null,null,null,null,0]
[null,null,17,null,null,null,null,null,null,null,null,null,null,null,null,null,null,0,null,null,null,null,null,0,0,0,null,0,"√",1,null,null,null,null,null,null,null,null,null,null,null,null,null,null,null,null,null,null,null,0]
[null,null,18,null,null,null,null,null,null,null,null,null,null,null,null,null,null,0,null,null,null,null,null,0,0,0,null,0,"√",1,null,null,null,null,null,null,null,null,null,null,null,null,null,null,null,null,null,null,null,0]
[null,null,null,null,null,null,null,null,"Total de lecciones asignadas:",null,null,{"$f":"+SUM(L186:L203)-SUMIF($A186:$A203,\"A\",L186:L203)","v":0},{"$f":"+SUM(M186:M203)-SUMIF($A186:$A203,\"A\",M186:M203)","v":0},0,0,{"$f":"+SUM(P186:P203)-SUMIF($A186:$A203,\"A\",P186:P203)","v":0},{"$f":"+SUM(Q186:Q203)-SUMIF($A186:$A203,\"A\",Q186:Q203)","v":0},{"$f":"+SUM(R186:R203)-SUMIF($A186:$A203,\"A\",R186:R203)","v":0},{"$f":"+SUM(S186:S203)-SUMIF($A186:$A203,\"A\",S186:S203)","v":0},{"$f":"+SUM(T186:T203)-SUMIF($A186:$A203,\"A\",T186:T203)","v":0},0,0,0,{"$f":"+SUM(R204:W204)","v":0},{"$f":"+SUM(Y186:Y203)","v":0},{"$f":"+SUM(Z186:Z203)-SUMIF($A186:$A203,\"A\",Z186:Z203)","v":0},{"$f":"+SUM(AA186:AA203)","v":0},{"$f":"+SUM(AB186:AB203)-SUMIF($A186:$A203,\"A\",AB186:AB203)","v":0},{"$f":"IF($C183=\"\",\"\",IF(AND(R207=\"√\",AD204=18),\"√\",\"Er\"))","v":""},{"$f":"+SUM(AD186:AD203)","v":18},null,null,null,null,null,null,null,null,null,null,null,null,null,null,null,{"$f":"+Y204","v":0},null,null,null,{"$f":"+IF(AX182>0,AX185+1,0)","v":0}]
[null,null,null,null,null,null,null,null,"Total de lecciones aprobadas:",null,null,{"$f":"+IF(C183=\"\",\"\",VLOOKUP($A182,'hoja de cálculo'!$A$17:$AJ$321,31,0))","v":""},{"$f":"+IF(C183=\"\",\"\",VLOOKUP($A182,'hoja de cálculo'!$A$17:$AJ$321,32,0))","v":""},{"$f":"+IF(C183=\"\",\"\",VLOOKUP($A182,'hoja de cálculo'!$A$17:$AJ$321,33,0))","v":""},{"$f":"+IF(C183=\"\",\"\",VLOOKUP($A182,'hoja de cálculo'!$A$17:$AJ$321,34,0))","v":""},{"$f":"+IF(C183=\"\",\"\",VLOOKUP($A182,'hoja de cálculo'!$A$17:$AJ$321,35,0))","v":""},{"$f":"+IF(C183=\"\",\"\",VLOOKUP($A182,'hoja de cálculo'!$A$17:$AJ$321,36,0))","v":""},{"$f":"+SUM(L205:Q205)","v":0},null,null,null,null,null,null,null,null,null,null,null,null,null,null,null,null,null,null,null,null,null,null,null,null,null,null,null,null,null,null,null,{"$f":"+IF(AX204>0,AX204+1,0)","v":0}]
[null,null,null,null,null,null,null,null,"Total de secciones",null,"Control:",{"$f":"+IF(C183=\"\",\"\",VLOOKUP($A182,'hoja de cálculo'!$A$17:$AQ$321,38,0))","v":""},{"$f":"+IF(C183=\"\",\"\",VLOOKUP($A182,'hoja de cálculo'!$A$17:$AQ$321,39,0))","v":""},{"$f":"+IF(C183=\"\",\"\",VLOOKUP($A182,'hoja de cálculo'!$A$17:$AQ$321,40,0))","v":""},{"$f":"+IF(C183=\"\",\"\",VLOOKUP($A182,'hoja de cálculo'!$A$17:$AQ$321,41,0))","v":""},{"$f":"+IF(C183=\"\",\"\",VLOOKUP($A182,'hoja de cálculo'!$A$17:$AQ$321,42,0))","v":""},{"$f":"+IF(C183=\"\",\"\",VLOOKUP($A182,'hoja de cálculo'!$A$17:$AQ$321,43,0))","v":""},{"$f":"+SUM(L206:Q206)","v":0},null,null,null,null,null,null,null,null,null,null,null,null,null,null,null,null,null,null,null,null,null,null,null,null,null,null,null,null,null,null,null,0]
[null,null,null,null,null,null,null,null,"Control 2",null,"Control:",{"$f":"IF(L205=\"\",\"\",IF(L204>L205,\"E\",IF(L204<L205,\"S\",\"√\")))","v":""},{"$f":"IF(M205=\"\",\"\",IF(M204>M205,\"E\",IF(M204<M205,\"S\",\"√\")))","v":""},"","","","",{"$f":"IF($C163=\"\",\"\",IF(AND(L207=\"√\",M207=\"√\",N207=\"√\",O207=\"√\",P207=\"√\",Q207=\"√\"),\"√\",\"Error\"))","v":"Error"},null,null,null,null,null,null,null,null,null,null,null,null,null,null,null,null,null,null,null,null,null,null,null,null,null,null,null,null,null,{"$f":"+IF(OR(B207=\"\",B207=\"Lecciones de TIE asignadas -√-\"),1,0)","v":1},null,0]
[null,null,null,null,null,null,null,null,"Plan de Estudios",null,"Control:",{"$f":"+IF(C183=\"\",\"\",VLOOKUP($A182,'hoja de cálculo'!$A$17:$BD$321,51,0))","v":""},{"$f":"+IF(C183=\"\",\"\",VLOOKUP($A182,'hoja de cálculo'!$A$17:$BD$321,52,0))","v":""},{"$f":"+IF(C183=\"\",\"\",VLOOKUP($A182,'hoja de cálculo'!$A$17:$BD$321,53,0))","v":""},{"$f":"+IF(C183=\"\",\"\",VLOOKUP($A182,'hoja de cálculo'!$A$17:$BD$321,54,0))","v":""},{"$f":"+IF(C183=\"\",\"\",VLOOKUP($A182,'hoja de cálculo'!$A$17:$BD$321,55,0))","v":""},{"$f":"+IF(C183=\"\",\"\",VLOOKUP($A182,'hoja de cálculo'!$A$17:$BD$321,56,0))","v":""},null,null,null,null,null,null,null,null,null,null,null,null,null,null,null,null,null,null,null,null,null,null,null,null,null,null,null,{"$f":"+IF(AB208<0,-AB208,0)","v":0},null,null,null,null,0]
[null,null,null,"Observaciones:",{"$f":"+IF(OR(C183=\"Lecciones Labor@ Diurnas\",C183=\"Lecciones Labor@ Nocturno\"),\"Recuerde generar el informe de labores de lecciones Labor@\",\"\")","v":""},null,null,null,null,null,null,null,null,null,null,null,null,null,null,null,null,null,null,null,null,null,null,null,null,null,null,null,null,null,null,null,null,null,null,null,null,null,null,null,null,null,null,null,null,0]
[null,null,null,null,null,null,null,null,null,null,null,null,null,null,null,null,null,null,null,null,null,null,null,null,null,null,null,null,null,null,null,null,null,null,null,null,null,null,null,null,null,null,null,null,null,null,null,null,null,0]
[null,null,null,null,null,null,null,null,null,null,null,null,null,null,null,null,null,null,null,null,null,null,null,null,null,null,null,null,null,null,null,null,null,null,null,null,null,null,null,null,null,null,null,null,null,null,null,null,null,0]
[null,null,null,null,null,null,null,null,null,null,null,null,null,null,null,null,null,null,null,null,null,null,null,null,null,null,null,null,null,null,null,null,null,null,null,null,null,null,null,null,null,null,null,null,null,null,null,null,null,0]
[null,null,null,null,null,null,null,null,null,null,null,null,null,null,null,null,null,null,null,null,null,null,null,null,null,null,"Hoja de Cálculo",null,null,null,null,null,null,null,null,null,null,null,null,null,null,null,null,null,null,null,null,null,null,0]
[null,null,null,null,null,null,null,null,null,null,null,null,null,null,null,null,null,null,null,null,null,null,null,null,null,null,null,null,null,null,null,null,null,null,null,null,null,null,null,null,null,null,null,null,null,null,null,null,null,0]
[null,null,{"$f":"+\"Declaración Jurada: El suscrito Director \"&$D$4245&\" del \"&$E$12&\", código \"&Información!$E$11&\", hace constar que los datos consignados en éste formulario son veraces y responden al estado real de ésta institución.\"&\" Cualquier inexactitud o falsedad estaré incurriendo en las responsabilidades administrativas y disciplinarias, sin perjuicio de las acciones civiles.\"","v":"Declaración Jurada: El suscrito Director  del , código , hace constar que los datos consignados en éste formulario son veraces y responden al estado real de ésta institución. Cualquier inexactitud o falsedad estaré incurriendo en las responsabilidades administrativas y disciplinarias, sin perjuicio de las acciones civiles."},null,null,null,null,null,null,null,null,null,null,null,null,null,null,null,null,null,null,null,null,null,null,null,null,null,null,null,null,null,null,null,null,null,null,null,null,null,null,null,null,null,null,null,null,null,null,0]
[null,null,null,null,null,null,null,null,null,null,null,null,null,null,null,null,null,null,null,null,null,null,null,null,null,null,null,null,null,null,null,null,null,null,null,null,null,null,null,null,null,null,null,null,null,null,null,null,null,0]
[{"$f":"+A182+1","v":6},{"$f":"IFERROR(VLOOKUP(A217,'hoja de cálculo'!$A$22:'hoja de cálculo'!$C$321,3,0),\"\")","v":""},null,null,null,null,null,null,null,null,null,null,null,null,null,null,null,null,null,null,null,null,null,null,null,null,null,null,null,null,null,null,null,null,null,null,null,null,null,null,null,null,null,null,null,null,null,null,null,{"$f":"+IF(B217=\"\",0,1)","v":0}]
["Ausente","Sustituto",{"$f":"IFERROR(VLOOKUP(A217,'hoja de cálculo'!$A$7:'hoja de cálculo'!$H$321,8,0),\"\")","v":""},null,null,null,null,null,null,null,null,null,null,null,null,null,null,null,null,null,null,null,null,null,null,null,null,null,"Cont. 1",null,null,null,null,null,null,null,null,null,null,null,null,null,null,null,null,null,null,null,null,{"$f":"+IF(AX217>0,AX217+1,0)","v":0}]
[null,null,"Nº","Nombre del servidor",null,null,null,"Nº de cédula","Grupo Prof.","Especialidad",null,"Nivel",null,null,null,null,null,"Sub- Total","Leccs. Co-curriculares",null,null,null,null,"Sub- Total","Pl","Total Leccs.","Nº de leccs.",null,null,null,null,null,null,null,null,null,null,null,null,null,null,null,null,null,null,null,null,null,null,0]
[null,null,null,null,null,null,null,null,null,null,null,"7º","8º","9º","10º","11º","12º",null,null,null,null,null,null,null,null,null,"Prop.","Ints.",null,null,null,{"$f":"+IF($AF$24=0,0,SUMIF($S220:$W220,$AF$24,$S239:$W239))","v":0},{"$f":"+IF($AG$24=0,0,SUMIF($S220:$W220,$AG$24,$S239:$W239))","v":0},{"$f":"+IF($AH$24=0,0,SUMIF($S220:$W220,$AH$24,$S239:$W239))","v":0},{"$f":"+IF($AI$24=0,0,SUMIF($S220:$W220,$AI$24,$S239:$W239))","v":0},{"$f":"+IF($AJ$24=0,0,SUMIF($S220:$W220,$AJ$24,$S239:$W239))","v":0},{"$f":"+IF($AK$24=0,0,SUMIF($S220:$W220,$AK$24,$S239:$W239))","v":0},{"$f":"+IF($AL$24=0,0,SUMIF($S220:$W220,$AL$24,$S239:$W239))","v":0},{"$f":"+IF($AM$24=0,0,SUMIF($S220:$W220,$AM$24,$S239:$W239))","v":0},{"$f":"+IF($AN$24=0,0,SUMIF($S220:$W220,$AN$24,$S239:$W239))","v":0},{"$f":"+IF($AO$24=0,0,SUMIF($S220:$W220,$AO$24,$S239:$W239))","v":0},{"$f":"+IF($AP$24=0,0,SUMIF($S220:$W220,$AP$24,$S239:$W239))","v":0},{"$f":"+IF($AQ$24=0,0,SUMIF($S220:$W220,$AQ$24,$S239:$W239))","v":0},null,null,null,null,null,null,0]
[null,null,1,null,null,null,null,null,null,null,null,null,null,null,null,null,null,{"$f":"+SUM(L221:Q221)","v":0},null,null,null,null,null,{"$f":"+SUM(R221:W221)","v":0},{"$f":"IF(X221=0,0,IF(X221>48,\"E\",IF(X221<44,0,IF(A221=\"A\",0,48-X221))))","v":0},{"$f":"+IF(Y221=\"E\",\"E\",(X221+Y221))","v":0},null,{"$f":"+IF(Z221=\"E\",\"E\",(Z221-AA221))","v":0},{"$f":"IF(A221=\"A\",\"√\",IF(Z221>48,\"E\",\"√\"))","v":"√"},{"$f":"+IF(AC221=\"√\",1,0)","v":1},null,null,null,null,null,null,null,null,null,null,null,null,null,null,null,null,null,null,null,{"$f":"+IF(OR(AA221+AB221>0,D221<>0,H221<>0,I221<>0,J221<>0),AX220+1,0)","v":0}]
[null,null,2,null,null,null,null,null,null,null,null,null,null,null,null,null,null,0,null,null,null,null,null,0,0,0,null,0,{"$f":"IF(A222=\"A\",\"√\",IF(Z222>48,\"E\",\"√\"))","v":"√"},1,null,null,null,null,null,null,null,null,null,null,null,null,null,null,null,null,null,null,null,0]
[null,null,3,null,null,null,null,null,null,null,null,null,null,null,null,null,null,0,null,null,null,null,null,0,0,0,null,0,"√",1,null,null,null,null,null,null,null,null,null,null,null,null,null,null,null,null,null,null,null,0]
[null,null,4,null,null,null,null,null,null,null,null,null,null,null,null,null,null,0,null,null,null,null,null,0,0,0,null,0,"√",1,null,null,null,null,null,null,null,null,null,null,null,null,null,null,null,null,null,null,null,0]
[null,null,5,null,null,null,null,null,null,null,null,null,null,null,null,null,null,0,null,null,null,null,null,0,0,0,null,0,"√",1,null,null,null,null,null,null,null,null,null,null,null,null,null,null,null,null,null,null,null,0]
[null,null,6,null,null,null,null,null,null,null,null,null,null,null,null,null,null,0,null,null,null,null,null,0,0,0,null,0,"√",1,null,null,null,null,null,null,null,null,null,null,null,null,null,null,null,null,null,null,null,0]
[null,null,7,null,null,null,null,null,null,null,null,null,null,null,null,null,null,0,null,null,null,null,null,0,0,0,null,0,"√",1,null,null,null,null,null,null,null,null,null,null,null,null,null,null,null,null,null,null,null,0]
[null,null,8,null,null,null,null,null,null,null,null,null,null,null,null,null,null,0,null,null,null,null,null,0,0,0,null,0,"√",1,null,null,null,null,null,null,null,null,null,null,null,null,null,null,null,null,null,null,null,0]
[null,null,9,null,null,null,null,null,null,null,null,null,null,null,null,null,null,0,null,null,null,null,null,0,0,0,null,0,"√",1,null,null,null,null,null,null,null,null,null,null,null,null,null,null,null,null,null,null,null,0]
[null,null,10,null,null,null,null,null,null,null,null,null,null,null,null,null,null,0,null,null,null,null,null,0,0,0,null,0,"√",1,null,null,null,null,null,null,null,null,null,null,null,null,null,null,null,null,null,null,null,0]
[null,null,11,null,null,null,null,null,null,null,null,null,null,null,null,null,null,0,null,null,null,null,null,0,0,0,null,0,"√",1,null,null,null,null,null,null,null,null,null,null,null,null,null,null,null,null,null,null,null,0]
[null,null,12,null,null,null,null,null,null,null,null,null,null,null,null,null,null,0,null,null,null,null,null,0,0,0,null,0,"√",1,null,null,null,null,null,null,null,null,null,null,null,null,null,null,null,null,null,null,null,0]
[null,null,13,null,null,null,null,null,null,null,null,null,null,null,null,null,null,0,null,null,null,null,null,0,0,0,null,0,"√",1,null,null,null,null,null,null,null,null,null,null,null,null,null,null,null,null,null,null,null,0]
[null,null,14,null,null,null,null,null,null,null,null,null,null,null,null,null,null,0,null,null,null,null,null,0,0,0,null,0,"√",1,null,null,null,null,null,null,null,null,null,null,null,null,null,null,null,null,null,null,null,0]
[null,null,15,null,null,null,null,null,null,null,null,null,null,null,null,null,null,0,null,null,null,null,null,0,0,0,null,0,"√",1,null,null,null,null,null,null,null,null,null,null,null,null,null,null,null,null,null,null,null,0]
[null,null,16,null,null,null,null,null,null,null,null,null,null,null,null,null,null,0,null,null,null,null,null,0,0,0,null,0,"√",1,null,null,null,null,null,null,null,null,null,null,null,null,null,null,null,null,null,null,null,0]
[null,null,17,null,null,null,null,null,null,null,null,null,null,null,null,null,null,0,null,null,null,null,null,0,0,0,null,0,"√",1,null,null,null,null,null,null,null,null,null,null,null,null,null,null,null,null,null,null,null,0]
[null,null,18,null,null,null,null,null,null,null,null,null,null,null,null,null,null,0,null,null,null,null,null,0,0,0,null,0,"√",1,null,null,null,null,null,null,null,null,null,null,null,null,null,null,null,null,null,null,null,0]
[null,null,null,null,null,null,null,null,"Total de lecciones asignadas:",null,null,{"$f":"+SUM(L221:L238)-SUMIF($A221:$A238,\"A\",L221:L238)","v":0},{"$f":"+SUM(M221:M238)-SUMIF($A221:$A238,\"A\",M221:M238)","v":0},0,0,{"$f":"+SUM(P221:P238)-SUMIF($A221:$A238,\"A\",P221:P238)","v":0},{"$f":"+SUM(Q221:Q238)-SUMIF($A221:$A238,\"A\",Q221:Q238)","v":0},{"$f":"+SUM(R221:R238)-SUMIF($A221:$A238,\"A\",R221:R238)","v":0},{"$f":"+SUM(S221:S238)-SUMIF($A221:$A238,\"A\",S221:S238)","v":0},{"$f":"+SUM(T221:T238)-SUMIF($A221:$A238,\"A\",T221:T238)","v":0},0,0,0,{"$f":"+SUM(R239:W239)","v":0},{"$f":"+SUM(Y221:Y238)","v":0},{"$f":"+SUM(Z221:Z238)-SUMIF($A221:$A238,\"A\",Z221:Z238)","v":0},{"$f":"+SUM(AA221:AA238)","v":0},{"$f":"+SUM(AB221:AB238)-SUMIF($A221:$A238,\"A\",AB221:AB238)","v":0},{"$f":"IF($C218=\"\",\"\",IF(AND(R242=\"√\",AD239=18),\"√\",\"Er\"))","v":""},{"$f":"+SUM(AD221:AD238)","v":18},null,null,null,null,null,null,null,null,null,null,null,null,null,null,null,{"$f":"+Y239","v":0},null,null,null,{"$f":"+IF(AX217>0,AX220+1,0)","v":0}]
[null,null,null,null,null,null,null,null,"Total de lecciones aprobadas:",null,null,{"$f":"+IF(C218=\"\",\"\",VLOOKUP($A217,'hoja de cálculo'!$A$17:$AJ$321,31,0))","v":""},{"$f":"+IF(C218=\"\",\"\",VLOOKUP($A217,'hoja de cálculo'!$A$17:$AJ$321,32,0))","v":""},{"$f":"+IF(C218=\"\",\"\",VLOOKUP($A217,'hoja de cálculo'!$A$17:$AJ$321,33,0))","v":""},{"$f":"+IF(C218=\"\",\"\",VLOOKUP($A217,'hoja de cálculo'!$A$17:$AJ$321,34,0))","v":""},{"$f":"+IF(C218=\"\",\"\",VLOOKUP($A217,'hoja de cálculo'!$A$17:$AJ$321,35,0))","v":""},{"$f":"+IF(C218=\"\",\"\",VLOOKUP($A217,'hoja de cálculo'!$A$17:$AJ$321,36,0))","v":""},{"$f":"+SUM(L240:Q240)","v":0},null,null,null,null,null,null,null,null,null,null,null,null,null,null,null,null,null,null,null,null,null,null,null,null,null,null,null,null,null,null,null,{"$f":"+IF(AX239>0,AX239+1,0)","v":0}]
[null,null,null,null,null,null,null,null,"Total de secciones",null,"Control:",{"$f":"+IF(C218=\"\",\"\",VLOOKUP($A217,'hoja de cálculo'!$A$17:$AQ$321,38,0))","v":""},{"$f":"+IF(C218=\"\",\"\",VLOOKUP($A217,'hoja de cálculo'!$A$17:$AQ$321,39,0))","v":""},{"$f":"+IF(C218=\"\",\"\",VLOOKUP($A217,'hoja de cálculo'!$A$17:$AQ$321,40,0))","v":""},{"$f":"+IF(C218=\"\",\"\",VLOOKUP($A217,'hoja de cálculo'!$A$17:$AQ$321,41,0))","v":""},{"$f":"+IF(C218=\"\",\"\",VLOOKUP($A217,'hoja de cálculo'!$A$17:$AQ$321,42,0))","v":""},{"$f":"+IF(C218=\"\",\"\",VLOOKUP($A217,'hoja de cálculo'!$A$17:$AQ$321,43,0))","v":""},{"$f":"+SUM(L241:Q241)","v":0},null,null,null,null,null,null,null,null,null,null,null,null,null,null,null,null,null,null,null,null,null,null,null,null,null,null,null,null,null,null,null,0]
[null,null,null,null,null,null,null,null,"Control 2",null,"Control:",{"$f":"IF(L240=\"\",\"\",IF(L239>L240,\"E\",IF(L239<L240,\"S\",\"√\")))","v":""},{"$f":"IF(M240=\"\",\"\",IF(M239>M240,\"E\",IF(M239<M240,\"S\",\"√\")))","v":""},"","","","",{"$f":"IF($C198=\"\",\"\",IF(AND(L242=\"√\",M242=\"√\",N242=\"√\",O242=\"√\",P242=\"√\",Q242=\"√\"),\"√\",\"Error\"))","v":"Error"},null,null,null,null,null,null,null,null,null,null,null,null,null,null,null,null,null,null,null,null,null,null,null,null,null,null,null,null,null,{"$f":"+IF(OR(B242=\"\",B242=\"Lecciones de TIE asignadas -√-\"),1,0)","v":1},null,0]
[null,null,null,null,null,null,null,null,"Plan de Estudios",null,"Control:",{"$f":"+IF(C218=\"\",\"\",VLOOKUP($A217,'hoja de cálculo'!$A$17:$BD$321,51,0))","v":""},{"$f":"+IF(C218=\"\",\"\",VLOOKUP($A217,'hoja de cálculo'!$A$17:$BD$321,52,0))","v":""},{"$f":"+IF(C218=\"\",\"\",VLOOKUP($A217,'hoja de cálculo'!$A$17:$BD$321,53,0))","v":""},{"$f":"+IF(C218=\"\",\"\",VLOOKUP($A217,'hoja de cálculo'!$A$17:$BD$321,54,0))","v":""},{"$f":"+IF(C218=\"\",\"\",VLOOKUP($A217,'hoja de cálculo'!$A$17:$BD$321,55,0))","v":""},{"$f":"+IF(C218=\"\",\"\",VLOOKUP($A217,'hoja de cálculo'!$A$17:$BD$321,56,0))","v":""},null,null,null,null,null,null,null,null,null,null,null,null,null,null,null,null,null,null,null,null,null,null,null,null,null,null,null,{"$f":"+IF(AB243<0,-AB243,0)","v":0},null,null,null,null,0]
[null,null,null,"Observaciones:",{"$f":"+IF(OR(C218=\"Lecciones Labor@ Diurnas\",C218=\"Lecciones Labor@ Nocturno\"),\"Recuerde generar el informe de labores de lecciones Labor@\",\"\")","v":""},null,null,null,null,null,null,null,null,null,null,null,null,null,null,null,null,null,null,null,null,null,null,null,null,null,null,null,null,null,null,null,null,null,null,null,null,null,null,null,null,null,null,null,null,0]
[null,null,null,null,null,null,null,null,null,null,null,null,null,null,null,null,null,null,null,null,null,null,null,null,null,null,null,null,null,null,null,null,null,null,null,null,null,null,null,null,null,null,null,null,null,null,null,null,null,0]
[null,null,null,null,null,null,null,null,null,null,null,null,null,null,null,null,null,null,null,null,null,null,null,null,null,null,null,null,null,null,null,null,null,null,null,null,null,null,null,null,null,null,null,null,null,null,null,null,null,0]
[null,null,null,null,null,null,null,null,null,null,null,null,null,null,null,null,null,null,null,null,null,null,null,null,null,null,null,null,null,null,null,null,null,null,null,null,null,null,null,null,null,null,null,null,null,null,null,null,null,0]
[null,null,null,null,null,null,null,null,null,null,null,null,null,null,null,null,null,null,null,null,null,null,null,null,null,null,"Hoja de Cálculo",null,null,null,null,null,null,null,null,null,null,null,null,null,null,null,null,null,null,null,null,null,null,0]
[null,null,null,null,null,null,null,null,null,null,null,null,null,null,null,null,null,null,null,null,null,null,null,null,null,null,null,null,null,null,null,null,null,null,null,null,null,null,null,null,null,null,null,null,null,null,null,null,null,0]
[null,null,{"$f":"+\"Declaración Jurada: El suscrito Director \"&$D$4245&\" del \"&$E$12&\", código \"&Información!$E$11&\", hace constar que los datos consignados en éste formulario son veraces y responden al estado real de ésta institución.\"&\" Cualquier inexactitud o falsedad estaré incurriendo en las responsabilidades administrativas y disciplinarias, sin perjuicio de las acciones civiles.\"","v":"Declaración Jurada: El suscrito Director  del , código , hace constar que los datos consignados en éste formulario son veraces y responden al estado real de ésta institución. Cualquier inexactitud o falsedad estaré incurriendo en las responsabilidades administrativas y disciplinarias, sin perjuicio de las acciones civiles."},null,null,null,null,null,null,null,null,null,null,null,null,null,null,null,null,null,null,null,null,null,null,null,null,null,null,null,null,null,null,null,null,null,null,null,null,null,null,null,null,null,null,null,null,null,null,0]
[null,null,null,null,null,null,null,null,null,null,null,null,null,null,null,null,null,null,null,null,null,null,null,null,null,null,null,null,null,null,null,null,null,null,null,null,null,null,null,null,null,null,null,null,null,null,null,null,null,0]
[{"$f":"+A217+1","v":7},{"$f":"IFERROR(VLOOKUP(A252,'hoja de cálculo'!$A$22:'hoja de cálculo'!$C$321,3,0),\"\")","v":""},null,null,null,null,null,null,null,null,null,null,null,null,null,null,null,null,null,null,null,null,null,null,null,null,null,null,null,null,null,null,null,null,null,null,null,null,null,null,null,null,null,null,null,null,null,null,null,{"$f":"+IF(B252=\"\",0,1)","v":0}]
["Ausente","Sustituto",{"$f":"IFERROR(VLOOKUP(A252,'hoja de cálculo'!$A$7:'hoja de cálculo'!$H$321,8,0),\"\")","v":""},null,null,null,null,null,null,null,null,null,null,null,null,null,null,null,null,null,null,null,null,null,null,null,null,null,"Cont. 1",null,null,null,null,null,null,null,null,null,null,null,null,null,null,null,null,null,null,null,null,{"$f":"+IF(AX252>0,AX252+1,0)","v":0}]
[null,null,"Nº","Nombre del servidor",null,null,null,"Nº de cédula","Grupo Prof.","Especialidad",null,"Nivel",null,null,null,null,null,"Sub- Total","Leccs. Co-curriculares",null,null,null,null,"Sub- Total","Pl","Total Leccs.","Nº de leccs.",null,null,null,null,null,null,null,null,null,null,null,null,null,null,null,null,null,null,null,null,null,null,0]
[null,null,null,null,null,null,null,null,null,null,null,"7º","8º","9º","10º","11º","12º",null,null,null,null,null,null,null,null,null,"Prop.","Ints.",null,null,null,{"$f":"+IF($AF$24=0,0,SUMIF($S255:$W255,$AF$24,$S274:$W274))","v":0},{"$f":"+IF($AG$24=0,0,SUMIF($S255:$W255,$AG$24,$S274:$W274))","v":0},{"$f":"+IF($AH$24=0,0,SUMIF($S255:$W255,$AH$24,$S274:$W274))","v":0},{"$f":"+IF($AI$24=0,0,SUMIF($S255:$W255,$AI$24,$S274:$W274))","v":0},{"$f":"+IF($AJ$24=0,0,SUMIF($S255:$W255,$AJ$24,$S274:$W274))","v":0},{"$f":"+IF($AK$24=0,0,SUMIF($S255:$W255,$AK$24,$S274:$W274))","v":0},{"$f":"+IF($AL$24=0,0,SUMIF($S255:$W255,$AL$24,$S274:$W274))","v":0},{"$f":"+IF($AM$24=0,0,SUMIF($S255:$W255,$AM$24,$S274:$W274))","v":0},{"$f":"+IF($AN$24=0,0,SUMIF($S255:$W255,$AN$24,$S274:$W274))","v":0},{"$f":"+IF($AO$24=0,0,SUMIF($S255:$W255,$AO$24,$S274:$W274))","v":0},{"$f":"+IF($AP$24=0,0,SUMIF($S255:$W255,$AP$24,$S274:$W274))","v":0},{"$f":"+IF($AQ$24=0,0,SUMIF($S255:$W255,$AQ$24,$S274:$W274))","v":0},null,null,null,null,null,null,0]
[null,null,1,null,null,null,null,null,null,null,null,null,null,null,null,null,null,{"$f":"+SUM(L256:Q256)","v":0},null,null,null,null,null,{"$f":"+SUM(R256:W256)","v":0},{"$f":"IF(X256=0,0,IF(X256>48,\"E\",IF(X256<44,0,IF(A256=\"A\",0,48-X256))))","v":0},{"$f":"+IF(Y256=\"E\",\"E\",(X256+Y256))","v":0},null,{"$f":"+IF(Z256=\"E\",\"E\",(Z256-AA256))","v":0},{"$f":"IF(A256=\"A\",\"√\",IF(Z256>48,\"E\",\"√\"))","v":"√"},{"$f":"+IF(AC256=\"√\",1,0)","v":1},null,null,null,null,null,null,null,null,null,null,null,null,null,null,null,null,null,null,null,{"$f":"+IF(OR(AA256+AB256>0,D256<>0,H256<>0,I256<>0,J256<>0),AX255+1,0)","v":0}]
[null,null,2,null,null,null,null,null,null,null,null,null,null,null,null,null,null,0,null,null,null,null,null,0,0,0,null,0,{"$f":"IF(A257=\"A\",\"√\",IF(Z257>48,\"E\",\"√\"))","v":"√"},1,null,null,null,null,null,null,null,null,null,null,null,null,null,null,null,null,null,null,null,0]
[null,null,3,null,null,null,null,null,null,null,null,null,null,null,null,null,null,0,null,null,null,null,null,0,0,0,null,0,"√",1,null,null,null,null,null,null,null,null,null,null,null,null,null,null,null,null,null,null,null,0]
[null,null,4,null,null,null,null,null,null,null,null,null,null,null,null,null,null,0,null,null,null,null,null,0,0,0,null,0,"√",1,null,null,null,null,null,null,null,null,null,null,null,null,null,null,null,null,null,null,null,0]
[null,null,5,null,null,null,null,null,null,null,null,null,null,null,null,null,null,0,null,null,null,null,null,0,0,0,null,0,"√",1,null,null,null,null,null,null,null,null,null,null,null,null,null,null,null,null,null,null,null,0]
[null,null,6,null,null,null,null,null,null,null,null,null,null,null,null,null,null,0,null,null,null,null,null,0,0,0,null,0,"√",1,null,null,null,null,null,null,null,null,null,null,null,null,null,null,null,null,null,null,null,0]
[null,null,7,null,null,null,null,null,null,null,null,null,null,null,null,null,null,0,null,null,null,null,null,0,0,0,null,0,"√",1,null,null,null,null,null,null,null,null,null,null,null,null,null,null,null,null,null,null,null,0]
[null,null,8,null,null,null,null,null,null,null,null,null,null,null,null,null,null,0,null,null,null,null,null,0,0,0,null,0,"√",1,null,null,null,null,null,null,null,null,null,null,null,null,null,null,null,null,null,null,null,0]
[null,null,9,null,null,null,null,null,null,null,null,null,null,null,null,null,null,0,null,null,null,null,null,0,0,0,null,0,"√",1,null,null,null,null,null,null,null,null,null,null,null,null,null,null,null,null,null,null,null,0]
[null,null,10,null,null,null,null,null,null,null,null,null,null,null,null,null,null,0,null,null,null,null,null,0,0,0,null,0,"√",1,null,null,null,null,null,null,null,null,null,null,null,null,null,null,null,null,null,null,null,0]
[null,null,11,null,null,null,null,null,null,null,null,null,null,null,null,null,null,0,null,null,null,null,null,0,0,0,null,0,"√",1,null,null,null,null,null,null,null,null,null,null,null,null,null,null,null,null,null,null,null,0]
[null,null,12,null,null,null,null,null,null,null,null,null,null,null,null,null,null,0,null,null,null,null,null,0,0,0,null,0,"√",1,null,null,null,null,null,null,null,null,null,null,null,null,null,null,null,null,null,null,null,0]
[null,null,13,null,null,null,null,null,null,null,null,null,null,null,null,null,null,0,null,null,null,null,null,0,0,0,null,0,"√",1,null,null,null,null,null,null,null,null,null,null,null,null,null,null,null,null,null,null,null,0]
[null,null,14,null,null,null,null,null,null,null,null,null,null,null,null,null,null,0,null,null,null,null,null,0,0,0,null,0,"√",1,null,null,null,null,null,null,null,null,null,null,null,null,null,null,null,null,null,null,null,0]
[null,null,15,null,null,null,null,null,null,null,null,null,null,null,null,null,null,0,null,null,null,null,null,0,0,0,null,0,"√",1,null,null,null,null,null,null,null,null,null,null,null,null,null,null,null,null,null,null,null,0]
[null,null,16,null,null,null,null,null,null,null,null,null,null,null,null,null,null,0,null,null,null,null,null,0,0,0,null,0,"√",1,null,null,null,null,null,null,null,null,null,null,null,null,null,null,null,null,null,null,null,0]
[null,null,17,null,null,null,null,null,null,null,null,null,null,null,null,null,null,0,null,null,null,null,null,0,0,0,null,0,"√",1,null,null,null,null,null,null,null,null,null,null,null,null,null,null,null,null,null,null,null,0]
[null,null,18,null,null,null,null,null,null,null,null,null,null,null,null,null,null,0,null,null,null,null,null,0,0,0,null,0,"√",1,null,null,null,null,null,null,null,null,null,null,null,null,null,null,null,null,null,null,null,0]
[null,null,null,null,null,null,null,null,"Total de lecciones asignadas:",null,null,{"$f":"+SUM(L256:L273)-SUMIF($A256:$A273,\"A\",L256:L273)","v":0},{"$f":"+SUM(M256:M273)-SUMIF($A256:$A273,\"A\",M256:M273)","v":0},0,0,{"$f":"+SUM(P256:P273)-SUMIF($A256:$A273,\"A\",P256:P273)","v":0},{"$f":"+SUM(Q256:Q273)-SUMIF($A256:$A273,\"A\",Q256:Q273)","v":0},{"$f":"+SUM(R256:R273)-SUMIF($A256:$A273,\"A\",R256:R273)","v":0},{"$f":"+SUM(S256:S273)-SUMIF($A256:$A273,\"A\",S256:S273)","v":0},{"$f":"+SUM(T256:T273)-SUMIF($A256:$A273,\"A\",T256:T273)","v":0},0,0,0,{"$f":"+SUM(R274:W274)","v":0},{"$f":"+SUM(Y256:Y273)","v":0},{"$f":"+SUM(Z256:Z273)-SUMIF($A256:$A273,\"A\",Z256:Z273)","v":0},{"$f":"+SUM(AA256:AA273)","v":0},{"$f":"+SUM(AB256:AB273)-SUMIF($A256:$A273,\"A\",AB256:AB273)","v":0},{"$f":"IF($C253=\"\",\"\",IF(AND(R277=\"√\",AD274=18),\"√\",\"Er\"))","v":""},{"$f":"+SUM(AD256:AD273)","v":18},null,null,null,null,null,null,null,null,null,null,null,null,null,null,null,{"$f":"+Y274","v":0},null,null,null,{"$f":"+IF(AX252>0,AX255+1,0)","v":0}]
[null,null,null,null,null,null,null,null,"Total de lecciones aprobadas:",null,null,{"$f":"+IF(C253=\"\",\"\",VLOOKUP($A252,'hoja de cálculo'!$A$17:$AJ$321,31,0))","v":""},{"$f":"+IF(C253=\"\",\"\",VLOOKUP($A252,'hoja de cálculo'!$A$17:$AJ$321,32,0))","v":""},{"$f":"+IF(C253=\"\",\"\",VLOOKUP($A252,'hoja de cálculo'!$A$17:$AJ$321,33,0))","v":""},{"$f":"+IF(C253=\"\",\"\",VLOOKUP($A252,'hoja de cálculo'!$A$17:$AJ$321,34,0))","v":""},{"$f":"+IF(C253=\"\",\"\",VLOOKUP($A252,'hoja de cálculo'!$A$17:$AJ$321,35,0))","v":""},{"$f":"+IF(C253=\"\",\"\",VLOOKUP($A252,'hoja de cálculo'!$A$17:$AJ$321,36,0))","v":""},{"$f":"+SUM(L275:Q275)","v":0},null,null,null,null,null,null,null,null,null,null,null,null,null,null,null,null,null,null,null,null,null,null,null,null,null,null,null,null,null,null,null,{"$f":"+IF(AX274>0,AX274+1,0)","v":0}]
[null,null,null,null,null,null,null,null,"Total de secciones",null,"Control:",{"$f":"+IF(C253=\"\",\"\",VLOOKUP($A252,'hoja de cálculo'!$A$17:$AQ$321,38,0))","v":""},{"$f":"+IF(C253=\"\",\"\",VLOOKUP($A252,'hoja de cálculo'!$A$17:$AQ$321,39,0))","v":""},{"$f":"+IF(C253=\"\",\"\",VLOOKUP($A252,'hoja de cálculo'!$A$17:$AQ$321,40,0))","v":""},{"$f":"+IF(C253=\"\",\"\",VLOOKUP($A252,'hoja de cálculo'!$A$17:$AQ$321,41,0))","v":""},{"$f":"+IF(C253=\"\",\"\",VLOOKUP($A252,'hoja de cálculo'!$A$17:$AQ$321,42,0))","v":""},{"$f":"+IF(C253=\"\",\"\",VLOOKUP($A252,'hoja de cálculo'!$A$17:$AQ$321,43,0))","v":""},{"$f":"+SUM(L276:Q276)","v":0},null,null,null,null,null,null,null,null,null,null,null,null,null,null,null,null,null,null,null,null,null,null,null,null,null,null,null,null,null,null,null,0]
[null,null,null,null,null,null,null,null,"Control 2",null,"Control:",{"$f":"IF(L275=\"\",\"\",IF(L274>L275,\"E\",IF(L274<L275,\"S\",\"√\")))","v":""},{"$f":"IF(M275=\"\",\"\",IF(M274>M275,\"E\",IF(M274<M275,\"S\",\"√\")))","v":""},"","","","",{"$f":"IF($C233=\"\",\"\",IF(AND(L277=\"√\",M277=\"√\",N277=\"√\",O277=\"√\",P277=\"√\",Q277=\"√\"),\"√\",\"Error\"))","v":"Error"},null,null,null,null,null,null,null,null,null,null,null,null,null,null,null,null,null,null,null,null,null,null,null,null,null,null,null,null,null,{"$f":"+IF(OR(B277=\"\",B277=\"Lecciones de TIE asignadas -√-\"),1,0)","v":1},null,0]
[null,null,null,null,null,null,null,null,"Plan de Estudios",null,"Control:",{"$f":"+IF(C253=\"\",\"\",VLOOKUP($A252,'hoja de cálculo'!$A$17:$BD$321,51,0))","v":""},{"$f":"+IF(C253=\"\",\"\",VLOOKUP($A252,'hoja de cálculo'!$A$17:$BD$321,52,0))","v":""},{"$f":"+IF(C253=\"\",\"\",VLOOKUP($A252,'hoja de cálculo'!$A$17:$BD$321,53,0))","v":""},{"$f":"+IF(C253=\"\",\"\",VLOOKUP($A252,'hoja de cálculo'!$A$17:$BD$321,54,0))","v":""},{"$f":"+IF(C253=\"\",\"\",VLOOKUP($A252,'hoja de cálculo'!$A$17:$BD$321,55,0))","v":""},{"$f":"+IF(C253=\"\",\"\",VLOOKUP($A252,'hoja de cálculo'!$A$17:$BD$321,56,0))","v":""},null,null,null,null,null,null,null,null,null,null,null,null,null,null,null,null,null,null,null,null,null,null,null,null,null,null,null,{"$f":"+IF(AB278<0,-AB278,0)","v":0},null,null,null,null,0]
[null,null,null,"Observaciones:",{"$f":"+IF(OR(C253=\"Lecciones Labor@ Diurnas\",C253=\"Lecciones Labor@ Nocturno\"),\"Recuerde generar el informe de labores de lecciones Labor@\",\"\")","v":""},null,null,null,null,null,null,null,null,null,null,null,null,null,null,null,null,null,null,null,null,null,null,null,null,null,null,null,null,null,null,null,null,null,null,null,null,null,null,null,null,null,null,null,null,0]
[null,null,null,null,null,null,null,null,null,null,null,null,null,null,null,null,null,null,null,null,null,null,null,null,null,null,null,null,null,null,null,null,null,null,null,null,null,null,null,null,null,null,null,null,null,null,null,null,null,0]
[null,null,null,null,null,null,null,null,null,null,null,null,null,null,null,null,null,null,null,null,null,null,null,null,null,null,null,null,null,null,null,null,null,null,null,null,null,null,null,null,null,null,null,null,null,null,null,null,null,0]
[null,null,null,null,null,null,null,null,null,null,null,null,null,null,null,null,null,null,null,null,null,null,null,null,null,null,null,null,null,null,null,null,null,null,null,null,null,null,null,null,null,null,null,null,null,null,null,null,null,0]
[null,null,null,null,null,null,null,null,null,null,null,null,null,null,null,null,null,null,null,null,null,null,null,null,null,null,"Hoja de Cálculo",null,null,null,null,null,null,null,null,null,null,null,null,null,null,null,null,null,null,null,null,null,null,0]
[null,null,null,null,null,null,null,null,null,null,null,null,null,null,null,null,null,null,null,null,null,null,null,null,null,null,null,null,null,null,null,null,null,null,null,null,null,null,null,null,null,null,null,null,null,null,null,null,null,0]
[null,null,{"$f":"+\"Declaración Jurada: El suscrito Director \"&$D$4245&\" del \"&$E$12&\", código \"&Información!$E$11&\", hace constar que los datos consignados en éste formulario son veraces y responden al estado real de ésta institución.\"&\" Cualquier inexactitud o falsedad estaré incurriendo en las responsabilidades administrativas y disciplinarias, sin perjuicio de las acciones civiles.\"","v":"Declaración Jurada: El suscrito Director  del , código , hace constar que los datos consignados en éste formulario son veraces y responden al estado real de ésta institución. Cualquier inexactitud o falsedad estaré incurriendo en las responsabilidades administrativas y disciplinarias, sin perjuicio de las acciones civiles."},null,null,null,null,null,null,null,null,null,null,null,null,null,null,null,null,null,null,null,null,null,null,null,null,null,null,null,null,null,null,null,null,null,null,null,null,null,null,null,null,null,null,null,null,null,null,0]
[null,null,null,null,null,null,null,null,null,null,null,null,null,null,null,null,null,null,null,null,null,null,null,null,null,null,null,null,null,null,null,null,null,null,null,null,null,null,null,null,null,null,null,null,null,null,null,null,null,0]
[{"$f":"+A252+1","v":8},{"$f":"IFERROR(VLOOKUP(A287,'hoja de cálculo'!$A$22:'hoja de cálculo'!$C$321,3,0),\"\")","v":""},null,null,null,null,null,null,null,null,null,null,null,null,null,null,null,null,null,null,null,null,null,null,null,null,null,null,null,null,null,null,null,null,null,null,null,null,null,null,null,null,null,null,null,null,null,null,null,{"$f":"+IF(B287=\"\",0,1)","v":0}]
["Ausente","Sustituto",{"$f":"IFERROR(VLOOKUP(A287,'hoja de cálculo'!$A$7:'hoja de cálculo'!$H$321,8,0),\"\")","v":""},null,null,null,null,null,null,null,null,null,null,null,null,null,null,null,null,null,null,null,null,null,null,null,null,null,"Cont. 1",null,null,null,null,null,null,null,null,null,null,null,null,null,null,null,null,null,null,null,null,{"$f":"+IF(AX287>0,AX287+1,0)","v":0}]
[null,null,"Nº","Nombre del servidor",null,null,null,"Nº de cédula","Grupo Prof.","Especialidad",null,"Nivel",null,null,null,null,null,"Sub- Total","Leccs. Co-curriculares",null,null,null,null,"Sub- Total","Pl","Total Leccs.","Nº de leccs.",null,null,null,null,null,null,null,null,null,null,null,null,null,null,null,null,null,null,null,null,null,null,0]
[null,null,null,null,null,null,null,null,null,null,null,"7º","8º","9º","10º","11º","12º",null,null,null,null,null,null,null,null,null,"Prop.","Ints.",null,null,null,{"$f":"+IF($AF$24=0,0,SUMIF($S290:$W290,$AF$24,$S309:$W309))","v":0},{"$f":"+IF($AG$24=0,0,SUMIF($S290:$W290,$AG$24,$S309:$W309))","v":0},{"$f":"+IF($AH$24=0,0,SUMIF($S290:$W290,$AH$24,$S309:$W309))","v":0},{"$f":"+IF($AI$24=0,0,SUMIF($S290:$W290,$AI$24,$S309:$W309))","v":0},{"$f":"+IF($AJ$24=0,0,SUMIF($S290:$W290,$AJ$24,$S309:$W309))","v":0},{"$f":"+IF($AK$24=0,0,SUMIF($S290:$W290,$AK$24,$S309:$W309))","v":0},{"$f":"+IF($AL$24=0,0,SUMIF($S290:$W290,$AL$24,$S309:$W309))","v":0},{"$f":"+IF($AM$24=0,0,SUMIF($S290:$W290,$AM$24,$S309:$W309))","v":0},{"$f":"+IF($AN$24=0,0,SUMIF($S290:$W290,$AN$24,$S309:$W309))","v":0},{"$f":"+IF($AO$24=0,0,SUMIF($S290:$W290,$AO$24,$S309:$W309))","v":0},{"$f":"+IF($AP$24=0,0,SUMIF($S290:$W290,$AP$24,$S309:$W309))","v":0},{"$f":"+IF($AQ$24=0,0,SUMIF($S290:$W290,$AQ$24,$S309:$W309))","v":0},null,null,null,null,null,null,0]
[null,null,1,null,null,null,null,null,null,null,null,null,null,null,null,null,null,{"$f":"+SUM(L291:Q291)","v":0},null,null,null,null,null,{"$f":"+SUM(R291:W291)","v":0},{"$f":"IF(X291=0,0,IF(X291>48,\"E\",IF(X291<44,0,IF(A291=\"A\",0,48-X291))))","v":0},{"$f":"+IF(Y291=\"E\",\"E\",(X291+Y291))","v":0},null,{"$f":"+IF(Z291=\"E\",\"E\",(Z291-AA291))","v":0},{"$f":"IF(A291=\"A\",\"√\",IF(Z291>48,\"E\",\"√\"))","v":"√"},{"$f":"+IF(AC291=\"√\",1,0)","v":1},null,null,null,null,null,null,null,null,null,null,null,null,null,null,null,null,null,null,null,{"$f":"+IF(OR(AA291+AB291>0,D291<>0,H291<>0,I291<>0,J291<>0),AX290+1,0)","v":0}]
[null,null,2,null,null,null,null,null,null,null,null,null,null,null,null,null,null,0,null,null,null,null,null,0,0,0,null,0,{"$f":"IF(A292=\"A\",\"√\",IF(Z292>48,\"E\",\"√\"))","v":"√"},1,null,null,null,null,null,null,null,null,null,null,null,null,null,null,null,null,null,null,null,0]
[null,null,3,null,null,null,null,null,null,null,null,null,null,null,null,null,null,0,null,null,null,null,null,0,0,0,null,0,"√",1,null,null,null,null,null,null,null,null,null,null,null,null,null,null,null,null,null,null,null,0]
[null,null,4,null,null,null,null,null,null,null,null,null,null,null,null,null,null,0,null,null,null,null,null,0,0,0,null,0,"√",1,null,null,null,null,null,null,null,null,null,null,null,null,null,null,null,null,null,null,null,0]
[null,null,5,null,null,null,null,null,null,null,null,null,null,null,null,null,null,0,null,null,null,null,null,0,0,0,null,0,"√",1,null,null,null,null,null,null,null,null,null,null,null,null,null,null,null,null,null,null,null,0]
[null,null,6,null,null,null,null,null,null,null,null,null,null,null,null,null,null,0,null,null,null,null,null,0,0,0,null,0,"√",1,null,null,null,null,null,null,null,null,null,null,null,null,null,null,null,null,null,null,null,0]
[null,null,7,null,null,null,null,null,null,null,null,null,null,null,null,null,null,0,null,null,null,null,null,0,0,0,null,0,"√",1,null,null,null,null,null,null,null,null,null,null,null,null,null,null,null,null,null,null,null,0]
[null,null,8,null,null,null,null,null,null,null,null,null,null,null,null,null,null,0,null,null,null,null,null,0,0,0,null,0,"√",1,null,null,null,null,null,null,null,null,null,null,null,null,null,null,null,null,null,null,null,0]
[null,null,9,null,null,null,null,null,null,null,null,null,null,null,null,null,null,0,null,null,null,null,null,0,0,0,null,0,"√",1,null,null,null,null,null,null,null,null,null,null,null,null,null,null,null,null,null,null,null,0]
[null,null,10,null,null,null,null,null,null,null,null,null,null,null,null,null,null,0,null,null,null,null,null,0,0,0,null,0,"√",1,null,null,null,null,null,null,null,null,null,null,null,null,null,null,null,null,null,null,null,0]
[null,null,11,null,null,null,null,null,null,null,null,null,null,null,null,null,null,0,null,null,null,null,null,0,0,0,null,0,"√",1,null,null,null,null,null,null,null,null,null,null,null,null,null,null,null,null,null,null,null,0]
[null,null,12,null,null,null,null,null,null,null,null,null,null,null,null,null,null,0,null,null,null,null,null,0,0,0,null,0,"√",1,null,null,null,null,null,null,null,null,null,null,null,null,null,null,null,null,null,null,null,0]
[null,null,13,null,null,null,null,null,null,null,null,null,null,null,null,null,null,0,null,null,null,null,null,0,0,0,null,0,"√",1,null,null,null,null,null,null,null,null,null,null,null,null,null,null,null,null,null,null,null,0]
[null,null,14,null,null,null,null,null,null,null,null,null,null,null,null,null,null,0,null,null,null,null,null,0,0,0,null,0,"√",1,null,null,null,null,null,null,null,null,null,null,null,null,null,null,null,null,null,null,null,0]
[null,null,15,null,null,null,null,null,null,null,null,null,null,null,null,null,null,0,null,null,null,null,null,0,0,0,null,0,"√",1,null,null,null,null,null,null,null,null,null,null,null,null,null,null,null,null,null,null,null,0]
[null,null,16,null,null,null,null,null,null,null,null,null,null,null,null,null,null,0,null,null,null,null,null,0,0,0,null,0,"√",1,null,null,null,null,null,null,null,null,null,null,null,null,null,null,null,null,null,null,null,0]
[null,null,17,null,null,null,null,null,null,null,null,null,null,null,null,null,null,0,null,null,null,null,null,0,0,0,null,0,"√",1,null,null,null,null,null,null,null,null,null,null,null,null,null,null,null,null,null,null,null,0]
[null,null,18,null,null,null,null,null,null,null,null,null,null,null,null,null,null,0,null,null,null,null,null,0,0,0,null,0,"√",1,null,null,null,null,null,null,null,null,null,null,null,null,null,null,null,null,null,null,null,0]
[null,null,null,null,null,null,null,null,"Total de lecciones asignadas:",null,null,{"$f":"+SUM(L291:L308)-SUMIF($A291:$A308,\"A\",L291:L308)","v":0},{"$f":"+SUM(M291:M308)-SUMIF($A291:$A308,\"A\",M291:M308)","v":0},0,0,{"$f":"+SUM(P291:P308)-SUMIF($A291:$A308,\"A\",P291:P308)","v":0},{"$f":"+SUM(Q291:Q308)-SUMIF($A291:$A308,\"A\",Q291:Q308)","v":0},{"$f":"+SUM(R291:R308)-SUMIF($A291:$A308,\"A\",R291:R308)","v":0},{"$f":"+SUM(S291:S308)-SUMIF($A291:$A308,\"A\",S291:S308)","v":0},{"$f":"+SUM(T291:T308)-SUMIF($A291:$A308,\"A\",T291:T308)","v":0},0,0,0,{"$f":"+SUM(R309:W309)","v":0},{"$f":"+SUM(Y291:Y308)","v":0},{"$f":"+SUM(Z291:Z308)-SUMIF($A291:$A308,\"A\",Z291:Z308)","v":0},{"$f":"+SUM(AA291:AA308)","v":0},{"$f":"+SUM(AB291:AB308)-SUMIF($A291:$A308,\"A\",AB291:AB308)","v":0},{"$f":"IF($C288=\"\",\"\",IF(AND(R312=\"√\",AD309=18),\"√\",\"Er\"))","v":""},{"$f":"+SUM(AD291:AD308)","v":18},null,null,null,null,null,null,null,null,null,null,null,null,null,null,null,{"$f":"+Y309","v":0},null,null,null,{"$f":"+IF(AX287>0,AX290+1,0)","v":0}]
[null,null,null,null,null,null,null,null,"Total de lecciones aprobadas:",null,null,{"$f":"+IF(C288=\"\",\"\",VLOOKUP($A287,'hoja de cálculo'!$A$17:$AJ$321,31,0))","v":""},{"$f":"+IF(C288=\"\",\"\",VLOOKUP($A287,'hoja de cálculo'!$A$17:$AJ$321,32,0))","v":""},{"$f":"+IF(C288=\"\",\"\",VLOOKUP($A287,'hoja de cálculo'!$A$17:$AJ$321,33,0))","v":""},{"$f":"+IF(C288=\"\",\"\",VLOOKUP($A287,'hoja de cálculo'!$A$17:$AJ$321,34,0))","v":""},{"$f":"+IF(C288=\"\",\"\",VLOOKUP($A287,'hoja de cálculo'!$A$17:$AJ$321,35,0))","v":""},{"$f":"+IF(C288=\"\",\"\",VLOOKUP($A287,'hoja de cálculo'!$A$17:$AJ$321,36,0))","v":""},{"$f":"+SUM(L310:Q310)","v":0},null,null,null,null,null,null,null,null,null,null,null,null,null,null,null,null,null,null,null,null,null,null,null,null,null,null,null,null,null,null,null,{"$f":"+IF(AX309>0,AX309+1,0)","v":0}]
[null,null,null,null,null,null,null,null,"Total de secciones",null,"Control:",{"$f":"+IF(C288=\"\",\"\",VLOOKUP($A287,'hoja de cálculo'!$A$17:$AQ$321,38,0))","v":""},{"$f":"+IF(C288=\"\",\"\",VLOOKUP($A287,'hoja de cálculo'!$A$17:$AQ$321,39,0))","v":""},{"$f":"+IF(C288=\"\",\"\",VLOOKUP($A287,'hoja de cálculo'!$A$17:$AQ$321,40,0))","v":""},{"$f":"+IF(C288=\"\",\"\",VLOOKUP($A287,'hoja de cálculo'!$A$17:$AQ$321,41,0))","v":""},{"$f":"+IF(C288=\"\",\"\",VLOOKUP($A287,'hoja de cálculo'!$A$17:$AQ$321,42,0))","v":""},{"$f":"+IF(C288=\"\",\"\",VLOOKUP($A287,'hoja de cálculo'!$A$17:$AQ$321,43,0))","v":""},{"$f":"+SUM(L311:Q311)","v":0},null,null,null,null,null,null,null,null,null,null,null,null,null,null,null,null,null,null,null,null,null,null,null,null,null,null,null,null,null,null,null,0]
[null,null,null,null,null,null,null,null,"Control 2",null,"Control:",{"$f":"IF(L310=\"\",\"\",IF(L309>L310,\"E\",IF(L309<L310,\"S\",\"√\")))","v":""},{"$f":"IF(M310=\"\",\"\",IF(M309>M310,\"E\",IF(M309<M310,\"S\",\"√\")))","v":""},"","","","",{"$f":"IF($C268=\"\",\"\",IF(AND(L312=\"√\",M312=\"√\",N312=\"√\",O312=\"√\",P312=\"√\",Q312=\"√\"),\"√\",\"Error\"))","v":"Error"},null,null,null,null,null,null,null,null,null,null,null,null,null,null,null,null,null,null,null,null,null,null,null,null,null,null,null,null,null,{"$f":"+IF(OR(B312=\"\",B312=\"Lecciones de TIE asignadas -√-\"),1,0)","v":1},null,0]
[null,null,null,null,null,null,null,null,"Plan de Estudios",null,"Control:",{"$f":"+IF(C288=\"\",\"\",VLOOKUP($A287,'hoja de cálculo'!$A$17:$BD$321,51,0))","v":""},{"$f":"+IF(C288=\"\",\"\",VLOOKUP($A287,'hoja de cálculo'!$A$17:$BD$321,52,0))","v":""},{"$f":"+IF(C288=\"\",\"\",VLOOKUP($A287,'hoja de cálculo'!$A$17:$BD$321,53,0))","v":""},{"$f":"+IF(C288=\"\",\"\",VLOOKUP($A287,'hoja de cálculo'!$A$17:$BD$321,54,0))","v":""},{"$f":"+IF(C288=\"\",\"\",VLOOKUP($A287,'hoja de cálculo'!$A$17:$BD$321,55,0))","v":""},{"$f":"+IF(C288=\"\",\"\",VLOOKUP($A287,'hoja de cálculo'!$A$17:$BD$321,56,0))","v":""},null,null,null,null,null,null,null,null,null,null,null,null,null,null,null,null,null,null,null,null,null,null,null,null,null,null,null,{"$f":"+IF(AB313<0,-AB313,0)","v":0},null,null,null,null,0]
[null,null,null,"Observaciones:",{"$f":"+IF(OR(C288=\"Lecciones Labor@ Diurnas\",C288=\"Lecciones Labor@ Nocturno\"),\"Recuerde generar el informe de labores de lecciones Labor@\",\"\")","v":""},null,null,null,null,null,null,null,null,null,null,null,null,null,null,null,null,null,null,null,null,null,null,null,null,null,null,null,null,null,null,null,null,null,null,null,null,null,null,null,null,null,null,null,null,0]
[null,null,null,null,null,null,null,null,null,null,null,null,null,null,null,null,null,null,null,null,null,null,null,null,null,null,null,null,null,null,null,null,null,null,null,null,null,null,null,null,null,null,null,null,null,null,null,null,null,0]
[null,null,null,null,null,null,null,null,null,null,null,null,null,null,null,null,null,null,null,null,null,null,null,null,null,null,null,null,null,null,null,null,null,null,null,null,null,null,null,null,null,null,null,null,null,null,null,null,null,0]
[null,null,null,null,null,null,null,null,null,null,null,null,null,null,null,null,null,null,null,null,null,null,null,null,null,null,null,null,null,null,null,null,null,null,null,null,null,null,null,null,null,null,null,null,null,null,null,null,null,0]
[null,null,null,null,null,null,null,null,null,null,null,null,null,null,null,null,null,null,null,null,null,null,null,null,null,null,"Hoja de Cálculo",null,null,null,null,null,null,null,null,null,null,null,null,null,null,null,null,null,null,null,null,null,null,0]
[null,null,null,null,null,null,null,null,null,null,null,null,null,null,null,null,null,null,null,null,null,null,null,null,null,null,null,null,null,null,null,null,null,null,null,null,null,null,null,null,null,null,null,null,null,null,null,null,null,0]
[null,null,{"$f":"+\"Declaración Jurada: El suscrito Director \"&$D$4245&\" del \"&$E$12&\", código \"&Información!$E$11&\", hace constar que los datos consignados en éste formulario son veraces y responden al estado real de ésta institución.\"&\" Cualquier inexactitud o falsedad estaré incurriendo en las responsabilidades administrativas y disciplinarias, sin perjuicio de las acciones civiles.\"","v":"Declaración Jurada: El suscrito Director  del , código , hace constar que los datos consignados en éste formulario son veraces y responden al estado real de ésta institución. Cualquier inexactitud o falsedad estaré incurriendo en las responsabilidades administrativas y disciplinarias, sin perjuicio de las acciones civiles."},null,null,null,null,null,null,null,null,null,null,null,null,null,null,null,null,null,null,null,null,null,null,null,null,null,null,null,null,null,null,null,null,null,null,null,null,null,null,null,null,null,null,null,null,null,null,0]
[null,null,null,null,null,null,null,null,null,null,null,null,null,null,null,null,null,null,null,null,null,null,null,null,null,null,null,null,null,null,null,null,null,null,null,null,null,null,null,null,null,null,null,null,null,null,null,null,null,0]
[{"$f":"+A287+1","v":9},{"$f":"IFERROR(VLOOKUP(A322,'hoja de cálculo'!$A$22:'hoja de cálculo'!$C$321,3,0),\"\")","v":""},null,null,null,null,null,null,null,null,null,null,null,null,null,null,null,null,null,null,null,null,null,null,null,null,null,null,null,null,null,null,null,null,null,null,null,null,null,null,null,null,null,null,null,null,null,null,null,{"$f":"+IF(B322=\"\",0,1)","v":0}]
["Ausente","Sustituto",{"$f":"IFERROR(VLOOKUP(A322,'hoja de cálculo'!$A$7:'hoja de cálculo'!$H$321,8,0),\"\")","v":""},null,null,null,null,null,null,null,null,null,null,null,null,null,null,null,null,null,null,null,null,null,null,null,null,null,"Cont. 1",null,null,null,null,null,null,null,null,null,null,null,null,null,null,null,null,null,null,null,null,{"$f":"+IF(AX322>0,AX322+1,0)","v":0}]
[null,null,"Nº","Nombre del servidor",null,null,null,"Nº de cédula","Grupo Prof.","Especialidad",null,"Nivel",null,null,null,null,null,"Sub- Total","Leccs. Co-curriculares",null,null,null,null,"Sub- Total","Pl","Total Leccs.","Nº de leccs.",null,null,null,null,null,null,null,null,null,null,null,null,null,null,null,null,null,null,null,null,null,null,0]
[null,null,null,null,null,null,null,null,null,null,null,"7º","8º","9º","10º","11º","12º",null,null,null,null,null,null,null,null,null,"Prop.","Ints.",null,null,null,{"$f":"+IF($AF$24=0,0,SUMIF($S325:$W325,$AF$24,$S344:$W344))","v":0},{"$f":"+IF($AG$24=0,0,SUMIF($S325:$W325,$AG$24,$S344:$W344))","v":0},{"$f":"+IF($AH$24=0,0,SUMIF($S325:$W325,$AH$24,$S344:$W344))","v":0},{"$f":"+IF($AI$24=0,0,SUMIF($S325:$W325,$AI$24,$S344:$W344))","v":0},{"$f":"+IF($AJ$24=0,0,SUMIF($S325:$W325,$AJ$24,$S344:$W344))","v":0},{"$f":"+IF($AK$24=0,0,SUMIF($S325:$W325,$AK$24,$S344:$W344))","v":0},{"$f":"+IF($AL$24=0,0,SUMIF($S325:$W325,$AL$24,$S344:$W344))","v":0},{"$f":"+IF($AM$24=0,0,SUMIF($S325:$W325,$AM$24,$S344:$W344))","v":0},{"$f":"+IF($AN$24=0,0,SUMIF($S325:$W325,$AN$24,$S344:$W344))","v":0},{"$f":"+IF($AO$24=0,0,SUMIF($S325:$W325,$AO$24,$S344:$W344))","v":0},{"$f":"+IF($AP$24=0,0,SUMIF($S325:$W325,$AP$24,$S344:$W344))","v":0},{"$f":"+IF($AQ$24=0,0,SUMIF($S325:$W325,$AQ$24,$S344:$W344))","v":0},null,null,null,null,null,null,0]
[null,null,1,null,null,null,null,null,null,null,null,null,null,null,null,null,null,{"$f":"+SUM(L326:Q326)","v":0},null,null,null,null,null,{"$f":"+SUM(R326:W326)","v":0},{"$f":"IF(X326=0,0,IF(X326>48,\"E\",IF(X326<44,0,IF(A326=\"A\",0,48-X326))))","v":0},{"$f":"+IF(Y326=\"E\",\"E\",(X326+Y326))","v":0},null,{"$f":"+IF(Z326=\"E\",\"E\",(Z326-AA326))","v":0},{"$f":"IF(A326=\"A\",\"√\",IF(Z326>48,\"E\",\"√\"))","v":"√"},{"$f":"+IF(AC326=\"√\",1,0)","v":1},null,null,null,null,null,null,null,null,null,null,null,null,null,null,null,null,null,null,null,{"$f":"+IF(OR(AA326+AB326>0,D326<>0,H326<>0,I326<>0,J326<>0),AX325+1,0)","v":0}]
[null,null,2,null,null,null,null,null,null,null,null,null,null,null,null,null,null,0,null,null,null,null,null,0,0,0,null,0,{"$f":"IF(A327=\"A\",\"√\",IF(Z327>48,\"E\",\"√\"))","v":"√"},1,null,null,null,null,null,null,null,null,null,null,null,null,null,null,null,null,null,null,null,0]
[null,null,3,null,null,null,null,null,null,null,null,null,null,null,null,null,null,0,null,null,null,null,null,0,0,0,null,0,"√",1,null,null,null,null,null,null,null,null,null,null,null,null,null,null,null,null,null,null,null,0]
[null,null,4,null,null,null,null,null,null,null,null,null,null,null,null,null,null,0,null,null,null,null,null,0,0,0,null,0,"√",1,null,null,null,null,null,null,null,null,null,null,null,null,null,null,null,null,null,null,null,0]
[null,null,5,null,null,null,null,null,null,null,null,null,null,null,null,null,null,0,null,null,null,null,null,0,0,0,null,0,"√",1,null,null,null,null,null,null,null,null,null,null,null,null,null,null,null,null,null,null,null,0]
[null,null,6,null,null,null,null,null,null,null,null,null,null,null,null,null,null,0,null,null,null,null,null,0,0,0,null,0,"√",1,null,null,null,null,null,null,null,null,null,null,null,null,null,null,null,null,null,null,null,0]
[null,null,7,null,null,null,null,null,null,null,null,null,null,null,null,null,null,0,null,null,null,null,null,0,0,0,null,0,"√",1,null,null,null,null,null,null,null,null,null,null,null,null,null,null,null,null,null,null,null,0]
[null,null,8,null,null,null,null,null,null,null,null,null,null,null,null,null,null,0,null,null,null,null,null,0,0,0,null,0,"√",1,null,null,null,null,null,null,null,null,null,null,null,null,null,null,null,null,null,null,null,0]
[null,null,9,null,null,null,null,null,null,null,null,null,null,null,null,null,null,0,null,null,null,null,null,0,0,0,null,0,"√",1,null,null,null,null,null,null,null,null,null,null,null,null,null,null,null,null,null,null,null,0]
[null,null,10,null,null,null,null,null,null,null,null,null,null,null,null,null,null,0,null,null,null,null,null,0,0,0,null,0,"√",1,null,null,null,null,null,null,null,null,null,null,null,null,null,null,null,null,null,null,null,0]
[null,null,11,null,null,null,null,null,null,null,null,null,null,null,null,null,null,0,null,null,null,null,null,0,0,0,null,0,"√",1,null,null,null,null,null,null,null,null,null,null,null,null,null,null,null,null,null,null,null,0]
[null,null,12,null,null,null,null,null,null,null,null,null,null,null,null,null,null,0,null,null,null,null,null,0,0,0,null,0,"√",1,null,null,null,null,null,null,null,null,null,null,null,null,null,null,null,null,null,null,null,0]
[null,null,13,null,null,null,null,null,null,null,null,null,null,null,null,null,null,0,null,null,null,null,null,0,0,0,null,0,"√",1,null,null,null,null,null,null,null,null,null,null,null,null,null,null,null,null,null,null,null,0]
[null,null,14,null,null,null,null,null,null,null,null,null,null,null,null,null,null,0,null,null,null,null,null,0,0,0,null,0,"√",1,null,null,null,null,null,null,null,null,null,null,null,null,null,null,null,null,null,null,null,0]
[null,null,15,null,null,null,null,null,null,null,null,null,null,null,null,null,null,0,null,null,null,null,null,0,0,0,null,0,"√",1,null,null,null,null,null,null,null,null,null,null,null,null,null,null,null,null,null,null,null,0]
[null,null,16,null,null,null,null,null,null,null,null,null,null,null,null,null,null,0,null,null,null,null,null,0,0,0,null,0,"√",1,null,null,null,null,null,null,null,null,null,null,null,null,null,null,null,null,null,null,null,0]
[null,null,17,null,null,null,null,null,null,null,null,null,null,null,null,null,null,0,null,null,null,null,null,0,0,0,null,0,"√",1,null,null,null,null,null,null,null,null,null,null,null,null,null,null,null,null,null,null,null,0]
[null,null,18,null,null,null,null,null,null,null,null,null,null,null,null,null,null,0,null,null,null,null,null,0,0,0,null,0,"√",1,null,null,null,null,null,null,null,null,null,null,null,null,null,null,null,null,null,null,null,0]
[null,null,null,null,null,null,null,null,"Total de lecciones asignadas:",null,null,{"$f":"+SUM(L326:L343)-SUMIF($A326:$A343,\"A\",L326:L343)","v":0},{"$f":"+SUM(M326:M343)-SUMIF($A326:$A343,\"A\",M326:M343)","v":0},0,0,{"$f":"+SUM(P326:P343)-SUMIF($A326:$A343,\"A\",P326:P343)","v":0},{"$f":"+SUM(Q326:Q343)-SUMIF($A326:$A343,\"A\",Q326:Q343)","v":0},{"$f":"+SUM(R326:R343)-SUMIF($A326:$A343,\"A\",R326:R343)","v":0},{"$f":"+SUM(S326:S343)-SUMIF($A326:$A343,\"A\",S326:S343)","v":0},{"$f":"+SUM(T326:T343)-SUMIF($A326:$A343,\"A\",T326:T343)","v":0},0,0,0,{"$f":"+SUM(R344:W344)","v":0},{"$f":"+SUM(Y326:Y343)","v":0},{"$f":"+SUM(Z326:Z343)-SUMIF($A326:$A343,\"A\",Z326:Z343)","v":0},{"$f":"+SUM(AA326:AA343)","v":0},{"$f":"+SUM(AB326:AB343)-SUMIF($A326:$A343,\"A\",AB326:AB343)","v":0},{"$f":"IF($C323=\"\",\"\",IF(AND(R347=\"√\",AD344=18),\"√\",\"Er\"))","v":""},{"$f":"+SUM(AD326:AD343)","v":18},null,null,null,null,null,null,null,null,null,null,null,null,null,null,null,{"$f":"+Y344","v":0},null,null,null,{"$f":"+IF(AX322>0,AX325+1,0)","v":0}]
[null,null,null,null,null,null,null,null,"Total de lecciones aprobadas:",null,null,{"$f":"+IF(C323=\"\",\"\",VLOOKUP($A322,'hoja de cálculo'!$A$17:$AJ$321,31,0))","v":""},{"$f":"+IF(C323=\"\",\"\",VLOOKUP($A322,'hoja de cálculo'!$A$17:$AJ$321,32,0))","v":""},{"$f":"+IF(C323=\"\",\"\",VLOOKUP($A322,'hoja de cálculo'!$A$17:$AJ$321,33,0))","v":""},{"$f":"+IF(C323=\"\",\"\",VLOOKUP($A322,'hoja de cálculo'!$A$17:$AJ$321,34,0))","v":""},{"$f":"+IF(C323=\"\",\"\",VLOOKUP($A322,'hoja de cálculo'!$A$17:$AJ$321,35,0))","v":""},{"$f":"+IF(C323=\"\",\"\",VLOOKUP($A322,'hoja de cálculo'!$A$17:$AJ$321,36,0))","v":""},{"$f":"+SUM(L345:Q345)","v":0},null,null,null,null,null,null,null,null,null,null,null,null,null,null,null,null,null,null,null,null,null,null,null,null,null,null,null,null,null,null,null,{"$f":"+IF(AX344>0,AX344+1,0)","v":0}]
[null,null,null,null,null,null,null,null,"Total de secciones",null,"Control:",{"$f":"+IF(C323=\"\",\"\",VLOOKUP($A322,'hoja de cálculo'!$A$17:$AQ$321,38,0))","v":""},{"$f":"+IF(C323=\"\",\"\",VLOOKUP($A322,'hoja de cálculo'!$A$17:$AQ$321,39,0))","v":""},{"$f":"+IF(C323=\"\",\"\",VLOOKUP($A322,'hoja de cálculo'!$A$17:$AQ$321,40,0))","v":""},{"$f":"+IF(C323=\"\",\"\",VLOOKUP($A322,'hoja de cálculo'!$A$17:$AQ$321,41,0))","v":""},{"$f":"+IF(C323=\"\",\"\",VLOOKUP($A322,'hoja de cálculo'!$A$17:$AQ$321,42,0))","v":""},{"$f":"+IF(C323=\"\",\"\",VLOOKUP($A322,'hoja de cálculo'!$A$17:$AQ$321,43,0))","v":""},{"$f":"+SUM(L346:Q346)","v":0},null,null,null,null,null,null,null,null,null,null,null,null,null,null,null,null,null,null,null,null,null,null,null,null,null,null,null,null,null,null,null,0]
[null,null,null,null,null,null,null,null,"Control 2",null,"Control:",{"$f":"IF(L345=\"\",\"\",IF(L344>L345,\"E\",IF(L344<L345,\"S\",\"√\")))","v":""},{"$f":"IF(M345=\"\",\"\",IF(M344>M345,\"E\",IF(M344<M345,\"S\",\"√\")))","v":""},"","","","",{"$f":"IF($C303=\"\",\"\",IF(AND(L347=\"√\",M347=\"√\",N347=\"√\",O347=\"√\",P347=\"√\",Q347=\"√\"),\"√\",\"Error\"))","v":"Error"},null,null,null,null,null,null,null,null,null,null,null,null,null,null,null,null,null,null,null,null,null,null,null,null,null,null,null,null,null,{"$f":"+IF(OR(B347=\"\",B347=\"Lecciones de TIE asignadas -√-\"),1,0)","v":1},null,0]
[null,null,null,null,null,null,null,null,"Plan de Estudios",null,"Control:",{"$f":"+IF(C323=\"\",\"\",VLOOKUP($A322,'hoja de cálculo'!$A$17:$BD$321,51,0))","v":""},{"$f":"+IF(C323=\"\",\"\",VLOOKUP($A322,'hoja de cálculo'!$A$17:$BD$321,52,0))","v":""},{"$f":"+IF(C323=\"\",\"\",VLOOKUP($A322,'hoja de cálculo'!$A$17:$BD$321,53,0))","v":""},{"$f":"+IF(C323=\"\",\"\",VLOOKUP($A322,'hoja de cálculo'!$A$17:$BD$321,54,0))","v":""},{"$f":"+IF(C323=\"\",\"\",VLOOKUP($A322,'hoja de cálculo'!$A$17:$BD$321,55,0))","v":""},{"$f":"+IF(C323=\"\",\"\",VLOOKUP($A322,'hoja de cálculo'!$A$17:$BD$321,56,0))","v":""},null,null,null,null,null,null,null,null,null,null,null,null,null,null,null,null,null,null,null,null,null,null,null,null,null,null,null,{"$f":"+IF(AB348<0,-AB348,0)","v":0},null,null,null,null,0]
[null,null,null,"Observaciones:",{"$f":"+IF(OR(C323=\"Lecciones Labor@ Diurnas\",C323=\"Lecciones Labor@ Nocturno\"),\"Recuerde generar el informe de labores de lecciones Labor@\",\"\")","v":""},null,null,null,null,null,null,null,null,null,null,null,null,null,null,null,null,null,null,null,null,null,null,null,null,null,null,null,null,null,null,null,null,null,null,null,null,null,null,null,null,null,null,null,null,0]
[null,null,null,null,null,null,null,null,null,null,null,null,null,null,null,null,null,null,null,null,null,null,null,null,null,null,null,null,null,null,null,null,null,null,null,null,null,null,null,null,null,null,null,null,null,null,null,null,null,0]
[null,null,null,null,null,null,null,null,null,null,null,null,null,null,null,null,null,null,null,null,null,null,null,null,null,null,null,null,null,null,null,null,null,null,null,null,null,null,null,null,null,null,null,null,null,null,null,null,null,0]
[null,null,null,null,null,null,null,null,null,null,null,null,null,null,null,null,null,null,null,null,null,null,null,null,null,null,null,null,null,null,null,null,null,null,null,null,null,null,null,null,null,null,null,null,null,null,null,null,null,0]
[null,null,null,null,null,null,null,null,null,null,null,null,null,null,null,null,null,null,null,null,null,null,null,null,null,null,"Hoja de Cálculo",null,null,null,null,null,null,null,null,null,null,null,null,null,null,null,null,null,null,null,null,null,null,0]
[null,null,null,null,null,null,null,null,null,null,null,null,null,null,null,null,null,null,null,null,null,null,null,null,null,null,null,null,null,null,null,null,null,null,null,null,null,null,null,null,null,null,null,null,null,null,null,null,null,0]
[null,null,{"$f":"+\"Declaración Jurada: El suscrito Director \"&$D$4245&\" del \"&$E$12&\", código \"&Información!$E$11&\", hace constar que los datos consignados en éste formulario son veraces y responden al estado real de ésta institución.\"&\" Cualquier inexactitud o falsedad estaré incurriendo en las responsabilidades administrativas y disciplinarias, sin perjuicio de las acciones civiles.\"","v":"Declaración Jurada: El suscrito Director  del , código , hace constar que los datos consignados en éste formulario son veraces y responden al estado real de ésta institución. Cualquier inexactitud o falsedad estaré incurriendo en las responsabilidades administrativas y disciplinarias, sin perjuicio de las acciones civiles."},null,null,null,null,null,null,null,null,null,null,null,null,null,null,null,null,null,null,null,null,null,null,null,null,null,null,null,null,null,null,null,null,null,null,null,null,null,null,null,null,null,null,null,null,null,null,0]
[null,null,null,null,null,null,null,null,null,null,null,null,null,null,null,null,null,null,null,null,null,null,null,null,null,null,null,null,null,null,null,null,null,null,null,null,null,null,null,null,null,null,null,null,null,null,null,null,null,0]
[{"$f":"+A322+1","v":10},{"$f":"IFERROR(VLOOKUP(A357,'hoja de cálculo'!$A$22:'hoja de cálculo'!$C$321,3,0),\"\")","v":""},null,null,null,null,null,null,null,null,null,null,null,null,null,null,null,null,null,null,null,null,null,null,null,null,null,null,null,null,null,null,null,null,null,null,null,null,null,null,null,null,null,null,null,null,null,null,null,{"$f":"+IF(B357=\"\",0,1)","v":0}]
["Ausente","Sustituto",{"$f":"IFERROR(VLOOKUP(A357,'hoja de cálculo'!$A$7:'hoja de cálculo'!$H$321,8,0),\"\")","v":""},null,null,null,null,null,null,null,null,null,null,null,null,null,null,null,null,null,null,null,null,null,null,null,null,null,"Cont. 1",null,null,null,null,null,null,null,null,null,null,null,null,null,null,null,null,null,null,null,null,{"$f":"+IF(AX357>0,AX357+1,0)","v":0}]
[null,null,"Nº","Nombre del servidor",null,null,null,"Nº de cédula","Grupo Prof.","Especialidad",null,"Nivel",null,null,null,null,null,"Sub- Total","Leccs. Co-curriculares",null,null,null,null,"Sub- Total","Pl","Total Leccs.","Nº de leccs.",null,null,null,null,null,null,null,null,null,null,null,null,null,null,null,null,null,null,null,null,null,null,0]
[null,null,null,null,null,null,null,null,null,null,null,"7º","8º","9º","10º","11º","12º",null,null,null,null,null,null,null,null,null,"Prop.","Ints.",null,null,null,{"$f":"+IF($AF$24=0,0,SUMIF($S360:$W360,$AF$24,$S379:$W379))","v":0},{"$f":"+IF($AG$24=0,0,SUMIF($S360:$W360,$AG$24,$S379:$W379))","v":0},{"$f":"+IF($AH$24=0,0,SUMIF($S360:$W360,$AH$24,$S379:$W379))","v":0},{"$f":"+IF($AI$24=0,0,SUMIF($S360:$W360,$AI$24,$S379:$W379))","v":0},{"$f":"+IF($AJ$24=0,0,SUMIF($S360:$W360,$AJ$24,$S379:$W379))","v":0},{"$f":"+IF($AK$24=0,0,SUMIF($S360:$W360,$AK$24,$S379:$W379))","v":0},{"$f":"+IF($AL$24=0,0,SUMIF($S360:$W360,$AL$24,$S379:$W379))","v":0},{"$f":"+IF($AM$24=0,0,SUMIF($S360:$W360,$AM$24,$S379:$W379))","v":0},{"$f":"+IF($AN$24=0,0,SUMIF($S360:$W360,$AN$24,$S379:$W379))","v":0},{"$f":"+IF($AO$24=0,0,SUMIF($S360:$W360,$AO$24,$S379:$W379))","v":0},{"$f":"+IF($AP$24=0,0,SUMIF($S360:$W360,$AP$24,$S379:$W379))","v":0},{"$f":"+IF($AQ$24=0,0,SUMIF($S360:$W360,$AQ$24,$S379:$W379))","v":0},null,null,null,null,null,null,0]
[null,null,1,null,null,null,null,null,null,null,null,null,null,null,null,null,null,{"$f":"+SUM(L361:Q361)","v":0},null,null,null,null,null,{"$f":"+SUM(R361:W361)","v":0},{"$f":"IF(X361=0,0,IF(X361>48,\"E\",IF(X361<44,0,IF(A361=\"A\",0,48-X361))))","v":0},{"$f":"+IF(Y361=\"E\",\"E\",(X361+Y361))","v":0},null,{"$f":"+IF(Z361=\"E\",\"E\",(Z361-AA361))","v":0},{"$f":"IF(A361=\"A\",\"√\",IF(Z361>48,\"E\",\"√\"))","v":"√"},{"$f":"+IF(AC361=\"√\",1,0)","v":1},null,null,null,null,null,null,null,null,null,null,null,null,null,null,null,null,null,null,null,{"$f":"+IF(OR(AA361+AB361>0,D361<>0,H361<>0,I361<>0,J361<>0),AX360+1,0)","v":0}]
[null,null,2,null,null,null,null,null,null,null,null,null,null,null,null,null,null,0,null,null,null,null,null,0,0,0,null,0,{"$f":"IF(A362=\"A\",\"√\",IF(Z362>48,\"E\",\"√\"))","v":"√"},1,null,null,null,null,null,null,null,null,null,null,null,null,null,null,null,null,null,null,null,0]
[null,null,3,null,null,null,null,null,null,null,null,null,null,null,null,null,null,0,null,null,null,null,null,0,0,0,null,0,"√",1,null,null,null,null,null,null,null,null,null,null,null,null,null,null,null,null,null,null,null,0]
[null,null,4,null,null,null,null,null,null,null,null,null,null,null,null,null,null,0,null,null,null,null,null,0,0,0,null,0,"√",1,null,null,null,null,null,null,null,null,null,null,null,null,null,null,null,null,null,null,null,0]
[null,null,5,null,null,null,null,null,null,null,null,null,null,null,null,null,null,0,null,null,null,null,null,0,0,0,null,0,"√",1,null,null,null,null,null,null,null,null,null,null,null,null,null,null,null,null,null,null,null,0]
[null,null,6,null,null,null,null,null,null,null,null,null,null,null,null,null,null,0,null,null,null,null,null,0,0,0,null,0,"√",1,null,null,null,null,null,null,null,null,null,null,null,null,null,null,null,null,null,null,null,0]
[null,null,7,null,null,null,null,null,null,null,null,null,null,null,null,null,null,0,null,null,null,null,null,0,0,0,null,0,"√",1,null,null,null,null,null,null,null,null,null,null,null,null,null,null,null,null,null,null,null,0]
[null,null,8,null,null,null,null,null,null,null,null,null,null,null,null,null,null,0,null,null,null,null,null,0,0,0,null,0,"√",1,null,null,null,null,null,null,null,null,null,null,null,null,null,null,null,null,null,null,null,0]
[null,null,9,null,null,null,null,null,null,null,null,null,null,null,null,null,null,0,null,null,null,null,null,0,0,0,null,0,"√",1,null,null,null,null,null,null,null,null,null,null,null,null,null,null,null,null,null,null,null,0]
[null,null,10,null,null,null,null,null,null,null,null,null,null,null,null,null,null,0,null,null,null,null,null,0,0,0,null,0,"√",1,null,null,null,null,null,null,null,null,null,null,null,null,null,null,null,null,null,null,null,0]
[null,null,11,null,null,null,null,null,null,null,null,null,null,null,null,null,null,0,null,null,null,null,null,0,0,0,null,0,"√",1,null,null,null,null,null,null,null,null,null,null,null,null,null,null,null,null,null,null,null,0]
[null,null,12,null,null,null,null,null,null,null,null,null,null,null,null,null,null,0,null,null,null,null,null,0,0,0,null,0,"√",1,null,null,null,null,null,null,null,null,null,null,null,null,null,null,null,null,null,null,null,0]
[null,null,13,null,null,null,null,null,null,null,null,null,null,null,null,null,null,0,null,null,null,null,null,0,0,0,null,0,"√",1,null,null,null,null,null,null,null,null,null,null,null,null,null,null,null,null,null,null,null,0]
[null,null,14,null,null,null,null,null,null,null,null,null,null,null,null,null,null,0,null,null,null,null,null,0,0,0,null,0,"√",1,null,null,null,null,null,null,null,null,null,null,null,null,null,null,null,null,null,null,null,0]
[null,null,15,null,null,null,null,null,null,null,null,null,null,null,null,null,null,0,null,null,null,null,null,0,0,0,null,0,"√",1,null,null,null,null,null,null,null,null,null,null,null,null,null,null,null,null,null,null,null,0]
[null,null,16,null,null,null,null,null,null,null,null,null,null,null,null,null,null,0,null,null,null,null,null,0,0,0,null,0,"√",1,null,null,null,null,null,null,null,null,null,null,null,null,null,null,null,null,null,null,null,0]
[null,null,17,null,null,null,null,null,null,null,null,null,null,null,null,null,null,0,null,null,null,null,null,0,0,0,null,0,"√",1,null,null,null,null,null,null,null,null,null,null,null,null,null,null,null,null,null,null,null,0]
[null,null,18,null,null,null,null,null,null,null,null,null,null,null,null,null,null,0,null,null,null,null,null,0,0,0,null,0,"√",1,null,null,null,null,null,null,null,null,null,null,null,null,null,null,null,null,null,null,null,0]
[null,null,null,null,null,null,null,null,"Total de lecciones asignadas:",null,null,{"$f":"+SUM(L361:L378)-SUMIF($A361:$A378,\"A\",L361:L378)","v":0},{"$f":"+SUM(M361:M378)-SUMIF($A361:$A378,\"A\",M361:M378)","v":0},0,0,{"$f":"+SUM(P361:P378)-SUMIF($A361:$A378,\"A\",P361:P378)","v":0},{"$f":"+SUM(Q361:Q378)-SUMIF($A361:$A378,\"A\",Q361:Q378)","v":0},{"$f":"+SUM(R361:R378)-SUMIF($A361:$A378,\"A\",R361:R378)","v":0},{"$f":"+SUM(S361:S378)-SUMIF($A361:$A378,\"A\",S361:S378)","v":0},{"$f":"+SUM(T361:T378)-SUMIF($A361:$A378,\"A\",T361:T378)","v":0},0,0,0,{"$f":"+SUM(R379:W379)","v":0},{"$f":"+SUM(Y361:Y378)","v":0},{"$f":"+SUM(Z361:Z378)-SUMIF($A361:$A378,\"A\",Z361:Z378)","v":0},{"$f":"+SUM(AA361:AA378)","v":0},{"$f":"+SUM(AB361:AB378)-SUMIF($A361:$A378,\"A\",AB361:AB378)","v":0},{"$f":"IF($C358=\"\",\"\",IF(AND(R382=\"√\",AD379=18),\"√\",\"Er\"))","v":""},{"$f":"+SUM(AD361:AD378)","v":18},null,null,null,null,null,null,null,null,null,null,null,null,null,null,null,{"$f":"+Y379","v":0},null,null,null,{"$f":"+IF(AX357>0,AX360+1,0)","v":0}]
[null,null,null,null,null,null,null,null,"Total de lecciones aprobadas:",null,null,{"$f":"+IF(C358=\"\",\"\",VLOOKUP($A357,'hoja de cálculo'!$A$17:$AJ$321,31,0))","v":""},{"$f":"+IF(C358=\"\",\"\",VLOOKUP($A357,'hoja de cálculo'!$A$17:$AJ$321,32,0))","v":""},{"$f":"+IF(C358=\"\",\"\",VLOOKUP($A357,'hoja de cálculo'!$A$17:$AJ$321,33,0))","v":""},{"$f":"+IF(C358=\"\",\"\",VLOOKUP($A357,'hoja de cálculo'!$A$17:$AJ$321,34,0))","v":""},{"$f":"+IF(C358=\"\",\"\",VLOOKUP($A357,'hoja de cálculo'!$A$17:$AJ$321,35,0))","v":""},{"$f":"+IF(C358=\"\",\"\",VLOOKUP($A357,'hoja de cálculo'!$A$17:$AJ$321,36,0))","v":""},{"$f":"+SUM(L380:Q380)","v":0},null,null,null,null,null,null,null,null,null,null,null,null,null,null,null,null,null,null,null,null,null,null,null,null,null,null,null,null,null,null,null,{"$f":"+IF(AX379>0,AX379+1,0)","v":0}]
[null,null,null,null,null,null,null,null,"Total de secciones",null,"Control:",{"$f":"+IF(C358=\"\",\"\",VLOOKUP($A357,'hoja de cálculo'!$A$17:$AQ$321,38,0))","v":""},{"$f":"+IF(C358=\"\",\"\",VLOOKUP($A357,'hoja de cálculo'!$A$17:$AQ$321,39,0))","v":""},{"$f":"+IF(C358=\"\",\"\",VLOOKUP($A357,'hoja de cálculo'!$A$17:$AQ$321,40,0))","v":""},{"$f":"+IF(C358=\"\",\"\",VLOOKUP($A357,'hoja de cálculo'!$A$17:$AQ$321,41,0))","v":""},{"$f":"+IF(C358=\"\",\"\",VLOOKUP($A357,'hoja de cálculo'!$A$17:$AQ$321,42,0))","v":""},{"$f":"+IF(C358=\"\",\"\",VLOOKUP($A357,'hoja de cálculo'!$A$17:$AQ$321,43,0))","v":""},{"$f":"+SUM(L381:Q381)","v":0},null,null,null,null,null,null,null,null,null,null,null,null,null,null,null,null,null,null,null,null,null,null,null,null,null,null,null,null,null,null,null,0]
[null,null,null,null,null,null,null,null,"Control 2",null,"Control:",{"$f":"IF(L380=\"\",\"\",IF(L379>L380,\"E\",IF(L379<L380,\"S\",\"√\")))","v":""},{"$f":"IF(M380=\"\",\"\",IF(M379>M380,\"E\",IF(M379<M380,\"S\",\"√\")))","v":""},"","","","",{"$f":"IF($C338=\"\",\"\",IF(AND(L382=\"√\",M382=\"√\",N382=\"√\",O382=\"√\",P382=\"√\",Q382=\"√\"),\"√\",\"Error\"))","v":"Error"},null,null,null,null,null,null,null,null,null,null,null,null,null,null,null,null,null,null,null,null,null,null,null,null,null,null,null,null,null,{"$f":"+IF(OR(B382=\"\",B382=\"Lecciones de TIE asignadas -√-\"),1,0)","v":1},null,0]
[null,null,null,null,null,null,null,null,"Plan de Estudios",null,"Control:",{"$f":"+IF(C358=\"\",\"\",VLOOKUP($A357,'hoja de cálculo'!$A$17:$BD$321,51,0))","v":""},{"$f":"+IF(C358=\"\",\"\",VLOOKUP($A357,'hoja de cálculo'!$A$17:$BD$321,52,0))","v":""},{"$f":"+IF(C358=\"\",\"\",VLOOKUP($A357,'hoja de cálculo'!$A$17:$BD$321,53,0))","v":""},{"$f":"+IF(C358=\"\",\"\",VLOOKUP($A357,'hoja de cálculo'!$A$17:$BD$321,54,0))","v":""},{"$f":"+IF(C358=\"\",\"\",VLOOKUP($A357,'hoja de cálculo'!$A$17:$BD$321,55,0))","v":""},{"$f":"+IF(C358=\"\",\"\",VLOOKUP($A357,'hoja de cálculo'!$A$17:$BD$321,56,0))","v":""},null,null,null,null,null,null,null,null,null,null,null,null,null,null,null,null,null,null,null,null,null,null,null,null,null,null,null,{"$f":"+IF(AB383<0,-AB383,0)","v":0},null,null,null,null,0]
[null,null,null,"Observaciones:",{"$f":"+IF(OR(C358=\"Lecciones Labor@ Diurnas\",C358=\"Lecciones Labor@ Nocturno\"),\"Recuerde generar el informe de labores de lecciones Labor@\",\"\")","v":""},null,null,null,null,null,null,null,null,null,null,null,null,null,null,null,null,null,null,null,null,null,null,null,null,null,null,null,null,null,null,null,null,null,null,null,null,null,null,null,null,null,null,null,null,0]
[null,null,null,null,null,null,null,null,null,null,null,null,null,null,null,null,null,null,null,null,null,null,null,null,null,null,null,null,null,null,null,null,null,null,null,null,null,null,null,null,null,null,null,null,null,null,null,null,null,0]
[null,null,null,null,null,null,null,null,null,null,null,null,null,null,null,null,null,null,null,null,null,null,null,null,null,null,null,null,null,null,null,null,null,null,null,null,null,null,null,null,null,null,null,null,null,null,null,null,null,0]
[null,null,null,null,null,null,null,null,null,null,null,null,null,null,null,null,null,null,null,null,null,null,null,null,null,null,null,null,null,null,null,null,null,null,null,null,null,null,null,null,null,null,null,null,null,null,null,null,null,0]
[null,null,null,null,null,null,null,null,null,null,null,null,null,null,null,null,null,null,null,null,null,null,null,null,null,null,"Hoja de Cálculo",null,null,null,null,null,null,null,null,null,null,null,null,null,null,null,null,null,null,null,null,null,null,0]
[null,null,null,null,null,null,null,null,null,null,null,null,null,null,null,null,null,null,null,null,null,null,null,null,null,null,null,null,null,null,null,null,null,null,null,null,null,null,null,null,null,null,null,null,null,null,null,null,null,0]
[null,null,{"$f":"+\"Declaración Jurada: El suscrito Director \"&$D$4245&\" del \"&$E$12&\", código \"&Información!$E$11&\", hace constar que los datos consignados en éste formulario son veraces y responden al estado real de ésta institución.\"&\" Cualquier inexactitud o falsedad estaré incurriendo en las responsabilidades administrativas y disciplinarias, sin perjuicio de las acciones civiles.\"","v":"Declaración Jurada: El suscrito Director  del , código , hace constar que los datos consignados en éste formulario son veraces y responden al estado real de ésta institución. Cualquier inexactitud o falsedad estaré incurriendo en las responsabilidades administrativas y disciplinarias, sin perjuicio de las acciones civiles."},null,null,null,null,null,null,null,null,null,null,null,null,null,null,null,null,null,null,null,null,null,null,null,null,null,null,null,null,null,null,null,null,null,null,null,null,null,null,null,null,null,null,null,null,null,null,0]
[null,null,null,null,null,null,null,null,null,null,null,null,null,null,null,null,null,null,null,null,null,null,null,null,null,null,null,null,null,null,null,null,null,null,null,null,null,null,null,null,null,null,null,null,null,null,null,null,null,0]
[{"$f":"+A357+1","v":11},{"$f":"IFERROR(VLOOKUP(A392,'hoja de cálculo'!$A$22:'hoja de cálculo'!$C$321,3,0),\"\")","v":""},null,null,null,null,null,null,null,null,null,null,null,null,null,null,null,null,null,null,null,null,null,null,null,null,null,null,null,null,null,null,null,null,null,null,null,null,null,null,null,null,null,null,null,null,null,null,null,{"$f":"+IF(B392=\"\",0,1)","v":0}]
["Ausente","Sustituto",{"$f":"IFERROR(VLOOKUP(A392,'hoja de cálculo'!$A$7:'hoja de cálculo'!$H$321,8,0),\"\")","v":""},null,null,null,null,null,null,null,null,null,null,null,null,null,null,null,null,null,null,null,null,null,null,null,null,null,"Cont. 1",null,null,null,null,null,null,null,null,null,null,null,null,null,null,null,null,null,null,null,null,{"$f":"+IF(AX392>0,AX392+1,0)","v":0}]
[null,null,"Nº","Nombre del servidor",null,null,null,"Nº de cédula","Grupo Prof.","Especialidad",null,"Nivel",null,null,null,null,null,"Sub- Total","Leccs. Co-curriculares",null,null,null,null,"Sub- Total","Pl","Total Leccs.","Nº de leccs.",null,null,null,null,null,null,null,null,null,null,null,null,null,null,null,null,null,null,null,null,null,null,0]
[null,null,null,null,null,null,null,null,null,null,null,"7º","8º","9º","10º","11º","12º",null,null,null,null,null,null,null,null,null,"Prop.","Ints.",null,null,null,{"$f":"+IF($AF$24=0,0,SUMIF($S395:$W395,$AF$24,$S414:$W414))","v":0},{"$f":"+IF($AG$24=0,0,SUMIF($S395:$W395,$AG$24,$S414:$W414))","v":0},{"$f":"+IF($AH$24=0,0,SUMIF($S395:$W395,$AH$24,$S414:$W414))","v":0},{"$f":"+IF($AI$24=0,0,SUMIF($S395:$W395,$AI$24,$S414:$W414))","v":0},{"$f":"+IF($AJ$24=0,0,SUMIF($S395:$W395,$AJ$24,$S414:$W414))","v":0},{"$f":"+IF($AK$24=0,0,SUMIF($S395:$W395,$AK$24,$S414:$W414))","v":0},{"$f":"+IF($AL$24=0,0,SUMIF($S395:$W395,$AL$24,$S414:$W414))","v":0},{"$f":"+IF($AM$24=0,0,SUMIF($S395:$W395,$AM$24,$S414:$W414))","v":0},{"$f":"+IF($AN$24=0,0,SUMIF($S395:$W395,$AN$24,$S414:$W414))","v":0},{"$f":"+IF($AO$24=0,0,SUMIF($S395:$W395,$AO$24,$S414:$W414))","v":0},{"$f":"+IF($AP$24=0,0,SUMIF($S395:$W395,$AP$24,$S414:$W414))","v":0},{"$f":"+IF($AQ$24=0,0,SUMIF($S395:$W395,$AQ$24,$S414:$W414))","v":0},null,null,null,null,null,null,0]
[null,null,1,null,null,null,null,null,null,null,null,null,null,null,null,null,null,{"$f":"+SUM(L396:Q396)","v":0},null,null,null,null,null,{"$f":"+SUM(R396:W396)","v":0},{"$f":"IF(X396=0,0,IF(X396>48,\"E\",IF(X396<44,0,IF(A396=\"A\",0,48-X396))))","v":0},{"$f":"+IF(Y396=\"E\",\"E\",(X396+Y396))","v":0},null,{"$f":"+IF(Z396=\"E\",\"E\",(Z396-AA396))","v":0},{"$f":"IF(A396=\"A\",\"√\",IF(Z396>48,\"E\",\"√\"))","v":"√"},{"$f":"+IF(AC396=\"√\",1,0)","v":1},null,null,null,null,null,null,null,null,null,null,null,null,null,null,null,null,null,null,null,{"$f":"+IF(OR(AA396+AB396>0,D396<>0,H396<>0,I396<>0,J396<>0),AX395+1,0)","v":0}]
[null,null,2,null,null,null,null,null,null,null,null,null,null,null,null,null,null,0,null,null,null,null,null,0,0,0,null,0,{"$f":"IF(A397=\"A\",\"√\",IF(Z397>48,\"E\",\"√\"))","v":"√"},1,null,null,null,null,null,null,null,null,null,null,null,null,null,null,null,null,null,null,null,0]
[null,null,3,null,null,null,null,null,null,null,null,null,null,null,null,null,null,0,null,null,null,null,null,0,0,0,null,0,"√",1,null,null,null,null,null,null,null,null,null,null,null,null,null,null,null,null,null,null,null,0]
[null,null,4,null,null,null,null,null,null,null,null,null,null,null,null,null,null,0,null,null,null,null,null,0,0,0,null,0,"√",1,null,null,null,null,null,null,null,null,null,null,null,null,null,null,null,null,null,null,null,0]
[null,null,5,null,null,null,null,null,null,null,null,null,null,null,null,null,null,0,null,null,null,null,null,0,0,0,null,0,"√",1,null,null,null,null,null,null,null,null,null,null,null,null,null,null,null,null,null,null,null,0]
[null,null,6,null,null,null,null,null,null,null,null,null,null,null,null,null,null,0,null,null,null,null,null,0,0,0,null,0,"√",1,null,null,null,null,null,null,null,null,null,null,null,null,null,null,null,null,null,null,null,0]
[null,null,7,null,null,null,null,null,null,null,null,null,null,null,null,null,null,0,null,null,null,null,null,0,0,0,null,0,"√",1,null,null,null,null,null,null,null,null,null,null,null,null,null,null,null,null,null,null,null,0]
[null,null,8,null,null,null,null,null,null,null,null,null,null,null,null,null,null,0,null,null,null,null,null,0,0,0,null,0,"√",1,null,null,null,null,null,null,null,null,null,null,null,null,null,null,null,null,null,null,null,0]
[null,null,9,null,null,null,null,null,null,null,null,null,null,null,null,null,null,0,null,null,null,null,null,0,0,0,null,0,"√",1,null,null,null,null,null,null,null,null,null,null,null,null,null,null,null,null,null,null,null,0]
[null,null,10,null,null,null,null,null,null,null,null,null,null,null,null,null,null,0,null,null,null,null,null,0,0,0,null,0,"√",1,null,null,null,null,null,null,null,null,null,null,null,null,null,null,null,null,null,null,null,0]
[null,null,11,null,null,null,null,null,null,null,null,null,null,null,null,null,null,0,null,null,null,null,null,0,0,0,null,0,"√",1,null,null,null,null,null,null,null,null,null,null,null,null,null,null,null,null,null,null,null,0]
[null,null,12,null,null,null,null,null,null,null,null,null,null,null,null,null,null,0,null,null,null,null,null,0,0,0,null,0,"√",1,null,null,null,null,null,null,null,null,null,null,null,null,null,null,null,null,null,null,null,0]
[null,null,13,null,null,null,null,null,null,null,null,null,null,null,null,null,null,0,null,null,null,null,null,0,0,0,null,0,"√",1,null,null,null,null,null,null,null,null,null,null,null,null,null,null,null,null,null,null,null,0]
[null,null,14,null,null,null,null,null,null,null,null,null,null,null,null,null,null,0,null,null,null,null,null,0,0,0,null,0,"√",1,null,null,null,null,null,null,null,null,null,null,null,null,null,null,null,null,null,null,null,0]
[null,null,15,null,null,null,null,null,null,null,null,null,null,null,null,null,null,0,null,null,null,null,null,0,0,0,null,0,"√",1,null,null,null,null,null,null,null,null,null,null,null,null,null,null,null,null,null,null,null,0]
[null,null,16,null,null,null,null,null,null,null,null,null,null,null,null,null,null,0,null,null,null,null,null,0,0,0,null,0,"√",1,null,null,null,null,null,null,null,null,null,null,null,null,null,null,null,null,null,null,null,0]
[null,null,17,null,null,null,null,null,null,null,null,null,null,null,null,null,null,0,null,null,null,null,null,0,0,0,null,0,"√",1,null,null,null,null,null,null,null,null,null,null,null,null,null,null,null,null,null,null,null,0]
[null,null,18,null,null,null,null,null,null,null,null,null,null,null,null,null,null,0,null,null,null,null,null,0,0,0,null,0,"√",1,null,null,null,null,null,null,null,null,null,null,null,null,null,null,null,null,null,null,null,0]
[null,null,null,null,null,null,null,null,"Total de lecciones asignadas:",null,null,{"$f":"+SUM(L396:L413)-SUMIF($A396:$A413,\"A\",L396:L413)","v":0},{"$f":"+SUM(M396:M413)-SUMIF($A396:$A413,\"A\",M396:M413)","v":0},0,0,{"$f":"+SUM(P396:P413)-SUMIF($A396:$A413,\"A\",P396:P413)","v":0},{"$f":"+SUM(Q396:Q413)-SUMIF($A396:$A413,\"A\",Q396:Q413)","v":0},{"$f":"+SUM(R396:R413)-SUMIF($A396:$A413,\"A\",R396:R413)","v":0},{"$f":"+SUM(S396:S413)-SUMIF($A396:$A413,\"A\",S396:S413)","v":0},{"$f":"+SUM(T396:T413)-SUMIF($A396:$A413,\"A\",T396:T413)","v":0},0,0,0,{"$f":"+SUM(R414:W414)","v":0},{"$f":"+SUM(Y396:Y413)","v":0},{"$f":"+SUM(Z396:Z413)-SUMIF($A396:$A413,\"A\",Z396:Z413)","v":0},{"$f":"+SUM(AA396:AA413)","v":0},{"$f":"+SUM(AB396:AB413)-SUMIF($A396:$A413,\"A\",AB396:AB413)","v":0},{"$f":"IF($C393=\"\",\"\",IF(AND(R417=\"√\",AD414=18),\"√\",\"Er\"))","v":""},{"$f":"+SUM(AD396:AD413)","v":18},null,null,null,null,null,null,null,null,null,null,null,null,null,null,null,{"$f":"+Y414","v":0},null,null,null,{"$f":"+IF(AX392>0,AX395+1,0)","v":0}]
[null,null,null,null,null,null,null,null,"Total de lecciones aprobadas:",null,null,{"$f":"+IF(C393=\"\",\"\",VLOOKUP($A392,'hoja de cálculo'!$A$17:$AJ$321,31,0))","v":""},{"$f":"+IF(C393=\"\",\"\",VLOOKUP($A392,'hoja de cálculo'!$A$17:$AJ$321,32,0))","v":""},{"$f":"+IF(C393=\"\",\"\",VLOOKUP($A392,'hoja de cálculo'!$A$17:$AJ$321,33,0))","v":""},{"$f":"+IF(C393=\"\",\"\",VLOOKUP($A392,'hoja de cálculo'!$A$17:$AJ$321,34,0))","v":""},{"$f":"+IF(C393=\"\",\"\",VLOOKUP($A392,'hoja de cálculo'!$A$17:$AJ$321,35,0))","v":""},{"$f":"+IF(C393=\"\",\"\",VLOOKUP($A392,'hoja de cálculo'!$A$17:$AJ$321,36,0))","v":""},{"$f":"+SUM(L415:Q415)","v":0},null,null,null,null,null,null,null,null,null,null,null,null,null,null,null,null,null,null,null,null,null,null,null,null,null,null,null,null,null,null,null,{"$f":"+IF(AX414>0,AX414+1,0)","v":0}]
[null,null,null,null,null,null,null,null,"Total de secciones",null,"Control:",{"$f":"+IF(C393=\"\",\"\",VLOOKUP($A392,'hoja de cálculo'!$A$17:$AQ$321,38,0))","v":""},{"$f":"+IF(C393=\"\",\"\",VLOOKUP($A392,'hoja de cálculo'!$A$17:$AQ$321,39,0))","v":""},{"$f":"+IF(C393=\"\",\"\",VLOOKUP($A392,'hoja de cálculo'!$A$17:$AQ$321,40,0))","v":""},{"$f":"+IF(C393=\"\",\"\",VLOOKUP($A392,'hoja de cálculo'!$A$17:$AQ$321,41,0))","v":""},{"$f":"+IF(C393=\"\",\"\",VLOOKUP($A392,'hoja de cálculo'!$A$17:$AQ$321,42,0))","v":""},{"$f":"+IF(C393=\"\",\"\",VLOOKUP($A392,'hoja de cálculo'!$A$17:$AQ$321,43,0))","v":""},{"$f":"+SUM(L416:Q416)","v":0},null,null,null,null,null,null,null,null,null,null,null,null,null,null,null,null,null,null,null,null,null,null,null,null,null,null,null,null,null,null,null,0]
[null,null,null,null,null,null,null,null,"Control 2",null,"Control:",{"$f":"IF(L415=\"\",\"\",IF(L414>L415,\"E\",IF(L414<L415,\"S\",\"√\")))","v":""},{"$f":"IF(M415=\"\",\"\",IF(M414>M415,\"E\",IF(M414<M415,\"S\",\"√\")))","v":""},"","","","",{"$f":"IF($C373=\"\",\"\",IF(AND(L417=\"√\",M417=\"√\",N417=\"√\",O417=\"√\",P417=\"√\",Q417=\"√\"),\"√\",\"Error\"))","v":"Error"},null,null,null,null,null,null,null,null,null,null,null,null,null,null,null,null,null,null,null,null,null,null,null,null,null,null,null,null,null,{"$f":"+IF(OR(B417=\"\",B417=\"Lecciones de TIE asignadas -√-\"),1,0)","v":1},null,0]
[null,null,null,null,null,null,null,null,"Plan de Estudios",null,"Control:",{"$f":"+IF(C393=\"\",\"\",VLOOKUP($A392,'hoja de cálculo'!$A$17:$BD$321,51,0))","v":""},{"$f":"+IF(C393=\"\",\"\",VLOOKUP($A392,'hoja de cálculo'!$A$17:$BD$321,52,0))","v":""},{"$f":"+IF(C393=\"\",\"\",VLOOKUP($A392,'hoja de cálculo'!$A$17:$BD$321,53,0))","v":""},{"$f":"+IF(C393=\"\",\"\",VLOOKUP($A392,'hoja de cálculo'!$A$17:$BD$321,54,0))","v":""},{"$f":"+IF(C393=\"\",\"\",VLOOKUP($A392,'hoja de cálculo'!$A$17:$BD$321,55,0))","v":""},{"$f":"+IF(C393=\"\",\"\",VLOOKUP($A392,'hoja de cálculo'!$A$17:$BD$321,56,0))","v":""},null,null,null,null,null,null,null,null,null,null,null,null,null,null,null,null,null,null,null,null,null,null,null,null,null,null,null,{"$f":"+IF(AB418<0,-AB418,0)","v":0},null,null,null,null,0]
[null,null,null,"Observaciones:",{"$f":"+IF(OR(C393=\"Lecciones Labor@ Diurnas\",C393=\"Lecciones Labor@ Nocturno\"),\"Recuerde generar el informe de labores de lecciones Labor@\",\"\")","v":""},null,null,null,null,null,null,null,null,null,null,null,null,null,null,null,null,null,null,null,null,null,null,null,null,null,null,null,null,null,null,null,null,null,null,null,null,null,null,null,null,null,null,null,null,0]
[null,null,null,null,null,null,null,null,null,null,null,null,null,null,null,null,null,null,null,null,null,null,null,null,null,null,null,null,null,null,null,null,null,null,null,null,null,null,null,null,null,null,null,null,null,null,null,null,null,0]
[null,null,null,null,null,null,null,null,null,null,null,null,null,null,null,null,null,null,null,null,null,null,null,null,null,null,null,null,null,null,null,null,null,null,null,null,null,null,null,null,null,null,null,null,null,null,null,null,null,0]
[null,null,null,null,null,null,null,null,null,null,null,null,null,null,null,null,null,null,null,null,null,null,null,null,null,null,null,null,null,null,null,null,null,null,null,null,null,null,null,null,null,null,null,null,null,null,null,null,null,0]
[null,null,null,null,null,null,null,null,null,null,null,null,null,null,null,null,null,null,null,null,null,null,null,null,null,null,"Hoja de Cálculo",null,null,null,null,null,null,null,null,null,null,null,null,null,null,null,null,null,null,null,null,null,null,0]
[null,null,null,null,null,null,null,null,null,null,null,null,null,null,null,null,null,null,null,null,null,null,null,null,null,null,null,null,null,null,null,null,null,null,null,null,null,null,null,null,null,null,null,null,null,null,null,null,null,0]
[null,null,{"$f":"+\"Declaración Jurada: El suscrito Director \"&$D$4245&\" del \"&$E$12&\", código \"&Información!$E$11&\", hace constar que los datos consignados en éste formulario son veraces y responden al estado real de ésta institución.\"&\" Cualquier inexactitud o falsedad estaré incurriendo en las responsabilidades administrativas y disciplinarias, sin perjuicio de las acciones civiles.\"","v":"Declaración Jurada: El suscrito Director  del , código , hace constar que los datos consignados en éste formulario son veraces y responden al estado real de ésta institución. Cualquier inexactitud o falsedad estaré incurriendo en las responsabilidades administrativas y disciplinarias, sin perjuicio de las acciones civiles."},null,null,null,null,null,null,null,null,null,null,null,null,null,null,null,null,null,null,null,null,null,null,null,null,null,null,null,null,null,null,null,null,null,null,null,null,null,null,null,null,null,null,null,null,null,null,0]
[null,null,null,null,null,null,null,null,null,null,null,null,null,null,null,null,null,null,null,null,null,null,null,null,null,null,null,null,null,null,null,null,null,null,null,null,null,null,null,null,null,null,null,null,null,null,null,null,null,0]
[{"$f":"+A392+1","v":12},{"$f":"IFERROR(VLOOKUP(A427,'hoja de cálculo'!$A$22:'hoja de cálculo'!$C$321,3,0),\"\")","v":""},null,null,null,null,null,null,null,null,null,null,null,null,null,null,null,null,null,null,null,null,null,null,null,null,null,null,null,null,null,null,null,null,null,null,null,null,null,null,null,null,null,null,null,null,null,null,null,{"$f":"+IF(B427=\"\",0,1)","v":0}]
["Ausente","Sustituto",{"$f":"IFERROR(VLOOKUP(A427,'hoja de cálculo'!$A$7:'hoja de cálculo'!$H$321,8,0),\"\")","v":""},null,null,null,null,null,null,null,null,null,null,null,null,null,null,null,null,null,null,null,null,null,null,null,null,null,"Cont. 1",null,null,null,null,null,null,null,null,null,null,null,null,null,null,null,null,null,null,null,null,{"$f":"+IF(AX427>0,AX427+1,0)","v":0}]
[null,null,"Nº","Nombre del servidor",null,null,null,"Nº de cédula","Grupo Prof.","Especialidad",null,"Nivel",null,null,null,null,null,"Sub- Total","Leccs. Co-curriculares",null,null,null,null,"Sub- Total","Pl","Total Leccs.","Nº de leccs.",null,null,null,null,null,null,null,null,null,null,null,null,null,null,null,null,null,null,null,null,null,null,0]
[null,null,null,null,null,null,null,null,null,null,null,"7º","8º","9º","10º","11º","12º",null,null,null,null,null,null,null,null,null,"Prop.","Ints.",null,null,null,{"$f":"+IF($AF$24=0,0,SUMIF($S430:$W430,$AF$24,$S449:$W449))","v":0},{"$f":"+IF($AG$24=0,0,SUMIF($S430:$W430,$AG$24,$S449:$W449))","v":0},{"$f":"+IF($AH$24=0,0,SUMIF($S430:$W430,$AH$24,$S449:$W449))","v":0},{"$f":"+IF($AI$24=0,0,SUMIF($S430:$W430,$AI$24,$S449:$W449))","v":0},{"$f":"+IF($AJ$24=0,0,SUMIF($S430:$W430,$AJ$24,$S449:$W449))","v":0},{"$f":"+IF($AK$24=0,0,SUMIF($S430:$W430,$AK$24,$S449:$W449))","v":0},{"$f":"+IF($AL$24=0,0,SUMIF($S430:$W430,$AL$24,$S449:$W449))","v":0},{"$f":"+IF($AM$24=0,0,SUMIF($S430:$W430,$AM$24,$S449:$W449))","v":0},{"$f":"+IF($AN$24=0,0,SUMIF($S430:$W430,$AN$24,$S449:$W449))","v":0},{"$f":"+IF($AO$24=0,0,SUMIF($S430:$W430,$AO$24,$S449:$W449))","v":0},{"$f":"+IF($AP$24=0,0,SUMIF($S430:$W430,$AP$24,$S449:$W449))","v":0},{"$f":"+IF($AQ$24=0,0,SUMIF($S430:$W430,$AQ$24,$S449:$W449))","v":0},null,null,null,null,null,null,0]
[null,null,1,null,null,null,null,null,null,null,null,null,null,null,null,null,null,{"$f":"+SUM(L431:Q431)","v":0},null,null,null,null,null,{"$f":"+SUM(R431:W431)","v":0},{"$f":"IF(X431=0,0,IF(X431>48,\"E\",IF(X431<44,0,IF(A431=\"A\",0,48-X431))))","v":0},{"$f":"+IF(Y431=\"E\",\"E\",(X431+Y431))","v":0},null,{"$f":"+IF(Z431=\"E\",\"E\",(Z431-AA431))","v":0},{"$f":"IF(A431=\"A\",\"√\",IF(Z431>48,\"E\",\"√\"))","v":"√"},{"$f":"+IF(AC431=\"√\",1,0)","v":1},null,null,null,null,null,null,null,null,null,null,null,null,null,null,null,null,null,null,null,{"$f":"+IF(OR(AA431+AB431>0,D431<>0,H431<>0,I431<>0,J431<>0),AX430+1,0)","v":0}]
[null,null,2,null,null,null,null,null,null,null,null,null,null,null,null,null,null,0,null,null,null,null,null,0,0,0,null,0,{"$f":"IF(A432=\"A\",\"√\",IF(Z432>48,\"E\",\"√\"))","v":"√"},1,null,null,null,null,null,null,null,null,null,null,null,null,null,null,null,null,null,null,null,0]
[null,null,3,null,null,null,null,null,null,null,null,null,null,null,null,null,null,0,null,null,null,null,null,0,0,0,null,0,"√",1,null,null,null,null,null,null,null,null,null,null,null,null,null,null,null,null,null,null,null,0]
[null,null,4,null,null,null,null,null,null,null,null,null,null,null,null,null,null,0,null,null,null,null,null,0,0,0,null,0,"√",1,null,null,null,null,null,null,null,null,null,null,null,null,null,null,null,null,null,null,null,0]
[null,null,5,null,null,null,null,null,null,null,null,null,null,null,null,null,null,0,null,null,null,null,null,0,0,0,null,0,"√",1,null,null,null,null,null,null,null,null,null,null,null,null,null,null,null,null,null,null,null,0]
[null,null,6,null,null,null,null,null,null,null,null,null,null,null,null,null,null,0,null,null,null,null,null,0,0,0,null,0,"√",1,null,null,null,null,null,null,null,null,null,null,null,null,null,null,null,null,null,null,null,0]
[null,null,7,null,null,null,null,null,null,null,null,null,null,null,null,null,null,0,null,null,null,null,null,0,0,0,null,0,"√",1,null,null,null,null,null,null,null,null,null,null,null,null,null,null,null,null,null,null,null,0]
[null,null,8,null,null,null,null,null,null,null,null,null,null,null,null,null,null,0,null,null,null,null,null,0,0,0,null,0,"√",1,null,null,null,null,null,null,null,null,null,null,null,null,null,null,null,null,null,null,null,0]
[null,null,9,null,null,null,null,null,null,null,null,null,null,null,null,null,null,0,null,null,null,null,null,0,0,0,null,0,"√",1,null,null,null,null,null,null,null,null,null,null,null,null,null,null,null,null,null,null,null,0]
[null,null,10,null,null,null,null,null,null,null,null,null,null,null,null,null,null,0,null,null,null,null,null,0,0,0,null,0,"√",1,null,null,null,null,null,null,null,null,null,null,null,null,null,null,null,null,null,null,null,0]
[null,null,11,null,null,null,null,null,null,null,null,null,null,null,null,null,null,0,null,null,null,null,null,0,0,0,null,0,"√",1,null,null,null,null,null,null,null,null,null,null,null,null,null,null,null,null,null,null,null,0]
[null,null,12,null,null,null,null,null,null,null,null,null,null,null,null,null,null,0,null,null,null,null,null,0,0,0,null,0,"√",1,null,null,null,null,null,null,null,null,null,null,null,null,null,null,null,null,null,null,null,0]
[null,null,13,null,null,null,null,null,null,null,null,null,null,null,null,null,null,0,null,null,null,null,null,0,0,0,null,0,"√",1,null,null,null,null,null,null,null,null,null,null,null,null,null,null,null,null,null,null,null,0]
[null,null,14,null,null,null,null,null,null,null,null,null,null,null,null,null,null,0,null,null,null,null,null,0,0,0,null,0,"√",1,null,null,null,null,null,null,null,null,null,null,null,null,null,null,null,null,null,null,null,0]
[null,null,15,null,null,null,null,null,null,null,null,null,null,null,null,null,null,0,null,null,null,null,null,0,0,0,null,0,"√",1,null,null,null,null,null,null,null,null,null,null,null,null,null,null,null,null,null,null,null,0]
[null,null,16,null,null,null,null,null,null,null,null,null,null,null,null,null,null,0,null,null,null,null,null,0,0,0,null,0,"√",1,null,null,null,null,null,null,null,null,null,null,null,null,null,null,null,null,null,null,null,0]
[null,null,17,null,null,null,null,null,null,null,null,null,null,null,null,null,null,0,null,null,null,null,null,0,0,0,null,0,"√",1,null,null,null,null,null,null,null,null,null,null,null,null,null,null,null,null,null,null,null,0]
[null,null,18,null,null,null,null,null,null,null,null,null,null,null,null,null,null,0,null,null,null,null,null,0,0,0,null,0,"√",1,null,null,null,null,null,null,null,null,null,null,null,null,null,null,null,null,null,null,null,0]
[null,null,null,null,null,null,null,null,"Total de lecciones asignadas:",null,null,{"$f":"+SUM(L431:L448)-SUMIF($A431:$A448,\"A\",L431:L448)","v":0},{"$f":"+SUM(M431:M448)-SUMIF($A431:$A448,\"A\",M431:M448)","v":0},0,0,{"$f":"+SUM(P431:P448)-SUMIF($A431:$A448,\"A\",P431:P448)","v":0},{"$f":"+SUM(Q431:Q448)-SUMIF($A431:$A448,\"A\",Q431:Q448)","v":0},{"$f":"+SUM(R431:R448)-SUMIF($A431:$A448,\"A\",R431:R448)","v":0},{"$f":"+SUM(S431:S448)-SUMIF($A431:$A448,\"A\",S431:S448)","v":0},{"$f":"+SUM(T431:T448)-SUMIF($A431:$A448,\"A\",T431:T448)","v":0},0,0,0,{"$f":"+SUM(R449:W449)","v":0},{"$f":"+SUM(Y431:Y448)","v":0},{"$f":"+SUM(Z431:Z448)-SUMIF($A431:$A448,\"A\",Z431:Z448)","v":0},{"$f":"+SUM(AA431:AA448)","v":0},{"$f":"+SUM(AB431:AB448)-SUMIF($A431:$A448,\"A\",AB431:AB448)","v":0},{"$f":"IF($C428=\"\",\"\",IF(AND(R452=\"√\",AD449=18),\"√\",\"Er\"))","v":""},{"$f":"+SUM(AD431:AD448)","v":18},null,null,null,null,null,null,null,null,null,null,null,null,null,null,null,{"$f":"+Y449","v":0},null,null,null,{"$f":"+IF(AX427>0,AX430+1,0)","v":0}]
[null,null,null,null,null,null,null,null,"Total de lecciones aprobadas:",null,null,{"$f":"+IF(C428=\"\",\"\",VLOOKUP($A427,'hoja de cálculo'!$A$17:$AJ$321,31,0))","v":""},{"$f":"+IF(C428=\"\",\"\",VLOOKUP($A427,'hoja de cálculo'!$A$17:$AJ$321,32,0))","v":""},{"$f":"+IF(C428=\"\",\"\",VLOOKUP($A427,'hoja de cálculo'!$A$17:$AJ$321,33,0))","v":""},{"$f":"+IF(C428=\"\",\"\",VLOOKUP($A427,'hoja de cálculo'!$A$17:$AJ$321,34,0))","v":""},{"$f":"+IF(C428=\"\",\"\",VLOOKUP($A427,'hoja de cálculo'!$A$17:$AJ$321,35,0))","v":""},{"$f":"+IF(C428=\"\",\"\",VLOOKUP($A427,'hoja de cálculo'!$A$17:$AJ$321,36,0))","v":""},{"$f":"+SUM(L450:Q450)","v":0},null,null,null,null,null,null,null,null,null,null,null,null,null,null,null,null,null,null,null,null,null,null,null,null,null,null,null,null,null,null,null,{"$f":"+IF(AX449>0,AX449+1,0)","v":0}]
[null,null,null,null,null,null,null,null,"Total de secciones",null,"Control:",{"$f":"+IF(C428=\"\",\"\",VLOOKUP($A427,'hoja de cálculo'!$A$17:$AQ$321,38,0))","v":""},{"$f":"+IF(C428=\"\",\"\",VLOOKUP($A427,'hoja de cálculo'!$A$17:$AQ$321,39,0))","v":""},{"$f":"+IF(C428=\"\",\"\",VLOOKUP($A427,'hoja de cálculo'!$A$17:$AQ$321,40,0))","v":""},{"$f":"+IF(C428=\"\",\"\",VLOOKUP($A427,'hoja de cálculo'!$A$17:$AQ$321,41,0))","v":""},{"$f":"+IF(C428=\"\",\"\",VLOOKUP($A427,'hoja de cálculo'!$A$17:$AQ$321,42,0))","v":""},{"$f":"+IF(C428=\"\",\"\",VLOOKUP($A427,'hoja de cálculo'!$A$17:$AQ$321,43,0))","v":""},{"$f":"+SUM(L451:Q451)","v":0},null,null,null,null,null,null,null,null,null,null,null,null,null,null,null,null,null,null,null,null,null,null,null,null,null,null,null,null,null,null,null,0]
[null,null,null,null,null,null,null,null,"Control 2",null,"Control:",{"$f":"IF(L450=\"\",\"\",IF(L449>L450,\"E\",IF(L449<L450,\"S\",\"√\")))","v":""},{"$f":"IF(M450=\"\",\"\",IF(M449>M450,\"E\",IF(M449<M450,\"S\",\"√\")))","v":""},"","","","",{"$f":"IF($C408=\"\",\"\",IF(AND(L452=\"√\",M452=\"√\",N452=\"√\",O452=\"√\",P452=\"√\",Q452=\"√\"),\"√\",\"Error\"))","v":"Error"},null,null,null,null,null,null,null,null,null,null,null,null,null,null,null,null,null,null,null,null,null,null,null,null,null,null,null,null,null,{"$f":"+IF(OR(B452=\"\",B452=\"Lecciones de TIE asignadas -√-\"),1,0)","v":1},null,0]
[null,null,null,null,null,null,null,null,"Plan de Estudios",null,"Control:",{"$f":"+IF(C428=\"\",\"\",VLOOKUP($A427,'hoja de cálculo'!$A$17:$BD$321,51,0))","v":""},{"$f":"+IF(C428=\"\",\"\",VLOOKUP($A427,'hoja de cálculo'!$A$17:$BD$321,52,0))","v":""},{"$f":"+IF(C428=\"\",\"\",VLOOKUP($A427,'hoja de cálculo'!$A$17:$BD$321,53,0))","v":""},{"$f":"+IF(C428=\"\",\"\",VLOOKUP($A427,'hoja de cálculo'!$A$17:$BD$321,54,0))","v":""},{"$f":"+IF(C428=\"\",\"\",VLOOKUP($A427,'hoja de cálculo'!$A$17:$BD$321,55,0))","v":""},{"$f":"+IF(C428=\"\",\"\",VLOOKUP($A427,'hoja de cálculo'!$A$17:$BD$321,56,0))","v":""},null,null,null,null,null,null,null,null,null,null,null,null,null,null,null,null,null,null,null,null,null,null,null,null,null,null,null,{"$f":"+IF(AB453<0,-AB453,0)","v":0},null,null,null,null,0]
[null,null,null,"Observaciones:",{"$f":"+IF(OR(C428=\"Lecciones Labor@ Diurnas\",C428=\"Lecciones Labor@ Nocturno\"),\"Recuerde generar el informe de labores de lecciones Labor@\",\"\")","v":""},null,null,null,null,null,null,null,null,null,null,null,null,null,null,null,null,null,null,null,null,null,null,null,null,null,null,null,null,null,null,null,null,null,null,null,null,null,null,null,null,null,null,null,null,0]
[null,null,null,null,null,null,null,null,null,null,null,null,null,null,null,null,null,null,null,null,null,null,null,null,null,null,null,null,null,null,null,null,null,null,null,null,null,null,null,null,null,null,null,null,null,null,null,null,null,0]
[null,null,null,null,null,null,null,null,null,null,null,null,null,null,null,null,null,null,null,null,null,null,null,null,null,null,null,null,null,null,null,null,null,null,null,null,null,null,null,null,null,null,null,null,null,null,null,null,null,0]
[null,null,null,null,null,null,null,null,null,null,null,null,null,null,null,null,null,null,null,null,null,null,null,null,null,null,null,null,null,null,null,null,null,null,null,null,null,null,null,null,null,null,null,null,null,null,null,null,null,0]
[null,null,null,null,null,null,null,null,null,null,null,null,null,null,null,null,null,null,null,null,null,null,null,null,null,null,"Hoja de Cálculo",null,null,null,null,null,null,null,null,null,null,null,null,null,null,null,null,null,null,null,null,null,null,0]
[null,null,null,null,null,null,null,null,null,null,null,null,null,null,null,null,null,null,null,null,null,null,null,null,null,null,null,null,null,null,null,null,null,null,null,null,null,null,null,null,null,null,null,null,null,null,null,null,null,0]
[null,null,{"$f":"+\"Declaración Jurada: El suscrito Director \"&$D$4245&\" del \"&$E$12&\", código \"&Información!$E$11&\", hace constar que los datos consignados en éste formulario son veraces y responden al estado real de ésta institución.\"&\" Cualquier inexactitud o falsedad estaré incurriendo en las responsabilidades administrativas y disciplinarias, sin perjuicio de las acciones civiles.\"","v":"Declaración Jurada: El suscrito Director  del , código , hace constar que los datos consignados en éste formulario son veraces y responden al estado real de ésta institución. Cualquier inexactitud o falsedad estaré incurriendo en las responsabilidades administrativas y disciplinarias, sin perjuicio de las acciones civiles."},null,null,null,null,null,null,null,null,null,null,null,null,null,null,null,null,null,null,null,null,null,null,null,null,null,null,null,null,null,null,null,null,null,null,null,null,null,null,null,null,null,null,null,null,null,null,0]
[null,null,null,null,null,null,null,null,null,null,null,null,null,null,null,null,null,null,null,null,null,null,null,null,null,null,null,null,null,null,null,null,null,null,null,null,null,null,null,null,null,null,null,null,null,null,null,null,null,0]
[{"$f":"+A427+1","v":13},{"$f":"IFERROR(VLOOKUP(A462,'hoja de cálculo'!$A$22:'hoja de cálculo'!$C$321,3,0),\"\")","v":""},null,null,null,null,null,null,null,null,null,null,null,null,null,null,null,null,null,null,null,null,null,null,null,null,null,null,null,null,null,null,null,null,null,null,null,null,null,null,null,null,null,null,null,null,null,null,null,{"$f":"+IF(B462=\"\",0,1)","v":0}]
["Ausente","Sustituto",{"$f":"IFERROR(VLOOKUP(A462,'hoja de cálculo'!$A$7:'hoja de cálculo'!$H$321,8,0),\"\")","v":""},null,null,null,null,null,null,null,null,null,null,null,null,null,null,null,null,null,null,null,null,null,null,null,null,null,"Cont. 1",null,null,null,null,null,null,null,null,null,null,null,null,null,null,null,null,null,null,null,null,{"$f":"+IF(AX462>0,AX462+1,0)","v":0}]
[null,null,"Nº","Nombre del servidor",null,null,null,"Nº de cédula","Grupo Prof.","Especialidad",null,"Nivel",null,null,null,null,null,"Sub- Total","Leccs. Co-curriculares",null,null,null,null,"Sub- Total","Pl","Total Leccs.","Nº de leccs.",null,null,null,null,null,null,null,null,null,null,null,null,null,null,null,null,null,null,null,null,null,null,0]
[null,null,null,null,null,null,null,null,null,null,null,"7º","8º","9º","10º","11º","12º",null,null,null,null,null,null,null,null,null,"Prop.","Ints.",null,null,null,{"$f":"+IF($AF$24=0,0,SUMIF($S465:$W465,$AF$24,$S484:$W484))","v":0},{"$f":"+IF($AG$24=0,0,SUMIF($S465:$W465,$AG$24,$S484:$W484))","v":0},{"$f":"+IF($AH$24=0,0,SUMIF($S465:$W465,$AH$24,$S484:$W484))","v":0},{"$f":"+IF($AI$24=0,0,SUMIF($S465:$W465,$AI$24,$S484:$W484))","v":0},{"$f":"+IF($AJ$24=0,0,SUMIF($S465:$W465,$AJ$24,$S484:$W484))","v":0},{"$f":"+IF($AK$24=0,0,SUMIF($S465:$W465,$AK$24,$S484:$W484))","v":0},{"$f":"+IF($AL$24=0,0,SUMIF($S465:$W465,$AL$24,$S484:$W484))","v":0},{"$f":"+IF($AM$24=0,0,SUMIF($S465:$W465,$AM$24,$S484:$W484))","v":0},{"$f":"+IF($AN$24=0,0,SUMIF($S465:$W465,$AN$24,$S484:$W484))","v":0},{"$f":"+IF($AO$24=0,0,SUMIF($S465:$W465,$AO$24,$S484:$W484))","v":0},{"$f":"+IF($AP$24=0,0,SUMIF($S465:$W465,$AP$24,$S484:$W484))","v":0},{"$f":"+IF($AQ$24=0,0,SUMIF($S465:$W465,$AQ$24,$S484:$W484))","v":0},null,null,null,null,null,null,0]
[null,null,1,null,null,null,null,null,null,null,null,null,null,null,null,null,null,{"$f":"+SUM(L466:Q466)","v":0},null,null,null,null,null,{"$f":"+SUM(R466:W466)","v":0},{"$f":"IF(X466=0,0,IF(X466>48,\"E\",IF(X466<44,0,IF(A466=\"A\",0,48-X466))))","v":0},{"$f":"+IF(Y466=\"E\",\"E\",(X466+Y466))","v":0},null,{"$f":"+IF(Z466=\"E\",\"E\",(Z466-AA466))","v":0},{"$f":"IF(A466=\"A\",\"√\",IF(Z466>48,\"E\",\"√\"))","v":"√"},{"$f":"+IF(AC466=\"√\",1,0)","v":1},null,null,null,null,null,null,null,null,null,null,null,null,null,null,null,null,null,null,null,{"$f":"+IF(OR(AA466+AB466>0,D466<>0,H466<>0,I466<>0,J466<>0),AX465+1,0)","v":0}]
[null,null,2,null,null,null,null,null,null,null,null,null,null,null,null,null,null,0,null,null,null,null,null,0,0,0,null,0,{"$f":"IF(A467=\"A\",\"√\",IF(Z467>48,\"E\",\"√\"))","v":"√"},1,null,null,null,null,null,null,null,null,null,null,null,null,null,null,null,null,null,null,null,0]
[null,null,3,null,null,null,null,null,null,null,null,null,null,null,null,null,null,0,null,null,null,null,null,0,0,0,null,0,"√",1,null,null,null,null,null,null,null,null,null,null,null,null,null,null,null,null,null,null,null,0]
[null,null,4,null,null,null,null,null,null,null,null,null,null,null,null,null,null,0,null,null,null,null,null,0,0,0,null,0,"√",1,null,null,null,null,null,null,null,null,null,null,null,null,null,null,null,null,null,null,null,0]
[null,null,5,null,null,null,null,null,null,null,null,null,null,null,null,null,null,0,null,null,null,null,null,0,0,0,null,0,"√",1,null,null,null,null,null,null,null,null,null,null,null,null,null,null,null,null,null,null,null,0]
[null,null,6,null,null,null,null,null,null,null,null,null,null,null,null,null,null,0,null,null,null,null,null,0,0,0,null,0,"√",1,null,null,null,null,null,null,null,null,null,null,null,null,null,null,null,null,null,null,null,0]
[null,null,7,null,null,null,null,null,null,null,null,null,null,null,null,null,null,0,null,null,null,null,null,0,0,0,null,0,"√",1,null,null,null,null,null,null,null,null,null,null,null,null,null,null,null,null,null,null,null,0]
[null,null,8,null,null,null,null,null,null,null,null,null,null,null,null,null,null,0,null,null,null,null,null,0,0,0,null,0,"√",1,null,null,null,null,null,null,null,null,null,null,null,null,null,null,null,null,null,null,null,0]
[null,null,9,null,null,null,null,null,null,null,null,null,null,null,null,null,null,0,null,null,null,null,null,0,0,0,null,0,"√",1,null,null,null,null,null,null,null,null,null,null,null,null,null,null,null,null,null,null,null,0]
[null,null,10,null,null,null,null,null,null,null,null,null,null,null,null,null,null,0,null,null,null,null,null,0,0,0,null,0,"√",1,null,null,null,null,null,null,null,null,null,null,null,null,null,null,null,null,null,null,null,0]
[null,null,11,null,null,null,null,null,null,null,null,null,null,null,null,null,null,0,null,null,null,null,null,0,0,0,null,0,"√",1,null,null,null,null,null,null,null,null,null,null,null,null,null,null,null,null,null,null,null,0]
[null,null,12,null,null,null,null,null,null,null,null,null,null,null,null,null,null,0,null,null,null,null,null,0,0,0,null,0,"√",1,null,null,null,null,null,null,null,null,null,null,null,null,null,null,null,null,null,null,null,0]
[null,null,13,null,null,null,null,null,null,null,null,null,null,null,null,null,null,0,null,null,null,null,null,0,0,0,null,0,"√",1,null,null,null,null,null,null,null,null,null,null,null,null,null,null,null,null,null,null,null,0]
[null,null,14,null,null,null,null,null,null,null,null,null,null,null,null,null,null,0,null,null,null,null,null,0,0,0,null,0,"√",1,null,null,null,null,null,null,null,null,null,null,null,null,null,null,null,null,null,null,null,0]
[null,null,15,null,null,null,null,null,null,null,null,null,null,null,null,null,null,0,null,null,null,null,null,0,0,0,null,0,"√",1,null,null,null,null,null,null,null,null,null,null,null,null,null,null,null,null,null,null,null,0]
[null,null,16,null,null,null,null,null,null,null,null,null,null,null,null,null,null,0,null,null,null,null,null,0,0,0,null,0,"√",1,null,null,null,null,null,null,null,null,null,null,null,null,null,null,null,null,null,null,null,0]
[null,null,17,null,null,null,null,null,null,null,null,null,null,null,null,null,null,0,null,null,null,null,null,0,0,0,null,0,"√",1,null,null,null,null,null,null,null,null,null,null,null,null,null,null,null,null,null,null,null,0]
[null,null,18,null,null,null,null,null,null,null,null,null,null,null,null,null,null,0,null,null,null,null,null,0,0,0,null,0,"√",1,null,null,null,null,null,null,null,null,null,null,null,null,null,null,null,null,null,null,null,0]
[null,null,null,null,null,null,null,null,"Total de lecciones asignadas:",null,null,{"$f":"+SUM(L466:L483)-SUMIF($A466:$A483,\"A\",L466:L483)","v":0},{"$f":"+SUM(M466:M483)-SUMIF($A466:$A483,\"A\",M466:M483)","v":0},0,0,{"$f":"+SUM(P466:P483)-SUMIF($A466:$A483,\"A\",P466:P483)","v":0},{"$f":"+SUM(Q466:Q483)-SUMIF($A466:$A483,\"A\",Q466:Q483)","v":0},{"$f":"+SUM(R466:R483)-SUMIF($A466:$A483,\"A\",R466:R483)","v":0},{"$f":"+SUM(S466:S483)-SUMIF($A466:$A483,\"A\",S466:S483)","v":0},{"$f":"+SUM(T466:T483)-SUMIF($A466:$A483,\"A\",T466:T483)","v":0},0,0,0,{"$f":"+SUM(R484:W484)","v":0},{"$f":"+SUM(Y466:Y483)","v":0},{"$f":"+SUM(Z466:Z483)-SUMIF($A466:$A483,\"A\",Z466:Z483)","v":0},{"$f":"+SUM(AA466:AA483)","v":0},{"$f":"+SUM(AB466:AB483)-SUMIF($A466:$A483,\"A\",AB466:AB483)","v":0},{"$f":"IF($C463=\"\",\"\",IF(AND(R487=\"√\",AD484=18),\"√\",\"Er\"))","v":""},{"$f":"+SUM(AD466:AD483)","v":18},null,null,null,null,null,null,null,null,null,null,null,null,null,null,null,{"$f":"+Y484","v":0},null,null,null,{"$f":"+IF(AX462>0,AX465+1,0)","v":0}]
[null,null,null,null,null,null,null,null,"Total de lecciones aprobadas:",null,null,{"$f":"+IF(C463=\"\",\"\",VLOOKUP($A462,'hoja de cálculo'!$A$17:$AJ$321,31,0))","v":""},{"$f":"+IF(C463=\"\",\"\",VLOOKUP($A462,'hoja de cálculo'!$A$17:$AJ$321,32,0))","v":""},{"$f":"+IF(C463=\"\",\"\",VLOOKUP($A462,'hoja de cálculo'!$A$17:$AJ$321,33,0))","v":""},{"$f":"+IF(C463=\"\",\"\",VLOOKUP($A462,'hoja de cálculo'!$A$17:$AJ$321,34,0))","v":""},{"$f":"+IF(C463=\"\",\"\",VLOOKUP($A462,'hoja de cálculo'!$A$17:$AJ$321,35,0))","v":""},{"$f":"+IF(C463=\"\",\"\",VLOOKUP($A462,'hoja de cálculo'!$A$17:$AJ$321,36,0))","v":""},{"$f":"+SUM(L485:Q485)","v":0},null,null,null,null,null,null,null,null,null,null,null,null,null,null,null,null,null,null,null,null,null,null,null,null,null,null,null,null,null,null,null,{"$f":"+IF(AX484>0,AX484+1,0)","v":0}]
[null,null,null,null,null,null,null,null,"Total de secciones",null,"Control:",{"$f":"+IF(C463=\"\",\"\",VLOOKUP($A462,'hoja de cálculo'!$A$17:$AQ$321,38,0))","v":""},{"$f":"+IF(C463=\"\",\"\",VLOOKUP($A462,'hoja de cálculo'!$A$17:$AQ$321,39,0))","v":""},{"$f":"+IF(C463=\"\",\"\",VLOOKUP($A462,'hoja de cálculo'!$A$17:$AQ$321,40,0))","v":""},{"$f":"+IF(C463=\"\",\"\",VLOOKUP($A462,'hoja de cálculo'!$A$17:$AQ$321,41,0))","v":""},{"$f":"+IF(C463=\"\",\"\",VLOOKUP($A462,'hoja de cálculo'!$A$17:$AQ$321,42,0))","v":""},{"$f":"+IF(C463=\"\",\"\",VLOOKUP($A462,'hoja de cálculo'!$A$17:$AQ$321,43,0))","v":""},{"$f":"+SUM(L486:Q486)","v":0},null,null,null,null,null,null,null,null,null,null,null,null,null,null,null,null,null,null,null,null,null,null,null,null,null,null,null,null,null,null,null,0]
[null,null,null,null,null,null,null,null,"Control 2",null,"Control:",{"$f":"IF(L485=\"\",\"\",IF(L484>L485,\"E\",IF(L484<L485,\"S\",\"√\")))","v":""},{"$f":"IF(M485=\"\",\"\",IF(M484>M485,\"E\",IF(M484<M485,\"S\",\"√\")))","v":""},"","","","",{"$f":"IF($C443=\"\",\"\",IF(AND(L487=\"√\",M487=\"√\",N487=\"√\",O487=\"√\",P487=\"√\",Q487=\"√\"),\"√\",\"Error\"))","v":"Error"},null,null,null,null,null,null,null,null,null,null,null,null,null,null,null,null,null,null,null,null,null,null,null,null,null,null,null,null,null,{"$f":"+IF(OR(B487=\"\",B487=\"Lecciones de TIE asignadas -√-\"),1,0)","v":1},null,0]
[null,null,null,null,null,null,null,null,"Plan de Estudios",null,"Control:",{"$f":"+IF(C463=\"\",\"\",VLOOKUP($A462,'hoja de cálculo'!$A$17:$BD$321,51,0))","v":""},{"$f":"+IF(C463=\"\",\"\",VLOOKUP($A462,'hoja de cálculo'!$A$17:$BD$321,52,0))","v":""},{"$f":"+IF(C463=\"\",\"\",VLOOKUP($A462,'hoja de cálculo'!$A$17:$BD$321,53,0))","v":""},{"$f":"+IF(C463=\"\",\"\",VLOOKUP($A462,'hoja de cálculo'!$A$17:$BD$321,54,0))","v":""},{"$f":"+IF(C463=\"\",\"\",VLOOKUP($A462,'hoja de cálculo'!$A$17:$BD$321,55,0))","v":""},{"$f":"+IF(C463=\"\",\"\",VLOOKUP($A462,'hoja de cálculo'!$A$17:$BD$321,56,0))","v":""},null,null,null,null,null,null,null,null,null,null,null,null,null,null,null,null,null,null,null,null,null,null,null,null,null,null,null,{"$f":"+IF(AB488<0,-AB488,0)","v":0},null,null,null,null,0]
[null,null,null,"Observaciones:",{"$f":"+IF(OR(C463=\"Lecciones Labor@ Diurnas\",C463=\"Lecciones Labor@ Nocturno\"),\"Recuerde generar el informe de labores de lecciones Labor@\",\"\")","v":""},null,null,null,null,null,null,null,null,null,null,null,null,null,null,null,null,null,null,null,null,null,null,null,null,null,null,null,null,null,null,null,null,null,null,null,null,null,null,null,null,null,null,null,null,0]
[null,null,null,null,null,null,null,null,null,null,null,null,null,null,null,null,null,null,null,null,null,null,null,null,null,null,null,null,null,null,null,null,null,null,null,null,null,null,null,null,null,null,null,null,null,null,null,null,null,0]
[null,null,null,null,null,null,null,null,null,null,null,null,null,null,null,null,null,null,null,null,null,null,null,null,null,null,null,null,null,null,null,null,null,null,null,null,null,null,null,null,null,null,null,null,null,null,null,null,null,0]
[null,null,null,null,null,null,null,null,null,null,null,null,null,null,null,null,null,null,null,null,null,null,null,null,null,null,null,null,null,null,null,null,null,null,null,null,null,null,null,null,null,null,null,null,null,null,null,null,null,0]
[null,null,null,null,null,null,null,null,null,null,null,null,null,null,null,null,null,null,null,null,null,null,null,null,null,null,"Hoja de Cálculo",null,null,null,null,null,null,null,null,null,null,null,null,null,null,null,null,null,null,null,null,null,null,0]
[null,null,null,null,null,null,null,null,null,null,null,null,null,null,null,null,null,null,null,null,null,null,null,null,null,null,null,null,null,null,null,null,null,null,null,null,null,null,null,null,null,null,null,null,null,null,null,null,null,0]
[null,null,{"$f":"+\"Declaración Jurada: El suscrito Director \"&$D$4245&\" del \"&$E$12&\", código \"&Información!$E$11&\", hace constar que los datos consignados en éste formulario son veraces y responden al estado real de ésta institución.\"&\" Cualquier inexactitud o falsedad estaré incurriendo en las responsabilidades administrativas y disciplinarias, sin perjuicio de las acciones civiles.\"","v":"Declaración Jurada: El suscrito Director  del , código , hace constar que los datos consignados en éste formulario son veraces y responden al estado real de ésta institución. Cualquier inexactitud o falsedad estaré incurriendo en las responsabilidades administrativas y disciplinarias, sin perjuicio de las acciones civiles."},null,null,null,null,null,null,null,null,null,null,null,null,null,null,null,null,null,null,null,null,null,null,null,null,null,null,null,null,null,null,null,null,null,null,null,null,null,null,null,null,null,null,null,null,null,null,0]
[null,null,null,null,null,null,null,null,null,null,null,null,null,null,null,null,null,null,null,null,null,null,null,null,null,null,null,null,null,null,null,null,null,null,null,null,null,null,null,null,null,null,null,null,null,null,null,null,null,0]
[{"$f":"+A462+1","v":14},{"$f":"IFERROR(VLOOKUP(A497,'hoja de cálculo'!$A$22:'hoja de cálculo'!$C$321,3,0),\"\")","v":""},null,null,null,null,null,null,null,null,null,null,null,null,null,null,null,null,null,null,null,null,null,null,null,null,null,null,null,null,null,null,null,null,null,null,null,null,null,null,null,null,null,null,null,null,null,null,null,{"$f":"+IF(B497=\"\",0,1)","v":0}]
["Ausente","Sustituto",{"$f":"IFERROR(VLOOKUP(A497,'hoja de cálculo'!$A$7:'hoja de cálculo'!$H$321,8,0),\"\")","v":""},null,null,null,null,null,null,null,null,null,null,null,null,null,null,null,null,null,null,null,null,null,null,null,null,null,"Cont. 1",null,null,null,null,null,null,null,null,null,null,null,null,null,null,null,null,null,null,null,null,{"$f":"+IF(AX497>0,AX497+1,0)","v":0}]
[null,null,"Nº","Nombre del servidor",null,null,null,"Nº de cédula","Grupo Prof.","Especialidad",null,"Nivel",null,null,null,null,null,"Sub- Total","Leccs. Co-curriculares",null,null,null,null,"Sub- Total","Pl","Total Leccs.","Nº de leccs.",null,null,null,null,null,null,null,null,null,null,null,null,null,null,null,null,null,null,null,null,null,null,0]
[null,null,null,null,null,null,null,null,null,null,null,"7º","8º","9º","10º","11º","12º",null,null,null,null,null,null,null,null,null,"Prop.","Ints.",null,null,null,{"$f":"+IF($AF$24=0,0,SUMIF($S500:$W500,$AF$24,$S519:$W519))","v":0},{"$f":"+IF($AG$24=0,0,SUMIF($S500:$W500,$AG$24,$S519:$W519))","v":0},{"$f":"+IF($AH$24=0,0,SUMIF($S500:$W500,$AH$24,$S519:$W519))","v":0},{"$f":"+IF($AI$24=0,0,SUMIF($S500:$W500,$AI$24,$S519:$W519))","v":0},{"$f":"+IF($AJ$24=0,0,SUMIF($S500:$W500,$AJ$24,$S519:$W519))","v":0},{"$f":"+IF($AK$24=0,0,SUMIF($S500:$W500,$AK$24,$S519:$W519))","v":0},{"$f":"+IF($AL$24=0,0,SUMIF($S500:$W500,$AL$24,$S519:$W519))","v":0},{"$f":"+IF($AM$24=0,0,SUMIF($S500:$W500,$AM$24,$S519:$W519))","v":0},{"$f":"+IF($AN$24=0,0,SUMIF($S500:$W500,$AN$24,$S519:$W519))","v":0},{"$f":"+IF($AO$24=0,0,SUMIF($S500:$W500,$AO$24,$S519:$W519))","v":0},{"$f":"+IF($AP$24=0,0,SUMIF($S500:$W500,$AP$24,$S519:$W519))","v":0},{"$f":"+IF($AQ$24=0,0,SUMIF($S500:$W500,$AQ$24,$S519:$W519))","v":0},null,null,null,null,null,null,0]
[null,null,5,null,null,null,null,null,null,null,null,null,null,null,null,null,null,0,null,null,null,null,null,0,0,0,null,0,"√",1,null,null,null,null,null,null,null,null,null,null,null,null,null,null,null,null,null,null,null,0]
[null,null,10,null,null,null,null,null,null,null,null,null,null,null,null,null,null,0,null,null,null,null,null,0,0,0,null,0,"√",1,null,null,null,null,null,null,null,null,null,null,null,null,null,null,null,null,null,null,null,0]
[null,null,18,null,null,null,null,null,null,null,null,null,null,null,null,null,null,0,null,null,null,null,null,0,0,0,null,0,"√",1,null,null,null,null,null,null,null,null,null,null,null,null,null,null,null,null,null,null,null,0]
[null,null,null,null,null,null,null,null,null,null,null,null,null,null,null,null,null,null,null,null,null,null,null,null,null,null,null,null,null,null,null,null,null,null,null,null,null,null,null,null,null,null,null,null,null,null,null,null,null,0]
[{"$f":"+A497+1","v":15},{"$f":"IFERROR(VLOOKUP(A532,'hoja de cálculo'!$A$22:'hoja de cálculo'!$C$321,3,0),\"\")","v":""},null,null,null,null,null,null,null,null,null,null,null,null,null,null,null,null,null,null,null,null,null,null,null,null,null,null,null,null,null,null,null,null,null,null,null,null,null,null,null,null,null,null,null,null,null,null,null,{"$f":"+IF(B532=\"\",0,1)","v":0}]
[null,null,5,null,null,null,null,null,null,null,null,null,null,null,null,null,null,0,null,null,null,null,null,0,0,0,null,0,"√",1,null,null,null,null,null,null,null,null,null,null,null,null,null,null,null,null,null,null,null,0]
[null,null,10,null,null,null,null,null,null,null,null,null,null,null,null,null,null,0,null,null,null,null,null,0,0,0,null,0,"√",1,null,null,null,null,null,null,null,null,null,null,null,null,null,null,null,null,null,null,null,0]
[null,null,16,null,null,null,null,null,null,null,null,null,null,null,null,null,null,0,null,null,null,null,null,0,0,0,null,0,"√",1,null,null,null,null,null,null,null,null,null,null,null,null,null,null,null,null,null,null,null,0]
[null,null,null,"Observaciones:",{"$f":"+IF(OR(C533=\"Lecciones Labor@ Diurnas\",C533=\"Lecciones Labor@ Nocturno\"),\"Recuerde generar el informe de labores de lecciones Labor@\",\"\")","v":""},null,null,null,null,null,null,null,null,null,null,null,null,null,null,null,null,null,null,null,null,null,null,null,null,null,null,null,null,null,null,null,null,null,null,null,null,null,null,null,null,null,null,null,null,0]
[{"$f":"+A532+1","v":16},{"$f":"IFERROR(VLOOKUP(A567,'hoja de cálculo'!$A$22:'hoja de cálculo'!$C$321,3,0),\"\")","v":""},null,null,null,null,null,null,null,null,null,null,null,null,null,null,null,null,null,null,null,null,null,null,null,null,null,null,null,null,null,null,null,null,null,null,null,null,null,null,null,null,null,null,null,null,null,null,null,{"$f":"+IF(B567=\"\",0,1)","v":0}]
[null,null,5,null,null,null,null,null,null,null,null,null,null,null,null,null,null,0,null,null,null,null,null,0,0,0,null,0,"√",1,null,null,null,null,null,null,null,null,null,null,null,null,null,null,null,null,null,null,null,0]
[null,null,14,null,null,null,null,null,null,null,null,null,null,null,null,null,null,0,null,null,null,null,null,0,0,0,null,0,"√",1,null,null,null,null,null,null,null,null,null,null,null,null,null,null,null,null,null,null,null,0]
[null,null,null,null,null,null,null,null,"Total de lecciones asignadas:",null,null,{"$f":"+SUM(L571:L588)-SUMIF($A571:$A588,\"A\",L571:L588)","v":0},{"$f":"+SUM(M571:M588)-SUMIF($A571:$A588,\"A\",M571:M588)","v":0},0,0,{"$f":"+SUM(P571:P588)-SUMIF($A571:$A588,\"A\",P571:P588)","v":0},{"$f":"+SUM(Q571:Q588)-SUMIF($A571:$A588,\"A\",Q571:Q588)","v":0},{"$f":"+SUM(R571:R588)-SUMIF($A571:$A588,\"A\",R571:R588)","v":0},{"$f":"+SUM(S571:S588)-SUMIF($A571:$A588,\"A\",S571:S588)","v":0},{"$f":"+SUM(T571:T588)-SUMIF($A571:$A588,\"A\",T571:T588)","v":0},0,0,0,{"$f":"+SUM(R589:W589)","v":0},{"$f":"+SUM(Y571:Y588)","v":0},{"$f":"+SUM(Z571:Z588)-SUMIF($A571:$A588,\"A\",Z571:Z588)","v":0},{"$f":"+SUM(AA571:AA588)","v":0},{"$f":"+SUM(AB571:AB588)-SUMIF($A571:$A588,\"A\",AB571:AB588)","v":0},{"$f":"IF($C568=\"\",\"\",IF(AND(R592=\"√\",AD589=18),\"√\",\"Er\"))","v":""},{"$f":"+SUM(AD571:AD588)","v":18},null,null,null,null,null,null,null,null,null,null,null,null,null,null,null,{"$f":"+Y589","v":0},null,null,null,{"$f":"+IF(AX567>0,AX570+1,0)","v":0}]
[null,null,null,null,null,null,null,null,null,null,null,null,null,null,null,null,null,null,null,null,null,null,null,null,null,null,null,null,null,null,null,null,null,null,null,null,null,null,null,null,null,null,null,null,null,null,null,null,null,0]
[{"$f":"+A567+1","v":17},{"$f":"IFERROR(VLOOKUP(A602,'hoja de cálculo'!$A$22:'hoja de cálculo'!$C$321,3,0),\"\")","v":""},null,null,null,null,null,null,null,null,null,null,null,null,null,null,null,null,null,null,null,null,null,null,null,null,null,null,null,null,null,null,null,null,null,null,null,null,null,null,null,null,null,null,null,null,null,null,null,{"$f":"+IF(B602=\"\",0,1)","v":0}]
[null,null,4,null,null,null,null,null,null,null,null,null,null,null,null,null,null,0,null,null,null,null,null,0,0,0,null,0,"√",1,null,null,null,null,null,null,null,null,null,null,null,null,null,null,null,null,null,null,null,0]
[null,null,18,null,null,null,null,null,null,null,null,null,null,null,null,null,null,0,null,null,null,null,null,0,0,0,null,0,"√",1,null,null,null,null,null,null,null,null,null,null,null,null,null,null,null,null,null,null,null,0]
[null,null,null,null,null,null,null,null,"Total de lecciones asignadas:",null,null,{"$f":"+SUM(L606:L623)-SUMIF($A606:$A623,\"A\",L606:L623)","v":0},{"$f":"+SUM(M606:M623)-SUMIF($A606:$A623,\"A\",M606:M623)","v":0},0,0,{"$f":"+SUM(P606:P623)-SUMIF($A606:$A623,\"A\",P606:P623)","v":0},{"$f":"+SUM(Q606:Q623)-SUMIF($A606:$A623,\"A\",Q606:Q623)","v":0},{"$f":"+SUM(R606:R623)-SUMIF($A606:$A623,\"A\",R606:R623)","v":0},{"$f":"+SUM(S606:S623)-SUMIF($A606:$A623,\"A\",S606:S623)","v":0},{"$f":"+SUM(T606:T623)-SUMIF($A606:$A623,\"A\",T606:T623)","v":0},0,0,0,{"$f":"+SUM(R624:W624)","v":0},{"$f":"+SUM(Y606:Y623)","v":0},{"$f":"+SUM(Z606:Z623)-SUMIF($A606:$A623,\"A\",Z606:Z623)","v":0},{"$f":"+SUM(AA606:AA623)","v":0},{"$f":"+SUM(AB606:AB623)-SUMIF($A606:$A623,\"A\",AB606:AB623)","v":0},{"$f":"IF($C603=\"\",\"\",IF(AND(R627=\"√\",AD624=18),\"√\",\"Er\"))","v":""},{"$f":"+SUM(AD606:AD623)","v":18},null,null,null,null,null,null,null,null,null,null,null,null,null,null,null,{"$f":"+Y624","v":0},null,null,null,{"$f":"+IF(AX602>0,AX605+1,0)","v":0}]
[null,null,null,null,null,null,null,null,null,null,null,null,null,null,null,null,null,null,null,null,null,null,null,null,null,null,null,null,null,null,null,null,null,null,null,null,null,null,null,null,null,null,null,null,null,null,null,null,null,0]
[null,null,2,null,null,null,null,null,null,null,null,null,null,null,null,null,null,0,null,null,null,null,null,0,0,0,null,0,{"$f":"IF(A642=\"A\",\"√\",IF(Z642>48,\"E\",\"√\"))","v":"√"},1,null,null,null,null,null,null,null,null,null,null,null,null,null,null,null,null,null,null,null,0]
[null,null,6,null,null,null,null,null,null,null,null,null,null,null,null,null,null,0,null,null,null,null,null,0,0,0,null,0,"√",1,null,null,null,null,null,null,null,null,null,null,null,null,null,null,null,null,null,null,null,0]
[null,null,18,null,null,null,null,null,null,null,null,null,null,null,null,null,null,0,null,null,null,null,null,0,0,0,null,0,"√",1,null,null,null,null,null,null,null,null,null,null,null,null,null,null,null,null,null,null,null,0]
[null,null,null,null,null,null,null,null,null,null,null,null,null,null,null,null,null,null,null,null,null,null,null,null,null,null,null,null,null,null,null,null,null,null,null,null,null,null,null,null,null,null,null,null,null,null,null,null,null,0]
[null,null,null,null,null,null,null,null,null,null,null,null,null,null,null,null,null,null,null,null,null,null,null,null,null,null,null,null,null,null,null,null,null,null,null,null,null,null,null,null,null,null,null,null,null,null,null,null,null,0]
[null,null,5,null,null,null,null,null,null,null,null,null,null,null,null,null,null,0,null,null,null,null,null,0,0,0,null,0,"√",1,null,null,null,null,null,null,null,null,null,null,null,null,null,null,null,null,null,null,null,0]
[null,null,13,null,null,null,null,null,null,null,null,null,null,null,null,null,null,0,null,null,null,null,null,0,0,0,null,0,"√",1,null,null,null,null,null,null,null,null,null,null,null,null,null,null,null,null,null,null,null,0]
[null,null,14,null,null,null,null,null,null,null,null,null,null,null,null,null,null,0,null,null,null,null,null,0,0,0,null,0,"√",1,null,null,null,null,null,null,null,null,null,null,null,null,null,null,null,null,null,null,null,0]
[null,null,null,null,null,null,null,null,null,null,null,null,null,null,null,null,null,null,null,null,null,null,null,null,null,null,null,null,null,null,null,null,null,null,null,null,null,null,null,null,null,null,null,null,null,null,null,null,null,0]
[null,null,null,null,null,null,null,null,null,null,null,"7º","8º","9º","10º","11º","12º",null,null,null,null,null,null,null,null,null,"Prop.","Ints.",null,null,null,{"$f":"+IF($AF$24=0,0,SUMIF($S710:$W710,$AF$24,$S729:$W729))","v":0},{"$f":"+IF($AG$24=0,0,SUMIF($S710:$W710,$AG$24,$S729:$W729))","v":0},{"$f":"+IF($AH$24=0,0,SUMIF($S710:$W710,$AH$24,$S729:$W729))","v":0},{"$f":"+IF($AI$24=0,0,SUMIF($S710:$W710,$AI$24,$S729:$W729))","v":0},{"$f":"+IF($AJ$24=0,0,SUMIF($S710:$W710,$AJ$24,$S729:$W729))","v":0},{"$f":"+IF($AK$24=0,0,SUMIF($S710:$W710,$AK$24,$S729:$W729))","v":0},{"$f":"+IF($AL$24=0,0,SUMIF($S710:$W710,$AL$24,$S729:$W729))","v":0},{"$f":"+IF($AM$24=0,0,SUMIF($S710:$W710,$AM$24,$S729:$W729))","v":0},{"$f":"+IF($AN$24=0,0,SUMIF($S710:$W710,$AN$24,$S729:$W729))","v":0},{"$f":"+IF($AO$24=0,0,SUMIF($S710:$W710,$AO$24,$S729:$W729))","v":0},{"$f":"+IF($AP$24=0,0,SUMIF($S710:$W710,$AP$24,$S729:$W729))","v":0},{"$f":"+IF($AQ$24=0,0,SUMIF($S710:$W710,$AQ$24,$S729:$W729))","v":0},null,null,null,null,null,null,0]
[null,null,5,null,null,null,null,null,null,null,null,null,null,null,null,null,null,0,null,null,null,null,null,0,0,0,null,0,"√",1,null,null,null,null,null,null,null,null,null,null,null,null,null,null,null,null,null,null,null,0]
[null,null,13,null,null,null,null,null,null,null,null,null,null,null,null,null,null,0,null,null,null,null,null,0,0,0,null,0,"√",1,null,null,null,null,null,null,null,null,null,null,null,null,null,null,null,null,null,null,null,0]
[null,null,15,null,null,null,null,null,null,null,null,null,null,null,null,null,null,0,null,null,null,null,null,0,0,0,null,0,"√",1,null,null,null,null,null,null,null,null,null,null,null,null,null,null,null,null,null,null,null,0]
[null,null,null,null,null,null,null,null,null,null,null,null,null,null,null,null,null,null,null,null,null,null,null,null,null,null,null,null,null,null,null,null,null,null,null,null,null,null,null,null,null,null,null,null,null,null,null,null,null,0]
[null,null,null,null,null,null,null,null,null,null,null,"7º","8º","9º","10º","11º","12º",null,null,null,null,null,null,null,null,null,"Prop.","Ints.",null,null,null,{"$f":"+IF($AF$24=0,0,SUMIF($S745:$W745,$AF$24,$S764:$W764))","v":0},{"$f":"+IF($AG$24=0,0,SUMIF($S745:$W745,$AG$24,$S764:$W764))","v":0},{"$f":"+IF($AH$24=0,0,SUMIF($S745:$W745,$AH$24,$S764:$W764))","v":0},{"$f":"+IF($AI$24=0,0,SUMIF($S745:$W745,$AI$24,$S764:$W764))","v":0},{"$f":"+IF($AJ$24=0,0,SUMIF($S745:$W745,$AJ$24,$S764:$W764))","v":0},{"$f":"+IF($AK$24=0,0,SUMIF($S745:$W745,$AK$24,$S764:$W764))","v":0},{"$f":"+IF($AL$24=0,0,SUMIF($S745:$W745,$AL$24,$S764:$W764))","v":0},{"$f":"+IF($AM$24=0,0,SUMIF($S745:$W745,$AM$24,$S764:$W764))","v":0},{"$f":"+IF($AN$24=0,0,SUMIF($S745:$W745,$AN$24,$S764:$W764))","v":0},{"$f":"+IF($AO$24=0,0,SUMIF($S745:$W745,$AO$24,$S764:$W764))","v":0},{"$f":"+IF($AP$24=0,0,SUMIF($S745:$W745,$AP$24,$S764:$W764))","v":0},{"$f":"+IF($AQ$24=0,0,SUMIF($S745:$W745,$AQ$24,$S764:$W764))","v":0},null,null,null,null,null,null,0]
[null,null,5,null,null,null,null,null,null,null,null,null,null,null,null,null,null,0,null,null,null,null,null,0,0,0,null,0,"√",1,null,null,null,null,null,null,null,null,null,null,null,null,null,null,null,null,null,null,null,0]
[null,null,14,null,null,null,null,null,null,null,null,null,null,null,null,null,null,0,null,null,null,null,null,0,0,0,null,0,"√",1,null,null,null,null,null,null,null,null,null,null,null,null,null,null,null,null,null,null,null,0]
[null,null,null,null,null,null,null,null,"Control 2",null,"Control:",{"$f":"IF(L765=\"\",\"\",IF(L764>L765,\"E\",IF(L764<L765,\"S\",\"√\")))","v":""},{"$f":"IF(M765=\"\",\"\",IF(M764>M765,\"E\",IF(M764<M765,\"S\",\"√\")))","v":""},"","","","",{"$f":"IF($C723=\"\",\"\",IF(AND(L767=\"√\",M767=\"√\",N767=\"√\",O767=\"√\",P767=\"√\",Q767=\"√\"),\"√\",\"Error\"))","v":"Error"},null,null,null,null,null,null,null,null,null,null,null,null,null,null,null,null,null,null,null,null,null,null,null,null,null,null,null,null,null,{"$f":"+IF(OR(B767=\"\",B767=\"Lecciones de TIE asignadas -√-\"),1,0)","v":1},null,0]
[null,null,null,null,null,null,null,null,null,null,null,null,null,null,null,null,null,null,null,null,null,null,null,null,null,null,null,null,null,null,null,null,null,null,null,null,null,null,null,null,null,null,null,null,null,null,null,null,null,0]
[null,null,3,null,null,null,null,null,null,null,null,null,null,null,null,null,null,0,null,null,null,null,null,0,0,0,null,0,"√",1,null,null,null,null,null,null,null,null,null,null,null,null,null,null,null,null,null,null,null,0]
[null,null,9,null,null,null,null,null,null,null,null,null,null,null,null,null,null,0,null,null,null,null,null,0,0,0,null,0,"√",1,null,null,null,null,null,null,null,null,null,null,null,null,null,null,null,null,null,null,null,0]
[null,null,14,null,null,null,null,null,null,null,null,null,null,null,null,null,null,0,null,null,null,null,null,0,0,0,null,0,"√",1,null,null,null,null,null,null,null,null,null,null,null,null,null,null,null,null,null,null,null,0]
[null,null,null,null,null,null,null,null,"Control 2",null,"Control:",{"$f":"IF(L800=\"\",\"\",IF(L799>L800,\"E\",IF(L799<L800,\"S\",\"√\")))","v":""},{"$f":"IF(M800=\"\",\"\",IF(M799>M800,\"E\",IF(M799<M800,\"S\",\"√\")))","v":""},"","","","",{"$f":"IF($C758=\"\",\"\",IF(AND(L802=\"√\",M802=\"√\",N802=\"√\",O802=\"√\",P802=\"√\",Q802=\"√\"),\"√\",\"Error\"))","v":"Error"},null,null,null,null,null,null,null,null,null,null,null,null,null,null,null,null,null,null,null,null,null,null,null,null,null,null,null,null,null,{"$f":"+IF(OR(B802=\"\",B802=\"Lecciones de TIE asignadas -√-\"),1,0)","v":1},null,0]
[null,null,null,null,null,null,null,null,null,null,null,null,null,null,null,null,null,null,null,null,null,null,null,null,null,null,"Hoja de Cálculo",null,null,null,null,null,null,null,null,null,null,null,null,null,null,null,null,null,null,null,null,null,null,0]
[null,null,1,null,null,null,null,null,null,null,null,null,null,null,null,null,null,{"$f":"+SUM(L816:Q816)","v":0},null,null,null,null,null,{"$f":"+SUM(R816:W816)","v":0},{"$f":"IF(X816=0,0,IF(X816>48,\"E\",IF(X816<44,0,IF(A816=\"A\",0,48-X816))))","v":0},{"$f":"+IF(Y816=\"E\",\"E\",(X816+Y816))","v":0},null,{"$f":"+IF(Z816=\"E\",\"E\",(Z816-AA816))","v":0},{"$f":"IF(A816=\"A\",\"√\",IF(Z816>48,\"E\",\"√\"))","v":"√"},{"$f":"+IF(AC816=\"√\",1,0)","v":1},null,null,null,null,null,null,null,null,null,null,null,null,null,null,null,null,null,null,null,{"$f":"+IF(OR(AA816+AB816>0,D816<>0,H816<>0,I816<>0,J816<>0),AX815+1,0)","v":0}]
[null,null,9,null,null,null,null,null,null,null,null,null,null,null,null,null,null,0,null,null,null,null,null,0,0,0,null,0,"√",1,null,null,null,null,null,null,null,null,null,null,null,null,null,null,null,null,null,null,null,0]
[null,null,14,null,null,null,null,null,null,null,null,null,null,null,null,null,null,0,null,null,null,null,null,0,0,0,null,0,"√",1,null,null,null,null,null,null,null,null,null,null,null,null,null,null,null,null,null,null,null,0]
[null,null,null,null,null,null,null,null,null,null,null,null,null,null,null,null,null,null,null,null,null,null,null,null,null,null,null,null,null,null,null,null,null,null,null,null,null,null,null,null,null,null,null,null,null,null,null,null,null,0]
[null,null,null,null,null,null,null,null,null,null,null,null,null,null,null,null,null,null,null,null,null,null,null,null,null,null,null,null,null,null,null,null,null,null,null,null,null,null,null,null,null,null,null,null,null,null,null,null,null,0]
[null,null,1,null,null,null,null,null,null,null,null,null,null,null,null,null,null,{"$f":"+SUM(L851:Q851)","v":0},null,null,null,null,null,{"$f":"+SUM(R851:W851)","v":0},{"$f":"IF(X851=0,0,IF(X851>48,\"E\",IF(X851<44,0,IF(A851=\"A\",0,48-X851))))","v":0},{"$f":"+IF(Y851=\"E\",\"E\",(X851+Y851))","v":0},null,{"$f":"+IF(Z851=\"E\",\"E\",(Z851-AA851))","v":0},{"$f":"IF(A851=\"A\",\"√\",IF(Z851>48,\"E\",\"√\"))","v":"√"},{"$f":"+IF(AC851=\"√\",1,0)","v":1},null,null,null,null,null,null,null,null,null,null,null,null,null,null,null,null,null,null,null,{"$f":"+IF(OR(AA851+AB851>0,D851<>0,H851<>0,I851<>0,J851<>0),AX850+1,0)","v":0}]
[null,null,9,null,null,null,null,null,null,null,null,null,null,null,null,null,null,0,null,null,null,null,null,0,0,0,null,0,"√",1,null,null,null,null,null,null,null,null,null,null,null,null,null,null,null,null,null,null,null,0]
[null,null,16,null,null,null,null,null,null,null,null,null,null,null,null,null,null,0,null,null,null,null,null,0,0,0,null,0,"√",1,null,null,null,null,null,null,null,null,null,null,null,null,null,null,null,null,null,null,null,0]
[null,null,null,null,null,null,null,null,"Plan de Estudios",null,"Control:",{"$f":"+IF(C848=\"\",\"\",VLOOKUP($A847,'hoja de cálculo'!$A$17:$BD$321,51,0))","v":""},{"$f":"+IF(C848=\"\",\"\",VLOOKUP($A847,'hoja de cálculo'!$A$17:$BD$321,52,0))","v":""},{"$f":"+IF(C848=\"\",\"\",VLOOKUP($A847,'hoja de cálculo'!$A$17:$BD$321,53,0))","v":""},{"$f":"+IF(C848=\"\",\"\",VLOOKUP($A847,'hoja de cálculo'!$A$17:$BD$321,54,0))","v":""},{"$f":"+IF(C848=\"\",\"\",VLOOKUP($A847,'hoja de cálculo'!$A$17:$BD$321,55,0))","v":""},{"$f":"+IF(C848=\"\",\"\",VLOOKUP($A847,'hoja de cálculo'!$A$17:$BD$321,56,0))","v":""},null,null,null,null,null,null,null,null,null,null,null,null,null,null,null,null,null,null,null,null,null,null,null,null,null,null,null,{"$f":"+IF(AB873<0,-AB873,0)","v":0},null,null,null,null,0]
[null,null,null,null,null,null,null,null,null,null,null,null,null,null,null,null,null,null,null,null,null,null,null,null,null,null,null,null,null,null,null,null,null,null,null,null,null,null,null,null,null,null,null,null,null,null,null,null,null,0]
[null,null,1,null,null,null,null,null,null,null,null,null,null,null,null,null,null,{"$f":"+SUM(L886:Q886)","v":0},null,null,null,null,null,{"$f":"+SUM(R886:W886)","v":0},{"$f":"IF(X886=0,0,IF(X886>48,\"E\",IF(X886<44,0,IF(A886=\"A\",0,48-X886))))","v":0},{"$f":"+IF(Y886=\"E\",\"E\",(X886+Y886))","v":0},null,{"$f":"+IF(Z886=\"E\",\"E\",(Z886-AA886))","v":0},{"$f":"IF(A886=\"A\",\"√\",IF(Z886>48,\"E\",\"√\"))","v":"√"},{"$f":"+IF(AC886=\"√\",1,0)","v":1},null,null,null,null,null,null,null,null,null,null,null,null,null,null,null,null,null,null,null,{"$f":"+IF(OR(AA886+AB886>0,D886<>0,H886<>0,I886<>0,J886<>0),AX885+1,0)","v":0}]
[null,null,14,null,null,null,null,null,null,null,null,null,null,null,null,null,null,0,null,null,null,null,null,0,0,0,null,0,"√",1,null,null,null,null,null,null,null,null,null,null,null,null,null,null,null,null,null,null,null,0]
[null,null,15,null,null,null,null,null,null,null,null,null,null,null,null,null,null,0,null,null,null,null,null,0,0,0,null,0,"√",1,null,null,null,null,null,null,null,null,null,null,null,null,null,null,null,null,null,null,null,0]
[null,null,null,null,null,null,null,null,"Plan de Estudios",null,"Control:",{"$f":"+IF(C883=\"\",\"\",VLOOKUP($A882,'hoja de cálculo'!$A$17:$BD$321,51,0))","v":""},{"$f":"+IF(C883=\"\",\"\",VLOOKUP($A882,'hoja de cálculo'!$A$17:$BD$321,52,0))","v":""},{"$f":"+IF(C883=\"\",\"\",VLOOKUP($A882,'hoja de cálculo'!$A$17:$BD$321,53,0))","v":""},{"$f":"+IF(C883=\"\",\"\",VLOOKUP($A882,'hoja de cálculo'!$A$17:$BD$321,54,0))","v":""},{"$f":"+IF(C883=\"\",\"\",VLOOKUP($A882,'hoja de cálculo'!$A$17:$BD$321,55,0))","v":""},{"$f":"+IF(C883=\"\",\"\",VLOOKUP($A882,'hoja de cálculo'!$A$17:$BD$321,56,0))","v":""},null,null,null,null,null,null,null,null,null,null,null,null,null,null,null,null,null,null,null,null,null,null,null,null,null,null,null,{"$f":"+IF(AB908<0,-AB908,0)","v":0},null,null,null,null,0]
[null,null,null,null,null,null,null,null,null,null,null,null,null,null,null,null,null,null,null,null,null,null,null,null,null,null,null,null,null,null,null,null,null,null,null,null,null,null,null,null,null,null,null,null,null,null,null,null,null,0]
[null,null,4,null,null,null,null,null,null,null,null,null,null,null,null,null,null,0,null,null,null,null,null,0,0,0,null,0,"√",1,null,null,null,null,null,null,null,null,null,null,null,null,null,null,null,null,null,null,null,0]
[null,null,10,null,null,null,null,null,null,null,null,null,null,null,null,null,null,0,null,null,null,null,null,0,0,0,null,0,"√",1,null,null,null,null,null,null,null,null,null,null,null,null,null,null,null,null,null,null,null,0]
[null,null,18,null,null,null,null,null,null,null,null,null,null,null,null,null,null,0,null,null,null,null,null,0,0,0,null,0,"√",1,null,null,null,null,null,null,null,null,null,null,null,null,null,null,null,null,null,null,null,0]
[null,null,null,null,null,null,null,null,"Plan de Estudios",null,"Control:",{"$f":"+IF(C918=\"\",\"\",VLOOKUP($A917,'hoja de cálculo'!$A$17:$BD$321,51,0))","v":""},{"$f":"+IF(C918=\"\",\"\",VLOOKUP($A917,'hoja de cálculo'!$A$17:$BD$321,52,0))","v":""},{"$f":"+IF(C918=\"\",\"\",VLOOKUP($A917,'hoja de cálculo'!$A$17:$BD$321,53,0))","v":""},{"$f":"+IF(C918=\"\",\"\",VLOOKUP($A917,'hoja de cálculo'!$A$17:$BD$321,54,0))","v":""},{"$f":"+IF(C918=\"\",\"\",VLOOKUP($A917,'hoja de cálculo'!$A$17:$BD$321,55,0))","v":""},{"$f":"+IF(C918=\"\",\"\",VLOOKUP($A917,'hoja de cálculo'!$A$17:$BD$321,56,0))","v":""},null,null,null,null,null,null,null,null,null,null,null,null,null,null,null,null,null,null,null,null,null,null,null,null,null,null,null,{"$f":"+IF(AB943<0,-AB943,0)","v":0},null,null,null,null,0]
[null,null,2,null,null,null,null,null,null,null,null,null,null,null,null,null,null,0,null,null,null,null,null,0,0,0,null,0,{"$f":"IF(A957=\"A\",\"√\",IF(Z957>48,\"E\",\"√\"))","v":"√"},1,null,null,null,null,null,null,null,null,null,null,null,null,null,null,null,null,null,null,null,0]
[null,null,9,null,null,null,null,null,null,null,null,null,null,null,null,null,null,0,null,null,null,null,null,0,0,0,null,0,"√",1,null,null,null,null,null,null,null,null,null,null,null,null,null,null,null,null,null,null,null,0]
[null,null,10,null,null,null,null,null,null,null,null,null,null,null,null,null,null,0,null,null,null,null,null,0,0,0,null,0,"√",1,null,null,null,null,null,null,null,null,null,null,null,null,null,null,null,null,null,null,null,0]
[null,null,null,null,null,null,null,null,"Total de lecciones asignadas:",null,null,{"$f":"+SUM(L956:L973)-SUMIF($A956:$A973,\"A\",L956:L973)","v":0},{"$f":"+SUM(M956:M973)-SUMIF($A956:$A973,\"A\",M956:M973)","v":0},0,0,{"$f":"+SUM(P956:P973)-SUMIF($A956:$A973,\"A\",P956:P973)","v":0},{"$f":"+SUM(Q956:Q973)-SUMIF($A956:$A973,\"A\",Q956:Q973)","v":0},{"$f":"+SUM(R956:R973)-SUMIF($A956:$A973,\"A\",R956:R973)","v":0},{"$f":"+SUM(S956:S973)-SUMIF($A956:$A973,\"A\",S956:S973)","v":0},{"$f":"+SUM(T956:T973)-SUMIF($A956:$A973,\"A\",T956:T973)","v":0},0,0,0,{"$f":"+SUM(R974:W974)","v":0},{"$f":"+SUM(Y956:Y973)","v":0},{"$f":"+SUM(Z956:Z973)-SUMIF($A956:$A973,\"A\",Z956:Z973)","v":0},{"$f":"+SUM(AA956:AA973)","v":0},{"$f":"+SUM(AB956:AB973)-SUMIF($A956:$A973,\"A\",AB956:AB973)","v":0},{"$f":"IF($C953=\"\",\"\",IF(AND(R977=\"√\",AD974=18),\"√\",\"Er\"))","v":""},{"$f":"+SUM(AD956:AD973)","v":18},null,null,null,null,null,null,null,null,null,null,null,null,null,null,null,{"$f":"+Y974","v":0},null,null,null,{"$f":"+IF(AX952>0,AX955+1,0)","v":0}]
[null,null,null,null,null,null,null,null,null,null,null,null,null,null,null,null,null,null,null,null,null,null,null,null,null,null,null,null,null,null,null,null,null,null,null,null,null,null,null,null,null,null,null,null,null,null,null,null,null,0]
[{"$f":"+A952+1","v":28},{"$f":"IFERROR(VLOOKUP(A987,'hoja de cálculo'!$A$22:'hoja de cálculo'!$C$321,3,0),\"\")","v":""},null,null,null,null,null,null,null,null,null,null,null,null,null,null,null,null,null,null,null,null,null,null,null,null,null,null,null,null,null,null,null,null,null,null,null,null,null,null,null,null,null,null,null,null,null,null,null,{"$f":"+IF(B987=\"\",0,1)","v":0}]
[null,null,5,null,null,null,null,null,null,null,null,null,null,null,null,null,null,0,null,null,null,null,null,0,0,0,null,0,"√",1,null,null,null,null,null,null,null,null,null,null,null,null,null,null,null,null,null,null,null,0]
[null,null,17,null,null,null,null,null,null,null,null,null,null,null,null,null,null,0,null,null,null,null,null,0,0,0,null,0,"√",1,null,null,null,null,null,null,null,null,null,null,null,null,null,null,null,null,null,null,null,0]
[null,null,null,null,null,null,null,null,"Total de lecciones asignadas:",null,null,{"$f":"+SUM(L991:L1008)-SUMIF($A991:$A1008,\"A\",L991:L1008)","v":0},{"$f":"+SUM(M991:M1008)-SUMIF($A991:$A1008,\"A\",M991:M1008)","v":0},0,0,{"$f":"+SUM(P991:P1008)-SUMIF($A991:$A1008,\"A\",P991:P1008)","v":0},{"$f":"+SUM(Q991:Q1008)-SUMIF($A991:$A1008,\"A\",Q991:Q1008)","v":0},{"$f":"+SUM(R991:R1008)-SUMIF($A991:$A1008,\"A\",R991:R1008)","v":0},{"$f":"+SUM(S991:S1008)-SUMIF($A991:$A1008,\"A\",S991:S1008)","v":0},{"$f":"+SUM(T991:T1008)-SUMIF($A991:$A1008,\"A\",T991:T1008)","v":0},0,0,0,{"$f":"+SUM(R1009:W1009)","v":0},{"$f":"+SUM(Y991:Y1008)","v":0},{"$f":"+SUM(Z991:Z1008)-SUMIF($A991:$A1008,\"A\",Z991:Z1008)","v":0},{"$f":"+SUM(AA991:AA1008)","v":0},{"$f":"+SUM(AB991:AB1008)-SUMIF($A991:$A1008,\"A\",AB991:AB1008)","v":0},{"$f":"IF($C988=\"\",\"\",IF(AND(R1012=\"√\",AD1009=18),\"√\",\"Er\"))","v":""},{"$f":"+SUM(AD991:AD1008)","v":18},null,null,null,null,null,null,null,null,null,null,null,null,null,null,null,{"$f":"+Y1009","v":0},null,null,null,{"$f":"+IF(AX987>0,AX990+1,0)","v":0}]
[null,null,null,null,null,null,null,null,null,null,null,null,null,null,null,null,null,null,null,null,null,null,null,null,null,null,null,null,null,null,null,null,null,null,null,null,null,null,null,null,null,null,null,null,null,null,null,null,null,0]
[null,null,4,null,null,null,null,null,null,null,null,null,null,null,null,null,null,0,null,null,null,null,null,0,0,0,null,0,"√",1,null,null,null,null,null,null,null,null,null,null,null,null,null,null,null,null,null,null,null,0]
[null,null,7,null,null,null,null,null,null,null,null,null,null,null,null,null,null,0,null,null,null,null,null,0,0,0,null,0,"√",1,null,null,null,null,null,null,null,null,null,null,null,null,null,null,null,null,null,null,null,0]
[null,null,18,null,null,null,null,null,null,null,null,null,null,null,null,null,null,0,null,null,null,null,null,0,0,0,null,0,"√",1,null,null,null,null,null,null,null,null,null,null,null,null,null,null,null,null,null,null,null,0]
[null,null,null,null,null,null,null,null,null,null,null,null,null,null,null,null,null,null,null,null,null,null,null,null,null,null,null,null,null,null,null,null,null,null,null,null,null,null,null,null,null,null,null,null,null,null,null,null,null,0]
[null,null,null,null,null,null,null,null,null,null,null,null,null,null,null,null,null,null,null,null,null,null,null,null,null,null,null,null,null,null,null,null,null,null,null,null,null,null,null,null,null,null,null,null,null,null,null,null,null,0]
[null,null,5,null,null,null,null,null,null,null,null,null,null,null,null,null,null,0,null,null,null,null,null,0,0,0,null,0,"√",1,null,null,null,null,null,null,null,null,null,null,null,null,null,null,null,null,null,null,null,0]
[null,null,13,null,null,null,null,null,null,null,null,null,null,null,null,null,null,0,null,null,null,null,null,0,0,0,null,0,"√",1,null,null,null,null,null,null,null,null,null,null,null,null,null,null,null,null,null,null,null,0]
[null,null,18,null,null,null,null,null,null,null,null,null,null,null,null,null,null,0,null,null,null,null,null,0,0,0,null,0,"√",1,null,null,null,null,null,null,null,null,null,null,null,null,null,null,null,null,null,null,null,0]
[null,null,null,null,null,null,null,null,null,null,null,null,null,null,null,null,null,null,null,null,null,null,null,null,null,null,null,null,null,null,null,null,null,null,null,null,null,null,null,null,null,null,null,null,null,null,null,null,null,0]
[null,null,{"$f":"+\"Declaración Jurada: El suscrito Director \"&$D$4245&\" del \"&$E$12&\", código \"&Información!$E$11&\", hace constar que los datos consignados en éste formulario son veraces y responden al estado real de ésta institución.\"&\" Cualquier inexactitud o falsedad estaré incurriendo en las responsabilidades administrativas y disciplinarias, sin perjuicio de las acciones civiles.\"","v":"Declaración Jurada: El suscrito Director  del , código , hace constar que los datos consignados en éste formulario son veraces y responden al estado real de ésta institución. Cualquier inexactitud o falsedad estaré incurriendo en las responsabilidades administrativas y disciplinarias, sin perjuicio de las acciones civiles."},null,null,null,null,null,null,null,null,null,null,null,null,null,null,null,null,null,null,null,null,null,null,null,null,null,null,null,null,null,null,null,null,null,null,null,null,null,null,null,null,null,null,null,null,null,null,0]
[null,null,5,null,null,null,null,null,null,null,null,null,null,null,null,null,null,0,null,null,null,null,null,0,0,0,null,0,"√",1,null,null,null,null,null,null,null,null,null,null,null,null,null,null,null,null,null,null,null,0]
[null,null,13,null,null,null,null,null,null,null,null,null,null,null,null,null,null,0,null,null,null,null,null,0,0,0,null,0,"√",1,null,null,null,null,null,null,null,null,null,null,null,null,null,null,null,null,null,null,null,0]
[null,null,18,null,null,null,null,null,null,null,null,null,null,null,null,null,null,0,null,null,null,null,null,0,0,0,null,0,"√",1,null,null,null,null,null,null,null,null,null,null,null,null,null,null,null,null,null,null,null,0]
[null,null,null,null,null,null,null,null,null,null,null,null,null,null,null,null,null,null,null,null,null,null,null,null,null,null,"Hoja de Cálculo",null,null,null,null,null,null,null,null,null,null,null,null,null,null,null,null,null,null,null,null,null,null,0]
[null,null,null,null,null,null,null,null,null,null,null,"7º","8º","9º","10º","11º","12º",null,null,null,null,null,null,null,null,null,"Prop.","Ints.",null,null,null,{"$f":"+IF($AF$24=0,0,SUMIF($S1130:$W1130,$AF$24,$S1149:$W1149))","v":0},{"$f":"+IF($AG$24=0,0,SUMIF($S1130:$W1130,$AG$24,$S1149:$W1149))","v":0},{"$f":"+IF($AH$24=0,0,SUMIF($S1130:$W1130,$AH$24,$S1149:$W1149))","v":0},{"$f":"+IF($AI$24=0,0,SUMIF($S1130:$W1130,$AI$24,$S1149:$W1149))","v":0},{"$f":"+IF($AJ$24=0,0,SUMIF($S1130:$W1130,$AJ$24,$S1149:$W1149))","v":0},{"$f":"+IF($AK$24=0,0,SUMIF($S1130:$W1130,$AK$24,$S1149:$W1149))","v":0},{"$f":"+IF($AL$24=0,0,SUMIF($S1130:$W1130,$AL$24,$S1149:$W1149))","v":0},{"$f":"+IF($AM$24=0,0,SUMIF($S1130:$W1130,$AM$24,$S1149:$W1149))","v":0},{"$f":"+IF($AN$24=0,0,SUMIF($S1130:$W1130,$AN$24,$S1149:$W1149))","v":0},{"$f":"+IF($AO$24=0,0,SUMIF($S1130:$W1130,$AO$24,$S1149:$W1149))","v":0},{"$f":"+IF($AP$24=0,0,SUMIF($S1130:$W1130,$AP$24,$S1149:$W1149))","v":0},{"$f":"+IF($AQ$24=0,0,SUMIF($S1130:$W1130,$AQ$24,$S1149:$W1149))","v":0},null,null,null,null,null,null,0]
[null,null,5,null,null,null,null,null,null,null,null,null,null,null,null,null,null,0,null,null,null,null,null,0,0,0,null,0,"√",1,null,null,null,null,null,null,null,null,null,null,null,null,null,null,null,null,null,null,null,0]
[null,null,13,null,null,null,null,null,null,null,null,null,null,null,null,null,null,0,null,null,null,null,null,0,0,0,null,0,"√",1,null,null,null,null,null,null,null,null,null,null,null,null,null,null,null,null,null,null,null,0]
[null,null,18,null,null,null,null,null,null,null,null,null,null,null,null,null,null,0,null,null,null,null,null,0,0,0,null,0,"√",1,null,null,null,null,null,null,null,null,null,null,null,null,null,null,null,null,null,null,null,0]
[null,null,null,null,null,null,null,null,null,null,null,null,null,null,null,null,null,null,null,null,null,null,null,null,null,null,null,null,null,null,null,null,null,null,null,null,null,null,null,null,null,null,null,null,null,null,null,null,null,0]
[null,null,null,null,null,null,null,null,null,null,null,"7º","8º","9º","10º","11º","12º",null,null,null,null,null,null,null,null,null,"Prop.","Ints.",null,null,null,{"$f":"+IF($AF$24=0,0,SUMIF($S1165:$W1165,$AF$24,$S1184:$W1184))","v":0},{"$f":"+IF($AG$24=0,0,SUMIF($S1165:$W1165,$AG$24,$S1184:$W1184))","v":0},{"$f":"+IF($AH$24=0,0,SUMIF($S1165:$W1165,$AH$24,$S1184:$W1184))","v":0},{"$f":"+IF($AI$24=0,0,SUMIF($S1165:$W1165,$AI$24,$S1184:$W1184))","v":0},{"$f":"+IF($AJ$24=0,0,SUMIF($S1165:$W1165,$AJ$24,$S1184:$W1184))","v":0},{"$f":"+IF($AK$24=0,0,SUMIF($S1165:$W1165,$AK$24,$S1184:$W1184))","v":0},{"$f":"+IF($AL$24=0,0,SUMIF($S1165:$W1165,$AL$24,$S1184:$W1184))","v":0},{"$f":"+IF($AM$24=0,0,SUMIF($S1165:$W1165,$AM$24,$S1184:$W1184))","v":0},{"$f":"+IF($AN$24=0,0,SUMIF($S1165:$W1165,$AN$24,$S1184:$W1184))","v":0},{"$f":"+IF($AO$24=0,0,SUMIF($S1165:$W1165,$AO$24,$S1184:$W1184))","v":0},{"$f":"+IF($AP$24=0,0,SUMIF($S1165:$W1165,$AP$24,$S1184:$W1184))","v":0},{"$f":"+IF($AQ$24=0,0,SUMIF($S1165:$W1165,$AQ$24,$S1184:$W1184))","v":0},null,null,null,null,null,null,0]
[null,null,5,null,null,null,null,null,null,null,null,null,null,null,null,null,null,0,null,null,null,null,null,0,0,0,null,0,"√",1,null,null,null,null,null,null,null,null,null,null,null,null,null,null,null,null,null,null,null,0]
[null,null,16,null,null,null,null,null,null,null,null,null,null,null,null,null,null,0,null,null,null,null,null,0,0,0,null,0,"√",1,null,null,null,null,null,null,null,null,null,null,null,null,null,null,null,null,null,null,null,0]
[null,null,null,null,null,null,null,null,"Control 2",null,"Control:",{"$f":"IF(L1185=\"\",\"\",IF(L1184>L1185,\"E\",IF(L1184<L1185,\"S\",\"√\")))","v":""},{"$f":"IF(M1185=\"\",\"\",IF(M1184>M1185,\"E\",IF(M1184<M1185,\"S\",\"√\")))","v":""},"","","","",{"$f":"IF($C1143=\"\",\"\",IF(AND(L1187=\"√\",M1187=\"√\",N1187=\"√\",O1187=\"√\",P1187=\"√\",Q1187=\"√\"),\"√\",\"Error\"))","v":"Error"},null,null,null,null,null,null,null,null,null,null,null,null,null,null,null,null,null,null,null,null,null,null,null,null,null,null,null,null,null,{"$f":"+IF(OR(B1187=\"\",B1187=\"Lecciones de TIE asignadas -√-\"),1,0)","v":1},null,0]
[null,null,null,null,null,null,null,null,null,null,null,null,null,null,null,null,null,null,null,null,null,null,null,null,null,null,null,null,null,null,null,null,null,null,null,null,null,null,null,null,null,null,null,null,null,null,null,null,null,0]
["Ausente","Sustituto",{"$f":"IFERROR(VLOOKUP(A1197,'hoja de cálculo'!$A$7:'hoja de cálculo'!$H$321,8,0),\"\")","v":""},null,null,null,null,null,null,null,null,null,null,null,null,null,null,null,null,null,null,null,null,null,null,null,null,null,"Cont. 1",null,null,null,null,null,null,null,null,null,null,null,null,null,null,null,null,null,null,null,null,{"$f":"+IF(AX1197>0,AX1197+1,0)","v":0}]
[null,null,6,null,null,null,null,null,null,null,null,null,null,null,null,null,null,0,null,null,null,null,null,0,0,0,null,0,"√",1,null,null,null,null,null,null,null,null,null,null,null,null,null,null,null,null,null,null,null,0]
[null,null,14,null,null,null,null,null,null,null,null,null,null,null,null,null,null,0,null,null,null,null,null,0,0,0,null,0,"√",1,null,null,null,null,null,null,null,null,null,null,null,null,null,null,null,null,null,null,null,0]
[null,null,null,null,null,null,null,null,"Control 2",null,"Control:",{"$f":"IF(L1220=\"\",\"\",IF(L1219>L1220,\"E\",IF(L1219<L1220,\"S\",\"√\")))","v":""},{"$f":"IF(M1220=\"\",\"\",IF(M1219>M1220,\"E\",IF(M1219<M1220,\"S\",\"√\")))","v":""},"","","","",{"$f":"IF($C1178=\"\",\"\",IF(AND(L1222=\"√\",M1222=\"√\",N1222=\"√\",O1222=\"√\",P1222=\"√\",Q1222=\"√\"),\"√\",\"Error\"))","v":"Error"},null,null,null,null,null,null,null,null,null,null,null,null,null,null,null,null,null,null,null,null,null,null,null,null,null,null,null,null,null,{"$f":"+IF(OR(B1222=\"\",B1222=\"Lecciones de TIE asignadas -√-\"),1,0)","v":1},null,0]
[null,null,null,null,null,null,null,null,null,null,null,null,null,null,null,null,null,null,null,null,null,null,null,null,null,null,null,null,null,null,null,null,null,null,null,null,null,null,null,null,null,null,null,null,null,null,null,null,null,0]
[null,null,1,null,null,null,null,null,null,null,null,null,null,null,null,null,null,{"$f":"+SUM(L1236:Q1236)","v":0},null,null,null,null,null,{"$f":"+SUM(R1236:W1236)","v":0},{"$f":"IF(X1236=0,0,IF(X1236>48,\"E\",IF(X1236<44,0,IF(A1236=\"A\",0,48-X1236))))","v":0},{"$f":"+IF(Y1236=\"E\",\"E\",(X1236+Y1236))","v":0},null,{"$f":"+IF(Z1236=\"E\",\"E\",(Z1236-AA1236))","v":0},{"$f":"IF(A1236=\"A\",\"√\",IF(Z1236>48,\"E\",\"√\"))","v":"√"},{"$f":"+IF(AC1236=\"√\",1,0)","v":1},null,null,null,null,null,null,null,null,null,null,null,null,null,null,null,null,null,null,null,{"$f":"+IF(OR(AA1236+AB1236>0,D1236<>0,H1236<>0,I1236<>0,J1236<>0),AX1235+1,0)","v":0}]
[null,null,9,null,null,null,null,null,null,null,null,null,null,null,null,null,null,0,null,null,null,null,null,0,0,0,null,0,"√",1,null,null,null,null,null,null,null,null,null,null,null,null,null,null,null,null,null,null,null,0]
[null,null,14,null,null,null,null,null,null,null,null,null,null,null,null,null,null,0,null,null,null,null,null,0,0,0,null,0,"√",1,null,null,null,null,null,null,null,null,null,null,null,null,null,null,null,null,null,null,null,0]
[null,null,null,null,null,null,null,null,"Total de secciones",null,"Control:",{"$f":"+IF(C1233=\"\",\"\",VLOOKUP($A1232,'hoja de cálculo'!$A$17:$AQ$321,38,0))","v":""},{"$f":"+IF(C1233=\"\",\"\",VLOOKUP($A1232,'hoja de cálculo'!$A$17:$AQ$321,39,0))","v":""},{"$f":"+IF(C1233=\"\",\"\",VLOOKUP($A1232,'hoja de cálculo'!$A$17:$AQ$321,40,0))","v":""},{"$f":"+IF(C1233=\"\",\"\",VLOOKUP($A1232,'hoja de cálculo'!$A$17:$AQ$321,41,0))","v":""},{"$f":"+IF(C1233=\"\",\"\",VLOOKUP($A1232,'hoja de cálculo'!$A$17:$AQ$321,42,0))","v":""},{"$f":"+IF(C1233=\"\",\"\",VLOOKUP($A1232,'hoja de cálculo'!$A$17:$AQ$321,43,0))","v":""},{"$f":"+SUM(L1256:Q1256)","v":0},null,null,null,null,null,null,null,null,null,null,null,null,null,null,null,null,null,null,null,null,null,null,null,null,null,null,null,null,null,null,null,0]
[null,null,null,null,null,null,null,null,null,null,null,null,null,null,null,null,null,null,null,null,null,null,null,null,null,null,"Hoja de Cálculo",null,null,null,null,null,null,null,null,null,null,null,null,null,null,null,null,null,null,null,null,null,null,0]
[null,null,1,null,null,null,null,null,null,null,null,null,null,null,null,null,null,{"$f":"+SUM(L1271:Q1271)","v":0},null,null,null,null,null,{"$f":"+SUM(R1271:W1271)","v":0},{"$f":"IF(X1271=0,0,IF(X1271>48,\"E\",IF(X1271<44,0,IF(A1271=\"A\",0,48-X1271))))","v":0},{"$f":"+IF(Y1271=\"E\",\"E\",(X1271+Y1271))","v":0},null,{"$f":"+IF(Z1271=\"E\",\"E\",(Z1271-AA1271))","v":0},{"$f":"IF(A1271=\"A\",\"√\",IF(Z1271>48,\"E\",\"√\"))","v":"√"},{"$f":"+IF(AC1271=\"√\",1,0)","v":1},null,null,null,null,null,null,null,null,null,null,null,null,null,null,null,null,null,null,null,{"$f":"+IF(OR(AA1271+AB1271>0,D1271<>0,H1271<>0,I1271<>0,J1271<>0),AX1270+1,0)","v":0}]
[null,null,9,null,null,null,null,null,null,null,null,null,null,null,null,null,null,0,null,null,null,null,null,0,0,0,null,0,"√",1,null,null,null,null,null,null,null,null,null,null,null,null,null,null,null,null,null,null,null,0]
[null,null,null,null,null,null,null,null,"Total de lecciones asignadas:",null,null,{"$f":"+SUM(L1271:L1288)-SUMIF($A1271:$A1288,\"A\",L1271:L1288)","v":0},{"$f":"+SUM(M1271:M1288)-SUMIF($A1271:$A1288,\"A\",M1271:M1288)","v":0},0,0,{"$f":"+SUM(P1271:P1288)-SUMIF($A1271:$A1288,\"A\",P1271:P1288)","v":0},{"$f":"+SUM(Q1271:Q1288)-SUMIF($A1271:$A1288,\"A\",Q1271:Q1288)","v":0},{"$f":"+SUM(R1271:R1288)-SUMIF($A1271:$A1288,\"A\",R1271:R1288)","v":0},{"$f":"+SUM(S1271:S1288)-SUMIF($A1271:$A1288,\"A\",S1271:S1288)","v":0},{"$f":"+SUM(T1271:T1288)-SUMIF($A1271:$A1288,\"A\",T1271:T1288)","v":0},0,0,0,{"$f":"+SUM(R1289:W1289)","v":0},{"$f":"+SUM(Y1271:Y1288)","v":0},{"$f":"+SUM(Z1271:Z1288)-SUMIF($A1271:$A1288,\"A\",Z1271:Z1288)","v":0},{"$f":"+SUM(AA1271:AA1288)","v":0},{"$f":"+SUM(AB1271:AB1288)-SUMIF($A1271:$A1288,\"A\",AB1271:AB1288)","v":0},{"$f":"IF($C1268=\"\",\"\",IF(AND(R1292=\"√\",AD1289=18),\"√\",\"Er\"))","v":""},{"$f":"+SUM(AD1271:AD1288)","v":18},null,null,null,null,null,null,null,null,null,null,null,null,null,null,null,{"$f":"+Y1289","v":0},null,null,null,{"$f":"+IF(AX1267>0,AX1270+1,0)","v":0}]
[null,null,null,null,null,null,null,null,"Plan de Estudios",null,"Control:",{"$f":"+IF(C1268=\"\",\"\",VLOOKUP($A1267,'hoja de cálculo'!$A$17:$BD$321,51,0))","v":""},{"$f":"+IF(C1268=\"\",\"\",VLOOKUP($A1267,'hoja de cálculo'!$A$17:$BD$321,52,0))","v":""},{"$f":"+IF(C1268=\"\",\"\",VLOOKUP($A1267,'hoja de cálculo'!$A$17:$BD$321,53,0))","v":""},{"$f":"+IF(C1268=\"\",\"\",VLOOKUP($A1267,'hoja de cálculo'!$A$17:$BD$321,54,0))","v":""},{"$f":"+IF(C1268=\"\",\"\",VLOOKUP($A1267,'hoja de cálculo'!$A$17:$BD$321,55,0))","v":""},{"$f":"+IF(C1268=\"\",\"\",VLOOKUP($A1267,'hoja de cálculo'!$A$17:$BD$321,56,0))","v":""},null,null,null,null,null,null,null,null,null,null,null,null,null,null,null,null,null,null,null,null,null,null,null,null,null,null,null,{"$f":"+IF(AB1293<0,-AB1293,0)","v":0},null,null,null,null,0]
[null,null,null,null,null,null,null,null,null,null,null,"7º","8º","9º","10º","11º","12º",null,null,null,null,null,null,null,null,null,"Prop.","Ints.",null,null,null,{"$f":"+IF($AF$24=0,0,SUMIF($S1305:$W1305,$AF$24,$S1324:$W1324))","v":0},{"$f":"+IF($AG$24=0,0,SUMIF($S1305:$W1305,$AG$24,$S1324:$W1324))","v":0},{"$f":"+IF($AH$24=0,0,SUMIF($S1305:$W1305,$AH$24,$S1324:$W1324))","v":0},{"$f":"+IF($AI$24=0,0,SUMIF($S1305:$W1305,$AI$24,$S1324:$W1324))","v":0},{"$f":"+IF($AJ$24=0,0,SUMIF($S1305:$W1305,$AJ$24,$S1324:$W1324))","v":0},{"$f":"+IF($AK$24=0,0,SUMIF($S1305:$W1305,$AK$24,$S1324:$W1324))","v":0},{"$f":"+IF($AL$24=0,0,SUMIF($S1305:$W1305,$AL$24,$S1324:$W1324))","v":0},{"$f":"+IF($AM$24=0,0,SUMIF($S1305:$W1305,$AM$24,$S1324:$W1324))","v":0},{"$f":"+IF($AN$24=0,0,SUMIF($S1305:$W1305,$AN$24,$S1324:$W1324))","v":0},{"$f":"+IF($AO$24=0,0,SUMIF($S1305:$W1305,$AO$24,$S1324:$W1324))","v":0},{"$f":"+IF($AP$24=0,0,SUMIF($S1305:$W1305,$AP$24,$S1324:$W1324))","v":0},{"$f":"+IF($AQ$24=0,0,SUMIF($S1305:$W1305,$AQ$24,$S1324:$W1324))","v":0},null,null,null,null,null,null,0]
[null,null,1,null,null,null,null,null,null,null,null,null,null,null,null,null,null,{"$f":"+SUM(L1306:Q1306)","v":0},null,null,null,null,null,{"$f":"+SUM(R1306:W1306)","v":0},{"$f":"IF(X1306=0,0,IF(X1306>48,\"E\",IF(X1306<44,0,IF(A1306=\"A\",0,48-X1306))))","v":0},{"$f":"+IF(Y1306=\"E\",\"E\",(X1306+Y1306))","v":0},null,{"$f":"+IF(Z1306=\"E\",\"E\",(Z1306-AA1306))","v":0},{"$f":"IF(A1306=\"A\",\"√\",IF(Z1306>48,\"E\",\"√\"))","v":"√"},{"$f":"+IF(AC1306=\"√\",1,0)","v":1},null,null,null,null,null,null,null,null,null,null,null,null,null,null,null,null,null,null,null,{"$f":"+IF(OR(AA1306+AB1306>0,D1306<>0,H1306<>0,I1306<>0,J1306<>0),AX1305+1,0)","v":0}]
[null,null,9,null,null,null,null,null,null,null,null,null,null,null,null,null,null,0,null,null,null,null,null,0,0,0,null,0,"√",1,null,null,null,null,null,null,null,null,null,null,null,null,null,null,null,null,null,null,null,0]
[null,null,null,null,null,null,null,null,"Control 2",null,"Control:",{"$f":"IF(L1325=\"\",\"\",IF(L1324>L1325,\"E\",IF(L1324<L1325,\"S\",\"√\")))","v":""},{"$f":"IF(M1325=\"\",\"\",IF(M1324>M1325,\"E\",IF(M1324<M1325,\"S\",\"√\")))","v":""},"","","","",{"$f":"IF($C1283=\"\",\"\",IF(AND(L1327=\"√\",M1327=\"√\",N1327=\"√\",O1327=\"√\",P1327=\"√\",Q1327=\"√\"),\"√\",\"Error\"))","v":"Error"},null,null,null,null,null,null,null,null,null,null,null,null,null,null,null,null,null,null,null,null,null,null,null,null,null,null,null,null,null,{"$f":"+IF(OR(B1327=\"\",B1327=\"Lecciones de TIE asignadas -√-\"),1,0)","v":1},null,0]
[null,null,null,null,null,null,null,null,"Plan de Estudios",null,"Control:",{"$f":"+IF(C1303=\"\",\"\",VLOOKUP($A1302,'hoja de cálculo'!$A$17:$BD$321,51,0))","v":""},{"$f":"+IF(C1303=\"\",\"\",VLOOKUP($A1302,'hoja de cálculo'!$A$17:$BD$321,52,0))","v":""},{"$f":"+IF(C1303=\"\",\"\",VLOOKUP($A1302,'hoja de cálculo'!$A$17:$BD$321,53,0))","v":""},{"$f":"+IF(C1303=\"\",\"\",VLOOKUP($A1302,'hoja de cálculo'!$A$17:$BD$321,54,0))","v":""},{"$f":"+IF(C1303=\"\",\"\",VLOOKUP($A1302,'hoja de cálculo'!$A$17:$BD$321,55,0))","v":""},{"$f":"+IF(C1303=\"\",\"\",VLOOKUP($A1302,'hoja de cálculo'!$A$17:$BD$321,56,0))","v":""},null,null,null,null,null,null,null,null,null,null,null,null,null,null,null,null,null,null,null,null,null,null,null,null,null,null,null,{"$f":"+IF(AB1328<0,-AB1328,0)","v":0},null,null,null,null,0]
[null,null,null,null,null,null,null,null,null,null,null,null,null,null,null,null,null,null,null,null,null,null,null,null,null,null,null,null,null,null,null,null,null,null,null,null,null,null,null,null,null,null,null,null,null,null,null,null,null,0]
[null,null,7,null,null,null,null,null,null,null,null,null,null,null,null,null,null,0,null,null,null,null,null,0,0,0,null,0,"√",1,null,null,null,null,null,null,null,null,null,null,null,null,null,null,null,null,null,null,null,0]
[null,null,10,null,null,null,null,null,null,null,null,null,null,null,null,null,null,0,null,null,null,null,null,0,0,0,null,0,"√",1,null,null,null,null,null,null,null,null,null,null,null,null,null,null,null,null,null,null,null,0]
[null,null,null,null,null,null,null,null,"Control 2",null,"Control:",{"$f":"IF(L1360=\"\",\"\",IF(L1359>L1360,\"E\",IF(L1359<L1360,\"S\",\"√\")))","v":""},{"$f":"IF(M1360=\"\",\"\",IF(M1359>M1360,\"E\",IF(M1359<M1360,\"S\",\"√\")))","v":""},"","","","",{"$f":"IF($C1318=\"\",\"\",IF(AND(L1362=\"√\",M1362=\"√\",N1362=\"√\",O1362=\"√\",P1362=\"√\",Q1362=\"√\"),\"√\",\"Error\"))","v":"Error"},null,null,null,null,null,null,null,null,null,null,null,null,null,null,null,null,null,null,null,null,null,null,null,null,null,null,null,null,null,{"$f":"+IF(OR(B1362=\"\",B1362=\"Lecciones de TIE asignadas -√-\"),1,0)","v":1},null,0]
[null,null,{"$f":"+\"Declaración Jurada: El suscrito Director \"&$D$4245&\" del \"&$E$12&\", código \"&Información!$E$11&\", hace constar que los datos consignados en éste formulario son veraces y responden al estado real de ésta institución.\"&\" Cualquier inexactitud o falsedad estaré incurriendo en las responsabilidades administrativas y disciplinarias, sin perjuicio de las acciones civiles.\"","v":"Declaración Jurada: El suscrito Director  del , código , hace constar que los datos consignados en éste formulario son veraces y responden al estado real de ésta institución. Cualquier inexactitud o falsedad estaré incurriendo en las responsabilidades administrativas y disciplinarias, sin perjuicio de las acciones civiles."},null,null,null,null,null,null,null,null,null,null,null,null,null,null,null,null,null,null,null,null,null,null,null,null,null,null,null,null,null,null,null,null,null,null,null,null,null,null,null,null,null,null,null,null,null,null,0]
[{"$f":"+A1337+1","v":39},{"$f":"IFERROR(VLOOKUP(A1372,'hoja de cálculo'!$A$22:'hoja de cálculo'!$C$321,3,0),\"\")","v":""},null,null,null,null,null,null,null,null,null,null,null,null,null,null,null,null,null,null,null,null,null,null,null,null,null,null,null,null,null,null,null,null,null,null,null,null,null,null,null,null,null,null,null,null,null,null,null,{"$f":"+IF(B1372=\"\",0,1)","v":0}]
[null,null,9,null,null,null,null,null,null,null,null,null,null,null,null,null,null,0,null,null,null,null,null,0,0,0,null,0,"√",1,null,null,null,null,null,null,null,null,null,null,null,null,null,null,null,null,null,null,null,0]
[null,null,17,null,null,null,null,null,null,null,null,null,null,null,null,null,null,0,null,null,null,null,null,0,0,0,null,0,"√",1,null,null,null,null,null,null,null,null,null,null,null,null,null,null,null,null,null,null,null,0]
[null,null,18,null,null,null,null,null,null,null,null,null,null,null,null,null,null,0,null,null,null,null,null,0,0,0,null,0,"√",1,null,null,null,null,null,null,null,null,null,null,null,null,null,null,null,null,null,null,null,0]
[null,null,{"$f":"+\"Declaración Jurada: El suscrito Director \"&$D$4245&\" del \"&$E$12&\", código \"&Información!$E$11&\", hace constar que los datos consignados en éste formulario son veraces y responden al estado real de ésta institución.\"&\" Cualquier inexactitud o falsedad estaré incurriendo en las responsabilidades administrativas y disciplinarias, sin perjuicio de las acciones civiles.\"","v":"Declaración Jurada: El suscrito Director  del , código , hace constar que los datos consignados en éste formulario son veraces y responden al estado real de ésta institución. Cualquier inexactitud o falsedad estaré incurriendo en las responsabilidades administrativas y disciplinarias, sin perjuicio de las acciones civiles."},null,null,null,null,null,null,null,null,null,null,null,null,null,null,null,null,null,null,null,null,null,null,null,null,null,null,null,null,null,null,null,null,null,null,null,null,null,null,null,null,null,null,null,null,null,null,0]
[null,null,4,null,null,null,null,null,null,null,null,null,null,null,null,null,null,0,null,null,null,null,null,0,0,0,null,0,"√",1,null,null,null,null,null,null,null,null,null,null,null,null,null,null,null,null,null,null,null,0]
[null,null,9,null,null,null,null,null,null,null,null,null,null,null,null,null,null,0,null,null,null,null,null,0,0,0,null,0,"√",1,null,null,null,null,null,null,null,null,null,null,null,null,null,null,null,null,null,null,null,0]
[null,null,12,null,null,null,null,null,null,null,null,null,null,null,null,null,null,0,null,null,null,null,null,0,0,0,null,0,"√",1,null,null,null,null,null,null,null,null,null,null,null,null,null,null,null,null,null,null,null,0]
[null,null,null,null,null,null,null,null,null,null,null,null,null,null,null,null,null,null,null,null,null,null,null,null,null,null,null,null,null,null,null,null,null,null,null,null,null,null,null,null,null,null,null,null,null,null,null,null,null,0]
[null,null,null,null,null,null,null,null,null,null,null,null,null,null,null,null,null,null,null,null,null,null,null,null,null,null,null,null,null,null,null,null,null,null,null,null,null,null,null,null,null,null,null,null,null,null,null,null,null,0]
[null,null,4,null,null,null,null,null,null,null,null,null,null,null,null,null,null,0,null,null,null,null,null,0,0,0,null,0,"√",1,null,null,null,null,null,null,null,null,null,null,null,null,null,null,null,null,null,null,null,0]
[null,null,10,null,null,null,null,null,null,null,null,null,null,null,null,null,null,0,null,null,null,null,null,0,0,0,null,0,"√",1,null,null,null,null,null,null,null,null,null,null,null,null,null,null,null,null,null,null,null,0]
[null,null,18,null,null,null,null,null,null,null,null,null,null,null,null,null,null,0,null,null,null,null,null,0,0,0,null,0,"√",1,null,null,null,null,null,null,null,null,null,null,null,null,null,null,null,null,null,null,null,0]
[null,null,null,null,null,null,null,null,null,null,null,null,null,null,null,null,null,null,null,null,null,null,null,null,null,null,null,null,null,null,null,null,null,null,null,null,null,null,null,null,null,null,null,null,null,null,null,null,null,0]
[null,null,null,null,null,null,null,null,null,null,null,null,null,null,null,null,null,null,null,null,null,null,null,null,null,null,null,null,null,null,null,null,null,null,null,null,null,null,null,null,null,null,null,null,null,null,null,null,null,0]
[null,null,null,null,null,null,null,null,null,null,null,"7º","8º","9º","10º","11º","12º",null,null,null,null,null,null,null,null,null,"Prop.","Ints.",null,null,null,{"$f":"+IF($AF$24=0,0,SUMIF($S1480:$W1480,$AF$24,$S1499:$W1499))","v":0},{"$f":"+IF($AG$24=0,0,SUMIF($S1480:$W1480,$AG$24,$S1499:$W1499))","v":0},{"$f":"+IF($AH$24=0,0,SUMIF($S1480:$W1480,$AH$24,$S1499:$W1499))","v":0},{"$f":"+IF($AI$24=0,0,SUMIF($S1480:$W1480,$AI$24,$S1499:$W1499))","v":0},{"$f":"+IF($AJ$24=0,0,SUMIF($S1480:$W1480,$AJ$24,$S1499:$W1499))","v":0},{"$f":"+IF($AK$24=0,0,SUMIF($S1480:$W1480,$AK$24,$S1499:$W1499))","v":0},{"$f":"+IF($AL$24=0,0,SUMIF($S1480:$W1480,$AL$24,$S1499:$W1499))","v":0},{"$f":"+IF($AM$24=0,0,SUMIF($S1480:$W1480,$AM$24,$S1499:$W1499))","v":0},{"$f":"+IF($AN$24=0,0,SUMIF($S1480:$W1480,$AN$24,$S1499:$W1499))","v":0},{"$f":"+IF($AO$24=0,0,SUMIF($S1480:$W1480,$AO$24,$S1499:$W1499))","v":0},{"$f":"+IF($AP$24=0,0,SUMIF($S1480:$W1480,$AP$24,$S1499:$W1499))","v":0},{"$f":"+IF($AQ$24=0,0,SUMIF($S1480:$W1480,$AQ$24,$S1499:$W1499))","v":0},null,null,null,null,null,null,0]
[null,null,13,null,null,null,null,null,null,null,null,null,null,null,null,null,null,0,null,null,null,null,null,0,0,0,null,0,"√",1,null,null,null,null,null,null,null,null,null,null,null,null,null,null,null,null,null,null,null,0]
[null,null,18,null,null,null,null,null,null,null,null,null,null,null,null,null,null,0,null,null,null,null,null,0,0,0,null,0,"√",1,null,null,null,null,null,null,null,null,null,null,null,null,null,null,null,null,null,null,null,0]
[null,null,null,null,null,null,null,null,null,null,null,null,null,null,null,null,null,null,null,null,null,null,null,null,null,null,null,null,null,null,null,null,null,null,null,null,null,null,null,null,null,null,null,null,null,null,null,null,null,0]
["Ausente","Sustituto",{"$f":"IFERROR(VLOOKUP(A1512,'hoja de cálculo'!$A$7:'hoja de cálculo'!$H$321,8,0),\"\")","v":""},null,null,null,null,null,null,null,null,null,null,null,null,null,null,null,null,null,null,null,null,null,null,null,null,null,"Cont. 1",null,null,null,null,null,null,null,null,null,null,null,null,null,null,null,null,null,null,null,null,{"$f":"+IF(AX1512>0,AX1512+1,0)","v":0}]
[null,null,5,null,null,null,null,null,null,null,null,null,null,null,null,null,null,0,null,null,null,null,null,0,0,0,null,0,"√",1,null,null,null,null,null,null,null,null,null,null,null,null,null,null,null,null,null,null,null,0]
[null,null,13,null,null,null,null,null,null,null,null,null,null,null,null,null,null,0,null,null,null,null,null,0,0,0,null,0,"√",1,null,null,null,null,null,null,null,null,null,null,null,null,null,null,null,null,null,null,null,0]
[null,null,18,null,null,null,null,null,null,null,null,null,null,null,null,null,null,0,null,null,null,null,null,0,0,0,null,0,"√",1,null,null,null,null,null,null,null,null,null,null,null,null,null,null,null,null,null,null,null,0]
[null,null,null,null,null,null,null,null,"Plan de Estudios",null,"Control:",{"$f":"+IF(C1513=\"\",\"\",VLOOKUP($A1512,'hoja de cálculo'!$A$17:$BD$321,51,0))","v":""},{"$f":"+IF(C1513=\"\",\"\",VLOOKUP($A1512,'hoja de cálculo'!$A$17:$BD$321,52,0))","v":""},{"$f":"+IF(C1513=\"\",\"\",VLOOKUP($A1512,'hoja de cálculo'!$A$17:$BD$321,53,0))","v":""},{"$f":"+IF(C1513=\"\",\"\",VLOOKUP($A1512,'hoja de cálculo'!$A$17:$BD$321,54,0))","v":""},{"$f":"+IF(C1513=\"\",\"\",VLOOKUP($A1512,'hoja de cálculo'!$A$17:$BD$321,55,0))","v":""},{"$f":"+IF(C1513=\"\",\"\",VLOOKUP($A1512,'hoja de cálculo'!$A$17:$BD$321,56,0))","v":""},null,null,null,null,null,null,null,null,null,null,null,null,null,null,null,null,null,null,null,null,null,null,null,null,null,null,null,{"$f":"+IF(AB1538<0,-AB1538,0)","v":0},null,null,null,null,0]
[{"$f":"+A1512+1","v":44},{"$f":"IFERROR(VLOOKUP(A1547,'hoja de cálculo'!$A$22:'hoja de cálculo'!$C$321,3,0),\"\")","v":""},null,null,null,null,null,null,null,null,null,null,null,null,null,null,null,null,null,null,null,null,null,null,null,null,null,null,null,null,null,null,null,null,null,null,null,null,null,null,null,null,null,null,null,null,null,null,null,{"$f":"+IF(B1547=\"\",0,1)","v":0}]
[null,null,5,null,null,null,null,null,null,null,null,null,null,null,null,null,null,0,null,null,null,null,null,0,0,0,null,0,"√",1,null,null,null,null,null,null,null,null,null,null,null,null,null,null,null,null,null,null,null,0]
[null,null,13,null,null,null,null,null,null,null,null,null,null,null,null,null,null,0,null,null,null,null,null,0,0,0,null,0,"√",1,null,null,null,null,null,null,null,null,null,null,null,null,null,null,null,null,null,null,null,0]
[null,null,null,null,null,null,null,null,"Total de secciones",null,"Control:",{"$f":"+IF(C1548=\"\",\"\",VLOOKUP($A1547,'hoja de cálculo'!$A$17:$AQ$321,38,0))","v":""},{"$f":"+IF(C1548=\"\",\"\",VLOOKUP($A1547,'hoja de cálculo'!$A$17:$AQ$321,39,0))","v":""},{"$f":"+IF(C1548=\"\",\"\",VLOOKUP($A1547,'hoja de cálculo'!$A$17:$AQ$321,40,0))","v":""},{"$f":"+IF(C1548=\"\",\"\",VLOOKUP($A1547,'hoja de cálculo'!$A$17:$AQ$321,41,0))","v":""},{"$f":"+IF(C1548=\"\",\"\",VLOOKUP($A1547,'hoja de cálculo'!$A$17:$AQ$321,42,0))","v":""},{"$f":"+IF(C1548=\"\",\"\",VLOOKUP($A1547,'hoja de cálculo'!$A$17:$AQ$321,43,0))","v":""},{"$f":"+SUM(L1571:Q1571)","v":0},null,null,null,null,null,null,null,null,null,null,null,null,null,null,null,null,null,null,null,null,null,null,null,null,null,null,null,null,null,null,null,0]
[null,null,null,null,null,null,null,null,null,null,null,null,null,null,null,null,null,null,null,null,null,null,null,null,null,null,null,null,null,null,null,null,null,null,null,null,null,null,null,null,null,null,null,null,null,null,null,null,null,0]
[null,null,null,null,null,null,null,null,null,null,null,"7º","8º","9º","10º","11º","12º",null,null,null,null,null,null,null,null,null,"Prop.","Ints.",null,null,null,{"$f":"+IF($AF$24=0,0,SUMIF($S1585:$W1585,$AF$24,$S1604:$W1604))","v":0},{"$f":"+IF($AG$24=0,0,SUMIF($S1585:$W1585,$AG$24,$S1604:$W1604))","v":0},{"$f":"+IF($AH$24=0,0,SUMIF($S1585:$W1585,$AH$24,$S1604:$W1604))","v":0},{"$f":"+IF($AI$24=0,0,SUMIF($S1585:$W1585,$AI$24,$S1604:$W1604))","v":0},{"$f":"+IF($AJ$24=0,0,SUMIF($S1585:$W1585,$AJ$24,$S1604:$W1604))","v":0},{"$f":"+IF($AK$24=0,0,SUMIF($S1585:$W1585,$AK$24,$S1604:$W1604))","v":0},{"$f":"+IF($AL$24=0,0,SUMIF($S1585:$W1585,$AL$24,$S1604:$W1604))","v":0},{"$f":"+IF($AM$24=0,0,SUMIF($S1585:$W1585,$AM$24,$S1604:$W1604))","v":0},{"$f":"+IF($AN$24=0,0,SUMIF($S1585:$W1585,$AN$24,$S1604:$W1604))","v":0},{"$f":"+IF($AO$24=0,0,SUMIF($S1585:$W1585,$AO$24,$S1604:$W1604))","v":0},{"$f":"+IF($AP$24=0,0,SUMIF($S1585:$W1585,$AP$24,$S1604:$W1604))","v":0},{"$f":"+IF($AQ$24=0,0,SUMIF($S1585:$W1585,$AQ$24,$S1604:$W1604))","v":0},null,null,null,null,null,null,0]
[null,null,5,null,null,null,null,null,null,null,null,null,null,null,null,null,null,0,null,null,null,null,null,0,0,0,null,0,"√",1,null,null,null,null,null,null,null,null,null,null,null,null,null,null,null,null,null,null,null,0]
[null,null,11,null,null,null,null,null,null,null,null,null,null,null,null,null,null,0,null,null,null,null,null,0,0,0,null,0,"√",1,null,null,null,null,null,null,null,null,null,null,null,null,null,null,null,null,null,null,null,0]
[null,null,null,null,null,null,null,null,"Total de lecciones asignadas:",null,null,{"$f":"+SUM(L1586:L1603)-SUMIF($A1586:$A1603,\"A\",L1586:L1603)","v":0},{"$f":"+SUM(M1586:M1603)-SUMIF($A1586:$A1603,\"A\",M1586:M1603)","v":0},0,0,{"$f":"+SUM(P1586:P1603)-SUMIF($A1586:$A1603,\"A\",P1586:P1603)","v":0},{"$f":"+SUM(Q1586:Q1603)-SUMIF($A1586:$A1603,\"A\",Q1586:Q1603)","v":0},{"$f":"+SUM(R1586:R1603)-SUMIF($A1586:$A1603,\"A\",R1586:R1603)","v":0},{"$f":"+SUM(S1586:S1603)-SUMIF($A1586:$A1603,\"A\",S1586:S1603)","v":0},{"$f":"+SUM(T1586:T1603)-SUMIF($A1586:$A1603,\"A\",T1586:T1603)","v":0},0,0,0,{"$f":"+SUM(R1604:W1604)","v":0},{"$f":"+SUM(Y1586:Y1603)","v":0},{"$f":"+SUM(Z1586:Z1603)-SUMIF($A1586:$A1603,\"A\",Z1586:Z1603)","v":0},{"$f":"+SUM(AA1586:AA1603)","v":0},{"$f":"+SUM(AB1586:AB1603)-SUMIF($A1586:$A1603,\"A\",AB1586:AB1603)","v":0},{"$f":"IF($C1583=\"\",\"\",IF(AND(R1607=\"√\",AD1604=18),\"√\",\"Er\"))","v":""},{"$f":"+SUM(AD1586:AD1603)","v":18},null,null,null,null,null,null,null,null,null,null,null,null,null,null,null,{"$f":"+Y1604","v":0},null,null,null,{"$f":"+IF(AX1582>0,AX1585+1,0)","v":0}]
[null,null,null,null,null,null,null,null,null,null,null,null,null,null,null,null,null,null,null,null,null,null,null,null,null,null,null,null,null,null,null,null,null,null,null,null,null,null,null,null,null,null,null,null,null,null,null,null,null,0]
[null,null,null,null,null,null,null,null,null,null,null,"7º","8º","9º","10º","11º","12º",null,null,null,null,null,null,null,null,null,"Prop.","Ints.",null,null,null,{"$f":"+IF($AF$24=0,0,SUMIF($S1620:$W1620,$AF$24,$S1639:$W1639))","v":0},{"$f":"+IF($AG$24=0,0,SUMIF($S1620:$W1620,$AG$24,$S1639:$W1639))","v":0},{"$f":"+IF($AH$24=0,0,SUMIF($S1620:$W1620,$AH$24,$S1639:$W1639))","v":0},{"$f":"+IF($AI$24=0,0,SUMIF($S1620:$W1620,$AI$24,$S1639:$W1639))","v":0},{"$f":"+IF($AJ$24=0,0,SUMIF($S1620:$W1620,$AJ$24,$S1639:$W1639))","v":0},{"$f":"+IF($AK$24=0,0,SUMIF($S1620:$W1620,$AK$24,$S1639:$W1639))","v":0},{"$f":"+IF($AL$24=0,0,SUMIF($S1620:$W1620,$AL$24,$S1639:$W1639))","v":0},{"$f":"+IF($AM$24=0,0,SUMIF($S1620:$W1620,$AM$24,$S1639:$W1639))","v":0},{"$f":"+IF($AN$24=0,0,SUMIF($S1620:$W1620,$AN$24,$S1639:$W1639))","v":0},{"$f":"+IF($AO$24=0,0,SUMIF($S1620:$W1620,$AO$24,$S1639:$W1639))","v":0},{"$f":"+IF($AP$24=0,0,SUMIF($S1620:$W1620,$AP$24,$S1639:$W1639))","v":0},{"$f":"+IF($AQ$24=0,0,SUMIF($S1620:$W1620,$AQ$24,$S1639:$W1639))","v":0},null,null,null,null,null,null,0]
[null,null,9,null,null,null,null,null,null,null,null,null,null,null,null,null,null,0,null,null,null,null,null,0,0,0,null,0,"√",1,null,null,null,null,null,null,null,null,null,null,null,null,null,null,null,null,null,null,null,0]
[null,null,14,null,null,null,null,null,null,null,null,null,null,null,null,null,null,0,null,null,null,null,null,0,0,0,null,0,"√",1,null,null,null,null,null,null,null,null,null,null,null,null,null,null,null,null,null,null,null,0]
[null,null,null,null,null,null,null,null,"Control 2",null,"Control:",{"$f":"IF(L1640=\"\",\"\",IF(L1639>L1640,\"E\",IF(L1639<L1640,\"S\",\"√\")))","v":""},{"$f":"IF(M1640=\"\",\"\",IF(M1639>M1640,\"E\",IF(M1639<M1640,\"S\",\"√\")))","v":""},"","","","",{"$f":"IF($C1598=\"\",\"\",IF(AND(L1642=\"√\",M1642=\"√\",N1642=\"√\",O1642=\"√\",P1642=\"√\",Q1642=\"√\"),\"√\",\"Error\"))","v":"Error"},null,null,null,null,null,null,null,null,null,null,null,null,null,null,null,null,null,null,null,null,null,null,null,null,null,null,null,null,null,{"$f":"+IF(OR(B1642=\"\",B1642=\"Lecciones de TIE asignadas -√-\"),1,0)","v":1},null,0]
[null,null,"Nº","Nombre del servidor",null,null,null,"Nº de cédula","Grupo Prof.","Especialidad",null,"Nivel",null,null,null,null,null,"Sub- Total","Leccs. Co-curriculares",null,null,null,null,"Sub- Total","Pl","Total Leccs.","Nº de leccs.",null,null,null,null,null,null,null,null,null,null,null,null,null,null,null,null,null,null,null,null,null,null,0]
[null,null,1,null,null,null,null,null,null,null,null,null,null,null,null,null,null,{"$f":"+SUM(L1656:Q1656)","v":0},null,null,null,null,null,{"$f":"+SUM(R1656:W1656)","v":0},{"$f":"IF(X1656=0,0,IF(X1656>48,\"E\",IF(X1656<44,0,IF(A1656=\"A\",0,48-X1656))))","v":0},{"$f":"+IF(Y1656=\"E\",\"E\",(X1656+Y1656))","v":0},null,{"$f":"+IF(Z1656=\"E\",\"E\",(Z1656-AA1656))","v":0},{"$f":"IF(A1656=\"A\",\"√\",IF(Z1656>48,\"E\",\"√\"))","v":"√"},{"$f":"+IF(AC1656=\"√\",1,0)","v":1},null,null,null,null,null,null,null,null,null,null,null,null,null,null,null,null,null,null,null,{"$f":"+IF(OR(AA1656+AB1656>0,D1656<>0,H1656<>0,I1656<>0,J1656<>0),AX1655+1,0)","v":0}]
[null,null,13,null,null,null,null,null,null,null,null,null,null,null,null,null,null,0,null,null,null,null,null,0,0,0,null,0,"√",1,null,null,null,null,null,null,null,null,null,null,null,null,null,null,null,null,null,null,null,0]
[null,null,14,null,null,null,null,null,null,null,null,null,null,null,null,null,null,0,null,null,null,null,null,0,0,0,null,0,"√",1,null,null,null,null,null,null,null,null,null,null,null,null,null,null,null,null,null,null,null,0]
[null,null,null,"Observaciones:",{"$f":"+IF(OR(C1653=\"Lecciones Labor@ Diurnas\",C1653=\"Lecciones Labor@ Nocturno\"),\"Recuerde generar el informe de labores de lecciones Labor@\",\"\")","v":""},null,null,null,null,null,null,null,null,null,null,null,null,null,null,null,null,null,null,null,null,null,null,null,null,null,null,null,null,null,null,null,null,null,null,null,null,null,null,null,null,null,null,null,null,0]
[null,null,null,null,null,null,null,null,null,null,null,"7º","8º","9º","10º","11º","12º",null,null,null,null,null,null,null,null,null,"Prop.","Ints.",null,null,null,{"$f":"+IF($AF$24=0,0,SUMIF($S1690:$W1690,$AF$24,$S1709:$W1709))","v":0},{"$f":"+IF($AG$24=0,0,SUMIF($S1690:$W1690,$AG$24,$S1709:$W1709))","v":0},{"$f":"+IF($AH$24=0,0,SUMIF($S1690:$W1690,$AH$24,$S1709:$W1709))","v":0},{"$f":"+IF($AI$24=0,0,SUMIF($S1690:$W1690,$AI$24,$S1709:$W1709))","v":0},{"$f":"+IF($AJ$24=0,0,SUMIF($S1690:$W1690,$AJ$24,$S1709:$W1709))","v":0},{"$f":"+IF($AK$24=0,0,SUMIF($S1690:$W1690,$AK$24,$S1709:$W1709))","v":0},{"$f":"+IF($AL$24=0,0,SUMIF($S1690:$W1690,$AL$24,$S1709:$W1709))","v":0},{"$f":"+IF($AM$24=0,0,SUMIF($S1690:$W1690,$AM$24,$S1709:$W1709))","v":0},{"$f":"+IF($AN$24=0,0,SUMIF($S1690:$W1690,$AN$24,$S1709:$W1709))","v":0},{"$f":"+IF($AO$24=0,0,SUMIF($S1690:$W1690,$AO$24,$S1709:$W1709))","v":0},{"$f":"+IF($AP$24=0,0,SUMIF($S1690:$W1690,$AP$24,$S1709:$W1709))","v":0},{"$f":"+IF($AQ$24=0,0,SUMIF($S1690:$W1690,$AQ$24,$S1709:$W1709))","v":0},null,null,null,null,null,null,0]
[null,null,1,null,null,null,null,null,null,null,null,null,null,null,null,null,null,{"$f":"+SUM(L1691:Q1691)","v":0},null,null,null,null,null,{"$f":"+SUM(R1691:W1691)","v":0},{"$f":"IF(X1691=0,0,IF(X1691>48,\"E\",IF(X1691<44,0,IF(A1691=\"A\",0,48-X1691))))","v":0},{"$f":"+IF(Y1691=\"E\",\"E\",(X1691+Y1691))","v":0},null,{"$f":"+IF(Z1691=\"E\",\"E\",(Z1691-AA1691))","v":0},{"$f":"IF(A1691=\"A\",\"√\",IF(Z1691>48,\"E\",\"√\"))","v":"√"},{"$f":"+IF(AC1691=\"√\",1,0)","v":1},null,null,null,null,null,null,null,null,null,null,null,null,null,null,null,null,null,null,null,{"$f":"+IF(OR(AA1691+AB1691>0,D1691<>0,H1691<>0,I1691<>0,J1691<>0),AX1690+1,0)","v":0}]
[null,null,13,null,null,null,null,null,null,null,null,null,null,null,null,null,null,0,null,null,null,null,null,0,0,0,null,0,"√",1,null,null,null,null,null,null,null,null,null,null,null,null,null,null,null,null,null,null,null,0]
[null,null,null,null,null,null,null,null,"Control 2",null,"Control:",{"$f":"IF(L1710=\"\",\"\",IF(L1709>L1710,\"E\",IF(L1709<L1710,\"S\",\"√\")))","v":""},{"$f":"IF(M1710=\"\",\"\",IF(M1709>M1710,\"E\",IF(M1709<M1710,\"S\",\"√\")))","v":""},"","","","",{"$f":"IF($C1668=\"\",\"\",IF(AND(L1712=\"√\",M1712=\"√\",N1712=\"√\",O1712=\"√\",P1712=\"√\",Q1712=\"√\"),\"√\",\"Error\"))","v":"Error"},null,null,null,null,null,null,null,null,null,null,null,null,null,null,null,null,null,null,null,null,null,null,null,null,null,null,null,null,null,{"$f":"+IF(OR(B1712=\"\",B1712=\"Lecciones de TIE asignadas -√-\"),1,0)","v":1},null,0]
[null,null,null,null,null,null,null,null,"Plan de Estudios",null,"Control:",{"$f":"+IF(C1688=\"\",\"\",VLOOKUP($A1687,'hoja de cálculo'!$A$17:$BD$321,51,0))","v":""},{"$f":"+IF(C1688=\"\",\"\",VLOOKUP($A1687,'hoja de cálculo'!$A$17:$BD$321,52,0))","v":""},{"$f":"+IF(C1688=\"\",\"\",VLOOKUP($A1687,'hoja de cálculo'!$A$17:$BD$321,53,0))","v":""},{"$f":"+IF(C1688=\"\",\"\",VLOOKUP($A1687,'hoja de cálculo'!$A$17:$BD$321,54,0))","v":""},{"$f":"+IF(C1688=\"\",\"\",VLOOKUP($A1687,'hoja de cálculo'!$A$17:$BD$321,55,0))","v":""},{"$f":"+IF(C1688=\"\",\"\",VLOOKUP($A1687,'hoja de cálculo'!$A$17:$BD$321,56,0))","v":""},null,null,null,null,null,null,null,null,null,null,null,null,null,null,null,null,null,null,null,null,null,null,null,null,null,null,null,{"$f":"+IF(AB1713<0,-AB1713,0)","v":0},null,null,null,null,0]
[null,null,null,null,null,null,null,null,null,null,null,"7º","8º","9º","10º","11º","12º",null,null,null,null,null,null,null,null,null,"Prop.","Ints.",null,null,null,{"$f":"+IF($AF$24=0,0,SUMIF($S1725:$W1725,$AF$24,$S1744:$W1744))","v":0},{"$f":"+IF($AG$24=0,0,SUMIF($S1725:$W1725,$AG$24,$S1744:$W1744))","v":0},{"$f":"+IF($AH$24=0,0,SUMIF($S1725:$W1725,$AH$24,$S1744:$W1744))","v":0},{"$f":"+IF($AI$24=0,0,SUMIF($S1725:$W1725,$AI$24,$S1744:$W1744))","v":0},{"$f":"+IF($AJ$24=0,0,SUMIF($S1725:$W1725,$AJ$24,$S1744:$W1744))","v":0},{"$f":"+IF($AK$24=0,0,SUMIF($S1725:$W1725,$AK$24,$S1744:$W1744))","v":0},{"$f":"+IF($AL$24=0,0,SUMIF($S1725:$W1725,$AL$24,$S1744:$W1744))","v":0},{"$f":"+IF($AM$24=0,0,SUMIF($S1725:$W1725,$AM$24,$S1744:$W1744))","v":0},{"$f":"+IF($AN$24=0,0,SUMIF($S1725:$W1725,$AN$24,$S1744:$W1744))","v":0},{"$f":"+IF($AO$24=0,0,SUMIF($S1725:$W1725,$AO$24,$S1744:$W1744))","v":0},{"$f":"+IF($AP$24=0,0,SUMIF($S1725:$W1725,$AP$24,$S1744:$W1744))","v":0},{"$f":"+IF($AQ$24=0,0,SUMIF($S1725:$W1725,$AQ$24,$S1744:$W1744))","v":0},null,null,null,null,null,null,0]
[null,null,8,null,null,null,null,null,null,null,null,null,null,null,null,null,null,0,null,null,null,null,null,0,0,0,null,0,"√",1,null,null,null,null,null,null,null,null,null,null,null,null,null,null,null,null,null,null,null,0]
[null,null,12,null,null,null,null,null,null,null,null,null,null,null,null,null,null,0,null,null,null,null,null,0,0,0,null,0,"√",1,null,null,null,null,null,null,null,null,null,null,null,null,null,null,null,null,null,null,null,0]
[null,null,null,null,null,null,null,null,"Control 2",null,"Control:",{"$f":"IF(L1745=\"\",\"\",IF(L1744>L1745,\"E\",IF(L1744<L1745,\"S\",\"√\")))","v":""},{"$f":"IF(M1745=\"\",\"\",IF(M1744>M1745,\"E\",IF(M1744<M1745,\"S\",\"√\")))","v":""},"","","","",{"$f":"IF($C1703=\"\",\"\",IF(AND(L1747=\"√\",M1747=\"√\",N1747=\"√\",O1747=\"√\",P1747=\"√\",Q1747=\"√\"),\"√\",\"Error\"))","v":"Error"},null,null,null,null,null,null,null,null,null,null,null,null,null,null,null,null,null,null,null,null,null,null,null,null,null,null,null,null,null,{"$f":"+IF(OR(B1747=\"\",B1747=\"Lecciones de TIE asignadas -√-\"),1,0)","v":1},null,0]
[null,null,{"$f":"+\"Declaración Jurada: El suscrito Director \"&$D$4245&\" del \"&$E$12&\", código \"&Información!$E$11&\", hace constar que los datos consignados en éste formulario son veraces y responden al estado real de ésta institución.\"&\" Cualquier inexactitud o falsedad estaré incurriendo en las responsabilidades administrativas y disciplinarias, sin perjuicio de las acciones civiles.\"","v":"Declaración Jurada: El suscrito Director  del , código , hace constar que los datos consignados en éste formulario son veraces y responden al estado real de ésta institución. Cualquier inexactitud o falsedad estaré incurriendo en las responsabilidades administrativas y disciplinarias, sin perjuicio de las acciones civiles."},null,null,null,null,null,null,null,null,null,null,null,null,null,null,null,null,null,null,null,null,null,null,null,null,null,null,null,null,null,null,null,null,null,null,null,null,null,null,null,null,null,null,null,null,null,null,0]
[null,null,null,null,null,null,null,null,null,null,null,"7º","8º","9º","10º","11º","12º",null,null,null,null,null,null,null,null,null,"Prop.","Ints.",null,null,null,{"$f":"+IF($AF$24=0,0,SUMIF($S1760:$W1760,$AF$24,$S1779:$W1779))","v":0},{"$f":"+IF($AG$24=0,0,SUMIF($S1760:$W1760,$AG$24,$S1779:$W1779))","v":0},{"$f":"+IF($AH$24=0,0,SUMIF($S1760:$W1760,$AH$24,$S1779:$W1779))","v":0},{"$f":"+IF($AI$24=0,0,SUMIF($S1760:$W1760,$AI$24,$S1779:$W1779))","v":0},{"$f":"+IF($AJ$24=0,0,SUMIF($S1760:$W1760,$AJ$24,$S1779:$W1779))","v":0},{"$f":"+IF($AK$24=0,0,SUMIF($S1760:$W1760,$AK$24,$S1779:$W1779))","v":0},{"$f":"+IF($AL$24=0,0,SUMIF($S1760:$W1760,$AL$24,$S1779:$W1779))","v":0},{"$f":"+IF($AM$24=0,0,SUMIF($S1760:$W1760,$AM$24,$S1779:$W1779))","v":0},{"$f":"+IF($AN$24=0,0,SUMIF($S1760:$W1760,$AN$24,$S1779:$W1779))","v":0},{"$f":"+IF($AO$24=0,0,SUMIF($S1760:$W1760,$AO$24,$S1779:$W1779))","v":0},{"$f":"+IF($AP$24=0,0,SUMIF($S1760:$W1760,$AP$24,$S1779:$W1779))","v":0},{"$f":"+IF($AQ$24=0,0,SUMIF($S1760:$W1760,$AQ$24,$S1779:$W1779))","v":0},null,null,null,null,null,null,0]
[null,null,10,null,null,null,null,null,null,null,null,null,null,null,null,null,null,0,null,null,null,null,null,0,0,0,null,0,"√",1,null,null,null,null,null,null,null,null,null,null,null,null,null,null,null,null,null,null,null,0]
[null,null,17,null,null,null,null,null,null,null,null,null,null,null,null,null,null,0,null,null,null,null,null,0,0,0,null,0,"√",1,null,null,null,null,null,null,null,null,null,null,null,null,null,null,null,null,null,null,null,0]
[null,null,null,null,null,null,null,null,"Control 2",null,"Control:",{"$f":"IF(L1780=\"\",\"\",IF(L1779>L1780,\"E\",IF(L1779<L1780,\"S\",\"√\")))","v":""},{"$f":"IF(M1780=\"\",\"\",IF(M1779>M1780,\"E\",IF(M1779<M1780,\"S\",\"√\")))","v":""},"","","","",{"$f":"IF($C1738=\"\",\"\",IF(AND(L1782=\"√\",M1782=\"√\",N1782=\"√\",O1782=\"√\",P1782=\"√\",Q1782=\"√\"),\"√\",\"Error\"))","v":"Error"},null,null,null,null,null,null,null,null,null,null,null,null,null,null,null,null,null,null,null,null,null,null,null,null,null,null,null,null,null,{"$f":"+IF(OR(B1782=\"\",B1782=\"Lecciones de TIE asignadas -√-\"),1,0)","v":1},null,0]
[null,null,{"$f":"+\"Declaración Jurada: El suscrito Director \"&$D$4245&\" del \"&$E$12&\", código \"&Información!$E$11&\", hace constar que los datos consignados en éste formulario son veraces y responden al estado real de ésta institución.\"&\" Cualquier inexactitud o falsedad estaré incurriendo en las responsabilidades administrativas y disciplinarias, sin perjuicio de las acciones civiles.\"","v":"Declaración Jurada: El suscrito Director  del , código , hace constar que los datos consignados en éste formulario son veraces y responden al estado real de ésta institución. Cualquier inexactitud o falsedad estaré incurriendo en las responsabilidades administrativas y disciplinarias, sin perjuicio de las acciones civiles."},null,null,null,null,null,null,null,null,null,null,null,null,null,null,null,null,null,null,null,null,null,null,null,null,null,null,null,null,null,null,null,null,null,null,null,null,null,null,null,null,null,null,null,null,null,null,0]
[null,null,null,null,null,null,null,null,null,null,null,"7º","8º","9º","10º","11º","12º",null,null,null,null,null,null,null,null,null,"Prop.","Ints.",null,null,null,{"$f":"+IF($AF$24=0,0,SUMIF($S1795:$W1795,$AF$24,$S1814:$W1814))","v":0},{"$f":"+IF($AG$24=0,0,SUMIF($S1795:$W1795,$AG$24,$S1814:$W1814))","v":0},{"$f":"+IF($AH$24=0,0,SUMIF($S1795:$W1795,$AH$24,$S1814:$W1814))","v":0},{"$f":"+IF($AI$24=0,0,SUMIF($S1795:$W1795,$AI$24,$S1814:$W1814))","v":0},{"$f":"+IF($AJ$24=0,0,SUMIF($S1795:$W1795,$AJ$24,$S1814:$W1814))","v":0},{"$f":"+IF($AK$24=0,0,SUMIF($S1795:$W1795,$AK$24,$S1814:$W1814))","v":0},{"$f":"+IF($AL$24=0,0,SUMIF($S1795:$W1795,$AL$24,$S1814:$W1814))","v":0},{"$f":"+IF($AM$24=0,0,SUMIF($S1795:$W1795,$AM$24,$S1814:$W1814))","v":0},{"$f":"+IF($AN$24=0,0,SUMIF($S1795:$W1795,$AN$24,$S1814:$W1814))","v":0},{"$f":"+IF($AO$24=0,0,SUMIF($S1795:$W1795,$AO$24,$S1814:$W1814))","v":0},{"$f":"+IF($AP$24=0,0,SUMIF($S1795:$W1795,$AP$24,$S1814:$W1814))","v":0},{"$f":"+IF($AQ$24=0,0,SUMIF($S1795:$W1795,$AQ$24,$S1814:$W1814))","v":0},null,null,null,null,null,null,0]
[null,null,9,null,null,null,null,null,null,null,null,null,null,null,null,null,null,0,null,null,null,null,null,0,0,0,null,0,"√",1,null,null,null,null,null,null,null,null,null,null,null,null,null,null,null,null,null,null,null,0]
[null,null,17,null,null,null,null,null,null,null,null,null,null,null,null,null,null,0,null,null,null,null,null,0,0,0,null,0,"√",1,null,null,null,null,null,null,null,null,null,null,null,null,null,null,null,null,null,null,null,0]
[null,null,null,null,null,null,null,null,"Control 2",null,"Control:",{"$f":"IF(L1815=\"\",\"\",IF(L1814>L1815,\"E\",IF(L1814<L1815,\"S\",\"√\")))","v":""},{"$f":"IF(M1815=\"\",\"\",IF(M1814>M1815,\"E\",IF(M1814<M1815,\"S\",\"√\")))","v":""},"","","","",{"$f":"IF($C1773=\"\",\"\",IF(AND(L1817=\"√\",M1817=\"√\",N1817=\"√\",O1817=\"√\",P1817=\"√\",Q1817=\"√\"),\"√\",\"Error\"))","v":"Error"},null,null,null,null,null,null,null,null,null,null,null,null,null,null,null,null,null,null,null,null,null,null,null,null,null,null,null,null,null,{"$f":"+IF(OR(B1817=\"\",B1817=\"Lecciones de TIE asignadas -√-\"),1,0)","v":1},null,0]
["Ausente","Sustituto",{"$f":"IFERROR(VLOOKUP(A1827,'hoja de cálculo'!$A$7:'hoja de cálculo'!$H$321,8,0),\"\")","v":""},null,null,null,null,null,null,null,null,null,null,null,null,null,null,null,null,null,null,null,null,null,null,null,null,null,"Cont. 1",null,null,null,null,null,null,null,null,null,null,null,null,null,null,null,null,null,null,null,null,{"$f":"+IF(AX1827>0,AX1827+1,0)","v":0}]
[null,null,4,null,null,null,null,null,null,null,null,null,null,null,null,null,null,0,null,null,null,null,null,0,0,0,null,0,"√",1,null,null,null,null,null,null,null,null,null,null,null,null,null,null,null,null,null,null,null,0]
[null,null,9,null,null,null,null,null,null,null,null,null,null,null,null,null,null,0,null,null,null,null,null,0,0,0,null,0,"√",1,null,null,null,null,null,null,null,null,null,null,null,null,null,null,null,null,null,null,null,0]
[null,null,17,null,null,null,null,null,null,null,null,null,null,null,null,null,null,0,null,null,null,null,null,0,0,0,null,0,"√",1,null,null,null,null,null,null,null,null,null,null,null,null,null,null,null,null,null,null,null,0]
[null,null,null,null,null,null,null,null,"Plan de Estudios",null,"Control:",{"$f":"+IF(C1828=\"\",\"\",VLOOKUP($A1827,'hoja de cálculo'!$A$17:$BD$321,51,0))","v":""},{"$f":"+IF(C1828=\"\",\"\",VLOOKUP($A1827,'hoja de cálculo'!$A$17:$BD$321,52,0))","v":""},{"$f":"+IF(C1828=\"\",\"\",VLOOKUP($A1827,'hoja de cálculo'!$A$17:$BD$321,53,0))","v":""},{"$f":"+IF(C1828=\"\",\"\",VLOOKUP($A1827,'hoja de cálculo'!$A$17:$BD$321,54,0))","v":""},{"$f":"+IF(C1828=\"\",\"\",VLOOKUP($A1827,'hoja de cálculo'!$A$17:$BD$321,55,0))","v":""},{"$f":"+IF(C1828=\"\",\"\",VLOOKUP($A1827,'hoja de cálculo'!$A$17:$BD$321,56,0))","v":""},null,null,null,null,null,null,null,null,null,null,null,null,null,null,null,null,null,null,null,null,null,null,null,null,null,null,null,{"$f":"+IF(AB1853<0,-AB1853,0)","v":0},null,null,null,null,0]
[null,null,null,null,null,null,null,null,null,null,null,null,null,null,null,null,null,null,null,null,null,null,null,null,null,null,null,null,null,null,null,null,null,null,null,null,null,null,null,null,null,null,null,null,null,null,null,null,null,0]
[null,null,4,null,null,null,null,null,null,null,null,null,null,null,null,null,null,0,null,null,null,null,null,0,0,0,null,0,"√",1,null,null,null,null,null,null,null,null,null,null,null,null,null,null,null,null,null,null,null,0]
[null,null,13,null,null,null,null,null,null,null,null,null,null,null,null,null,null,0,null,null,null,null,null,0,0,0,null,0,"√",1,null,null,null,null,null,null,null,null,null,null,null,null,null,null,null,null,null,null,null,0]
[null,null,18,null,null,null,null,null,null,null,null,null,null,null,null,null,null,0,null,null,null,null,null,0,0,0,null,0,"√",1,null,null,null,null,null,null,null,null,null,null,null,null,null,null,null,null,null,null,null,0]
[null,null,null,null,null,null,null,null,null,null,null,null,null,null,null,null,null,null,null,null,null,null,null,null,null,null,null,null,null,null,null,null,null,null,null,null,null,null,null,null,null,null,null,null,null,null,null,null,null,0]
[null,null,null,null,null,null,null,null,null,null,null,null,null,null,null,null,null,null,null,null,null,null,null,null,null,null,null,null,null,null,null,null,null,null,null,null,null,null,null,null,null,null,null,null,null,null,null,null,null,0]
[null,null,3,null,null,null,null,null,null,null,null,null,null,null,null,null,null,0,null,null,null,null,null,0,0,0,null,0,"√",1,null,null,null,null,null,null,null,null,null,null,null,null,null,null,null,null,null,null,null,0]
[null,null,10,null,null,null,null,null,null,null,null,null,null,null,null,null,null,0,null,null,null,null,null,0,0,0,null,0,"√",1,null,null,null,null,null,null,null,null,null,null,null,null,null,null,null,null,null,null,null,0]
[null,null,18,null,null,null,null,null,null,null,null,null,null,null,null,null,null,0,null,null,null,null,null,0,0,0,null,0,"√",1,null,null,null,null,null,null,null,null,null,null,null,null,null,null,null,null,null,null,null,0]
[null,null,null,null,null,null,null,null,null,null,null,null,null,null,null,null,null,null,null,null,null,null,null,null,null,null,null,null,null,null,null,null,null,null,null,null,null,null,null,null,null,null,null,null,null,null,null,null,null,0]
[null,null,1,null,null,null,null,null,null,null,null,null,null,null,null,null,null,{"$f":"+SUM(L1936:Q1936)","v":0},null,null,null,null,null,{"$f":"+SUM(R1936:W1936)","v":0},{"$f":"IF(X1936=0,0,IF(X1936>48,\"E\",IF(X1936<44,0,IF(A1936=\"A\",0,48-X1936))))","v":0},{"$f":"+IF(Y1936=\"E\",\"E\",(X1936+Y1936))","v":0},null,{"$f":"+IF(Z1936=\"E\",\"E\",(Z1936-AA1936))","v":0},{"$f":"IF(A1936=\"A\",\"√\",IF(Z1936>48,\"E\",\"√\"))","v":"√"},{"$f":"+IF(AC1936=\"√\",1,0)","v":1},null,null,null,null,null,null,null,null,null,null,null,null,null,null,null,null,null,null,null,{"$f":"+IF(OR(AA1936+AB1936>0,D1936<>0,H1936<>0,I1936<>0,J1936<>0),AX1935+1,0)","v":0}]
[null,null,5,null,null,null,null,null,null,null,null,null,null,null,null,null,null,0,null,null,null,null,null,0,0,0,null,0,"√",1,null,null,null,null,null,null,null,null,null,null,null,null,null,null,null,null,null,null,null,0]
[null,null,10,null,null,null,null,null,null,null,null,null,null,null,null,null,null,0,null,null,null,null,null,0,0,0,null,0,"√",1,null,null,null,null,null,null,null,null,null,null,null,null,null,null,null,null,null,null,null,0]
[null,null,18,null,null,null,null,null,null,null,null,null,null,null,null,null,null,0,null,null,null,null,null,0,0,0,null,0,"√",1,null,null,null,null,null,null,null,null,null,null,null,null,null,null,null,null,null,null,null,0]
[null,null,null,null,null,null,null,null,null,null,null,null,null,null,null,null,null,null,null,null,null,null,null,null,null,null,null,null,null,null,null,null,null,null,null,null,null,null,null,null,null,null,null,null,null,null,null,null,null,0]
[{"$f":"+A1932+1","v":56},{"$f":"IFERROR(VLOOKUP(A1967,'hoja de cálculo'!$A$22:'hoja de cálculo'!$C$321,3,0),\"\")","v":""},null,null,null,null,null,null,null,null,null,null,null,null,null,null,null,null,null,null,null,null,null,null,null,null,null,null,null,null,null,null,null,null,null,null,null,null,null,null,null,null,null,null,null,null,null,null,null,{"$f":"+IF(B1967=\"\",0,1)","v":0}]
[null,null,5,null,null,null,null,null,null,null,null,null,null,null,null,null,null,0,null,null,null,null,null,0,0,0,null,0,"√",1,null,null,null,null,null,null,null,null,null,null,null,null,null,null,null,null,null,null,null,0]
[null,null,13,null,null,null,null,null,null,null,null,null,null,null,null,null,null,0,null,null,null,null,null,0,0,0,null,0,"√",1,null,null,null,null,null,null,null,null,null,null,null,null,null,null,null,null,null,null,null,0]
[null,null,null,"Observaciones:",{"$f":"+IF(OR(C1968=\"Lecciones Labor@ Diurnas\",C1968=\"Lecciones Labor@ Nocturno\"),\"Recuerde generar el informe de labores de lecciones Labor@\",\"\")","v":""},null,null,null,null,null,null,null,null,null,null,null,null,null,null,null,null,null,null,null,null,null,null,null,null,null,null,null,null,null,null,null,null,null,null,null,null,null,null,null,null,null,null,null,null,0]
[null,null,null,null,null,null,null,null,null,null,null,null,null,null,null,null,null,null,null,null,null,null,null,null,null,null,null,null,null,null,null,null,null,null,null,null,null,null,null,null,null,null,null,null,null,null,null,null,null,0]
[null,null,4,null,null,null,null,null,null,null,null,null,null,null,null,null,null,0,null,null,null,null,null,0,0,0,null,0,"√",1,null,null,null,null,null,null,null,null,null,null,null,null,null,null,null,null,null,null,null,0]
[null,null,5,null,null,null,null,null,null,null,null,null,null,null,null,null,null,0,null,null,null,null,null,0,0,0,null,0,"√",1,null,null,null,null,null,null,null,null,null,null,null,null,null,null,null,null,null,null,null,0]
[null,null,14,null,null,null,null,null,null,null,null,null,null,null,null,null,null,0,null,null,null,null,null,0,0,0,null,0,"√",1,null,null,null,null,null,null,null,null,null,null,null,null,null,null,null,null,null,null,null,0]
[null,null,null,null,null,null,null,null,null,null,null,null,null,null,null,null,null,null,null,null,null,null,null,null,null,null,null,null,null,null,null,null,null,null,null,null,null,null,null,null,null,null,null,null,null,null,null,null,null,0]
[null,null,null,null,null,null,null,null,null,null,null,null,null,null,null,null,null,null,null,null,null,null,null,null,null,null,null,null,null,null,null,null,null,null,null,null,null,null,null,null,null,null,null,null,null,null,null,null,null,0]
[null,null,null,null,null,null,null,null,null,null,null,"7º","8º","9º","10º","11º","12º",null,null,null,null,null,null,null,null,null,"Prop.","Ints.",null,null,null,{"$f":"+IF($AF$24=0,0,SUMIF($S2040:$W2040,$AF$24,$S2059:$W2059))","v":0},{"$f":"+IF($AG$24=0,0,SUMIF($S2040:$W2040,$AG$24,$S2059:$W2059))","v":0},{"$f":"+IF($AH$24=0,0,SUMIF($S2040:$W2040,$AH$24,$S2059:$W2059))","v":0},{"$f":"+IF($AI$24=0,0,SUMIF($S2040:$W2040,$AI$24,$S2059:$W2059))","v":0},{"$f":"+IF($AJ$24=0,0,SUMIF($S2040:$W2040,$AJ$24,$S2059:$W2059))","v":0},{"$f":"+IF($AK$24=0,0,SUMIF($S2040:$W2040,$AK$24,$S2059:$W2059))","v":0},{"$f":"+IF($AL$24=0,0,SUMIF($S2040:$W2040,$AL$24,$S2059:$W2059))","v":0},{"$f":"+IF($AM$24=0,0,SUMIF($S2040:$W2040,$AM$24,$S2059:$W2059))","v":0},{"$f":"+IF($AN$24=0,0,SUMIF($S2040:$W2040,$AN$24,$S2059:$W2059))","v":0},{"$f":"+IF($AO$24=0,0,SUMIF($S2040:$W2040,$AO$24,$S2059:$W2059))","v":0},{"$f":"+IF($AP$24=0,0,SUMIF($S2040:$W2040,$AP$24,$S2059:$W2059))","v":0},{"$f":"+IF($AQ$24=0,0,SUMIF($S2040:$W2040,$AQ$24,$S2059:$W2059))","v":0},null,null,null,null,null,null,0]
[null,null,12,null,null,null,null,null,null,null,null,null,null,null,null,null,null,0,null,null,null,null,null,0,0,0,null,0,"√",1,null,null,null,null,null,null,null,null,null,null,null,null,null,null,null,null,null,null,null,0]
[null,null,14,null,null,null,null,null,null,null,null,null,null,null,null,null,null,0,null,null,null,null,null,0,0,0,null,0,"√",1,null,null,null,null,null,null,null,null,null,null,null,null,null,null,null,null,null,null,null,0]
[null,null,null,null,null,null,null,null,null,null,null,null,null,null,null,null,null,null,null,null,null,null,null,null,null,null,null,null,null,null,null,null,null,null,null,null,null,null,null,null,null,null,null,null,null,null,null,null,null,0]
[null,null,"Nº","Nombre del servidor",null,null,null,"Nº de cédula","Grupo Prof.","Especialidad",null,"Nivel",null,null,null,null,null,"Sub- Total","Leccs. Co-curriculares",null,null,null,null,"Sub- Total","Pl","Total Leccs.","Nº de leccs.",null,null,null,null,null,null,null,null,null,null,null,null,null,null,null,null,null,null,null,null,null,null,0]
[null,null,2,null,null,null,null,null,null,null,null,null,null,null,null,null,null,0,null,null,null,null,null,0,0,0,null,0,{"$f":"IF(A2077=\"A\",\"√\",IF(Z2077>48,\"E\",\"√\"))","v":"√"},1,null,null,null,null,null,null,null,null,null,null,null,null,null,null,null,null,null,null,null,0]
[null,null,13,null,null,null,null,null,null,null,null,null,null,null,null,null,null,0,null,null,null,null,null,0,0,0,null,0,"√",1,null,null,null,null,null,null,null,null,null,null,null,null,null,null,null,null,null,null,null,0]
[null,null,null,null,null,null,null,null,"Total de secciones",null,"Control:",{"$f":"+IF(C2073=\"\",\"\",VLOOKUP($A2072,'hoja de cálculo'!$A$17:$AQ$321,38,0))","v":""},{"$f":"+IF(C2073=\"\",\"\",VLOOKUP($A2072,'hoja de cálculo'!$A$17:$AQ$321,39,0))","v":""},{"$f":"+IF(C2073=\"\",\"\",VLOOKUP($A2072,'hoja de cálculo'!$A$17:$AQ$321,40,0))","v":""},{"$f":"+IF(C2073=\"\",\"\",VLOOKUP($A2072,'hoja de cálculo'!$A$17:$AQ$321,41,0))","v":""},{"$f":"+IF(C2073=\"\",\"\",VLOOKUP($A2072,'hoja de cálculo'!$A$17:$AQ$321,42,0))","v":""},{"$f":"+IF(C2073=\"\",\"\",VLOOKUP($A2072,'hoja de cálculo'!$A$17:$AQ$321,43,0))","v":""},{"$f":"+SUM(L2096:Q2096)","v":0},null,null,null,null,null,null,null,null,null,null,null,null,null,null,null,null,null,null,null,null,null,null,null,null,null,null,null,null,null,null,null,0]
[null,null,null,null,null,null,null,null,null,null,null,null,null,null,null,null,null,null,null,null,null,null,null,null,null,null,null,null,null,null,null,null,null,null,null,null,null,null,null,null,null,null,null,null,null,null,null,null,null,0]
[null,null,null,null,null,null,null,null,null,null,null,"7º","8º","9º","10º","11º","12º",null,null,null,null,null,null,null,null,null,"Prop.","Ints.",null,null,null,{"$f":"+IF($AF$24=0,0,SUMIF($S2110:$W2110,$AF$24,$S2129:$W2129))","v":0},{"$f":"+IF($AG$24=0,0,SUMIF($S2110:$W2110,$AG$24,$S2129:$W2129))","v":0},{"$f":"+IF($AH$24=0,0,SUMIF($S2110:$W2110,$AH$24,$S2129:$W2129))","v":0},{"$f":"+IF($AI$24=0,0,SUMIF($S2110:$W2110,$AI$24,$S2129:$W2129))","v":0},{"$f":"+IF($AJ$24=0,0,SUMIF($S2110:$W2110,$AJ$24,$S2129:$W2129))","v":0},{"$f":"+IF($AK$24=0,0,SUMIF($S2110:$W2110,$AK$24,$S2129:$W2129))","v":0},{"$f":"+IF($AL$24=0,0,SUMIF($S2110:$W2110,$AL$24,$S2129:$W2129))","v":0},{"$f":"+IF($AM$24=0,0,SUMIF($S2110:$W2110,$AM$24,$S2129:$W2129))","v":0},{"$f":"+IF($AN$24=0,0,SUMIF($S2110:$W2110,$AN$24,$S2129:$W2129))","v":0},{"$f":"+IF($AO$24=0,0,SUMIF($S2110:$W2110,$AO$24,$S2129:$W2129))","v":0},{"$f":"+IF($AP$24=0,0,SUMIF($S2110:$W2110,$AP$24,$S2129:$W2129))","v":0},{"$f":"+IF($AQ$24=0,0,SUMIF($S2110:$W2110,$AQ$24,$S2129:$W2129))","v":0},null,null,null,null,null,null,0]
[null,null,8,null,null,null,null,null,null,null,null,null,null,null,null,null,null,0,null,null,null,null,null,0,0,0,null,0,"√",1,null,null,null,null,null,null,null,null,null,null,null,null,null,null,null,null,null,null,null,0]
[null,null,13,null,null,null,null,null,null,null,null,null,null,null,null,null,null,0,null,null,null,null,null,0,0,0,null,0,"√",1,null,null,null,null,null,null,null,null,null,null,null,null,null,null,null,null,null,null,null,0]
[null,null,17,null,null,null,null,null,null,null,null,null,null,null,null,null,null,0,null,null,null,null,null,0,0,0,null,0,"√",1,null,null,null,null,null,null,null,null,null,null,null,null,null,null,null,null,null,null,null,0]
[null,null,{"$f":"+\"Declaración Jurada: El suscrito Director \"&$D$4245&\" del \"&$E$12&\", código \"&Información!$E$11&\", hace constar que los datos consignados en éste formulario son veraces y responden al estado real de ésta institución.\"&\" Cualquier inexactitud o falsedad estaré incurriendo en las responsabilidades administrativas y disciplinarias, sin perjuicio de las acciones civiles.\"","v":"Declaración Jurada: El suscrito Director  del , código , hace constar que los datos consignados en éste formulario son veraces y responden al estado real de ésta institución. Cualquier inexactitud o falsedad estaré incurriendo en las responsabilidades administrativas y disciplinarias, sin perjuicio de las acciones civiles."},null,null,null,null,null,null,null,null,null,null,null,null,null,null,null,null,null,null,null,null,null,null,null,null,null,null,null,null,null,null,null,null,null,null,null,null,null,null,null,null,null,null,null,null,null,null,0]
[null,null,null,null,null,null,null,null,null,null,null,"7º","8º","9º","10º","11º","12º",null,null,null,null,null,null,null,null,null,"Prop.","Ints.",null,null,null,{"$f":"+IF($AF$24=0,0,SUMIF($S2145:$W2145,$AF$24,$S2164:$W2164))","v":0},{"$f":"+IF($AG$24=0,0,SUMIF($S2145:$W2145,$AG$24,$S2164:$W2164))","v":0},{"$f":"+IF($AH$24=0,0,SUMIF($S2145:$W2145,$AH$24,$S2164:$W2164))","v":0},{"$f":"+IF($AI$24=0,0,SUMIF($S2145:$W2145,$AI$24,$S2164:$W2164))","v":0},{"$f":"+IF($AJ$24=0,0,SUMIF($S2145:$W2145,$AJ$24,$S2164:$W2164))","v":0},{"$f":"+IF($AK$24=0,0,SUMIF($S2145:$W2145,$AK$24,$S2164:$W2164))","v":0},{"$f":"+IF($AL$24=0,0,SUMIF($S2145:$W2145,$AL$24,$S2164:$W2164))","v":0},{"$f":"+IF($AM$24=0,0,SUMIF($S2145:$W2145,$AM$24,$S2164:$W2164))","v":0},{"$f":"+IF($AN$24=0,0,SUMIF($S2145:$W2145,$AN$24,$S2164:$W2164))","v":0},{"$f":"+IF($AO$24=0,0,SUMIF($S2145:$W2145,$AO$24,$S2164:$W2164))","v":0},{"$f":"+IF($AP$24=0,0,SUMIF($S2145:$W2145,$AP$24,$S2164:$W2164))","v":0},{"$f":"+IF($AQ$24=0,0,SUMIF($S2145:$W2145,$AQ$24,$S2164:$W2164))","v":0},null,null,null,null,null,null,0]
[null,null,8,null,null,null,null,null,null,null,null,null,null,null,null,null,null,0,null,null,null,null,null,0,0,0,null,0,"√",1,null,null,null,null,null,null,null,null,null,null,null,null,null,null,null,null,null,null,null,0]
[null,null,15,null,null,null,null,null,null,null,null,null,null,null,null,null,null,0,null,null,null,null,null,0,0,0,null,0,"√",1,null,null,null,null,null,null,null,null,null,null,null,null,null,null,null,null,null,null,null,0]
[null,null,null,null,null,null,null,null,"Control 2",null,"Control:",{"$f":"IF(L2165=\"\",\"\",IF(L2164>L2165,\"E\",IF(L2164<L2165,\"S\",\"√\")))","v":""},{"$f":"IF(M2165=\"\",\"\",IF(M2164>M2165,\"E\",IF(M2164<M2165,\"S\",\"√\")))","v":""},"","","","",{"$f":"IF($C2123=\"\",\"\",IF(AND(L2167=\"√\",M2167=\"√\",N2167=\"√\",O2167=\"√\",P2167=\"√\",Q2167=\"√\"),\"√\",\"Error\"))","v":"Error"},null,null,null,null,null,null,null,null,null,null,null,null,null,null,null,null,null,null,null,null,null,null,null,null,null,null,null,null,null,{"$f":"+IF(OR(B2167=\"\",B2167=\"Lecciones de TIE asignadas -√-\"),1,0)","v":1},null,0]
[null,null,{"$f":"+\"Declaración Jurada: El suscrito Director \"&$D$4245&\" del \"&$E$12&\", código \"&Información!$E$11&\", hace constar que los datos consignados en éste formulario son veraces y responden al estado real de ésta institución.\"&\" Cualquier inexactitud o falsedad estaré incurriendo en las responsabilidades administrativas y disciplinarias, sin perjuicio de las acciones civiles.\"","v":"Declaración Jurada: El suscrito Director  del , código , hace constar que los datos consignados en éste formulario son veraces y responden al estado real de ésta institución. Cualquier inexactitud o falsedad estaré incurriendo en las responsabilidades administrativas y disciplinarias, sin perjuicio de las acciones civiles."},null,null,null,null,null,null,null,null,null,null,null,null,null,null,null,null,null,null,null,null,null,null,null,null,null,null,null,null,null,null,null,null,null,null,null,null,null,null,null,null,null,null,null,null,null,null,0]
[null,null,null,null,null,null,null,null,null,null,null,"7º","8º","9º","10º","11º","12º",null,null,null,null,null,null,null,null,null,"Prop.","Ints.",null,null,null,{"$f":"+IF($AF$24=0,0,SUMIF($S2180:$W2180,$AF$24,$S2199:$W2199))","v":0},{"$f":"+IF($AG$24=0,0,SUMIF($S2180:$W2180,$AG$24,$S2199:$W2199))","v":0},{"$f":"+IF($AH$24=0,0,SUMIF($S2180:$W2180,$AH$24,$S2199:$W2199))","v":0},{"$f":"+IF($AI$24=0,0,SUMIF($S2180:$W2180,$AI$24,$S2199:$W2199))","v":0},{"$f":"+IF($AJ$24=0,0,SUMIF($S2180:$W2180,$AJ$24,$S2199:$W2199))","v":0},{"$f":"+IF($AK$24=0,0,SUMIF($S2180:$W2180,$AK$24,$S2199:$W2199))","v":0},{"$f":"+IF($AL$24=0,0,SUMIF($S2180:$W2180,$AL$24,$S2199:$W2199))","v":0},{"$f":"+IF($AM$24=0,0,SUMIF($S2180:$W2180,$AM$24,$S2199:$W2199))","v":0},{"$f":"+IF($AN$24=0,0,SUMIF($S2180:$W2180,$AN$24,$S2199:$W2199))","v":0},{"$f":"+IF($AO$24=0,0,SUMIF($S2180:$W2180,$AO$24,$S2199:$W2199))","v":0},{"$f":"+IF($AP$24=0,0,SUMIF($S2180:$W2180,$AP$24,$S2199:$W2199))","v":0},{"$f":"+IF($AQ$24=0,0,SUMIF($S2180:$W2180,$AQ$24,$S2199:$W2199))","v":0},null,null,null,null,null,null,0]
[null,null,5,null,null,null,null,null,null,null,null,null,null,null,null,null,null,0,null,null,null,null,null,0,0,0,null,0,"√",1,null,null,null,null,null,null,null,null,null,null,null,null,null,null,null,null,null,null,null,0]
[null,null,17,null,null,null,null,null,null,null,null,null,null,null,null,null,null,0,null,null,null,null,null,0,0,0,null,0,"√",1,null,null,null,null,null,null,null,null,null,null,null,null,null,null,null,null,null,null,null,0]
[null,null,null,null,null,null,null,null,"Control 2",null,"Control:",{"$f":"IF(L2200=\"\",\"\",IF(L2199>L2200,\"E\",IF(L2199<L2200,\"S\",\"√\")))","v":""},{"$f":"IF(M2200=\"\",\"\",IF(M2199>M2200,\"E\",IF(M2199<M2200,\"S\",\"√\")))","v":""},"","","","",{"$f":"IF($C2158=\"\",\"\",IF(AND(L2202=\"√\",M2202=\"√\",N2202=\"√\",O2202=\"√\",P2202=\"√\",Q2202=\"√\"),\"√\",\"Error\"))","v":"Error"},null,null,null,null,null,null,null,null,null,null,null,null,null,null,null,null,null,null,null,null,null,null,null,null,null,null,null,null,null,{"$f":"+IF(OR(B2202=\"\",B2202=\"Lecciones de TIE asignadas -√-\"),1,0)","v":1},null,0]
[null,null,{"$f":"+\"Declaración Jurada: El suscrito Director \"&$D$4245&\" del \"&$E$12&\", código \"&Información!$E$11&\", hace constar que los datos consignados en éste formulario son veraces y responden al estado real de ésta institución.\"&\" Cualquier inexactitud o falsedad estaré incurriendo en las responsabilidades administrativas y disciplinarias, sin perjuicio de las acciones civiles.\"","v":"Declaración Jurada: El suscrito Director  del , código , hace constar que los datos consignados en éste formulario son veraces y responden al estado real de ésta institución. Cualquier inexactitud o falsedad estaré incurriendo en las responsabilidades administrativas y disciplinarias, sin perjuicio de las acciones civiles."},null,null,null,null,null,null,null,null,null,null,null,null,null,null,null,null,null,null,null,null,null,null,null,null,null,null,null,null,null,null,null,null,null,null,null,null,null,null,null,null,null,null,null,null,null,null,0]
[null,null,3,null,null,null,null,null,null,null,null,null,null,null,null,null,null,0,null,null,null,null,null,0,0,0,null,0,"√",1,null,null,null,null,null,null,null,null,null,null,null,null,null,null,null,null,null,null,null,0]
[null,null,9,null,null,null,null,null,null,null,null,null,null,null,null,null,null,0,null,null,null,null,null,0,0,0,null,0,"√",1,null,null,null,null,null,null,null,null,null,null,null,null,null,null,null,null,null,null,null,0]
[null,null,17,null,null,null,null,null,null,null,null,null,null,null,null,null,null,0,null,null,null,null,null,0,0,0,null,0,"√",1,null,null,null,null,null,null,null,null,null,null,null,null,null,null,null,null,null,null,null,0]
[null,null,null,null,null,null,null,null,"Control 2",null,"Control:",{"$f":"IF(L2235=\"\",\"\",IF(L2234>L2235,\"E\",IF(L2234<L2235,\"S\",\"√\")))","v":""},{"$f":"IF(M2235=\"\",\"\",IF(M2234>M2235,\"E\",IF(M2234<M2235,\"S\",\"√\")))","v":""},"","","","",{"$f":"IF($C2193=\"\",\"\",IF(AND(L2237=\"√\",M2237=\"√\",N2237=\"√\",O2237=\"√\",P2237=\"√\",Q2237=\"√\"),\"√\",\"Error\"))","v":"Error"},null,null,null,null,null,null,null,null,null,null,null,null,null,null,null,null,null,null,null,null,null,null,null,null,null,null,null,null,null,{"$f":"+IF(OR(B2237=\"\",B2237=\"Lecciones de TIE asignadas -√-\"),1,0)","v":1},null,0]
[null,null,null,null,null,null,null,null,null,null,null,null,null,null,null,null,null,null,null,null,null,null,null,null,null,null,"Hoja de Cálculo",null,null,null,null,null,null,null,null,null,null,null,null,null,null,null,null,null,null,null,null,null,null,0]
[null,null,1,null,null,null,null,null,null,null,null,null,null,null,null,null,null,{"$f":"+SUM(L2251:Q2251)","v":0},null,null,null,null,null,{"$f":"+SUM(R2251:W2251)","v":0},{"$f":"IF(X2251=0,0,IF(X2251>48,\"E\",IF(X2251<44,0,IF(A2251=\"A\",0,48-X2251))))","v":0},{"$f":"+IF(Y2251=\"E\",\"E\",(X2251+Y2251))","v":0},null,{"$f":"+IF(Z2251=\"E\",\"E\",(Z2251-AA2251))","v":0},{"$f":"IF(A2251=\"A\",\"√\",IF(Z2251>48,\"E\",\"√\"))","v":"√"},{"$f":"+IF(AC2251=\"√\",1,0)","v":1},null,null,null,null,null,null,null,null,null,null,null,null,null,null,null,null,null,null,null,{"$f":"+IF(OR(AA2251+AB2251>0,D2251<>0,H2251<>0,I2251<>0,J2251<>0),AX2250+1,0)","v":0}]
[null,null,9,null,null,null,null,null,null,null,null,null,null,null,null,null,null,0,null,null,null,null,null,0,0,0,null,0,"√",1,null,null,null,null,null,null,null,null,null,null,null,null,null,null,null,null,null,null,null,0]
[null,null,17,null,null,null,null,null,null,null,null,null,null,null,null,null,null,0,null,null,null,null,null,0,0,0,null,0,"√",1,null,null,null,null,null,null,null,null,null,null,null,null,null,null,null,null,null,null,null,0]
[null,null,null,null,null,null,null,null,null,null,null,null,null,null,null,null,null,null,null,null,null,null,null,null,null,null,null,null,null,null,null,null,null,null,null,null,null,null,null,null,null,null,null,null,null,null,null,null,null,0]
[null,null,null,null,null,null,null,null,null,null,null,null,null,null,null,null,null,null,null,null,null,null,null,null,null,null,null,null,null,null,null,null,null,null,null,null,null,null,null,null,null,null,null,null,null,null,null,null,null,0]
[null,null,4,null,null,null,null,null,null,null,null,null,null,null,null,null,null,0,null,null,null,null,null,0,0,0,null,0,"√",1,null,null,null,null,null,null,null,null,null,null,null,null,null,null,null,null,null,null,null,0]
[null,null,9,null,null,null,null,null,null,null,null,null,null,null,null,null,null,0,null,null,null,null,null,0,0,0,null,0,"√",1,null,null,null,null,null,null,null,null,null,null,null,null,null,null,null,null,null,null,null,0]
[null,null,16,null,null,null,null,null,null,null,null,null,null,null,null,null,null,0,null,null,null,null,null,0,0,0,null,0,"√",1,null,null,null,null,null,null,null,null,null,null,null,null,null,null,null,null,null,null,null,0]
[null,null,null,null,null,null,null,null,"Plan de Estudios",null,"Control:",{"$f":"+IF(C2283=\"\",\"\",VLOOKUP($A2282,'hoja de cálculo'!$A$17:$BD$321,51,0))","v":""},{"$f":"+IF(C2283=\"\",\"\",VLOOKUP($A2282,'hoja de cálculo'!$A$17:$BD$321,52,0))","v":""},{"$f":"+IF(C2283=\"\",\"\",VLOOKUP($A2282,'hoja de cálculo'!$A$17:$BD$321,53,0))","v":""},{"$f":"+IF(C2283=\"\",\"\",VLOOKUP($A2282,'hoja de cálculo'!$A$17:$BD$321,54,0))","v":""},{"$f":"+IF(C2283=\"\",\"\",VLOOKUP($A2282,'hoja de cálculo'!$A$17:$BD$321,55,0))","v":""},{"$f":"+IF(C2283=\"\",\"\",VLOOKUP($A2282,'hoja de cálculo'!$A$17:$BD$321,56,0))","v":""},null,null,null,null,null,null,null,null,null,null,null,null,null,null,null,null,null,null,null,null,null,null,null,null,null,null,null,{"$f":"+IF(AB2308<0,-AB2308,0)","v":0},null,null,null,null,0]
[null,null,null,null,null,null,null,null,null,null,null,null,null,null,null,null,null,null,null,null,null,null,null,null,null,null,null,null,null,null,null,null,null,null,null,null,null,null,null,null,null,null,null,null,null,null,null,null,null,0]
[null,null,6,null,null,null,null,null,null,null,null,null,null,null,null,null,null,0,null,null,null,null,null,0,0,0,null,0,"√",1,null,null,null,null,null,null,null,null,null,null,null,null,null,null,null,null,null,null,null,0]
[null,null,10,null,null,null,null,null,null,null,null,null,null,null,null,null,null,0,null,null,null,null,null,0,0,0,null,0,"√",1,null,null,null,null,null,null,null,null,null,null,null,null,null,null,null,null,null,null,null,0]
[null,null,18,null,null,null,null,null,null,null,null,null,null,null,null,null,null,0,null,null,null,null,null,0,0,0,null,0,"√",1,null,null,null,null,null,null,null,null,null,null,null,null,null,null,null,null,null,null,null,0]
[null,null,{"$f":"+\"Declaración Jurada: El suscrito Director \"&$D$4245&\" del \"&$E$12&\", código \"&Información!$E$11&\", hace constar que los datos consignados en éste formulario son veraces y responden al estado real de ésta institución.\"&\" Cualquier inexactitud o falsedad estaré incurriendo en las responsabilidades administrativas y disciplinarias, sin perjuicio de las acciones civiles.\"","v":"Declaración Jurada: El suscrito Director  del , código , hace constar que los datos consignados en éste formulario son veraces y responden al estado real de ésta institución. Cualquier inexactitud o falsedad estaré incurriendo en las responsabilidades administrativas y disciplinarias, sin perjuicio de las acciones civiles."},null,null,null,null,null,null,null,null,null,null,null,null,null,null,null,null,null,null,null,null,null,null,null,null,null,null,null,null,null,null,null,null,null,null,null,null,null,null,null,null,null,null,null,null,null,null,0]
[null,null,null,null,null,null,null,null,null,null,null,null,null,null,null,null,null,null,null,null,null,null,null,null,null,null,null,null,null,null,null,null,null,null,null,null,null,null,null,null,null,null,null,null,null,null,null,null,null,0]
[null,null,5,null,null,null,null,null,null,null,null,null,null,null,null,null,null,0,null,null,null,null,null,0,0,0,null,0,"√",1,null,null,null,null,null,null,null,null,null,null,null,null,null,null,null,null,null,null,null,0]
[null,null,17,null,null,null,null,null,null,null,null,null,null,null,null,null,null,0,null,null,null,null,null,0,0,0,null,0,"√",1,null,null,null,null,null,null,null,null,null,null,null,null,null,null,null,null,null,null,null,0]
[null,null,18,null,null,null,null,null,null,null,null,null,null,null,null,null,null,0,null,null,null,null,null,0,0,0,null,0,"√",1,null,null,null,null,null,null,null,null,null,null,null,null,null,null,null,null,null,null,null,0]
[null,null,null,null,null,null,null,null,null,null,null,null,null,null,null,null,null,null,null,null,null,null,null,null,null,null,null,null,null,null,null,null,null,null,null,null,null,null,null,null,null,null,null,null,null,null,null,null,null,0]
[null,null,4,null,null,null,null,null,null,null,null,null,null,null,null,null,null,0,null,null,null,null,null,0,0,0,null,0,"√",1,null,null,null,null,null,null,null,null,null,null,null,null,null,null,null,null,null,null,null,0]
[null,null,5,null,null,null,null,null,null,null,null,null,null,null,null,null,null,0,null,null,null,null,null,0,0,0,null,0,"√",1,null,null,null,null,null,null,null,null,null,null,null,null,null,null,null,null,null,null,null,0]
[null,null,17,null,null,null,null,null,null,null,null,null,null,null,null,null,null,0,null,null,null,null,null,0,0,0,null,0,"√",1,null,null,null,null,null,null,null,null,null,null,null,null,null,null,null,null,null,null,null,0]
[null,null,null,null,null,null,null,null,"Total de lecciones asignadas:",null,null,{"$f":"+SUM(L2391:L2408)-SUMIF($A2391:$A2408,\"A\",L2391:L2408)","v":0},{"$f":"+SUM(M2391:M2408)-SUMIF($A2391:$A2408,\"A\",M2391:M2408)","v":0},0,0,{"$f":"+SUM(P2391:P2408)-SUMIF($A2391:$A2408,\"A\",P2391:P2408)","v":0},{"$f":"+SUM(Q2391:Q2408)-SUMIF($A2391:$A2408,\"A\",Q2391:Q2408)","v":0},{"$f":"+SUM(R2391:R2408)-SUMIF($A2391:$A2408,\"A\",R2391:R2408)","v":0},{"$f":"+SUM(S2391:S2408)-SUMIF($A2391:$A2408,\"A\",S2391:S2408)","v":0},{"$f":"+SUM(T2391:T2408)-SUMIF($A2391:$A2408,\"A\",T2391:T2408)","v":0},0,0,0,{"$f":"+SUM(R2409:W2409)","v":0},{"$f":"+SUM(Y2391:Y2408)","v":0},{"$f":"+SUM(Z2391:Z2408)-SUMIF($A2391:$A2408,\"A\",Z2391:Z2408)","v":0},{"$f":"+SUM(AA2391:AA2408)","v":0},{"$f":"+SUM(AB2391:AB2408)-SUMIF($A2391:$A2408,\"A\",AB2391:AB2408)","v":0},{"$f":"IF($C2388=\"\",\"\",IF(AND(R2412=\"√\",AD2409=18),\"√\",\"Er\"))","v":""},{"$f":"+SUM(AD2391:AD2408)","v":18},null,null,null,null,null,null,null,null,null,null,null,null,null,null,null,{"$f":"+Y2409","v":0},null,null,null,{"$f":"+IF(AX2387>0,AX2390+1,0)","v":0}]
[null,null,null,null,null,null,null,null,null,null,null,null,null,null,null,null,null,null,null,null,null,null,null,null,null,null,null,null,null,null,null,null,null,null,null,null,null,null,null,null,null,null,null,null,null,null,null,null,null,0]
[null,null,4,null,null,null,null,null,null,null,null,null,null,null,null,null,null,0,null,null,null,null,null,0,0,0,null,0,"√",1,null,null,null,null,null,null,null,null,null,null,null,null,null,null,null,null,null,null,null,0]
[null,null,12,null,null,null,null,null,null,null,null,null,null,null,null,null,null,0,null,null,null,null,null,0,0,0,null,0,"√",1,null,null,null,null,null,null,null,null,null,null,null,null,null,null,null,null,null,null,null,0]
[null,null,17,null,null,null,null,null,null,null,null,null,null,null,null,null,null,0,null,null,null,null,null,0,0,0,null,0,"√",1,null,null,null,null,null,null,null,null,null,null,null,null,null,null,null,null,null,null,null,0]
[null,null,null,null,null,null,null,null,null,null,null,null,null,null,null,null,null,null,null,null,null,null,null,null,null,null,null,null,null,null,null,null,null,null,null,null,null,null,null,null,null,null,null,null,null,null,null,null,null,0]
[null,null,"Nº","Nombre del servidor",null,null,null,"Nº de cédula","Grupo Prof.","Especialidad",null,"Nivel",null,null,null,null,null,"Sub- Total","Leccs. Co-curriculares",null,null,null,null,"Sub- Total","Pl","Total Leccs.","Nº de leccs.",null,null,null,null,null,null,null,null,null,null,null,null,null,null,null,null,null,null,null,null,null,null,0]
[null,null,4,null,null,null,null,null,null,null,null,null,null,null,null,null,null,0,null,null,null,null,null,0,0,0,null,0,"√",1,null,null,null,null,null,null,null,null,null,null,null,null,null,null,null,null,null,null,null,0]
[null,null,7,null,null,null,null,null,null,null,null,null,null,null,null,null,null,0,null,null,null,null,null,0,0,0,null,0,"√",1,null,null,null,null,null,null,null,null,null,null,null,null,null,null,null,null,null,null,null,0]
[null,null,null,null,null,null,null,null,"Total de secciones",null,"Control:",{"$f":"+IF(C2458=\"\",\"\",VLOOKUP($A2457,'hoja de cálculo'!$A$17:$AQ$321,38,0))","v":""},{"$f":"+IF(C2458=\"\",\"\",VLOOKUP($A2457,'hoja de cálculo'!$A$17:$AQ$321,39,0))","v":""},{"$f":"+IF(C2458=\"\",\"\",VLOOKUP($A2457,'hoja de cálculo'!$A$17:$AQ$321,40,0))","v":""},{"$f":"+IF(C2458=\"\",\"\",VLOOKUP($A2457,'hoja de cálculo'!$A$17:$AQ$321,41,0))","v":""},{"$f":"+IF(C2458=\"\",\"\",VLOOKUP($A2457,'hoja de cálculo'!$A$17:$AQ$321,42,0))","v":""},{"$f":"+IF(C2458=\"\",\"\",VLOOKUP($A2457,'hoja de cálculo'!$A$17:$AQ$321,43,0))","v":""},{"$f":"+SUM(L2481:Q2481)","v":0},null,null,null,null,null,null,null,null,null,null,null,null,null,null,null,null,null,null,null,null,null,null,null,null,null,null,null,null,null,null,null,0]
[null,null,null,null,null,null,null,null,null,null,null,null,null,null,null,null,null,null,null,null,null,null,null,null,null,null,null,null,null,null,null,null,null,null,null,null,null,null,null,null,null,null,null,null,null,null,null,null,null,0]
[null,null,"Nº","Nombre del servidor",null,null,null,"Nº de cédula","Grupo Prof.","Especialidad",null,"Nivel",null,null,null,null,null,"Sub- Total","Leccs. Co-curriculares",null,null,null,null,"Sub- Total","Pl","Total Leccs.","Nº de leccs.",null,null,null,null,null,null,null,null,null,null,null,null,null,null,null,null,null,null,null,null,null,null,0]
[null,null,5,null,null,null,null,null,null,null,null,null,null,null,null,null,null,0,null,null,null,null,null,0,0,0,null,0,"√",1,null,null,null,null,null,null,null,null,null,null,null,null,null,null,null,null,null,null,null,0]
[null,null,13,null,null,null,null,null,null,null,null,null,null,null,null,null,null,0,null,null,null,null,null,0,0,0,null,0,"√",1,null,null,null,null,null,null,null,null,null,null,null,null,null,null,null,null,null,null,null,0]
[null,null,null,null,null,null,null,null,"Total de secciones",null,"Control:",{"$f":"+IF(C2493=\"\",\"\",VLOOKUP($A2492,'hoja de cálculo'!$A$17:$AQ$321,38,0))","v":""},{"$f":"+IF(C2493=\"\",\"\",VLOOKUP($A2492,'hoja de cálculo'!$A$17:$AQ$321,39,0))","v":""},{"$f":"+IF(C2493=\"\",\"\",VLOOKUP($A2492,'hoja de cálculo'!$A$17:$AQ$321,40,0))","v":""},{"$f":"+IF(C2493=\"\",\"\",VLOOKUP($A2492,'hoja de cálculo'!$A$17:$AQ$321,41,0))","v":""},{"$f":"+IF(C2493=\"\",\"\",VLOOKUP($A2492,'hoja de cálculo'!$A$17:$AQ$321,42,0))","v":""},{"$f":"+IF(C2493=\"\",\"\",VLOOKUP($A2492,'hoja de cálculo'!$A$17:$AQ$321,43,0))","v":""},{"$f":"+SUM(L2516:Q2516)","v":0},null,null,null,null,null,null,null,null,null,null,null,null,null,null,null,null,null,null,null,null,null,null,null,null,null,null,null,null,null,null,null,0]
[null,null,null,null,null,null,null,null,null,null,null,null,null,null,null,null,null,null,null,null,null,null,null,null,null,null,null,null,null,null,null,null,null,null,null,null,null,null,null,null,null,null,null,null,null,null,null,null,null,0]
[null,null,{"$f":"+\"Declaración Jurada: El suscrito Director \"&$D$4245&\" del \"&$E$12&\", código \"&Información!$E$11&\", hace constar que los datos consignados en éste formulario son veraces y responden al estado real de ésta institución.\"&\" Cualquier inexactitud o falsedad estaré incurriendo en las responsabilidades administrativas y disciplinarias, sin perjuicio de las acciones civiles.\"","v":"Declaración Jurada: El suscrito Director  del , código , hace constar que los datos consignados en éste formulario son veraces y responden al estado real de ésta institución. Cualquier inexactitud o falsedad estaré incurriendo en las responsabilidades administrativas y disciplinarias, sin perjuicio de las acciones civiles."},null,null,null,null,null,null,null,null,null,null,null,null,null,null,null,null,null,null,null,null,null,null,null,null,null,null,null,null,null,null,null,null,null,null,null,null,null,null,null,null,null,null,null,null,null,null,0]
[null,null,8,null,null,null,null,null,null,null,null,null,null,null,null,null,null,0,null,null,null,null,null,0,0,0,null,0,"√",1,null,null,null,null,null,null,null,null,null,null,null,null,null,null,null,null,null,null,null,0]
[null,null,13,null,null,null,null,null,null,null,null,null,null,null,null,null,null,0,null,null,null,null,null,0,0,0,null,0,"√",1,null,null,null,null,null,null,null,null,null,null,null,null,null,null,null,null,null,null,null,0]
[null,null,null,null,null,null,null,null,"Total de lecciones aprobadas:",null,null,{"$f":"+IF(C2528=\"\",\"\",VLOOKUP($A2527,'hoja de cálculo'!$A$17:$AJ$321,31,0))","v":""},{"$f":"+IF(C2528=\"\",\"\",VLOOKUP($A2527,'hoja de cálculo'!$A$17:$AJ$321,32,0))","v":""},{"$f":"+IF(C2528=\"\",\"\",VLOOKUP($A2527,'hoja de cálculo'!$A$17:$AJ$321,33,0))","v":""},{"$f":"+IF(C2528=\"\",\"\",VLOOKUP($A2527,'hoja de cálculo'!$A$17:$AJ$321,34,0))","v":""},{"$f":"+IF(C2528=\"\",\"\",VLOOKUP($A2527,'hoja de cálculo'!$A$17:$AJ$321,35,0))","v":""},{"$f":"+IF(C2528=\"\",\"\",VLOOKUP($A2527,'hoja de cálculo'!$A$17:$AJ$321,36,0))","v":""},{"$f":"+SUM(L2550:Q2550)","v":0},null,null,null,null,null,null,null,null,null,null,null,null,null,null,null,null,null,null,null,null,null,null,null,null,null,null,null,null,null,null,null,{"$f":"+IF(AX2549>0,AX2549+1,0)","v":0}]
[null,null,null,null,null,null,null,null,null,null,null,null,null,null,null,null,null,null,null,null,null,null,null,null,null,null,null,null,null,null,null,null,null,null,null,null,null,null,null,null,null,null,null,null,null,null,null,null,null,0]
[null,null,null,null,null,null,null,null,null,null,null,"7º","8º","9º","10º","11º","12º",null,null,null,null,null,null,null,null,null,"Prop.","Ints.",null,null,null,{"$f":"+IF($AF$24=0,0,SUMIF($S2565:$W2565,$AF$24,$S2584:$W2584))","v":0},{"$f":"+IF($AG$24=0,0,SUMIF($S2565:$W2565,$AG$24,$S2584:$W2584))","v":0},{"$f":"+IF($AH$24=0,0,SUMIF($S2565:$W2565,$AH$24,$S2584:$W2584))","v":0},{"$f":"+IF($AI$24=0,0,SUMIF($S2565:$W2565,$AI$24,$S2584:$W2584))","v":0},{"$f":"+IF($AJ$24=0,0,SUMIF($S2565:$W2565,$AJ$24,$S2584:$W2584))","v":0},{"$f":"+IF($AK$24=0,0,SUMIF($S2565:$W2565,$AK$24,$S2584:$W2584))","v":0},{"$f":"+IF($AL$24=0,0,SUMIF($S2565:$W2565,$AL$24,$S2584:$W2584))","v":0},{"$f":"+IF($AM$24=0,0,SUMIF($S2565:$W2565,$AM$24,$S2584:$W2584))","v":0},{"$f":"+IF($AN$24=0,0,SUMIF($S2565:$W2565,$AN$24,$S2584:$W2584))","v":0},{"$f":"+IF($AO$24=0,0,SUMIF($S2565:$W2565,$AO$24,$S2584:$W2584))","v":0},{"$f":"+IF($AP$24=0,0,SUMIF($S2565:$W2565,$AP$24,$S2584:$W2584))","v":0},{"$f":"+IF($AQ$24=0,0,SUMIF($S2565:$W2565,$AQ$24,$S2584:$W2584))","v":0},null,null,null,null,null,null,0]
[null,null,8,null,null,null,null,null,null,null,null,null,null,null,null,null,null,0,null,null,null,null,null,0,0,0,null,0,"√",1,null,null,null,null,null,null,null,null,null,null,null,null,null,null,null,null,null,null,null,0]
[null,null,18,null,null,null,null,null,null,null,null,null,null,null,null,null,null,0,null,null,null,null,null,0,0,0,null,0,"√",1,null,null,null,null,null,null,null,null,null,null,null,null,null,null,null,null,null,null,null,0]
[null,null,null,null,null,null,null,null,"Control 2",null,"Control:",{"$f":"IF(L2585=\"\",\"\",IF(L2584>L2585,\"E\",IF(L2584<L2585,\"S\",\"√\")))","v":""},{"$f":"IF(M2585=\"\",\"\",IF(M2584>M2585,\"E\",IF(M2584<M2585,\"S\",\"√\")))","v":""},"","","","",{"$f":"IF($C2543=\"\",\"\",IF(AND(L2587=\"√\",M2587=\"√\",N2587=\"√\",O2587=\"√\",P2587=\"√\",Q2587=\"√\"),\"√\",\"Error\"))","v":"Error"},null,null,null,null,null,null,null,null,null,null,null,null,null,null,null,null,null,null,null,null,null,null,null,null,null,null,null,null,null,{"$f":"+IF(OR(B2587=\"\",B2587=\"Lecciones de TIE asignadas -√-\"),1,0)","v":1},null,0]
[null,null,null,null,null,null,null,null,null,null,null,null,null,null,null,null,null,null,null,null,null,null,null,null,null,null,null,null,null,null,null,null,null,null,null,null,null,null,null,null,null,null,null,null,null,null,null,null,null,0]
[null,null,null,null,null,null,null,null,null,null,null,"7º","8º","9º","10º","11º","12º",null,null,null,null,null,null,null,null,null,"Prop.","Ints.",null,null,null,{"$f":"+IF($AF$24=0,0,SUMIF($S2600:$W2600,$AF$24,$S2619:$W2619))","v":0},{"$f":"+IF($AG$24=0,0,SUMIF($S2600:$W2600,$AG$24,$S2619:$W2619))","v":0},{"$f":"+IF($AH$24=0,0,SUMIF($S2600:$W2600,$AH$24,$S2619:$W2619))","v":0},{"$f":"+IF($AI$24=0,0,SUMIF($S2600:$W2600,$AI$24,$S2619:$W2619))","v":0},{"$f":"+IF($AJ$24=0,0,SUMIF($S2600:$W2600,$AJ$24,$S2619:$W2619))","v":0},{"$f":"+IF($AK$24=0,0,SUMIF($S2600:$W2600,$AK$24,$S2619:$W2619))","v":0},{"$f":"+IF($AL$24=0,0,SUMIF($S2600:$W2600,$AL$24,$S2619:$W2619))","v":0},{"$f":"+IF($AM$24=0,0,SUMIF($S2600:$W2600,$AM$24,$S2619:$W2619))","v":0},{"$f":"+IF($AN$24=0,0,SUMIF($S2600:$W2600,$AN$24,$S2619:$W2619))","v":0},{"$f":"+IF($AO$24=0,0,SUMIF($S2600:$W2600,$AO$24,$S2619:$W2619))","v":0},{"$f":"+IF($AP$24=0,0,SUMIF($S2600:$W2600,$AP$24,$S2619:$W2619))","v":0},{"$f":"+IF($AQ$24=0,0,SUMIF($S2600:$W2600,$AQ$24,$S2619:$W2619))","v":0},null,null,null,null,null,null,0]
[null,null,8,null,null,null,null,null,null,null,null,null,null,null,null,null,null,0,null,null,null,null,null,0,0,0,null,0,"√",1,null,null,null,null,null,null,null,null,null,null,null,null,null,null,null,null,null,null,null,0]
[null,null,14,null,null,null,null,null,null,null,null,null,null,null,null,null,null,0,null,null,null,null,null,0,0,0,null,0,"√",1,null,null,null,null,null,null,null,null,null,null,null,null,null,null,null,null,null,null,null,0]
[null,null,null,null,null,null,null,null,"Control 2",null,"Control:",{"$f":"IF(L2620=\"\",\"\",IF(L2619>L2620,\"E\",IF(L2619<L2620,\"S\",\"√\")))","v":""},{"$f":"IF(M2620=\"\",\"\",IF(M2619>M2620,\"E\",IF(M2619<M2620,\"S\",\"√\")))","v":""},"","","","",{"$f":"IF($C2578=\"\",\"\",IF(AND(L2622=\"√\",M2622=\"√\",N2622=\"√\",O2622=\"√\",P2622=\"√\",Q2622=\"√\"),\"√\",\"Error\"))","v":"Error"},null,null,null,null,null,null,null,null,null,null,null,null,null,null,null,null,null,null,null,null,null,null,null,null,null,null,null,null,null,{"$f":"+IF(OR(B2622=\"\",B2622=\"Lecciones de TIE asignadas -√-\"),1,0)","v":1},null,0]
[null,null,{"$f":"+\"Declaración Jurada: El suscrito Director \"&$D$4245&\" del \"&$E$12&\", código \"&Información!$E$11&\", hace constar que los datos consignados en éste formulario son veraces y responden al estado real de ésta institución.\"&\" Cualquier inexactitud o falsedad estaré incurriendo en las responsabilidades administrativas y disciplinarias, sin perjuicio de las acciones civiles.\"","v":"Declaración Jurada: El suscrito Director  del , código , hace constar que los datos consignados en éste formulario son veraces y responden al estado real de ésta institución. Cualquier inexactitud o falsedad estaré incurriendo en las responsabilidades administrativas y disciplinarias, sin perjuicio de las acciones civiles."},null,null,null,null,null,null,null,null,null,null,null,null,null,null,null,null,null,null,null,null,null,null,null,null,null,null,null,null,null,null,null,null,null,null,null,null,null,null,null,null,null,null,null,null,null,null,0]
[null,null,6,null,null,null,null,null,null,null,null,null,null,null,null,null,null,0,null,null,null,null,null,0,0,0,null,0,"√",1,null,null,null,null,null,null,null,null,null,null,null,null,null,null,null,null,null,null,null,0]
[null,null,9,null,null,null,null,null,null,null,null,null,null,null,null,null,null,0,null,null,null,null,null,0,0,0,null,0,"√",1,null,null,null,null,null,null,null,null,null,null,null,null,null,null,null,null,null,null,null,0]
[null,null,14,null,null,null,null,null,null,null,null,null,null,null,null,null,null,0,null,null,null,null,null,0,0,0,null,0,"√",1,null,null,null,null,null,null,null,null,null,null,null,null,null,null,null,null,null,null,null,0]
[null,null,null,null,null,null,null,null,"Control 2",null,"Control:",{"$f":"IF(L2655=\"\",\"\",IF(L2654>L2655,\"E\",IF(L2654<L2655,\"S\",\"√\")))","v":""},{"$f":"IF(M2655=\"\",\"\",IF(M2654>M2655,\"E\",IF(M2654<M2655,\"S\",\"√\")))","v":""},"","","","",{"$f":"IF($C2613=\"\",\"\",IF(AND(L2657=\"√\",M2657=\"√\",N2657=\"√\",O2657=\"√\",P2657=\"√\",Q2657=\"√\"),\"√\",\"Error\"))","v":"Error"},null,null,null,null,null,null,null,null,null,null,null,null,null,null,null,null,null,null,null,null,null,null,null,null,null,null,null,null,null,{"$f":"+IF(OR(B2657=\"\",B2657=\"Lecciones de TIE asignadas -√-\"),1,0)","v":1},null,0]
[null,null,null,null,null,null,null,null,null,null,null,null,null,null,null,null,null,null,null,null,null,null,null,null,null,null,null,null,null,null,null,null,null,null,null,null,null,null,null,null,null,null,null,null,null,null,null,null,null,0]
[null,null,1,null,null,null,null,null,null,null,null,null,null,null,null,null,null,{"$f":"+SUM(L2671:Q2671)","v":0},null,null,null,null,null,{"$f":"+SUM(R2671:W2671)","v":0},{"$f":"IF(X2671=0,0,IF(X2671>48,\"E\",IF(X2671<44,0,IF(A2671=\"A\",0,48-X2671))))","v":0},{"$f":"+IF(Y2671=\"E\",\"E\",(X2671+Y2671))","v":0},null,{"$f":"+IF(Z2671=\"E\",\"E\",(Z2671-AA2671))","v":0},{"$f":"IF(A2671=\"A\",\"√\",IF(Z2671>48,\"E\",\"√\"))","v":"√"},{"$f":"+IF(AC2671=\"√\",1,0)","v":1},null,null,null,null,null,null,null,null,null,null,null,null,null,null,null,null,null,null,null,{"$f":"+IF(OR(AA2671+AB2671>0,D2671<>0,H2671<>0,I2671<>0,J2671<>0),AX2670+1,0)","v":0}]
[null,null,9,null,null,null,null,null,null,null,null,null,null,null,null,null,null,0,null,null,null,null,null,0,0,0,null,0,"√",1,null,null,null,null,null,null,null,null,null,null,null,null,null,null,null,null,null,null,null,0]
[null,null,17,null,null,null,null,null,null,null,null,null,null,null,null,null,null,0,null,null,null,null,null,0,0,0,null,0,"√",1,null,null,null,null,null,null,null,null,null,null,null,null,null,null,null,null,null,null,null,0]
[null,null,null,null,null,null,null,null,null,null,null,null,null,null,null,null,null,null,null,null,null,null,null,null,null,null,null,null,null,null,null,null,null,null,null,null,null,null,null,null,null,null,null,null,null,null,null,null,null,0]
[null,null,null,null,null,null,null,null,null,null,null,null,null,null,null,null,null,null,null,null,null,null,null,null,null,null,null,null,null,null,null,null,null,null,null,null,null,null,null,null,null,null,null,null,null,null,null,null,null,0]
[null,null,8,null,null,null,null,null,null,null,null,null,null,null,null,null,null,0,null,null,null,null,null,0,0,0,null,0,"√",1,null,null,null,null,null,null,null,null,null,null,null,null,null,null,null,null,null,null,null,0]
[null,null,9,null,null,null,null,null,null,null,null,null,null,null,null,null,null,0,null,null,null,null,null,0,0,0,null,0,"√",1,null,null,null,null,null,null,null,null,null,null,null,null,null,null,null,null,null,null,null,0]
[null,null,null,null,null,null,null,null,"Total de lecciones asignadas:",null,null,{"$f":"+SUM(L2706:L2723)-SUMIF($A2706:$A2723,\"A\",L2706:L2723)","v":0},{"$f":"+SUM(M2706:M2723)-SUMIF($A2706:$A2723,\"A\",M2706:M2723)","v":0},0,0,{"$f":"+SUM(P2706:P2723)-SUMIF($A2706:$A2723,\"A\",P2706:P2723)","v":0},{"$f":"+SUM(Q2706:Q2723)-SUMIF($A2706:$A2723,\"A\",Q2706:Q2723)","v":0},{"$f":"+SUM(R2706:R2723)-SUMIF($A2706:$A2723,\"A\",R2706:R2723)","v":0},{"$f":"+SUM(S2706:S2723)-SUMIF($A2706:$A2723,\"A\",S2706:S2723)","v":0},{"$f":"+SUM(T2706:T2723)-SUMIF($A2706:$A2723,\"A\",T2706:T2723)","v":0},0,0,0,{"$f":"+SUM(R2724:W2724)","v":0},{"$f":"+SUM(Y2706:Y2723)","v":0},{"$f":"+SUM(Z2706:Z2723)-SUMIF($A2706:$A2723,\"A\",Z2706:Z2723)","v":0},{"$f":"+SUM(AA2706:AA2723)","v":0},{"$f":"+SUM(AB2706:AB2723)-SUMIF($A2706:$A2723,\"A\",AB2706:AB2723)","v":0},{"$f":"IF($C2703=\"\",\"\",IF(AND(R2727=\"√\",AD2724=18),\"√\",\"Er\"))","v":""},{"$f":"+SUM(AD2706:AD2723)","v":18},null,null,null,null,null,null,null,null,null,null,null,null,null,null,null,{"$f":"+Y2724","v":0},null,null,null,{"$f":"+IF(AX2702>0,AX2705+1,0)","v":0}]
[null,null,{"$f":"+\"Declaración Jurada: El suscrito Director \"&$D$4245&\" del \"&$E$12&\", código \"&Información!$E$11&\", hace constar que los datos consignados en éste formulario son veraces y responden al estado real de ésta institución.\"&\" Cualquier inexactitud o falsedad estaré incurriendo en las responsabilidades administrativas y disciplinarias, sin perjuicio de las acciones civiles.\"","v":"Declaración Jurada: El suscrito Director  del , código , hace constar que los datos consignados en éste formulario son veraces y responden al estado real de ésta institución. Cualquier inexactitud o falsedad estaré incurriendo en las responsabilidades administrativas y disciplinarias, sin perjuicio de las acciones civiles."},null,null,null,null,null,null,null,null,null,null,null,null,null,null,null,null,null,null,null,null,null,null,null,null,null,null,null,null,null,null,null,null,null,null,null,null,null,null,null,null,null,null,null,null,null,null,0]
[null,null,null,null,null,null,null,null,null,null,null,null,null,null,null,null,null,null,null,null,null,null,null,null,null,null,null,null,null,null,null,null,null,null,null,null,null,null,null,null,null,null,null,null,null,null,null,null,null,0]
[null,null,8,null,null,null,null,null,null,null,null,null,null,null,null,null,null,0,null,null,null,null,null,0,0,0,null,0,"√",1,null,null,null,null,null,null,null,null,null,null,null,null,null,null,null,null,null,null,null,0]
[null,null,17,null,null,null,null,null,null,null,null,null,null,null,null,null,null,0,null,null,null,null,null,0,0,0,null,0,"√",1,null,null,null,null,null,null,null,null,null,null,null,null,null,null,null,null,null,null,null,0]
[null,null,18,null,null,null,null,null,null,null,null,null,null,null,null,null,null,0,null,null,null,null,null,0,0,0,null,0,"√",1,null,null,null,null,null,null,null,null,null,null,null,null,null,null,null,null,null,null,null,0]
[null,null,{"$f":"+\"Declaración Jurada: El suscrito Director \"&$D$4245&\" del \"&$E$12&\", código \"&Información!$E$11&\", hace constar que los datos consignados en éste formulario son veraces y responden al estado real de ésta institución.\"&\" Cualquier inexactitud o falsedad estaré incurriendo en las responsabilidades administrativas y disciplinarias, sin perjuicio de las acciones civiles.\"","v":"Declaración Jurada: El suscrito Director  del , código , hace constar que los datos consignados en éste formulario son veraces y responden al estado real de ésta institución. Cualquier inexactitud o falsedad estaré incurriendo en las responsabilidades administrativas y disciplinarias, sin perjuicio de las acciones civiles."},null,null,null,null,null,null,null,null,null,null,null,null,null,null,null,null,null,null,null,null,null,null,null,null,null,null,null,null,null,null,null,null,null,null,null,null,null,null,null,null,null,null,null,null,null,null,0]
[null,null,"Nº","Nombre del servidor",null,null,null,"Nº de cédula","Grupo Prof.","Especialidad",null,"Nivel",null,null,null,null,null,"Sub- Total","Leccs. Co-curriculares",null,null,null,null,"Sub- Total","Pl","Total Leccs.","Nº de leccs.",null,null,null,null,null,null,null,null,null,null,null,null,null,null,null,null,null,null,null,null,null,null,0]
[null,null,5,null,null,null,null,null,null,null,null,null,null,null,null,null,null,0,null,null,null,null,null,0,0,0,null,0,"√",1,null,null,null,null,null,null,null,null,null,null,null,null,null,null,null,null,null,null,null,0]
[null,null,17,null,null,null,null,null,null,null,null,null,null,null,null,null,null,0,null,null,null,null,null,0,0,0,null,0,"√",1,null,null,null,null,null,null,null,null,null,null,null,null,null,null,null,null,null,null,null,0]
[null,null,null,null,null,null,null,null,null,null,null,null,null,null,null,null,null,null,null,null,null,null,null,null,null,null,null,null,null,null,null,null,null,null,null,null,null,null,null,null,null,null,null,null,null,null,null,null,null,0]
[{"$f":"+A2772+1","v":80},{"$f":"IFERROR(VLOOKUP(A2807,'hoja de cálculo'!$A$22:'hoja de cálculo'!$C$321,3,0),\"\")","v":""},null,null,null,null,null,null,null,null,null,null,null,null,null,null,null,null,null,null,null,null,null,null,null,null,null,null,null,null,null,null,null,null,null,null,null,null,null,null,null,null,null,null,null,null,null,null,null,{"$f":"+IF(B2807=\"\",0,1)","v":0}]
[null,null,4,null,null,null,null,null,null,null,null,null,null,null,null,null,null,0,null,null,null,null,null,0,0,0,null,0,"√",1,null,null,null,null,null,null,null,null,null,null,null,null,null,null,null,null,null,null,null,0]
[null,null,12,null,null,null,null,null,null,null,null,null,null,null,null,null,null,0,null,null,null,null,null,0,0,0,null,0,"√",1,null,null,null,null,null,null,null,null,null,null,null,null,null,null,null,null,null,null,null,0]
[null,null,17,null,null,null,null,null,null,null,null,null,null,null,null,null,null,0,null,null,null,null,null,0,0,0,null,0,"√",1,null,null,null,null,null,null,null,null,null,null,null,null,null,null,null,null,null,null,null,0]
[null,null,null,null,null,null,null,null,"Control 2",null,"Control:",{"$f":"IF(L2830=\"\",\"\",IF(L2829>L2830,\"E\",IF(L2829<L2830,\"S\",\"√\")))","v":""},{"$f":"IF(M2830=\"\",\"\",IF(M2829>M2830,\"E\",IF(M2829<M2830,\"S\",\"√\")))","v":""},"","","","",{"$f":"IF($C2788=\"\",\"\",IF(AND(L2832=\"√\",M2832=\"√\",N2832=\"√\",O2832=\"√\",P2832=\"√\",Q2832=\"√\"),\"√\",\"Error\"))","v":"Error"},null,null,null,null,null,null,null,null,null,null,null,null,null,null,null,null,null,null,null,null,null,null,null,null,null,null,null,null,null,{"$f":"+IF(OR(B2832=\"\",B2832=\"Lecciones de TIE asignadas -√-\"),1,0)","v":1},null,0]
[null,null,"Nº","Nombre del servidor",null,null,null,"Nº de cédula","Grupo Prof.","Especialidad",null,"Nivel",null,null,null,null,null,"Sub- Total","Leccs. Co-curriculares",null,null,null,null,"Sub- Total","Pl","Total Leccs.","Nº de leccs.",null,null,null,null,null,null,null,null,null,null,null,null,null,null,null,null,null,null,null,null,null,null,0]
[null,null,4,null,null,null,null,null,null,null,null,null,null,null,null,null,null,0,null,null,null,null,null,0,0,0,null,0,"√",1,null,null,null,null,null,null,null,null,null,null,null,null,null,null,null,null,null,null,null,0]
[null,null,12,null,null,null,null,null,null,null,null,null,null,null,null,null,null,0,null,null,null,null,null,0,0,0,null,0,"√",1,null,null,null,null,null,null,null,null,null,null,null,null,null,null,null,null,null,null,null,0]
[null,null,null,null,null,null,null,null,"Total de lecciones aprobadas:",null,null,{"$f":"+IF(C2843=\"\",\"\",VLOOKUP($A2842,'hoja de cálculo'!$A$17:$AJ$321,31,0))","v":""},{"$f":"+IF(C2843=\"\",\"\",VLOOKUP($A2842,'hoja de cálculo'!$A$17:$AJ$321,32,0))","v":""},{"$f":"+IF(C2843=\"\",\"\",VLOOKUP($A2842,'hoja de cálculo'!$A$17:$AJ$321,33,0))","v":""},{"$f":"+IF(C2843=\"\",\"\",VLOOKUP($A2842,'hoja de cálculo'!$A$17:$AJ$321,34,0))","v":""},{"$f":"+IF(C2843=\"\",\"\",VLOOKUP($A2842,'hoja de cálculo'!$A$17:$AJ$321,35,0))","v":""},{"$f":"+IF(C2843=\"\",\"\",VLOOKUP($A2842,'hoja de cálculo'!$A$17:$AJ$321,36,0))","v":""},{"$f":"+SUM(L2865:Q2865)","v":0},null,null,null,null,null,null,null,null,null,null,null,null,null,null,null,null,null,null,null,null,null,null,null,null,null,null,null,null,null,null,null,{"$f":"+IF(AX2864>0,AX2864+1,0)","v":0}]
[null,null,null,null,null,null,null,null,null,null,null,null,null,null,null,null,null,null,null,null,null,null,null,null,null,null,null,null,null,null,null,null,null,null,null,null,null,null,null,null,null,null,null,null,null,null,null,null,null,0]
[null,null,"Nº","Nombre del servidor",null,null,null,"Nº de cédula","Grupo Prof.","Especialidad",null,"Nivel",null,null,null,null,null,"Sub- Total","Leccs. Co-curriculares",null,null,null,null,"Sub- Total","Pl","Total Leccs.","Nº de leccs.",null,null,null,null,null,null,null,null,null,null,null,null,null,null,null,null,null,null,null,null,null,null,0]
[null,null,4,null,null,null,null,null,null,null,null,null,null,null,null,null,null,0,null,null,null,null,null,0,0,0,null,0,"√",1,null,null,null,null,null,null,null,null,null,null,null,null,null,null,null,null,null,null,null,0]
[null,null,10,null,null,null,null,null,null,null,null,null,null,null,null,null,null,0,null,null,null,null,null,0,0,0,null,0,"√",1,null,null,null,null,null,null,null,null,null,null,null,null,null,null,null,null,null,null,null,0]
[null,null,18,null,null,null,null,null,null,null,null,null,null,null,null,null,null,0,null,null,null,null,null,0,0,0,null,0,"√",1,null,null,null,null,null,null,null,null,null,null,null,null,null,null,null,null,null,null,null,0]
[null,null,null,null,null,null,null,null,null,null,null,null,null,null,null,null,null,null,null,null,null,null,null,null,null,null,null,null,null,null,null,null,null,null,null,null,null,null,null,null,null,null,null,null,null,null,null,null,null,0]
[null,null,"Nº","Nombre del servidor",null,null,null,"Nº de cédula","Grupo Prof.","Especialidad",null,"Nivel",null,null,null,null,null,"Sub- Total","Leccs. Co-curriculares",null,null,null,null,"Sub- Total","Pl","Total Leccs.","Nº de leccs.",null,null,null,null,null,null,null,null,null,null,null,null,null,null,null,null,null,null,null,null,null,null,0]
[null,null,8,null,null,null,null,null,null,null,null,null,null,null,null,null,null,0,null,null,null,null,null,0,0,0,null,0,"√",1,null,null,null,null,null,null,null,null,null,null,null,null,null,null,null,null,null,null,null,0]
[null,null,13,null,null,null,null,null,null,null,null,null,null,null,null,null,null,0,null,null,null,null,null,0,0,0,null,0,"√",1,null,null,null,null,null,null,null,null,null,null,null,null,null,null,null,null,null,null,null,0]
[null,null,null,null,null,null,null,null,"Total de secciones",null,"Control:",{"$f":"+IF(C2913=\"\",\"\",VLOOKUP($A2912,'hoja de cálculo'!$A$17:$AQ$321,38,0))","v":""},{"$f":"+IF(C2913=\"\",\"\",VLOOKUP($A2912,'hoja de cálculo'!$A$17:$AQ$321,39,0))","v":""},{"$f":"+IF(C2913=\"\",\"\",VLOOKUP($A2912,'hoja de cálculo'!$A$17:$AQ$321,40,0))","v":""},{"$f":"+IF(C2913=\"\",\"\",VLOOKUP($A2912,'hoja de cálculo'!$A$17:$AQ$321,41,0))","v":""},{"$f":"+IF(C2913=\"\",\"\",VLOOKUP($A2912,'hoja de cálculo'!$A$17:$AQ$321,42,0))","v":""},{"$f":"+IF(C2913=\"\",\"\",VLOOKUP($A2912,'hoja de cálculo'!$A$17:$AQ$321,43,0))","v":""},{"$f":"+SUM(L2936:Q2936)","v":0},null,null,null,null,null,null,null,null,null,null,null,null,null,null,null,null,null,null,null,null,null,null,null,null,null,null,null,null,null,null,null,0]
[null,null,null,null,null,null,null,null,null,null,null,null,null,null,null,null,null,null,null,null,null,null,null,null,null,null,null,null,null,null,null,null,null,null,null,null,null,null,null,null,null,null,null,null,null,null,null,null,null,0]
["Ausente","Sustituto",{"$f":"IFERROR(VLOOKUP(A2947,'hoja de cálculo'!$A$7:'hoja de cálculo'!$H$321,8,0),\"\")","v":""},null,null,null,null,null,null,null,null,null,null,null,null,null,null,null,null,null,null,null,null,null,null,null,null,null,"Cont. 1",null,null,null,null,null,null,null,null,null,null,null,null,null,null,null,null,null,null,null,null,{"$f":"+IF(AX2947>0,AX2947+1,0)","v":0}]
[null,null,5,null,null,null,null,null,null,null,null,null,null,null,null,null,null,0,null,null,null,null,null,0,0,0,null,0,"√",1,null,null,null,null,null,null,null,null,null,null,null,null,null,null,null,null,null,null,null,0]
[null,null,13,null,null,null,null,null,null,null,null,null,null,null,null,null,null,0,null,null,null,null,null,0,0,0,null,0,"√",1,null,null,null,null,null,null,null,null,null,null,null,null,null,null,null,null,null,null,null,0]
[null,null,null,null,null,null,null,null,"Total de secciones",null,"Control:",{"$f":"+IF(C2948=\"\",\"\",VLOOKUP($A2947,'hoja de cálculo'!$A$17:$AQ$321,38,0))","v":""},{"$f":"+IF(C2948=\"\",\"\",VLOOKUP($A2947,'hoja de cálculo'!$A$17:$AQ$321,39,0))","v":""},{"$f":"+IF(C2948=\"\",\"\",VLOOKUP($A2947,'hoja de cálculo'!$A$17:$AQ$321,40,0))","v":""},{"$f":"+IF(C2948=\"\",\"\",VLOOKUP($A2947,'hoja de cálculo'!$A$17:$AQ$321,41,0))","v":""},{"$f":"+IF(C2948=\"\",\"\",VLOOKUP($A2947,'hoja de cálculo'!$A$17:$AQ$321,42,0))","v":""},{"$f":"+IF(C2948=\"\",\"\",VLOOKUP($A2947,'hoja de cálculo'!$A$17:$AQ$321,43,0))","v":""},{"$f":"+SUM(L2971:Q2971)","v":0},null,null,null,null,null,null,null,null,null,null,null,null,null,null,null,null,null,null,null,null,null,null,null,null,null,null,null,null,null,null,null,0]
[null,null,null,null,null,null,null,null,null,null,null,null,null,null,null,null,null,null,null,null,null,null,null,null,null,null,null,null,null,null,null,null,null,null,null,null,null,null,null,null,null,null,null,null,null,null,null,null,null,0]
[null,null,null,null,null,null,null,null,null,null,null,"7º","8º","9º","10º","11º","12º",null,null,null,null,null,null,null,null,null,"Prop.","Ints.",null,null,null,{"$f":"+IF($AF$24=0,0,SUMIF($S2985:$W2985,$AF$24,$S3004:$W3004))","v":0},{"$f":"+IF($AG$24=0,0,SUMIF($S2985:$W2985,$AG$24,$S3004:$W3004))","v":0},{"$f":"+IF($AH$24=0,0,SUMIF($S2985:$W2985,$AH$24,$S3004:$W3004))","v":0},{"$f":"+IF($AI$24=0,0,SUMIF($S2985:$W2985,$AI$24,$S3004:$W3004))","v":0},{"$f":"+IF($AJ$24=0,0,SUMIF($S2985:$W2985,$AJ$24,$S3004:$W3004))","v":0},{"$f":"+IF($AK$24=0,0,SUMIF($S2985:$W2985,$AK$24,$S3004:$W3004))","v":0},{"$f":"+IF($AL$24=0,0,SUMIF($S2985:$W2985,$AL$24,$S3004:$W3004))","v":0},{"$f":"+IF($AM$24=0,0,SUMIF($S2985:$W2985,$AM$24,$S3004:$W3004))","v":0},{"$f":"+IF($AN$24=0,0,SUMIF($S2985:$W2985,$AN$24,$S3004:$W3004))","v":0},{"$f":"+IF($AO$24=0,0,SUMIF($S2985:$W2985,$AO$24,$S3004:$W3004))","v":0},{"$f":"+IF($AP$24=0,0,SUMIF($S2985:$W2985,$AP$24,$S3004:$W3004))","v":0},{"$f":"+IF($AQ$24=0,0,SUMIF($S2985:$W2985,$AQ$24,$S3004:$W3004))","v":0},null,null,null,null,null,null,0]
[null,null,5,null,null,null,null,null,null,null,null,null,null,null,null,null,null,0,null,null,null,null,null,0,0,0,null,0,"√",1,null,null,null,null,null,null,null,null,null,null,null,null,null,null,null,null,null,null,null,0]
[null,null,13,null,null,null,null,null,null,null,null,null,null,null,null,null,null,0,null,null,null,null,null,0,0,0,null,0,"√",1,null,null,null,null,null,null,null,null,null,null,null,null,null,null,null,null,null,null,null,0]
[null,null,null,null,null,null,null,null,"Control 2",null,"Control:",{"$f":"IF(L3005=\"\",\"\",IF(L3004>L3005,\"E\",IF(L3004<L3005,\"S\",\"√\")))","v":""},{"$f":"IF(M3005=\"\",\"\",IF(M3004>M3005,\"E\",IF(M3004<M3005,\"S\",\"√\")))","v":""},"","","","",{"$f":"IF($C2963=\"\",\"\",IF(AND(L3007=\"√\",M3007=\"√\",N3007=\"√\",O3007=\"√\",P3007=\"√\",Q3007=\"√\"),\"√\",\"Error\"))","v":"Error"},null,null,null,null,null,null,null,null,null,null,null,null,null,null,null,null,null,null,null,null,null,null,null,null,null,null,null,null,null,{"$f":"+IF(OR(B3007=\"\",B3007=\"Lecciones de TIE asignadas -√-\"),1,0)","v":1},null,0]
[null,null,null,null,null,null,null,null,null,null,null,null,null,null,null,null,null,null,null,null,null,null,null,null,null,null,null,null,null,null,null,null,null,null,null,null,null,null,null,null,null,null,null,null,null,null,null,null,null,0]
[null,null,null,null,null,null,null,null,null,null,null,"7º","8º","9º","10º","11º","12º",null,null,null,null,null,null,null,null,null,"Prop.","Ints.",null,null,null,{"$f":"+IF($AF$24=0,0,SUMIF($S3020:$W3020,$AF$24,$S3039:$W3039))","v":0},{"$f":"+IF($AG$24=0,0,SUMIF($S3020:$W3020,$AG$24,$S3039:$W3039))","v":0},{"$f":"+IF($AH$24=0,0,SUMIF($S3020:$W3020,$AH$24,$S3039:$W3039))","v":0},{"$f":"+IF($AI$24=0,0,SUMIF($S3020:$W3020,$AI$24,$S3039:$W3039))","v":0},{"$f":"+IF($AJ$24=0,0,SUMIF($S3020:$W3020,$AJ$24,$S3039:$W3039))","v":0},{"$f":"+IF($AK$24=0,0,SUMIF($S3020:$W3020,$AK$24,$S3039:$W3039))","v":0},{"$f":"+IF($AL$24=0,0,SUMIF($S3020:$W3020,$AL$24,$S3039:$W3039))","v":0},{"$f":"+IF($AM$24=0,0,SUMIF($S3020:$W3020,$AM$24,$S3039:$W3039))","v":0},{"$f":"+IF($AN$24=0,0,SUMIF($S3020:$W3020,$AN$24,$S3039:$W3039))","v":0},{"$f":"+IF($AO$24=0,0,SUMIF($S3020:$W3020,$AO$24,$S3039:$W3039))","v":0},{"$f":"+IF($AP$24=0,0,SUMIF($S3020:$W3020,$AP$24,$S3039:$W3039))","v":0},{"$f":"+IF($AQ$24=0,0,SUMIF($S3020:$W3020,$AQ$24,$S3039:$W3039))","v":0},null,null,null,null,null,null,0]
[null,null,11,null,null,null,null,null,null,null,null,null,null,null,null,null,null,0,null,null,null,null,null,0,0,0,null,0,"√",1,null,null,null,null,null,null,null,null,null,null,null,null,null,null,null,null,null,null,null,0]
[null,null,14,null,null,null,null,null,null,null,null,null,null,null,null,null,null,0,null,null,null,null,null,0,0,0,null,0,"√",1,null,null,null,null,null,null,null,null,null,null,null,null,null,null,null,null,null,null,null,0]
[null,null,null,null,null,null,null,null,"Control 2",null,"Control:",{"$f":"IF(L3040=\"\",\"\",IF(L3039>L3040,\"E\",IF(L3039<L3040,\"S\",\"√\")))","v":""},{"$f":"IF(M3040=\"\",\"\",IF(M3039>M3040,\"E\",IF(M3039<M3040,\"S\",\"√\")))","v":""},"","","","",{"$f":"IF($C2998=\"\",\"\",IF(AND(L3042=\"√\",M3042=\"√\",N3042=\"√\",O3042=\"√\",P3042=\"√\",Q3042=\"√\"),\"√\",\"Error\"))","v":"Error"},null,null,null,null,null,null,null,null,null,null,null,null,null,null,null,null,null,null,null,null,null,null,null,null,null,null,null,null,null,{"$f":"+IF(OR(B3042=\"\",B3042=\"Lecciones de TIE asignadas -√-\"),1,0)","v":1},null,0]
[null,null,"Nº","Nombre del servidor",null,null,null,"Nº de cédula","Grupo Prof.","Especialidad",null,"Nivel",null,null,null,null,null,"Sub- Total","Leccs. Co-curriculares",null,null,null,null,"Sub- Total","Pl","Total Leccs.","Nº de leccs.",null,null,null,null,null,null,null,null,null,null,null,null,null,null,null,null,null,null,null,null,null,null,0]
[null,null,1,null,null,null,null,null,null,null,null,null,null,null,null,null,null,{"$f":"+SUM(L3056:Q3056)","v":0},null,null,null,null,null,{"$f":"+SUM(R3056:W3056)","v":0},{"$f":"IF(X3056=0,0,IF(X3056>48,\"E\",IF(X3056<44,0,IF(A3056=\"A\",0,48-X3056))))","v":0},{"$f":"+IF(Y3056=\"E\",\"E\",(X3056+Y3056))","v":0},null,{"$f":"+IF(Z3056=\"E\",\"E\",(Z3056-AA3056))","v":0},{"$f":"IF(A3056=\"A\",\"√\",IF(Z3056>48,\"E\",\"√\"))","v":"√"},{"$f":"+IF(AC3056=\"√\",1,0)","v":1},null,null,null,null,null,null,null,null,null,null,null,null,null,null,null,null,null,null,null,{"$f":"+IF(OR(AA3056+AB3056>0,D3056<>0,H3056<>0,I3056<>0,J3056<>0),AX3055+1,0)","v":0}]
[null,null,9,null,null,null,null,null,null,null,null,null,null,null,null,null,null,0,null,null,null,null,null,0,0,0,null,0,"√",1,null,null,null,null,null,null,null,null,null,null,null,null,null,null,null,null,null,null,null,0]
[null,null,null,null,null,null,null,null,"Total de secciones",null,"Control:",{"$f":"+IF(C3053=\"\",\"\",VLOOKUP($A3052,'hoja de cálculo'!$A$17:$AQ$321,38,0))","v":""},{"$f":"+IF(C3053=\"\",\"\",VLOOKUP($A3052,'hoja de cálculo'!$A$17:$AQ$321,39,0))","v":""},{"$f":"+IF(C3053=\"\",\"\",VLOOKUP($A3052,'hoja de cálculo'!$A$17:$AQ$321,40,0))","v":""},{"$f":"+IF(C3053=\"\",\"\",VLOOKUP($A3052,'hoja de cálculo'!$A$17:$AQ$321,41,0))","v":""},{"$f":"+IF(C3053=\"\",\"\",VLOOKUP($A3052,'hoja de cálculo'!$A$17:$AQ$321,42,0))","v":""},{"$f":"+IF(C3053=\"\",\"\",VLOOKUP($A3052,'hoja de cálculo'!$A$17:$AQ$321,43,0))","v":""},{"$f":"+SUM(L3076:Q3076)","v":0},null,null,null,null,null,null,null,null,null,null,null,null,null,null,null,null,null,null,null,null,null,null,null,null,null,null,null,null,null,null,null,0]
[null,null,null,null,null,null,null,null,"Control 2",null,"Control:",{"$f":"IF(L3075=\"\",\"\",IF(L3074>L3075,\"E\",IF(L3074<L3075,\"S\",\"√\")))","v":""},{"$f":"IF(M3075=\"\",\"\",IF(M3074>M3075,\"E\",IF(M3074<M3075,\"S\",\"√\")))","v":""},"","","","",{"$f":"IF($C3033=\"\",\"\",IF(AND(L3077=\"√\",M3077=\"√\",N3077=\"√\",O3077=\"√\",P3077=\"√\",Q3077=\"√\"),\"√\",\"Error\"))","v":"Error"},null,null,null,null,null,null,null,null,null,null,null,null,null,null,null,null,null,null,null,null,null,null,null,null,null,null,null,null,null,{"$f":"+IF(OR(B3077=\"\",B3077=\"Lecciones de TIE asignadas -√-\"),1,0)","v":1},null,0]
[null,null,"Nº","Nombre del servidor",null,null,null,"Nº de cédula","Grupo Prof.","Especialidad",null,"Nivel",null,null,null,null,null,"Sub- Total","Leccs. Co-curriculares",null,null,null,null,"Sub- Total","Pl","Total Leccs.","Nº de leccs.",null,null,null,null,null,null,null,null,null,null,null,null,null,null,null,null,null,null,null,null,null,null,0]
[null,null,8,null,null,null,null,null,null,null,null,null,null,null,null,null,null,0,null,null,null,null,null,0,0,0,null,0,"√",1,null,null,null,null,null,null,null,null,null,null,null,null,null,null,null,null,null,null,null,0]
[null,null,9,null,null,null,null,null,null,null,null,null,null,null,null,null,null,0,null,null,null,null,null,0,0,0,null,0,"√",1,null,null,null,null,null,null,null,null,null,null,null,null,null,null,null,null,null,null,null,0]
[null,null,null,null,null,null,null,null,"Total de secciones",null,"Control:",{"$f":"+IF(C3088=\"\",\"\",VLOOKUP($A3087,'hoja de cálculo'!$A$17:$AQ$321,38,0))","v":""},{"$f":"+IF(C3088=\"\",\"\",VLOOKUP($A3087,'hoja de cálculo'!$A$17:$AQ$321,39,0))","v":""},{"$f":"+IF(C3088=\"\",\"\",VLOOKUP($A3087,'hoja de cálculo'!$A$17:$AQ$321,40,0))","v":""},{"$f":"+IF(C3088=\"\",\"\",VLOOKUP($A3087,'hoja de cálculo'!$A$17:$AQ$321,41,0))","v":""},{"$f":"+IF(C3088=\"\",\"\",VLOOKUP($A3087,'hoja de cálculo'!$A$17:$AQ$321,42,0))","v":""},{"$f":"+IF(C3088=\"\",\"\",VLOOKUP($A3087,'hoja de cálculo'!$A$17:$AQ$321,43,0))","v":""},{"$f":"+SUM(L3111:Q3111)","v":0},null,null,null,null,null,null,null,null,null,null,null,null,null,null,null,null,null,null,null,null,null,null,null,null,null,null,null,null,null,null,null,0]
[null,null,null,"Observaciones:",{"$f":"+IF(OR(C3088=\"Lecciones Labor@ Diurnas\",C3088=\"Lecciones Labor@ Nocturno\"),\"Recuerde generar el informe de labores de lecciones Labor@\",\"\")","v":""},null,null,null,null,null,null,null,null,null,null,null,null,null,null,null,null,null,null,null,null,null,null,null,null,null,null,null,null,null,null,null,null,null,null,null,null,null,null,null,null,null,null,null,null,0]
[null,null,null,null,null,null,null,null,null,null,null,null,null,null,null,null,null,null,null,null,null,null,null,null,null,null,null,null,null,null,null,null,null,null,null,null,null,null,null,null,null,null,null,null,null,null,null,null,null,0]
[null,null,8,null,null,null,null,null,null,null,null,null,null,null,null,null,null,0,null,null,null,null,null,0,0,0,null,0,"√",1,null,null,null,null,null,null,null,null,null,null,null,null,null,null,null,null,null,null,null,0]
[null,null,16,null,null,null,null,null,null,null,null,null,null,null,null,null,null,0,null,null,null,null,null,0,0,0,null,0,"√",1,null,null,null,null,null,null,null,null,null,null,null,null,null,null,null,null,null,null,null,0]
[null,null,null,null,null,null,null,null,"Control 2",null,"Control:",{"$f":"IF(L3145=\"\",\"\",IF(L3144>L3145,\"E\",IF(L3144<L3145,\"S\",\"√\")))","v":""},{"$f":"IF(M3145=\"\",\"\",IF(M3144>M3145,\"E\",IF(M3144<M3145,\"S\",\"√\")))","v":""},"","","","",{"$f":"IF($C3103=\"\",\"\",IF(AND(L3147=\"√\",M3147=\"√\",N3147=\"√\",O3147=\"√\",P3147=\"√\",Q3147=\"√\"),\"√\",\"Error\"))","v":"Error"},null,null,null,null,null,null,null,null,null,null,null,null,null,null,null,null,null,null,null,null,null,null,null,null,null,null,null,null,null,{"$f":"+IF(OR(B3147=\"\",B3147=\"Lecciones de TIE asignadas -√-\"),1,0)","v":1},null,0]
[null,null,{"$f":"+\"Declaración Jurada: El suscrito Director \"&$D$4245&\" del \"&$E$12&\", código \"&Información!$E$11&\", hace constar que los datos consignados en éste formulario son veraces y responden al estado real de ésta institución.\"&\" Cualquier inexactitud o falsedad estaré incurriendo en las responsabilidades administrativas y disciplinarias, sin perjuicio de las acciones civiles.\"","v":"Declaración Jurada: El suscrito Director  del , código , hace constar que los datos consignados en éste formulario son veraces y responden al estado real de ésta institución. Cualquier inexactitud o falsedad estaré incurriendo en las responsabilidades administrativas y disciplinarias, sin perjuicio de las acciones civiles."},null,null,null,null,null,null,null,null,null,null,null,null,null,null,null,null,null,null,null,null,null,null,null,null,null,null,null,null,null,null,null,null,null,null,null,null,null,null,null,null,null,null,null,null,null,null,0]
[null,null,3,null,null,null,null,null,null,null,null,null,null,null,null,null,null,0,null,null,null,null,null,0,0,0,null,0,"√",1,null,null,null,null,null,null,null,null,null,null,null,null,null,null,null,null,null,null,null,0]
[null,null,8,null,null,null,null,null,null,null,null,null,null,null,null,null,null,0,null,null,null,null,null,0,0,0,null,0,"√",1,null,null,null,null,null,null,null,null,null,null,null,null,null,null,null,null,null,null,null,0]
[null,null,12,null,null,null,null,null,null,null,null,null,null,null,null,null,null,0,null,null,null,null,null,0,0,0,null,0,"√",1,null,null,null,null,null,null,null,null,null,null,null,null,null,null,null,null,null,null,null,0]
[null,null,null,null,null,null,null,null,null,null,null,null,null,null,null,null,null,null,null,null,null,null,null,null,null,null,null,null,null,null,null,null,null,null,null,null,null,null,null,null,null,null,null,null,null,null,null,null,null,0]
[null,null,{"$f":"+\"Declaración Jurada: El suscrito Director \"&$D$4245&\" del \"&$E$12&\", código \"&Información!$E$11&\", hace constar que los datos consignados en éste formulario son veraces y responden al estado real de ésta institución.\"&\" Cualquier inexactitud o falsedad estaré incurriendo en las responsabilidades administrativas y disciplinarias, sin perjuicio de las acciones civiles.\"","v":"Declaración Jurada: El suscrito Director  del , código , hace constar que los datos consignados en éste formulario son veraces y responden al estado real de ésta institución. Cualquier inexactitud o falsedad estaré incurriendo en las responsabilidades administrativas y disciplinarias, sin perjuicio de las acciones civiles."},null,null,null,null,null,null,null,null,null,null,null,null,null,null,null,null,null,null,null,null,null,null,null,null,null,null,null,null,null,null,null,null,null,null,null,null,null,null,null,null,null,null,null,null,null,null,0]
[null,null,3,null,null,null,null,null,null,null,null,null,null,null,null,null,null,0,null,null,null,null,null,0,0,0,null,0,"√",1,null,null,null,null,null,null,null,null,null,null,null,null,null,null,null,null,null,null,null,0]
[null,null,10,null,null,null,null,null,null,null,null,null,null,null,null,null,null,0,null,null,null,null,null,0,0,0,null,0,"√",1,null,null,null,null,null,null,null,null,null,null,null,null,null,null,null,null,null,null,null,0]
[null,null,17,null,null,null,null,null,null,null,null,null,null,null,null,null,null,0,null,null,null,null,null,0,0,0,null,0,"√",1,null,null,null,null,null,null,null,null,null,null,null,null,null,null,null,null,null,null,null,0]
[null,null,null,null,null,null,null,null,null,null,null,null,null,null,null,null,null,null,null,null,null,null,null,null,null,null,null,null,null,null,null,null,null,null,null,null,null,null,null,null,null,null,null,null,null,null,null,null,null,0]
[null,null,null,null,null,null,null,null,null,null,null,null,null,null,null,null,null,null,null,null,null,null,null,null,null,null,null,null,null,null,null,null,null,null,null,null,null,null,null,null,null,null,null,null,null,null,null,null,null,0]
[null,null,4,null,null,null,null,null,null,null,null,null,null,null,null,null,null,0,null,null,null,null,null,0,0,0,null,0,"√",1,null,null,null,null,null,null,null,null,null,null,null,null,null,null,null,null,null,null,null,0]
[null,null,9,null,null,null,null,null,null,null,null,null,null,null,null,null,null,0,null,null,null,null,null,0,0,0,null,0,"√",1,null,null,null,null,null,null,null,null,null,null,null,null,null,null,null,null,null,null,null,0]
[null,null,17,null,null,null,null,null,null,null,null,null,null,null,null,null,null,0,null,null,null,null,null,0,0,0,null,0,"√",1,null,null,null,null,null,null,null,null,null,null,null,null,null,null,null,null,null,null,null,0]
[null,null,null,null,null,null,null,null,null,null,null,null,null,null,null,null,null,null,null,null,null,null,null,null,null,null,null,null,null,null,null,null,null,null,null,null,null,null,null,null,null,null,null,null,null,null,null,null,null,0]
[null,null,null,null,null,null,null,null,null,null,null,null,null,null,null,null,null,null,null,null,null,null,null,null,null,null,null,null,null,null,null,null,null,null,null,null,null,null,null,null,null,null,null,null,null,null,null,null,null,0]
[null,null,4,null,null,null,null,null,null,null,null,null,null,null,null,null,null,0,null,null,null,null,null,0,0,0,null,0,"√",1,null,null,null,null,null,null,null,null,null,null,null,null,null,null,null,null,null,null,null,0]
[null,null,12,null,null,null,null,null,null,null,null,null,null,null,null,null,null,0,null,null,null,null,null,0,0,0,null,0,"√",1,null,null,null,null,null,null,null,null,null,null,null,null,null,null,null,null,null,null,null,0]
[null,null,15,null,null,null,null,null,null,null,null,null,null,null,null,null,null,0,null,null,null,null,null,0,0,0,null,0,"√",1,null,null,null,null,null,null,null,null,null,null,null,null,null,null,null,null,null,null,null,0]
[null,null,null,null,null,null,null,null,null,null,null,null,null,null,null,null,null,null,null,null,null,null,null,null,null,null,null,null,null,null,null,null,null,null,null,null,null,null,null,null,null,null,null,null,null,null,null,null,null,0]
[null,null,null,null,null,null,null,null,null,null,null,null,null,null,null,null,null,null,null,null,null,null,null,null,null,null,null,null,null,null,null,null,null,null,null,null,null,null,null,null,null,null,null,null,null,null,null,null,null,0]
[null,null,4,null,null,null,null,null,null,null,null,null,null,null,null,null,null,0,null,null,null,null,null,0,0,0,null,0,"√",1,null,null,null,null,null,null,null,null,null,null,null,null,null,null,null,null,null,null,null,0]
[null,null,13,null,null,null,null,null,null,null,null,null,null,null,null,null,null,0,null,null,null,null,null,0,0,0,null,0,"√",1,null,null,null,null,null,null,null,null,null,null,null,null,null,null,null,null,null,null,null,0]
[null,null,18,null,null,null,null,null,null,null,null,null,null,null,null,null,null,0,null,null,null,null,null,0,0,0,null,0,"√",1,null,null,null,null,null,null,null,null,null,null,null,null,null,null,null,null,null,null,null,0]
[null,null,null,null,null,null,null,null,null,null,null,null,null,null,null,null,null,null,null,null,null,null,null,null,null,null,null,null,null,null,null,null,null,null,null,null,null,null,null,null,null,null,null,null,null,null,null,null,null,0]
[null,null,"Nº","Nombre del servidor",null,null,null,"Nº de cédula","Grupo Prof.","Especialidad",null,"Nivel",null,null,null,null,null,"Sub- Total","Leccs. Co-curriculares",null,null,null,null,"Sub- Total","Pl","Total Leccs.","Nº de leccs.",null,null,null,null,null,null,null,null,null,null,null,null,null,null,null,null,null,null,null,null,null,null,0]
[null,null,3,null,null,null,null,null,null,null,null,null,null,null,null,null,null,0,null,null,null,null,null,0,0,0,null,0,"√",1,null,null,null,null,null,null,null,null,null,null,null,null,null,null,null,null,null,null,null,0]
[null,null,13,null,null,null,null,null,null,null,null,null,null,null,null,null,null,0,null,null,null,null,null,0,0,0,null,0,"√",1,null,null,null,null,null,null,null,null,null,null,null,null,null,null,null,null,null,null,null,0]
[null,null,18,null,null,null,null,null,null,null,null,null,null,null,null,null,null,0,null,null,null,null,null,0,0,0,null,0,"√",1,null,null,null,null,null,null,null,null,null,null,null,null,null,null,null,null,null,null,null,0]
[null,null,null,null,null,null,null,null,null,null,null,null,null,null,null,null,null,null,null,null,null,null,null,null,null,null,null,null,null,null,null,null,null,null,null,null,null,null,null,null,null,null,null,null,null,null,null,null,null,0]
[null,null,1,null,null,null,null,null,null,null,null,null,null,null,null,null,null,{"$f":"+SUM(L3371:Q3371)","v":0},null,null,null,null,null,{"$f":"+SUM(R3371:W3371)","v":0},{"$f":"IF(X3371=0,0,IF(X3371>48,\"E\",IF(X3371<44,0,IF(A3371=\"A\",0,48-X3371))))","v":0},{"$f":"+IF(Y3371=\"E\",\"E\",(X3371+Y3371))","v":0},null,{"$f":"+IF(Z3371=\"E\",\"E\",(Z3371-AA3371))","v":0},{"$f":"IF(A3371=\"A\",\"√\",IF(Z3371>48,\"E\",\"√\"))","v":"√"},{"$f":"+IF(AC3371=\"√\",1,0)","v":1},null,null,null,null,null,null,null,null,null,null,null,null,null,null,null,null,null,null,null,{"$f":"+IF(OR(AA3371+AB3371>0,D3371<>0,H3371<>0,I3371<>0,J3371<>0),AX3370+1,0)","v":0}]
[null,null,5,null,null,null,null,null,null,null,null,null,null,null,null,null,null,0,null,null,null,null,null,0,0,0,null,0,"√",1,null,null,null,null,null,null,null,null,null,null,null,null,null,null,null,null,null,null,null,0]
[null,null,13,null,null,null,null,null,null,null,null,null,null,null,null,null,null,0,null,null,null,null,null,0,0,0,null,0,"√",1,null,null,null,null,null,null,null,null,null,null,null,null,null,null,null,null,null,null,null,0]
[null,null,null,null,null,null,null,null,null,null,null,null,null,null,null,null,null,null,null,null,null,null,null,null,null,null,null,null,null,null,null,null,null,null,null,null,null,null,null,null,null,null,null,null,null,null,null,null,null,0]
[null,null,null,null,null,null,null,null,null,null,null,null,null,null,null,null,null,null,null,null,null,null,null,null,null,null,null,null,null,null,null,null,null,null,null,null,null,null,null,null,null,null,null,null,null,null,null,null,null,0]
[null,null,null,null,null,null,null,null,null,null,null,"7º","8º","9º","10º","11º","12º",null,null,null,null,null,null,null,null,null,"Prop.","Ints.",null,null,null,{"$f":"+IF($AF$24=0,0,SUMIF($S3405:$W3405,$AF$24,$S3424:$W3424))","v":0},{"$f":"+IF($AG$24=0,0,SUMIF($S3405:$W3405,$AG$24,$S3424:$W3424))","v":0},{"$f":"+IF($AH$24=0,0,SUMIF($S3405:$W3405,$AH$24,$S3424:$W3424))","v":0},{"$f":"+IF($AI$24=0,0,SUMIF($S3405:$W3405,$AI$24,$S3424:$W3424))","v":0},{"$f":"+IF($AJ$24=0,0,SUMIF($S3405:$W3405,$AJ$24,$S3424:$W3424))","v":0},{"$f":"+IF($AK$24=0,0,SUMIF($S3405:$W3405,$AK$24,$S3424:$W3424))","v":0},{"$f":"+IF($AL$24=0,0,SUMIF($S3405:$W3405,$AL$24,$S3424:$W3424))","v":0},{"$f":"+IF($AM$24=0,0,SUMIF($S3405:$W3405,$AM$24,$S3424:$W3424))","v":0},{"$f":"+IF($AN$24=0,0,SUMIF($S3405:$W3405,$AN$24,$S3424:$W3424))","v":0},{"$f":"+IF($AO$24=0,0,SUMIF($S3405:$W3405,$AO$24,$S3424:$W3424))","v":0},{"$f":"+IF($AP$24=0,0,SUMIF($S3405:$W3405,$AP$24,$S3424:$W3424))","v":0},{"$f":"+IF($AQ$24=0,0,SUMIF($S3405:$W3405,$AQ$24,$S3424:$W3424))","v":0},null,null,null,null,null,null,0]
[null,null,12,null,null,null,null,null,null,null,null,null,null,null,null,null,null,0,null,null,null,null,null,0,0,0,null,0,"√",1,null,null,null,null,null,null,null,null,null,null,null,null,null,null,null,null,null,null,null,0]
[null,null,13,null,null,null,null,null,null,null,null,null,null,null,null,null,null,0,null,null,null,null,null,0,0,0,null,0,"√",1,null,null,null,null,null,null,null,null,null,null,null,null,null,null,null,null,null,null,null,0]
[null,null,null,"Observaciones:",{"$f":"+IF(OR(C3403=\"Lecciones Labor@ Diurnas\",C3403=\"Lecciones Labor@ Nocturno\"),\"Recuerde generar el informe de labores de lecciones Labor@\",\"\")","v":""},null,null,null,null,null,null,null,null,null,null,null,null,null,null,null,null,null,null,null,null,null,null,null,null,null,null,null,null,null,null,null,null,null,null,null,null,null,null,null,null,null,null,null,null,0]
[null,null,"Nº","Nombre del servidor",null,null,null,"Nº de cédula","Grupo Prof.","Especialidad",null,"Nivel",null,null,null,null,null,"Sub- Total","Leccs. Co-curriculares",null,null,null,null,"Sub- Total","Pl","Total Leccs.","Nº de leccs.",null,null,null,null,null,null,null,null,null,null,null,null,null,null,null,null,null,null,null,null,null,null,0]
[null,null,null,null,null,null,null,null,null,null,null,"7º","8º","9º","10º","11º","12º",null,null,null,null,null,null,null,null,null,"Prop.","Ints.",null,null,null,{"$f":"+IF($AF$24=0,0,SUMIF($S3440:$W3440,$AF$24,$S3459:$W3459))","v":0},{"$f":"+IF($AG$24=0,0,SUMIF($S3440:$W3440,$AG$24,$S3459:$W3459))","v":0},{"$f":"+IF($AH$24=0,0,SUMIF($S3440:$W3440,$AH$24,$S3459:$W3459))","v":0},{"$f":"+IF($AI$24=0,0,SUMIF($S3440:$W3440,$AI$24,$S3459:$W3459))","v":0},{"$f":"+IF($AJ$24=0,0,SUMIF($S3440:$W3440,$AJ$24,$S3459:$W3459))","v":0},{"$f":"+IF($AK$24=0,0,SUMIF($S3440:$W3440,$AK$24,$S3459:$W3459))","v":0},{"$f":"+IF($AL$24=0,0,SUMIF($S3440:$W3440,$AL$24,$S3459:$W3459))","v":0},{"$f":"+IF($AM$24=0,0,SUMIF($S3440:$W3440,$AM$24,$S3459:$W3459))","v":0},{"$f":"+IF($AN$24=0,0,SUMIF($S3440:$W3440,$AN$24,$S3459:$W3459))","v":0},{"$f":"+IF($AO$24=0,0,SUMIF($S3440:$W3440,$AO$24,$S3459:$W3459))","v":0},{"$f":"+IF($AP$24=0,0,SUMIF($S3440:$W3440,$AP$24,$S3459:$W3459))","v":0},{"$f":"+IF($AQ$24=0,0,SUMIF($S3440:$W3440,$AQ$24,$S3459:$W3459))","v":0},null,null,null,null,null,null,0]
[null,null,14,null,null,null,null,null,null,null,null,null,null,null,null,null,null,0,null,null,null,null,null,0,0,0,null,0,"√",1,null,null,null,null,null,null,null,null,null,null,null,null,null,null,null,null,null,null,null,0]
[null,null,null,null,null,null,null,null,"Total de secciones",null,"Control:",{"$f":"+IF(C3438=\"\",\"\",VLOOKUP($A3437,'hoja de cálculo'!$A$17:$AQ$321,38,0))","v":""},{"$f":"+IF(C3438=\"\",\"\",VLOOKUP($A3437,'hoja de cálculo'!$A$17:$AQ$321,39,0))","v":""},{"$f":"+IF(C3438=\"\",\"\",VLOOKUP($A3437,'hoja de cálculo'!$A$17:$AQ$321,40,0))","v":""},{"$f":"+IF(C3438=\"\",\"\",VLOOKUP($A3437,'hoja de cálculo'!$A$17:$AQ$321,41,0))","v":""},{"$f":"+IF(C3438=\"\",\"\",VLOOKUP($A3437,'hoja de cálculo'!$A$17:$AQ$321,42,0))","v":""},{"$f":"+IF(C3438=\"\",\"\",VLOOKUP($A3437,'hoja de cálculo'!$A$17:$AQ$321,43,0))","v":""},{"$f":"+SUM(L3461:Q3461)","v":0},null,null,null,null,null,null,null,null,null,null,null,null,null,null,null,null,null,null,null,null,null,null,null,null,null,null,null,null,null,null,null,0]
[null,null,null,null,null,null,null,null,"Control 2",null,"Control:",{"$f":"IF(L3460=\"\",\"\",IF(L3459>L3460,\"E\",IF(L3459<L3460,\"S\",\"√\")))","v":""},{"$f":"IF(M3460=\"\",\"\",IF(M3459>M3460,\"E\",IF(M3459<M3460,\"S\",\"√\")))","v":""},"","","","",{"$f":"IF($C3418=\"\",\"\",IF(AND(L3462=\"√\",M3462=\"√\",N3462=\"√\",O3462=\"√\",P3462=\"√\",Q3462=\"√\"),\"√\",\"Error\"))","v":"Error"},null,null,null,null,null,null,null,null,null,null,null,null,null,null,null,null,null,null,null,null,null,null,null,null,null,null,null,null,null,{"$f":"+IF(OR(B3462=\"\",B3462=\"Lecciones de TIE asignadas -√-\"),1,0)","v":1},null,0]
[null,null,"Nº","Nombre del servidor",null,null,null,"Nº de cédula","Grupo Prof.","Especialidad",null,"Nivel",null,null,null,null,null,"Sub- Total","Leccs. Co-curriculares",null,null,null,null,"Sub- Total","Pl","Total Leccs.","Nº de leccs.",null,null,null,null,null,null,null,null,null,null,null,null,null,null,null,null,null,null,null,null,null,null,0]
[null,null,4,null,null,null,null,null,null,null,null,null,null,null,null,null,null,0,null,null,null,null,null,0,0,0,null,0,"√",1,null,null,null,null,null,null,null,null,null,null,null,null,null,null,null,null,null,null,null,0]
[null,null,9,null,null,null,null,null,null,null,null,null,null,null,null,null,null,0,null,null,null,null,null,0,0,0,null,0,"√",1,null,null,null,null,null,null,null,null,null,null,null,null,null,null,null,null,null,null,null,0]
[null,null,null,null,null,null,null,null,"Total de secciones",null,"Control:",{"$f":"+IF(C3473=\"\",\"\",VLOOKUP($A3472,'hoja de cálculo'!$A$17:$AQ$321,38,0))","v":""},{"$f":"+IF(C3473=\"\",\"\",VLOOKUP($A3472,'hoja de cálculo'!$A$17:$AQ$321,39,0))","v":""},{"$f":"+IF(C3473=\"\",\"\",VLOOKUP($A3472,'hoja de cálculo'!$A$17:$AQ$321,40,0))","v":""},{"$f":"+IF(C3473=\"\",\"\",VLOOKUP($A3472,'hoja de cálculo'!$A$17:$AQ$321,41,0))","v":""},{"$f":"+IF(C3473=\"\",\"\",VLOOKUP($A3472,'hoja de cálculo'!$A$17:$AQ$321,42,0))","v":""},{"$f":"+IF(C3473=\"\",\"\",VLOOKUP($A3472,'hoja de cálculo'!$A$17:$AQ$321,43,0))","v":""},{"$f":"+SUM(L3496:Q3496)","v":0},null,null,null,null,null,null,null,null,null,null,null,null,null,null,null,null,null,null,null,null,null,null,null,null,null,null,null,null,null,null,null,0]
[null,null,null,null,null,null,null,null,null,null,null,null,null,null,null,null,null,null,null,null,null,null,null,null,null,null,null,null,null,null,null,null,null,null,null,null,null,null,null,null,null,null,null,null,null,null,null,null,null,0]
[null,null,2,null,null,null,null,null,null,null,null,null,null,null,null,null,null,0,null,null,null,null,null,0,0,0,null,0,{"$f":"IF(A3512=\"A\",\"√\",IF(Z3512>48,\"E\",\"√\"))","v":"√"},1,null,null,null,null,null,null,null,null,null,null,null,null,null,null,null,null,null,null,null,0]
[null,null,8,null,null,null,null,null,null,null,null,null,null,null,null,null,null,0,null,null,null,null,null,0,0,0,null,0,"√",1,null,null,null,null,null,null,null,null,null,null,null,null,null,null,null,null,null,null,null,0]
[null,null,16,null,null,null,null,null,null,null,null,null,null,null,null,null,null,0,null,null,null,null,null,0,0,0,null,0,"√",1,null,null,null,null,null,null,null,null,null,null,null,null,null,null,null,null,null,null,null,0]
[null,null,null,null,null,null,null,null,"Total de secciones",null,"Control:",{"$f":"+IF(C3508=\"\",\"\",VLOOKUP($A3507,'hoja de cálculo'!$A$17:$AQ$321,38,0))","v":""},{"$f":"+IF(C3508=\"\",\"\",VLOOKUP($A3507,'hoja de cálculo'!$A$17:$AQ$321,39,0))","v":""},{"$f":"+IF(C3508=\"\",\"\",VLOOKUP($A3507,'hoja de cálculo'!$A$17:$AQ$321,40,0))","v":""},{"$f":"+IF(C3508=\"\",\"\",VLOOKUP($A3507,'hoja de cálculo'!$A$17:$AQ$321,41,0))","v":""},{"$f":"+IF(C3508=\"\",\"\",VLOOKUP($A3507,'hoja de cálculo'!$A$17:$AQ$321,42,0))","v":""},{"$f":"+IF(C3508=\"\",\"\",VLOOKUP($A3507,'hoja de cálculo'!$A$17:$AQ$321,43,0))","v":""},{"$f":"+SUM(L3531:Q3531)","v":0},null,null,null,null,null,null,null,null,null,null,null,null,null,null,null,null,null,null,null,null,null,null,null,null,null,null,null,null,null,null,null,0]
[null,null,null,null,null,null,null,null,null,null,null,null,null,null,null,null,null,null,null,null,null,null,null,null,null,null,null,null,null,null,null,null,null,null,null,null,null,null,null,null,null,null,null,null,null,null,null,null,null,0]
[null,null,null,null,null,null,null,null,null,null,null,"7º","8º","9º","10º","11º","12º",null,null,null,null,null,null,null,null,null,"Prop.","Ints.",null,null,null,{"$f":"+IF($AF$24=0,0,SUMIF($S3545:$W3545,$AF$24,$S3564:$W3564))","v":0},{"$f":"+IF($AG$24=0,0,SUMIF($S3545:$W3545,$AG$24,$S3564:$W3564))","v":0},{"$f":"+IF($AH$24=0,0,SUMIF($S3545:$W3545,$AH$24,$S3564:$W3564))","v":0},{"$f":"+IF($AI$24=0,0,SUMIF($S3545:$W3545,$AI$24,$S3564:$W3564))","v":0},{"$f":"+IF($AJ$24=0,0,SUMIF($S3545:$W3545,$AJ$24,$S3564:$W3564))","v":0},{"$f":"+IF($AK$24=0,0,SUMIF($S3545:$W3545,$AK$24,$S3564:$W3564))","v":0},{"$f":"+IF($AL$24=0,0,SUMIF($S3545:$W3545,$AL$24,$S3564:$W3564))","v":0},{"$f":"+IF($AM$24=0,0,SUMIF($S3545:$W3545,$AM$24,$S3564:$W3564))","v":0},{"$f":"+IF($AN$24=0,0,SUMIF($S3545:$W3545,$AN$24,$S3564:$W3564))","v":0},{"$f":"+IF($AO$24=0,0,SUMIF($S3545:$W3545,$AO$24,$S3564:$W3564))","v":0},{"$f":"+IF($AP$24=0,0,SUMIF($S3545:$W3545,$AP$24,$S3564:$W3564))","v":0},{"$f":"+IF($AQ$24=0,0,SUMIF($S3545:$W3545,$AQ$24,$S3564:$W3564))","v":0},null,null,null,null,null,null,0]
[null,null,8,null,null,null,null,null,null,null,null,null,null,null,null,null,null,0,null,null,null,null,null,0,0,0,null,0,"√",1,null,null,null,null,null,null,null,null,null,null,null,null,null,null,null,null,null,null,null,0]
[null,null,16,null,null,null,null,null,null,null,null,null,null,null,null,null,null,0,null,null,null,null,null,0,0,0,null,0,"√",1,null,null,null,null,null,null,null,null,null,null,null,null,null,null,null,null,null,null,null,0]
[null,null,null,null,null,null,null,null,null,null,null,null,null,null,null,null,null,null,null,null,null,null,null,null,null,null,null,null,null,null,null,null,null,null,null,null,null,null,null,null,null,null,null,null,null,null,null,null,null,0]
[null,null,{"$f":"+\"Declaración Jurada: El suscrito Director \"&$D$4245&\" del \"&$E$12&\", código \"&Información!$E$11&\", hace constar que los datos consignados en éste formulario son veraces y responden al estado real de ésta institución.\"&\" Cualquier inexactitud o falsedad estaré incurriendo en las responsabilidades administrativas y disciplinarias, sin perjuicio de las acciones civiles.\"","v":"Declaración Jurada: El suscrito Director  del , código , hace constar que los datos consignados en éste formulario son veraces y responden al estado real de ésta institución. Cualquier inexactitud o falsedad estaré incurriendo en las responsabilidades administrativas y disciplinarias, sin perjuicio de las acciones civiles."},null,null,null,null,null,null,null,null,null,null,null,null,null,null,null,null,null,null,null,null,null,null,null,null,null,null,null,null,null,null,null,null,null,null,null,null,null,null,null,null,null,null,null,null,null,null,0]
[null,null,3,null,null,null,null,null,null,null,null,null,null,null,null,null,null,0,null,null,null,null,null,0,0,0,null,0,"√",1,null,null,null,null,null,null,null,null,null,null,null,null,null,null,null,null,null,null,null,0]
[null,null,8,null,null,null,null,null,null,null,null,null,null,null,null,null,null,0,null,null,null,null,null,0,0,0,null,0,"√",1,null,null,null,null,null,null,null,null,null,null,null,null,null,null,null,null,null,null,null,0]
[null,null,15,null,null,null,null,null,null,null,null,null,null,null,null,null,null,0,null,null,null,null,null,0,0,0,null,0,"√",1,null,null,null,null,null,null,null,null,null,null,null,null,null,null,null,null,null,null,null,0]
[null,null,null,null,null,null,null,null,"Control 2",null,"Control:",{"$f":"IF(L3600=\"\",\"\",IF(L3599>L3600,\"E\",IF(L3599<L3600,\"S\",\"√\")))","v":""},{"$f":"IF(M3600=\"\",\"\",IF(M3599>M3600,\"E\",IF(M3599<M3600,\"S\",\"√\")))","v":""},"","","","",{"$f":"IF($C3558=\"\",\"\",IF(AND(L3602=\"√\",M3602=\"√\",N3602=\"√\",O3602=\"√\",P3602=\"√\",Q3602=\"√\"),\"√\",\"Error\"))","v":"Error"},null,null,null,null,null,null,null,null,null,null,null,null,null,null,null,null,null,null,null,null,null,null,null,null,null,null,null,null,null,{"$f":"+IF(OR(B3602=\"\",B3602=\"Lecciones de TIE asignadas -√-\"),1,0)","v":1},null,0]
[null,null,{"$f":"+\"Declaración Jurada: El suscrito Director \"&$D$4245&\" del \"&$E$12&\", código \"&Información!$E$11&\", hace constar que los datos consignados en éste formulario son veraces y responden al estado real de ésta institución.\"&\" Cualquier inexactitud o falsedad estaré incurriendo en las responsabilidades administrativas y disciplinarias, sin perjuicio de las acciones civiles.\"","v":"Declaración Jurada: El suscrito Director  del , código , hace constar que los datos consignados en éste formulario son veraces y responden al estado real de ésta institución. Cualquier inexactitud o falsedad estaré incurriendo en las responsabilidades administrativas y disciplinarias, sin perjuicio de las acciones civiles."},null,null,null,null,null,null,null,null,null,null,null,null,null,null,null,null,null,null,null,null,null,null,null,null,null,null,null,null,null,null,null,null,null,null,null,null,null,null,null,null,null,null,null,null,null,null,0]
[null,null,3,null,null,null,null,null,null,null,null,null,null,null,null,null,null,0,null,null,null,null,null,0,0,0,null,0,"√",1,null,null,null,null,null,null,null,null,null,null,null,null,null,null,null,null,null,null,null,0]
[null,null,13,null,null,null,null,null,null,null,null,null,null,null,null,null,null,0,null,null,null,null,null,0,0,0,null,0,"√",1,null,null,null,null,null,null,null,null,null,null,null,null,null,null,null,null,null,null,null,0]
[null,null,17,null,null,null,null,null,null,null,null,null,null,null,null,null,null,0,null,null,null,null,null,0,0,0,null,0,"√",1,null,null,null,null,null,null,null,null,null,null,null,null,null,null,null,null,null,null,null,0]
[null,null,null,null,null,null,null,null,"Control 2",null,"Control:",{"$f":"IF(L3635=\"\",\"\",IF(L3634>L3635,\"E\",IF(L3634<L3635,\"S\",\"√\")))","v":""},{"$f":"IF(M3635=\"\",\"\",IF(M3634>M3635,\"E\",IF(M3634<M3635,\"S\",\"√\")))","v":""},"","","","",{"$f":"IF($C3593=\"\",\"\",IF(AND(L3637=\"√\",M3637=\"√\",N3637=\"√\",O3637=\"√\",P3637=\"√\",Q3637=\"√\"),\"√\",\"Error\"))","v":"Error"},null,null,null,null,null,null,null,null,null,null,null,null,null,null,null,null,null,null,null,null,null,null,null,null,null,null,null,null,null,{"$f":"+IF(OR(B3637=\"\",B3637=\"Lecciones de TIE asignadas -√-\"),1,0)","v":1},null,0]
[null,null,{"$f":"+\"Declaración Jurada: El suscrito Director \"&$D$4245&\" del \"&$E$12&\", código \"&Información!$E$11&\", hace constar que los datos consignados en éste formulario son veraces y responden al estado real de ésta institución.\"&\" Cualquier inexactitud o falsedad estaré incurriendo en las responsabilidades administrativas y disciplinarias, sin perjuicio de las acciones civiles.\"","v":"Declaración Jurada: El suscrito Director  del , código , hace constar que los datos consignados en éste formulario son veraces y responden al estado real de ésta institución. Cualquier inexactitud o falsedad estaré incurriendo en las responsabilidades administrativas y disciplinarias, sin perjuicio de las acciones civiles."},null,null,null,null,null,null,null,null,null,null,null,null,null,null,null,null,null,null,null,null,null,null,null,null,null,null,null,null,null,null,null,null,null,null,null,null,null,null,null,null,null,null,null,null,null,null,0]
[null,null,3,null,null,null,null,null,null,null,null,null,null,null,null,null,null,0,null,null,null,null,null,0,0,0,null,0,"√",1,null,null,null,null,null,null,null,null,null,null,null,null,null,null,null,null,null,null,null,0]
[null,null,9,null,null,null,null,null,null,null,null,null,null,null,null,null,null,0,null,null,null,null,null,0,0,0,null,0,"√",1,null,null,null,null,null,null,null,null,null,null,null,null,null,null,null,null,null,null,null,0]
[null,null,17,null,null,null,null,null,null,null,null,null,null,null,null,null,null,0,null,null,null,null,null,0,0,0,null,0,"√",1,null,null,null,null,null,null,null,null,null,null,null,null,null,null,null,null,null,null,null,0]
[null,null,null,null,null,null,null,null,null,null,null,null,null,null,null,null,null,null,null,null,null,null,null,null,null,null,"Hoja de Cálculo",null,null,null,null,null,null,null,null,null,null,null,null,null,null,null,null,null,null,null,null,null,null,0]
[null,null,null,null,null,null,null,null,null,null,null,null,null,null,null,null,null,null,null,null,null,null,null,null,null,null,null,null,null,null,null,null,null,null,null,null,null,null,null,null,null,null,null,null,null,null,null,null,null,0]
[null,null,4,null,null,null,null,null,null,null,null,null,null,null,null,null,null,0,null,null,null,null,null,0,0,0,null,0,"√",1,null,null,null,null,null,null,null,null,null,null,null,null,null,null,null,null,null,null,null,0]
[null,null,9,null,null,null,null,null,null,null,null,null,null,null,null,null,null,0,null,null,null,null,null,0,0,0,null,0,"√",1,null,null,null,null,null,null,null,null,null,null,null,null,null,null,null,null,null,null,null,0]
[null,null,18,null,null,null,null,null,null,null,null,null,null,null,null,null,null,0,null,null,null,null,null,0,0,0,null,0,"√",1,null,null,null,null,null,null,null,null,null,null,null,null,null,null,null,null,null,null,null,0]
[null,null,null,null,null,null,null,null,null,null,null,null,null,null,null,null,null,null,null,null,null,null,null,null,null,null,null,null,null,null,null,null,null,null,null,null,null,null,null,null,null,null,null,null,null,null,null,null,null,0]
[null,null,null,null,null,null,null,null,null,null,null,null,null,null,null,null,null,null,null,null,null,null,null,null,null,null,null,null,null,null,null,null,null,null,null,null,null,null,null,null,null,null,null,null,null,null,null,null,null,0]
[null,null,4,null,null,null,null,null,null,null,null,null,null,null,null,null,null,0,null,null,null,null,null,0,0,0,null,0,"√",1,null,null,null,null,null,null,null,null,null,null,null,null,null,null,null,null,null,null,null,0]
[null,null,16,null,null,null,null,null,null,null,null,null,null,null,null,null,null,0,null,null,null,null,null,0,0,0,null,0,"√",1,null,null,null,null,null,null,null,null,null,null,null,null,null,null,null,null,null,null,null,0]
[null,null,18,null,null,null,null,null,null,null,null,null,null,null,null,null,null,0,null,null,null,null,null,0,0,0,null,0,"√",1,null,null,null,null,null,null,null,null,null,null,null,null,null,null,null,null,null,null,null,0]
[null,null,null,null,null,null,null,null,null,null,null,null,null,null,null,null,null,null,null,null,null,null,null,null,null,null,null,null,null,null,null,null,null,null,null,null,null,null,null,null,null,null,null,null,null,null,null,null,null,0]
[null,null,3,null,null,null,null,null,null,null,null,null,null,null,null,null,null,0,null,null,null,null,null,0,0,0,null,0,"√",1,null,null,null,null,null,null,null,null,null,null,null,null,null,null,null,null,null,null,null,0]
[null,null,6,null,null,null,null,null,null,null,null,null,null,null,null,null,null,0,null,null,null,null,null,0,0,0,null,0,"√",1,null,null,null,null,null,null,null,null,null,null,null,null,null,null,null,null,null,null,null,0]
[null,null,13,null,null,null,null,null,null,null,null,null,null,null,null,null,null,0,null,null,null,null,null,0,0,0,null,0,"√",1,null,null,null,null,null,null,null,null,null,null,null,null,null,null,null,null,null,null,null,0]
[null,null,null,null,null,null,null,null,null,null,null,null,null,null,null,null,null,null,null,null,null,null,null,null,null,null,null,null,null,null,null,null,null,null,null,null,null,null,null,null,null,null,null,null,null,null,null,null,null,0]
[null,null,null,null,null,null,null,null,null,null,null,null,null,null,null,null,null,null,null,null,null,null,null,null,null,null,null,null,null,null,null,null,null,null,null,null,null,null,null,null,null,null,null,null,null,null,null,null,null,0]
[null,null,4,null,null,null,null,null,null,null,null,null,null,null,null,null,null,0,null,null,null,null,null,0,0,0,null,0,"√",1,null,null,null,null,null,null,null,null,null,null,null,null,null,null,null,null,null,null,null,0]
[null,null,12,null,null,null,null,null,null,null,null,null,null,null,null,null,null,0,null,null,null,null,null,0,0,0,null,0,"√",1,null,null,null,null,null,null,null,null,null,null,null,null,null,null,null,null,null,null,null,0]
[null,null,13,null,null,null,null,null,null,null,null,null,null,null,null,null,null,0,null,null,null,null,null,0,0,0,null,0,"√",1,null,null,null,null,null,null,null,null,null,null,null,null,null,null,null,null,null,null,null,0]
[null,null,null,null,null,null,null,null,null,null,null,null,null,null,null,null,null,null,null,null,null,null,null,null,null,null,null,null,null,null,null,null,null,null,null,null,null,null,null,null,null,null,null,null,null,null,null,null,null,0]
[null,null,null,null,null,null,null,null,null,null,null,null,null,null,null,null,null,null,null,null,null,null,null,null,null,null,null,null,null,null,null,null,null,null,null,null,null,null,null,null,null,null,null,null,null,null,null,null,null,0]
[null,null,null,null,null,null,null,null,null,null,null,"7º","8º","9º","10º","11º","12º",null,null,null,null,null,null,null,null,null,"Prop.","Ints.",null,null,null,{"$f":"+IF($AF$24=0,0,SUMIF($S3825:$W3825,$AF$24,$S3844:$W3844))","v":0},{"$f":"+IF($AG$24=0,0,SUMIF($S3825:$W3825,$AG$24,$S3844:$W3844))","v":0},{"$f":"+IF($AH$24=0,0,SUMIF($S3825:$W3825,$AH$24,$S3844:$W3844))","v":0},{"$f":"+IF($AI$24=0,0,SUMIF($S3825:$W3825,$AI$24,$S3844:$W3844))","v":0},{"$f":"+IF($AJ$24=0,0,SUMIF($S3825:$W3825,$AJ$24,$S3844:$W3844))","v":0},{"$f":"+IF($AK$24=0,0,SUMIF($S3825:$W3825,$AK$24,$S3844:$W3844))","v":0},{"$f":"+IF($AL$24=0,0,SUMIF($S3825:$W3825,$AL$24,$S3844:$W3844))","v":0},{"$f":"+IF($AM$24=0,0,SUMIF($S3825:$W3825,$AM$24,$S3844:$W3844))","v":0},{"$f":"+IF($AN$24=0,0,SUMIF($S3825:$W3825,$AN$24,$S3844:$W3844))","v":0},{"$f":"+IF($AO$24=0,0,SUMIF($S3825:$W3825,$AO$24,$S3844:$W3844))","v":0},{"$f":"+IF($AP$24=0,0,SUMIF($S3825:$W3825,$AP$24,$S3844:$W3844))","v":0},{"$f":"+IF($AQ$24=0,0,SUMIF($S3825:$W3825,$AQ$24,$S3844:$W3844))","v":0},null,null,null,null,null,null,0]
[null,null,12,null,null,null,null,null,null,null,null,null,null,null,null,null,null,0,null,null,null,null,null,0,0,0,null,0,"√",1,null,null,null,null,null,null,null,null,null,null,null,null,null,null,null,null,null,null,null,0]
[null,null,null,null,null,null,null,null,"Total de lecciones aprobadas:",null,null,{"$f":"+IF(C3823=\"\",\"\",VLOOKUP($A3822,'hoja de cálculo'!$A$17:$AJ$321,31,0))","v":""},{"$f":"+IF(C3823=\"\",\"\",VLOOKUP($A3822,'hoja de cálculo'!$A$17:$AJ$321,32,0))","v":""},{"$f":"+IF(C3823=\"\",\"\",VLOOKUP($A3822,'hoja de cálculo'!$A$17:$AJ$321,33,0))","v":""},{"$f":"+IF(C3823=\"\",\"\",VLOOKUP($A3822,'hoja de cálculo'!$A$17:$AJ$321,34,0))","v":""},{"$f":"+IF(C3823=\"\",\"\",VLOOKUP($A3822,'hoja de cálculo'!$A$17:$AJ$321,35,0))","v":""},{"$f":"+IF(C3823=\"\",\"\",VLOOKUP($A3822,'hoja de cálculo'!$A$17:$AJ$321,36,0))","v":""},{"$f":"+SUM(L3845:Q3845)","v":0},null,null,null,null,null,null,null,null,null,null,null,null,null,null,null,null,null,null,null,null,null,null,null,null,null,null,null,null,null,null,null,{"$f":"+IF(AX3844>0,AX3844+1,0)","v":0}]
[null,null,null,null,null,null,null,null,null,null,null,null,null,null,null,null,null,null,null,null,null,null,null,null,null,null,null,null,null,null,null,null,null,null,null,null,null,null,null,null,null,null,null,null,null,null,null,null,null,0]
[null,null,"Nº","Nombre del servidor",null,null,null,"Nº de cédula","Grupo Prof.","Especialidad",null,"Nivel",null,null,null,null,null,"Sub- Total","Leccs. Co-curriculares",null,null,null,null,"Sub- Total","Pl","Total Leccs.","Nº de leccs.",null,null,null,null,null,null,null,null,null,null,null,null,null,null,null,null,null,null,null,null,null,null,0]
[null,null,7,null,null,null,null,null,null,null,null,null,null,null,null,null,null,0,null,null,null,null,null,0,0,0,null,0,"√",1,null,null,null,null,null,null,null,null,null,null,null,null,null,null,null,null,null,null,null,0]
[null,null,12,null,null,null,null,null,null,null,null,null,null,null,null,null,null,0,null,null,null,null,null,0,0,0,null,0,"√",1,null,null,null,null,null,null,null,null,null,null,null,null,null,null,null,null,null,null,null,0]
[null,null,17,null,null,null,null,null,null,null,null,null,null,null,null,null,null,0,null,null,null,null,null,0,0,0,null,0,"√",1,null,null,null,null,null,null,null,null,null,null,null,null,null,null,null,null,null,null,null,0]
[null,null,null,null,null,null,null,null,null,null,null,null,null,null,null,null,null,null,null,null,null,null,null,null,null,null,null,null,null,null,null,null,null,null,null,null,null,null,null,null,null,null,null,null,null,null,null,null,null,0]
[null,null,"Nº","Nombre del servidor",null,null,null,"Nº de cédula","Grupo Prof.","Especialidad",null,"Nivel",null,null,null,null,null,"Sub- Total","Leccs. Co-curriculares",null,null,null,null,"Sub- Total","Pl","Total Leccs.","Nº de leccs.",null,null,null,null,null,null,null,null,null,null,null,null,null,null,null,null,null,null,null,null,null,null,0]
[null,null,7,null,null,null,null,null,null,null,null,null,null,null,null,null,null,0,null,null,null,null,null,0,0,0,null,0,"√",1,null,null,null,null,null,null,null,null,null,null,null,null,null,null,null,null,null,null,null,0]
[null,null,13,null,null,null,null,null,null,null,null,null,null,null,null,null,null,0,null,null,null,null,null,0,0,0,null,0,"√",1,null,null,null,null,null,null,null,null,null,null,null,null,null,null,null,null,null,null,null,0]
[null,null,null,null,null,null,null,null,"Total de secciones",null,"Control:",{"$f":"+IF(C3893=\"\",\"\",VLOOKUP($A3892,'hoja de cálculo'!$A$17:$AQ$321,38,0))","v":""},{"$f":"+IF(C3893=\"\",\"\",VLOOKUP($A3892,'hoja de cálculo'!$A$17:$AQ$321,39,0))","v":""},{"$f":"+IF(C3893=\"\",\"\",VLOOKUP($A3892,'hoja de cálculo'!$A$17:$AQ$321,40,0))","v":""},{"$f":"+IF(C3893=\"\",\"\",VLOOKUP($A3892,'hoja de cálculo'!$A$17:$AQ$321,41,0))","v":""},{"$f":"+IF(C3893=\"\",\"\",VLOOKUP($A3892,'hoja de cálculo'!$A$17:$AQ$321,42,0))","v":""},{"$f":"+IF(C3893=\"\",\"\",VLOOKUP($A3892,'hoja de cálculo'!$A$17:$AQ$321,43,0))","v":""},{"$f":"+SUM(L3916:Q3916)","v":0},null,null,null,null,null,null,null,null,null,null,null,null,null,null,null,null,null,null,null,null,null,null,null,null,null,null,null,null,null,null,null,0]
[null,null,null,null,null,null,null,null,null,null,null,null,null,null,null,null,null,null,null,null,null,null,null,null,null,null,null,null,null,null,null,null,null,null,null,null,null,null,null,null,null,null,null,null,null,null,null,null,null,0]
[{"$f":"+A3892+1","v":112},{"$f":"IFERROR(VLOOKUP(A3927,'hoja de cálculo'!$A$22:'hoja de cálculo'!$C$321,3,0),\"\")","v":""},null,null,null,null,null,null,null,null,null,null,null,null,null,null,null,null,null,null,null,null,null,null,null,null,null,null,null,null,null,null,null,null,null,null,null,null,null,null,null,null,null,null,null,null,null,null,null,{"$f":"+IF(B3927=\"\",0,1)","v":0}]
[null,null,8,null,null,null,null,null,null,null,null,null,null,null,null,null,null,0,null,null,null,null,null,0,0,0,null,0,"√",1,null,null,null,null,null,null,null,null,null,null,null,null,null,null,null,null,null,null,null,0]
[null,null,13,null,null,null,null,null,null,null,null,null,null,null,null,null,null,0,null,null,null,null,null,0,0,0,null,0,"√",1,null,null,null,null,null,null,null,null,null,null,null,null,null,null,null,null,null,null,null,0]
[null,null,null,null,null,null,null,null,"Total de secciones",null,"Control:",{"$f":"+IF(C3928=\"\",\"\",VLOOKUP($A3927,'hoja de cálculo'!$A$17:$AQ$321,38,0))","v":""},{"$f":"+IF(C3928=\"\",\"\",VLOOKUP($A3927,'hoja de cálculo'!$A$17:$AQ$321,39,0))","v":""},{"$f":"+IF(C3928=\"\",\"\",VLOOKUP($A3927,'hoja de cálculo'!$A$17:$AQ$321,40,0))","v":""},{"$f":"+IF(C3928=\"\",\"\",VLOOKUP($A3927,'hoja de cálculo'!$A$17:$AQ$321,41,0))","v":""},{"$f":"+IF(C3928=\"\",\"\",VLOOKUP($A3927,'hoja de cálculo'!$A$17:$AQ$321,42,0))","v":""},{"$f":"+IF(C3928=\"\",\"\",VLOOKUP($A3927,'hoja de cálculo'!$A$17:$AQ$321,43,0))","v":""},{"$f":"+SUM(L3951:Q3951)","v":0},null,null,null,null,null,null,null,null,null,null,null,null,null,null,null,null,null,null,null,null,null,null,null,null,null,null,null,null,null,null,null,0]
[null,null,{"$f":"+\"Declaración Jurada: El suscrito Director \"&$D$4245&\" del \"&$E$12&\", código \"&Información!$E$11&\", hace constar que los datos consignados en éste formulario son veraces y responden al estado real de ésta institución.\"&\" Cualquier inexactitud o falsedad estaré incurriendo en las responsabilidades administrativas y disciplinarias, sin perjuicio de las acciones civiles.\"","v":"Declaración Jurada: El suscrito Director  del , código , hace constar que los datos consignados en éste formulario son veraces y responden al estado real de ésta institución. Cualquier inexactitud o falsedad estaré incurriendo en las responsabilidades administrativas y disciplinarias, sin perjuicio de las acciones civiles."},null,null,null,null,null,null,null,null,null,null,null,null,null,null,null,null,null,null,null,null,null,null,null,null,null,null,null,null,null,null,null,null,null,null,null,null,null,null,null,null,null,null,null,null,null,null,0]
[null,null,null,null,null,null,null,null,null,null,null,"7º","8º","9º","10º","11º","12º",null,null,null,null,null,null,null,null,null,"Prop.","Ints.",null,null,null,{"$f":"+IF($AF$24=0,0,SUMIF($S3965:$W3965,$AF$24,$S3984:$W3984))","v":0},{"$f":"+IF($AG$24=0,0,SUMIF($S3965:$W3965,$AG$24,$S3984:$W3984))","v":0},{"$f":"+IF($AH$24=0,0,SUMIF($S3965:$W3965,$AH$24,$S3984:$W3984))","v":0},{"$f":"+IF($AI$24=0,0,SUMIF($S3965:$W3965,$AI$24,$S3984:$W3984))","v":0},{"$f":"+IF($AJ$24=0,0,SUMIF($S3965:$W3965,$AJ$24,$S3984:$W3984))","v":0},{"$f":"+IF($AK$24=0,0,SUMIF($S3965:$W3965,$AK$24,$S3984:$W3984))","v":0},{"$f":"+IF($AL$24=0,0,SUMIF($S3965:$W3965,$AL$24,$S3984:$W3984))","v":0},{"$f":"+IF($AM$24=0,0,SUMIF($S3965:$W3965,$AM$24,$S3984:$W3984))","v":0},{"$f":"+IF($AN$24=0,0,SUMIF($S3965:$W3965,$AN$24,$S3984:$W3984))","v":0},{"$f":"+IF($AO$24=0,0,SUMIF($S3965:$W3965,$AO$24,$S3984:$W3984))","v":0},{"$f":"+IF($AP$24=0,0,SUMIF($S3965:$W3965,$AP$24,$S3984:$W3984))","v":0},{"$f":"+IF($AQ$24=0,0,SUMIF($S3965:$W3965,$AQ$24,$S3984:$W3984))","v":0},null,null,null,null,null,null,0]
[null,null,8,null,null,null,null,null,null,null,null,null,null,null,null,null,null,0,null,null,null,null,null,0,0,0,null,0,"√",1,null,null,null,null,null,null,null,null,null,null,null,null,null,null,null,null,null,null,null,0]
[null,null,16,null,null,null,null,null,null,null,null,null,null,null,null,null,null,0,null,null,null,null,null,0,0,0,null,0,"√",1,null,null,null,null,null,null,null,null,null,null,null,null,null,null,null,null,null,null,null,0]
[null,null,null,null,null,null,null,null,"Total de lecciones aprobadas:",null,null,{"$f":"+IF(C3963=\"\",\"\",VLOOKUP($A3962,'hoja de cálculo'!$A$17:$AJ$321,31,0))","v":""},{"$f":"+IF(C3963=\"\",\"\",VLOOKUP($A3962,'hoja de cálculo'!$A$17:$AJ$321,32,0))","v":""},{"$f":"+IF(C3963=\"\",\"\",VLOOKUP($A3962,'hoja de cálculo'!$A$17:$AJ$321,33,0))","v":""},{"$f":"+IF(C3963=\"\",\"\",VLOOKUP($A3962,'hoja de cálculo'!$A$17:$AJ$321,34,0))","v":""},{"$f":"+IF(C3963=\"\",\"\",VLOOKUP($A3962,'hoja de cálculo'!$A$17:$AJ$321,35,0))","v":""},{"$f":"+IF(C3963=\"\",\"\",VLOOKUP($A3962,'hoja de cálculo'!$A$17:$AJ$321,36,0))","v":""},{"$f":"+SUM(L3985:Q3985)","v":0},null,null,null,null,null,null,null,null,null,null,null,null,null,null,null,null,null,null,null,null,null,null,null,null,null,null,null,null,null,null,null,{"$f":"+IF(AX3984>0,AX3984+1,0)","v":0}]
[null,null,{"$f":"+\"Declaración Jurada: El suscrito Director \"&$D$4245&\" del \"&$E$12&\", código \"&Información!$E$11&\", hace constar que los datos consignados en éste formulario son veraces y responden al estado real de ésta institución.\"&\" Cualquier inexactitud o falsedad estaré incurriendo en las responsabilidades administrativas y disciplinarias, sin perjuicio de las acciones civiles.\"","v":"Declaración Jurada: El suscrito Director  del , código , hace constar que los datos consignados en éste formulario son veraces y responden al estado real de ésta institución. Cualquier inexactitud o falsedad estaré incurriendo en las responsabilidades administrativas y disciplinarias, sin perjuicio de las acciones civiles."},null,null,null,null,null,null,null,null,null,null,null,null,null,null,null,null,null,null,null,null,null,null,null,null,null,null,null,null,null,null,null,null,null,null,null,null,null,null,null,null,null,null,null,null,null,null,0]
[null,null,null,null,null,null,null,null,null,null,null,"7º","8º","9º","10º","11º","12º",null,null,null,null,null,null,null,null,null,"Prop.","Ints.",null,null,null,{"$f":"+IF($AF$24=0,0,SUMIF($S4000:$W4000,$AF$24,$S4019:$W4019))","v":0},{"$f":"+IF($AG$24=0,0,SUMIF($S4000:$W4000,$AG$24,$S4019:$W4019))","v":0},{"$f":"+IF($AH$24=0,0,SUMIF($S4000:$W4000,$AH$24,$S4019:$W4019))","v":0},{"$f":"+IF($AI$24=0,0,SUMIF($S4000:$W4000,$AI$24,$S4019:$W4019))","v":0},{"$f":"+IF($AJ$24=0,0,SUMIF($S4000:$W4000,$AJ$24,$S4019:$W4019))","v":0},{"$f":"+IF($AK$24=0,0,SUMIF($S4000:$W4000,$AK$24,$S4019:$W4019))","v":0},{"$f":"+IF($AL$24=0,0,SUMIF($S4000:$W4000,$AL$24,$S4019:$W4019))","v":0},{"$f":"+IF($AM$24=0,0,SUMIF($S4000:$W4000,$AM$24,$S4019:$W4019))","v":0},{"$f":"+IF($AN$24=0,0,SUMIF($S4000:$W4000,$AN$24,$S4019:$W4019))","v":0},{"$f":"+IF($AO$24=0,0,SUMIF($S4000:$W4000,$AO$24,$S4019:$W4019))","v":0},{"$f":"+IF($AP$24=0,0,SUMIF($S4000:$W4000,$AP$24,$S4019:$W4019))","v":0},{"$f":"+IF($AQ$24=0,0,SUMIF($S4000:$W4000,$AQ$24,$S4019:$W4019))","v":0},null,null,null,null,null,null,0]
[null,null,8,null,null,null,null,null,null,null,null,null,null,null,null,null,null,0,null,null,null,null,null,0,0,0,null,0,"√",1,null,null,null,null,null,null,null,null,null,null,null,null,null,null,null,null,null,null,null,0]
[null,null,18,null,null,null,null,null,null,null,null,null,null,null,null,null,null,0,null,null,null,null,null,0,0,0,null,0,"√",1,null,null,null,null,null,null,null,null,null,null,null,null,null,null,null,null,null,null,null,0]
[null,null,null,null,null,null,null,null,"Control 2",null,"Control:",{"$f":"IF(L4020=\"\",\"\",IF(L4019>L4020,\"E\",IF(L4019<L4020,\"S\",\"√\")))","v":""},{"$f":"IF(M4020=\"\",\"\",IF(M4019>M4020,\"E\",IF(M4019<M4020,\"S\",\"√\")))","v":""},"","","","",{"$f":"IF($C3978=\"\",\"\",IF(AND(L4022=\"√\",M4022=\"√\",N4022=\"√\",O4022=\"√\",P4022=\"√\",Q4022=\"√\"),\"√\",\"Error\"))","v":"Error"},null,null,null,null,null,null,null,null,null,null,null,null,null,null,null,null,null,null,null,null,null,null,null,null,null,null,null,null,null,{"$f":"+IF(OR(B4022=\"\",B4022=\"Lecciones de TIE asignadas -√-\"),1,0)","v":1},null,0]
[null,null,{"$f":"+\"Declaración Jurada: El suscrito Director \"&$D$4245&\" del \"&$E$12&\", código \"&Información!$E$11&\", hace constar que los datos consignados en éste formulario son veraces y responden al estado real de ésta institución.\"&\" Cualquier inexactitud o falsedad estaré incurriendo en las responsabilidades administrativas y disciplinarias, sin perjuicio de las acciones civiles.\"","v":"Declaración Jurada: El suscrito Director  del , código , hace constar que los datos consignados en éste formulario son veraces y responden al estado real de ésta institución. Cualquier inexactitud o falsedad estaré incurriendo en las responsabilidades administrativas y disciplinarias, sin perjuicio de las acciones civiles."},null,null,null,null,null,null,null,null,null,null,null,null,null,null,null,null,null,null,null,null,null,null,null,null,null,null,null,null,null,null,null,null,null,null,null,null,null,null,null,null,null,null,null,null,null,null,0]
[null,null,null,null,null,null,null,null,null,null,null,"7º","8º","9º","10º","11º","12º",null,null,null,null,null,null,null,null,null,"Prop.","Ints.",null,null,null,{"$f":"+IF($AF$24=0,0,SUMIF($S4035:$W4035,$AF$24,$S4054:$W4054))","v":0},{"$f":"+IF($AG$24=0,0,SUMIF($S4035:$W4035,$AG$24,$S4054:$W4054))","v":0},{"$f":"+IF($AH$24=0,0,SUMIF($S4035:$W4035,$AH$24,$S4054:$W4054))","v":0},{"$f":"+IF($AI$24=0,0,SUMIF($S4035:$W4035,$AI$24,$S4054:$W4054))","v":0},{"$f":"+IF($AJ$24=0,0,SUMIF($S4035:$W4035,$AJ$24,$S4054:$W4054))","v":0},{"$f":"+IF($AK$24=0,0,SUMIF($S4035:$W4035,$AK$24,$S4054:$W4054))","v":0},{"$f":"+IF($AL$24=0,0,SUMIF($S4035:$W4035,$AL$24,$S4054:$W4054))","v":0},{"$f":"+IF($AM$24=0,0,SUMIF($S4035:$W4035,$AM$24,$S4054:$W4054))","v":0},{"$f":"+IF($AN$24=0,0,SUMIF($S4035:$W4035,$AN$24,$S4054:$W4054))","v":0},{"$f":"+IF($AO$24=0,0,SUMIF($S4035:$W4035,$AO$24,$S4054:$W4054))","v":0},{"$f":"+IF($AP$24=0,0,SUMIF($S4035:$W4035,$AP$24,$S4054:$W4054))","v":0},{"$f":"+IF($AQ$24=0,0,SUMIF($S4035:$W4035,$AQ$24,$S4054:$W4054))","v":0},null,null,null,null,null,null,0]
[null,null,8,null,null,null,null,null,null,null,null,null,null,null,null,null,null,0,null,null,null,null,null,0,0,0,null,0,"√",1,null,null,null,null,null,null,null,null,null,null,null,null,null,null,null,null,null,null,null,0]
[null,null,17,null,null,null,null,null,null,null,null,null,null,null,null,null,null,0,null,null,null,null,null,0,0,0,null,0,"√",1,null,null,null,null,null,null,null,null,null,null,null,null,null,null,null,null,null,null,null,0]
[null,null,null,null,null,null,null,null,"Control 2",null,"Control:",{"$f":"IF(L4055=\"\",\"\",IF(L4054>L4055,\"E\",IF(L4054<L4055,\"S\",\"√\")))","v":""},{"$f":"IF(M4055=\"\",\"\",IF(M4054>M4055,\"E\",IF(M4054<M4055,\"S\",\"√\")))","v":""},"","","","",{"$f":"IF($C4013=\"\",\"\",IF(AND(L4057=\"√\",M4057=\"√\",N4057=\"√\",O4057=\"√\",P4057=\"√\",Q4057=\"√\"),\"√\",\"Error\"))","v":"Error"},null,null,null,null,null,null,null,null,null,null,null,null,null,null,null,null,null,null,null,null,null,null,null,null,null,null,null,null,null,{"$f":"+IF(OR(B4057=\"\",B4057=\"Lecciones de TIE asignadas -√-\"),1,0)","v":1},null,0]
[null,null,{"$f":"+\"Declaración Jurada: El suscrito Director \"&$D$4245&\" del \"&$E$12&\", código \"&Información!$E$11&\", hace constar que los datos consignados en éste formulario son veraces y responden al estado real de ésta institución.\"&\" Cualquier inexactitud o falsedad estaré incurriendo en las responsabilidades administrativas y disciplinarias, sin perjuicio de las acciones civiles.\"","v":"Declaración Jurada: El suscrito Director  del , código , hace constar que los datos consignados en éste formulario son veraces y responden al estado real de ésta institución. Cualquier inexactitud o falsedad estaré incurriendo en las responsabilidades administrativas y disciplinarias, sin perjuicio de las acciones civiles."},null,null,null,null,null,null,null,null,null,null,null,null,null,null,null,null,null,null,null,null,null,null,null,null,null,null,null,null,null,null,null,null,null,null,null,null,null,null,null,null,null,null,null,null,null,null,0]
[null,null,6,null,null,null,null,null,null,null,null,null,null,null,null,null,null,0,null,null,null,null,null,0,0,0,null,0,"√",1,null,null,null,null,null,null,null,null,null,null,null,null,null,null,null,null,null,null,null,0]
[null,null,9,null,null,null,null,null,null,null,null,null,null,null,null,null,null,0,null,null,null,null,null,0,0,0,null,0,"√",1,null,null,null,null,null,null,null,null,null,null,null,null,null,null,null,null,null,null,null,0]
[null,null,17,null,null,null,null,null,null,null,null,null,null,null,null,null,null,0,null,null,null,null,null,0,0,0,null,0,"√",1,null,null,null,null,null,null,null,null,null,null,null,null,null,null,null,null,null,null,null,0]
[null,null,null,null,null,null,null,null,null,null,null,null,null,null,null,null,null,null,null,null,null,null,null,null,null,null,null,null,null,null,null,null,null,null,null,null,null,null,null,null,null,null,null,null,null,null,null,null,null,0]
[null,null,null,null,null,null,null,null,null,null,null,null,null,null,null,null,null,null,null,null,null,null,null,null,null,null,null,null,null,null,null,null,null,null,null,null,null,null,null,null,null,null,null,null,null,null,null,null,null,0]
[null,null,4,null,null,null,null,null,null,null,null,null,null,null,null,null,null,0,null,null,null,null,null,0,0,0,null,0,"√",1,null,null,null,null,null,null,null,null,null,null,null,null,null,null,null,null,null,null,null,0]
[null,null,16,null,null,null,null,null,null,null,null,null,null,null,null,null,null,0,null,null,null,null,null,0,0,0,null,0,"√",1,null,null,null,null,null,null,null,null,null,null,null,null,null,null,null,null,null,null,null,0]
[null,null,null,null,null,null,null,null,"Total de secciones",null,"Control:",{"$f":"+IF(C4103=\"\",\"\",VLOOKUP($A4102,'hoja de cálculo'!$A$17:$AQ$321,38,0))","v":""},{"$f":"+IF(C4103=\"\",\"\",VLOOKUP($A4102,'hoja de cálculo'!$A$17:$AQ$321,39,0))","v":""},{"$f":"+IF(C4103=\"\",\"\",VLOOKUP($A4102,'hoja de cálculo'!$A$17:$AQ$321,40,0))","v":""},{"$f":"+IF(C4103=\"\",\"\",VLOOKUP($A4102,'hoja de cálculo'!$A$17:$AQ$321,41,0))","v":""},{"$f":"+IF(C4103=\"\",\"\",VLOOKUP($A4102,'hoja de cálculo'!$A$17:$AQ$321,42,0))","v":""},{"$f":"+IF(C4103=\"\",\"\",VLOOKUP($A4102,'hoja de cálculo'!$A$17:$AQ$321,43,0))","v":""},{"$f":"+SUM(L4126:Q4126)","v":0},null,null,null,null,null,null,null,null,null,null,null,null,null,null,null,null,null,null,null,null,null,null,null,null,null,null,null,null,null,null,null,0]
[null,null,null,null,null,null,null,null,null,null,null,null,null,null,null,null,null,null,null,null,null,null,null,null,null,null,null,null,null,null,null,null,null,null,null,null,null,null,null,null,null,null,null,null,null,null,null,null,null,0]
[null,null,null,null,null,null,null,null,null,null,null,null,null,null,null,null,null,null,null,null,null,null,null,null,null,null,null,null,null,null,null,null,null,null,null,null,null,null,null,null,null,null,null,null,null,null,null,null,null,0]
[null,null,null,null,null,null,null,null,null,null,null,null,null,null,null,null,null,null,null,null,null,null,null,null,null,null,null,null,null,null,null,null,null,null,null,null,null,null,null,null,null,null,null,null,null,null,null,null,null,0]
[null,null,null,null,null,null,null,null,null,null,null,null,null,null,null,null,null,null,null,null,null,null,null,null,null,null,"Hoja de Cálculo",null,null,null,null,null,null,null,null,null,null,null,null,null,null,null,null,null,null,null,null,null,null,0]
[null,null,null,null,null,null,null,null,null,null,null,null,null,null,null,null,null,null,null,null,null,null,null,null,null,null,null,null,null,null,null,null,null,null,null,null,null,null,null,null,null,null,null,null,null,null,null,null,null,0]
[null,null,{"$f":"+\"Declaración Jurada: El suscrito Director \"&$D$4245&\" del \"&$E$12&\", código \"&Información!$E$11&\", hace constar que los datos consignados en éste formulario son veraces y responden al estado real de ésta institución.\"&\" Cualquier inexactitud o falsedad estaré incurriendo en las responsabilidades administrativas y disciplinarias, sin perjuicio de las acciones civiles.\"","v":"Declaración Jurada: El suscrito Director  del , código , hace constar que los datos consignados en éste formulario son veraces y responden al estado real de ésta institución. Cualquier inexactitud o falsedad estaré incurriendo en las responsabilidades administrativas y disciplinarias, sin perjuicio de las acciones civiles."},null,null,null,null,null,null,null,null,null,null,null,null,null,null,null,null,null,null,null,null,null,null,null,null,null,null,null,null,null,null,null,null,null,null,null,null,null,null,null,null,null,null,null,null,null,null,0]
[null,null,null,null,null,null,null,null,null,null,null,null,null,null,null,null,null,null,null,null,null,null,null,null,null,null,null,null,null,null,null,null,null,null,null,null,null,null,null,null,null,null,null,null,null,null,null,null,null,0]
[{"$f":"+A4102+1","v":118},{"$f":"IFERROR(VLOOKUP(A4137,'hoja de cálculo'!$A$22:'hoja de cálculo'!$C$321,3,0),\"\")","v":""},null,null,null,null,null,null,null,null,null,null,null,null,null,null,null,null,null,null,null,null,null,null,null,null,null,null,null,null,null,null,null,null,null,null,null,null,null,null,null,null,null,null,null,null,null,null,null,{"$f":"+IF(B4137=\"\",0,1)","v":0}]
["Ausente","Sustituto",{"$f":"IFERROR(VLOOKUP(A4137,'hoja de cálculo'!$A$7:'hoja de cálculo'!$H$321,8,0),\"\")","v":""},null,null,null,null,null,null,null,null,null,null,null,null,null,null,null,null,null,null,null,null,null,null,null,null,null,"Cont. 1",null,null,null,null,null,null,null,null,null,null,null,null,null,null,null,null,null,null,null,null,{"$f":"+IF(AX4137>0,AX4137+1,0)","v":0}]
[null,null,"Nº","Nombre del servidor",null,null,null,"Nº de cédula","Grupo Prof.","Especialidad",null,"Nivel",null,null,null,null,null,"Sub- Total","Leccs. Co-curriculares",null,null,null,null,"Sub- Total","Pl","Total Leccs.","Nº de leccs.",null,null,null,null,null,null,null,null,null,null,null,null,null,null,null,null,null,null,null,null,null,null,0]
[null,null,null,null,null,null,null,null,null,null,null,"7º","8º","9º","10º","11º","12º",null,null,null,null,null,null,null,null,null,"Prop.","Ints.",null,null,null,{"$f":"+IF($AF$24=0,0,SUMIF($S4140:$W4140,$AF$24,$S4159:$W4159))","v":0},{"$f":"+IF($AG$24=0,0,SUMIF($S4140:$W4140,$AG$24,$S4159:$W4159))","v":0},{"$f":"+IF($AH$24=0,0,SUMIF($S4140:$W4140,$AH$24,$S4159:$W4159))","v":0},{"$f":"+IF($AI$24=0,0,SUMIF($S4140:$W4140,$AI$24,$S4159:$W4159))","v":0},{"$f":"+IF($AJ$24=0,0,SUMIF($S4140:$W4140,$AJ$24,$S4159:$W4159))","v":0},{"$f":"+IF($AK$24=0,0,SUMIF($S4140:$W4140,$AK$24,$S4159:$W4159))","v":0},{"$f":"+IF($AL$24=0,0,SUMIF($S4140:$W4140,$AL$24,$S4159:$W4159))","v":0},{"$f":"+IF($AM$24=0,0,SUMIF($S4140:$W4140,$AM$24,$S4159:$W4159))","v":0},{"$f":"+IF($AN$24=0,0,SUMIF($S4140:$W4140,$AN$24,$S4159:$W4159))","v":0},{"$f":"+IF($AO$24=0,0,SUMIF($S4140:$W4140,$AO$24,$S4159:$W4159))","v":0},{"$f":"+IF($AP$24=0,0,SUMIF($S4140:$W4140,$AP$24,$S4159:$W4159))","v":0},{"$f":"+IF($AQ$24=0,0,SUMIF($S4140:$W4140,$AQ$24,$S4159:$W4159))","v":0},null,null,null,null,null,null,0]
[null,null,1,null,null,null,null,null,null,null,null,null,null,null,null,null,null,{"$f":"+SUM(L4141:Q4141)","v":0},null,null,null,null,null,{"$f":"+SUM(R4141:W4141)","v":0},{"$f":"IF(X4141=0,0,IF(X4141>48,\"E\",IF(X4141<44,0,IF(A4141=\"A\",0,48-X4141))))","v":0},{"$f":"+IF(Y4141=\"E\",\"E\",(X4141+Y4141))","v":0},null,{"$f":"+IF(Z4141=\"E\",\"E\",(Z4141-AA4141))","v":0},{"$f":"IF(A4141=\"A\",\"√\",IF(Z4141>48,\"E\",\"√\"))","v":"√"},{"$f":"+IF(AC4141=\"√\",1,0)","v":1},null,null,null,null,null,null,null,null,null,null,null,null,null,null,null,null,null,null,null,{"$f":"+IF(OR(AA4141+AB4141>0,D4141<>0,H4141<>0,I4141<>0,J4141<>0),AX4140+1,0)","v":0}]
[null,null,2,null,null,null,null,null,null,null,null,null,null,null,null,null,null,0,null,null,null,null,null,0,0,0,null,0,{"$f":"IF(A4142=\"A\",\"√\",IF(Z4142>48,\"E\",\"√\"))","v":"√"},1,null,null,null,null,null,null,null,null,null,null,null,null,null,null,null,null,null,null,null,0]
[null,null,3,null,null,null,null,null,null,null,null,null,null,null,null,null,null,0,null,null,null,null,null,0,0,0,null,0,"√",1,null,null,null,null,null,null,null,null,null,null,null,null,null,null,null,null,null,null,null,0]
[null,null,4,null,null,null,null,null,null,null,null,null,null,null,null,null,null,0,null,null,null,null,null,0,0,0,null,0,"√",1,null,null,null,null,null,null,null,null,null,null,null,null,null,null,null,null,null,null,null,0]
[null,null,5,null,null,null,null,null,null,null,null,null,null,null,null,null,null,0,null,null,null,null,null,0,0,0,null,0,"√",1,null,null,null,null,null,null,null,null,null,null,null,null,null,null,null,null,null,null,null,0]
[null,null,6,null,null,null,null,null,null,null,null,null,null,null,null,null,null,0,null,null,null,null,null,0,0,0,null,0,"√",1,null,null,null,null,null,null,null,null,null,null,null,null,null,null,null,null,null,null,null,0]
[null,null,7,null,null,null,null,null,null,null,null,null,null,null,null,null,null,0,null,null,null,null,null,0,0,0,null,0,"√",1,null,null,null,null,null,null,null,null,null,null,null,null,null,null,null,null,null,null,null,0]
[null,null,8,null,null,null,null,null,null,null,null,null,null,null,null,null,null,0,null,null,null,null,null,0,0,0,null,0,"√",1,null,null,null,null,null,null,null,null,null,null,null,null,null,null,null,null,null,null,null,0]
[null,null,9,null,null,null,null,null,null,null,null,null,null,null,null,null,null,0,null,null,null,null,null,0,0,0,null,0,"√",1,null,null,null,null,null,null,null,null,null,null,null,null,null,null,null,null,null,null,null,0]
[null,null,10,null,null,null,null,null,null,null,null,null,null,null,null,null,null,0,null,null,null,null,null,0,0,0,null,0,"√",1,null,null,null,null,null,null,null,null,null,null,null,null,null,null,null,null,null,null,null,0]
[null,null,11,null,null,null,null,null,null,null,null,null,null,null,null,null,null,0,null,null,null,null,null,0,0,0,null,0,"√",1,null,null,null,null,null,null,null,null,null,null,null,null,null,null,null,null,null,null,null,0]
[null,null,12,null,null,null,null,null,null,null,null,null,null,null,null,null,null,0,null,null,null,null,null,0,0,0,null,0,"√",1,null,null,null,null,null,null,null,null,null,null,null,null,null,null,null,null,null,null,null,0]
[null,null,13,null,null,null,null,null,null,null,null,null,null,null,null,null,null,0,null,null,null,null,null,0,0,0,null,0,"√",1,null,null,null,null,null,null,null,null,null,null,null,null,null,null,null,null,null,null,null,0]
[null,null,14,null,null,null,null,null,null,null,null,null,null,null,null,null,null,0,null,null,null,null,null,0,0,0,null,0,"√",1,null,null,null,null,null,null,null,null,null,null,null,null,null,null,null,null,null,null,null,0]
[null,null,15,null,null,null,null,null,null,null,null,null,null,null,null,null,null,0,null,null,null,null,null,0,0,0,null,0,"√",1,null,null,null,null,null,null,null,null,null,null,null,null,null,null,null,null,null,null,null,0]
[null,null,16,null,null,null,null,null,null,null,null,null,null,null,null,null,null,0,null,null,null,null,null,0,0,0,null,0,"√",1,null,null,null,null,null,null,null,null,null,null,null,null,null,null,null,null,null,null,null,0]
[null,null,17,null,null,null,null,null,null,null,null,null,null,null,null,null,null,0,null,null,null,null,null,0,0,0,null,0,"√",1,null,null,null,null,null,null,null,null,null,null,null,null,null,null,null,null,null,null,null,0]
[null,null,18,null,null,null,null,null,null,null,null,null,null,null,null,null,null,0,null,null,null,null,null,0,0,0,null,0,"√",1,null,null,null,null,null,null,null,null,null,null,null,null,null,null,null,null,null,null,null,0]
[null,null,null,null,null,null,null,null,"Total de lecciones asignadas:",null,null,{"$f":"+SUM(L4141:L4158)-SUMIF($A4141:$A4158,\"A\",L4141:L4158)","v":0},{"$f":"+SUM(M4141:M4158)-SUMIF($A4141:$A4158,\"A\",M4141:M4158)","v":0},0,0,{"$f":"+SUM(P4141:P4158)-SUMIF($A4141:$A4158,\"A\",P4141:P4158)","v":0},{"$f":"+SUM(Q4141:Q4158)-SUMIF($A4141:$A4158,\"A\",Q4141:Q4158)","v":0},{"$f":"+SUM(R4141:R4158)-SUMIF($A4141:$A4158,\"A\",R4141:R4158)","v":0},{"$f":"+SUM(S4141:S4158)-SUMIF($A4141:$A4158,\"A\",S4141:S4158)","v":0},{"$f":"+SUM(T4141:T4158)-SUMIF($A4141:$A4158,\"A\",T4141:T4158)","v":0},0,0,0,{"$f":"+SUM(R4159:W4159)","v":0},{"$f":"+SUM(Y4141:Y4158)","v":0},{"$f":"+SUM(Z4141:Z4158)-SUMIF($A4141:$A4158,\"A\",Z4141:Z4158)","v":0},{"$f":"+SUM(AA4141:AA4158)","v":0},{"$f":"+SUM(AB4141:AB4158)-SUMIF($A4141:$A4158,\"A\",AB4141:AB4158)","v":0},{"$f":"IF($C4138=\"\",\"\",IF(AND(R4162=\"√\",AD4159=18),\"√\",\"Er\"))","v":""},{"$f":"+SUM(AD4141:AD4158)","v":18},null,null,null,null,null,null,null,null,null,null,null,null,null,null,null,{"$f":"+Y4159","v":0},null,null,null,{"$f":"+IF(AX4137>0,AX4140+1,0)","v":0}]
[null,null,null,null,null,null,null,null,"Total de lecciones aprobadas:",null,null,{"$f":"+IF(C4138=\"\",\"\",VLOOKUP($A4137,'hoja de cálculo'!$A$17:$AJ$321,31,0))","v":""},{"$f":"+IF(C4138=\"\",\"\",VLOOKUP($A4137,'hoja de cálculo'!$A$17:$AJ$321,32,0))","v":""},{"$f":"+IF(C4138=\"\",\"\",VLOOKUP($A4137,'hoja de cálculo'!$A$17:$AJ$321,33,0))","v":""},{"$f":"+IF(C4138=\"\",\"\",VLOOKUP($A4137,'hoja de cálculo'!$A$17:$AJ$321,34,0))","v":""},{"$f":"+IF(C4138=\"\",\"\",VLOOKUP($A4137,'hoja de cálculo'!$A$17:$AJ$321,35,0))","v":""},{"$f":"+IF(C4138=\"\",\"\",VLOOKUP($A4137,'hoja de cálculo'!$A$17:$AJ$321,36,0))","v":""},{"$f":"+SUM(L4160:Q4160)","v":0},null,null,null,null,null,null,null,null,null,null,null,null,null,null,null,null,null,null,null,null,null,null,null,null,null,null,null,null,null,null,null,{"$f":"+IF(AX4159>0,AX4159+1,0)","v":0}]
[null,null,null,null,null,null,null,null,"Total de secciones",null,"Control:",{"$f":"+IF(C4138=\"\",\"\",VLOOKUP($A4137,'hoja de cálculo'!$A$17:$AQ$321,38,0))","v":""},{"$f":"+IF(C4138=\"\",\"\",VLOOKUP($A4137,'hoja de cálculo'!$A$17:$AQ$321,39,0))","v":""},{"$f":"+IF(C4138=\"\",\"\",VLOOKUP($A4137,'hoja de cálculo'!$A$17:$AQ$321,40,0))","v":""},{"$f":"+IF(C4138=\"\",\"\",VLOOKUP($A4137,'hoja de cálculo'!$A$17:$AQ$321,41,0))","v":""},{"$f":"+IF(C4138=\"\",\"\",VLOOKUP($A4137,'hoja de cálculo'!$A$17:$AQ$321,42,0))","v":""},{"$f":"+IF(C4138=\"\",\"\",VLOOKUP($A4137,'hoja de cálculo'!$A$17:$AQ$321,43,0))","v":""},{"$f":"+SUM(L4161:Q4161)","v":0},null,null,null,null,null,null,null,null,null,null,null,null,null,null,null,null,null,null,null,null,null,null,null,null,null,null,null,null,null,null,null,0]
[null,null,null,null,null,null,null,null,"Control 2",null,"Control:",{"$f":"IF(L4160=\"\",\"\",IF(L4159>L4160,\"E\",IF(L4159<L4160,\"S\",\"√\")))","v":""},{"$f":"IF(M4160=\"\",\"\",IF(M4159>M4160,\"E\",IF(M4159<M4160,\"S\",\"√\")))","v":""},"","","","",{"$f":"IF($C4118=\"\",\"\",IF(AND(L4162=\"√\",M4162=\"√\",N4162=\"√\",O4162=\"√\",P4162=\"√\",Q4162=\"√\"),\"√\",\"Error\"))","v":"Error"},null,null,null,null,null,null,null,null,null,null,null,null,null,null,null,null,null,null,null,null,null,null,null,null,null,null,null,null,null,{"$f":"+IF(OR(B4162=\"\",B4162=\"Lecciones de TIE asignadas -√-\"),1,0)","v":1},null,0]
[null,null,null,null,null,null,null,null,"Plan de Estudios",null,"Control:",{"$f":"+IF(C4138=\"\",\"\",VLOOKUP($A4137,'hoja de cálculo'!$A$17:$BD$321,51,0))","v":""},{"$f":"+IF(C4138=\"\",\"\",VLOOKUP($A4137,'hoja de cálculo'!$A$17:$BD$321,52,0))","v":""},{"$f":"+IF(C4138=\"\",\"\",VLOOKUP($A4137,'hoja de cálculo'!$A$17:$BD$321,53,0))","v":""},{"$f":"+IF(C4138=\"\",\"\",VLOOKUP($A4137,'hoja de cálculo'!$A$17:$BD$321,54,0))","v":""},{"$f":"+IF(C4138=\"\",\"\",VLOOKUP($A4137,'hoja de cálculo'!$A$17:$BD$321,55,0))","v":""},{"$f":"+IF(C4138=\"\",\"\",VLOOKUP($A4137,'hoja de cálculo'!$A$17:$BD$321,56,0))","v":""},null,null,null,null,null,null,null,null,null,null,null,null,null,null,null,null,null,null,null,null,null,null,null,null,null,null,null,{"$f":"+IF(AB4163<0,-AB4163,0)","v":0},null,null,null,null,0]
[null,null,null,"Observaciones:",{"$f":"+IF(OR(C4138=\"Lecciones Labor@ Diurnas\",C4138=\"Lecciones Labor@ Nocturno\"),\"Recuerde generar el informe de labores de lecciones Labor@\",\"\")","v":""},null,null,null,null,null,null,null,null,null,null,null,null,null,null,null,null,null,null,null,null,null,null,null,null,null,null,null,null,null,null,null,null,null,null,null,null,null,null,null,null,null,null,null,null,0]
[null,null,null,null,null,null,null,null,null,null,null,null,null,null,null,null,null,null,null,null,null,null,null,null,null,null,null,null,null,null,null,null,null,null,null,null,null,null,null,null,null,null,null,null,null,null,null,null,null,0]
[null,null,null,null,null,null,null,null,null,null,null,null,null,null,null,null,null,null,null,null,null,null,null,null,null,null,null,null,null,null,null,null,null,null,null,null,null,null,null,null,null,null,null,null,null,null,null,null,null,0]
[null,null,null,null,null,null,null,null,null,null,null,null,null,null,null,null,null,null,null,null,null,null,null,null,null,null,null,null,null,null,null,null,null,null,null,null,null,null,null,null,null,null,null,null,null,null,null,null,null,0]
[null,null,null,null,null,null,null,null,null,null,null,null,null,null,null,null,null,null,null,null,null,null,null,null,null,null,"Hoja de Cálculo",null,null,null,null,null,null,null,null,null,null,null,null,null,null,null,null,null,null,null,null,null,null,0]
[null,null,null,null,null,null,null,null,null,null,null,null,null,null,null,null,null,null,null,null,null,null,null,null,null,null,null,null,null,null,null,null,null,null,null,null,null,null,null,null,null,null,null,null,null,null,null,null,null,0]
[null,null,{"$f":"+\"Declaración Jurada: El suscrito Director \"&$D$4245&\" del \"&$E$12&\", código \"&Información!$E$11&\", hace constar que los datos consignados en éste formulario son veraces y responden al estado real de ésta institución.\"&\" Cualquier inexactitud o falsedad estaré incurriendo en las responsabilidades administrativas y disciplinarias, sin perjuicio de las acciones civiles.\"","v":"Declaración Jurada: El suscrito Director  del , código , hace constar que los datos consignados en éste formulario son veraces y responden al estado real de ésta institución. Cualquier inexactitud o falsedad estaré incurriendo en las responsabilidades administrativas y disciplinarias, sin perjuicio de las acciones civiles."},null,null,null,null,null,null,null,null,null,null,null,null,null,null,null,null,null,null,null,null,null,null,null,null,null,null,null,null,null,null,null,null,null,null,null,null,null,null,null,null,null,null,null,null,null,null,0]
[null,null,null,null,null,null,null,null,null,null,null,null,null,null,null,null,null,null,null,null,null,null,null,null,null,null,null,null,null,null,null,null,null,null,null,null,null,null,null,null,null,null,null,null,null,null,null,null,null,0]
[{"$f":"+A4137+1","v":119},{"$f":"IFERROR(VLOOKUP(A4172,'hoja de cálculo'!$A$22:'hoja de cálculo'!$C$321,3,0),\"\")","v":""},null,null,null,null,null,null,null,null,null,null,null,null,null,null,null,null,null,null,null,null,null,null,null,null,null,null,null,null,null,null,null,null,null,null,null,null,null,null,null,null,null,null,null,null,null,null,null,{"$f":"+IF(B4172=\"\",0,1)","v":0}]
["Ausente","Sustituto",{"$f":"IFERROR(VLOOKUP(A4172,'hoja de cálculo'!$A$7:'hoja de cálculo'!$H$321,8,0),\"\")","v":""},null,null,null,null,null,null,null,null,null,null,null,null,null,null,null,null,null,null,null,null,null,null,null,null,null,"Cont. 1",null,null,null,null,null,null,null,null,null,null,null,null,null,null,null,null,null,null,null,null,{"$f":"+IF(AX4172>0,AX4172+1,0)","v":0}]
[null,null,"Nº","Nombre del servidor",null,null,null,"Nº de cédula","Grupo Prof.","Especialidad",null,"Nivel",null,null,null,null,null,"Sub- Total","Leccs. Co-curriculares",null,null,null,null,"Sub- Total","Pl","Total Leccs.","Nº de leccs.",null,null,null,null,null,null,null,null,null,null,null,null,null,null,null,null,null,null,null,null,null,null,0]
[null,null,null,null,null,null,null,null,null,null,null,"7º","8º","9º","10º","11º","12º",null,null,null,null,null,null,null,null,null,"Prop.","Ints.",null,null,null,{"$f":"+IF($AF$24=0,0,SUMIF($S4175:$W4175,$AF$24,$S4194:$W4194))","v":0},{"$f":"+IF($AG$24=0,0,SUMIF($S4175:$W4175,$AG$24,$S4194:$W4194))","v":0},{"$f":"+IF($AH$24=0,0,SUMIF($S4175:$W4175,$AH$24,$S4194:$W4194))","v":0},{"$f":"+IF($AI$24=0,0,SUMIF($S4175:$W4175,$AI$24,$S4194:$W4194))","v":0},{"$f":"+IF($AJ$24=0,0,SUMIF($S4175:$W4175,$AJ$24,$S4194:$W4194))","v":0},{"$f":"+IF($AK$24=0,0,SUMIF($S4175:$W4175,$AK$24,$S4194:$W4194))","v":0},{"$f":"+IF($AL$24=0,0,SUMIF($S4175:$W4175,$AL$24,$S4194:$W4194))","v":0},{"$f":"+IF($AM$24=0,0,SUMIF($S4175:$W4175,$AM$24,$S4194:$W4194))","v":0},{"$f":"+IF($AN$24=0,0,SUMIF($S4175:$W4175,$AN$24,$S4194:$W4194))","v":0},{"$f":"+IF($AO$24=0,0,SUMIF($S4175:$W4175,$AO$24,$S4194:$W4194))","v":0},{"$f":"+IF($AP$24=0,0,SUMIF($S4175:$W4175,$AP$24,$S4194:$W4194))","v":0},{"$f":"+IF($AQ$24=0,0,SUMIF($S4175:$W4175,$AQ$24,$S4194:$W4194))","v":0},null,null,null,null,null,null,0]
[null,null,1,null,null,null,null,null,null,null,null,null,null,null,null,null,null,{"$f":"+SUM(L4176:Q4176)","v":0},null,null,null,null,null,{"$f":"+SUM(R4176:W4176)","v":0},{"$f":"IF(X4176=0,0,IF(X4176>48,\"E\",IF(X4176<44,0,IF(A4176=\"A\",0,48-X4176))))","v":0},{"$f":"+IF(Y4176=\"E\",\"E\",(X4176+Y4176))","v":0},null,{"$f":"+IF(Z4176=\"E\",\"E\",(Z4176-AA4176))","v":0},{"$f":"IF(A4176=\"A\",\"√\",IF(Z4176>48,\"E\",\"√\"))","v":"√"},{"$f":"+IF(AC4176=\"√\",1,0)","v":1},null,null,null,null,null,null,null,null,null,null,null,null,null,null,null,null,null,null,null,{"$f":"+IF(OR(AA4176+AB4176>0,D4176<>0,H4176<>0,I4176<>0,J4176<>0),AX4175+1,0)","v":0}]
[null,null,2,null,null,null,null,null,null,null,null,null,null,null,null,null,null,0,null,null,null,null,null,0,0,0,null,0,{"$f":"IF(A4177=\"A\",\"√\",IF(Z4177>48,\"E\",\"√\"))","v":"√"},1,null,null,null,null,null,null,null,null,null,null,null,null,null,null,null,null,null,null,null,0]
[null,null,3,null,null,null,null,null,null,null,null,null,null,null,null,null,null,0,null,null,null,null,null,0,0,0,null,0,"√",1,null,null,null,null,null,null,null,null,null,null,null,null,null,null,null,null,null,null,null,0]
[null,null,4,null,null,null,null,null,null,null,null,null,null,null,null,null,null,0,null,null,null,null,null,0,0,0,null,0,"√",1,null,null,null,null,null,null,null,null,null,null,null,null,null,null,null,null,null,null,null,0]
[null,null,5,null,null,null,null,null,null,null,null,null,null,null,null,null,null,0,null,null,null,null,null,0,0,0,null,0,"√",1,null,null,null,null,null,null,null,null,null,null,null,null,null,null,null,null,null,null,null,0]
[null,null,6,null,null,null,null,null,null,null,null,null,null,null,null,null,null,0,null,null,null,null,null,0,0,0,null,0,"√",1,null,null,null,null,null,null,null,null,null,null,null,null,null,null,null,null,null,null,null,0]
[null,null,7,null,null,null,null,null,null,null,null,null,null,null,null,null,null,0,null,null,null,null,null,0,0,0,null,0,"√",1,null,null,null,null,null,null,null,null,null,null,null,null,null,null,null,null,null,null,null,0]
[null,null,8,null,null,null,null,null,null,null,null,null,null,null,null,null,null,0,null,null,null,null,null,0,0,0,null,0,"√",1,null,null,null,null,null,null,null,null,null,null,null,null,null,null,null,null,null,null,null,0]
[null,null,9,null,null,null,null,null,null,null,null,null,null,null,null,null,null,0,null,null,null,null,null,0,0,0,null,0,"√",1,null,null,null,null,null,null,null,null,null,null,null,null,null,null,null,null,null,null,null,0]
[null,null,10,null,null,null,null,null,null,null,null,null,null,null,null,null,null,0,null,null,null,null,null,0,0,0,null,0,"√",1,null,null,null,null,null,null,null,null,null,null,null,null,null,null,null,null,null,null,null,0]
[null,null,11,null,null,null,null,null,null,null,null,null,null,null,null,null,null,0,null,null,null,null,null,0,0,0,null,0,"√",1,null,null,null,null,null,null,null,null,null,null,null,null,null,null,null,null,null,null,null,0]
[null,null,12,null,null,null,null,null,null,null,null,null,null,null,null,null,null,0,null,null,null,null,null,0,0,0,null,0,"√",1,null,null,null,null,null,null,null,null,null,null,null,null,null,null,null,null,null,null,null,0]
[null,null,13,null,null,null,null,null,null,null,null,null,null,null,null,null,null,0,null,null,null,null,null,0,0,0,null,0,"√",1,null,null,null,null,null,null,null,null,null,null,null,null,null,null,null,null,null,null,null,0]
[null,null,14,null,null,null,null,null,null,null,null,null,null,null,null,null,null,0,null,null,null,null,null,0,0,0,null,0,"√",1,null,null,null,null,null,null,null,null,null,null,null,null,null,null,null,null,null,null,null,0]
[null,null,15,null,null,null,null,null,null,null,null,null,null,null,null,null,null,0,null,null,null,null,null,0,0,0,null,0,"√",1,null,null,null,null,null,null,null,null,null,null,null,null,null,null,null,null,null,null,null,0]
[null,null,16,null,null,null,null,null,null,null,null,null,null,null,null,null,null,0,null,null,null,null,null,0,0,0,null,0,"√",1,null,null,null,null,null,null,null,null,null,null,null,null,null,null,null,null,null,null,null,0]
[null,null,17,null,null,null,null,null,null,null,null,null,null,null,null,null,null,0,null,null,null,null,null,0,0,0,null,0,"√",1,null,null,null,null,null,null,null,null,null,null,null,null,null,null,null,null,null,null,null,0]
[null,null,18,null,null,null,null,null,null,null,null,null,null,null,null,null,null,0,null,null,null,null,null,0,0,0,null,0,"√",1,null,null,null,null,null,null,null,null,null,null,null,null,null,null,null,null,null,null,null,0]
[null,null,null,null,null,null,null,null,"Total de lecciones asignadas:",null,null,{"$f":"+SUM(L4176:L4193)-SUMIF($A4176:$A4193,\"A\",L4176:L4193)","v":0},{"$f":"+SUM(M4176:M4193)-SUMIF($A4176:$A4193,\"A\",M4176:M4193)","v":0},0,0,{"$f":"+SUM(P4176:P4193)-SUMIF($A4176:$A4193,\"A\",P4176:P4193)","v":0},{"$f":"+SUM(Q4176:Q4193)-SUMIF($A4176:$A4193,\"A\",Q4176:Q4193)","v":0},{"$f":"+SUM(R4176:R4193)-SUMIF($A4176:$A4193,\"A\",R4176:R4193)","v":0},{"$f":"+SUM(S4176:S4193)-SUMIF($A4176:$A4193,\"A\",S4176:S4193)","v":0},{"$f":"+SUM(T4176:T4193)-SUMIF($A4176:$A4193,\"A\",T4176:T4193)","v":0},0,0,0,{"$f":"+SUM(R4194:W4194)","v":0},{"$f":"+SUM(Y4176:Y4193)","v":0},{"$f":"+SUM(Z4176:Z4193)-SUMIF($A4176:$A4193,\"A\",Z4176:Z4193)","v":0},{"$f":"+SUM(AA4176:AA4193)","v":0},{"$f":"+SUM(AB4176:AB4193)-SUMIF($A4176:$A4193,\"A\",AB4176:AB4193)","v":0},{"$f":"IF($C4173=\"\",\"\",IF(AND(R4197=\"√\",AD4194=18),\"√\",\"Er\"))","v":""},{"$f":"+SUM(AD4176:AD4193)","v":18},null,null,null,null,null,null,null,null,null,null,null,null,null,null,null,{"$f":"+Y4194","v":0},null,null,null,{"$f":"+IF(AX4172>0,AX4175+1,0)","v":0}]
[null,null,null,null,null,null,null,null,"Total de lecciones aprobadas:",null,null,{"$f":"+IF(C4173=\"\",\"\",VLOOKUP($A4172,'hoja de cálculo'!$A$17:$AJ$321,31,0))","v":""},{"$f":"+IF(C4173=\"\",\"\",VLOOKUP($A4172,'hoja de cálculo'!$A$17:$AJ$321,32,0))","v":""},{"$f":"+IF(C4173=\"\",\"\",VLOOKUP($A4172,'hoja de cálculo'!$A$17:$AJ$321,33,0))","v":""},{"$f":"+IF(C4173=\"\",\"\",VLOOKUP($A4172,'hoja de cálculo'!$A$17:$AJ$321,34,0))","v":""},{"$f":"+IF(C4173=\"\",\"\",VLOOKUP($A4172,'hoja de cálculo'!$A$17:$AJ$321,35,0))","v":""},{"$f":"+IF(C4173=\"\",\"\",VLOOKUP($A4172,'hoja de cálculo'!$A$17:$AJ$321,36,0))","v":""},{"$f":"+SUM(L4195:Q4195)","v":0},null,null,null,null,null,null,null,null,null,null,null,null,null,null,null,null,null,null,null,null,null,null,null,null,null,null,null,null,null,null,null,{"$f":"+IF(AX4194>0,AX4194+1,0)","v":0}]
[null,null,null,null,null,null,null,null,"Total de secciones",null,"Control:",{"$f":"+IF(C4173=\"\",\"\",VLOOKUP($A4172,'hoja de cálculo'!$A$17:$AQ$321,38,0))","v":""},{"$f":"+IF(C4173=\"\",\"\",VLOOKUP($A4172,'hoja de cálculo'!$A$17:$AQ$321,39,0))","v":""},{"$f":"+IF(C4173=\"\",\"\",VLOOKUP($A4172,'hoja de cálculo'!$A$17:$AQ$321,40,0))","v":""},{"$f":"+IF(C4173=\"\",\"\",VLOOKUP($A4172,'hoja de cálculo'!$A$17:$AQ$321,41,0))","v":""},{"$f":"+IF(C4173=\"\",\"\",VLOOKUP($A4172,'hoja de cálculo'!$A$17:$AQ$321,42,0))","v":""},{"$f":"+IF(C4173=\"\",\"\",VLOOKUP($A4172,'hoja de cálculo'!$A$17:$AQ$321,43,0))","v":""},{"$f":"+SUM(L4196:Q4196)","v":0},null,null,null,null,null,null,null,null,null,null,null,null,null,null,null,null,null,null,null,null,null,null,null,null,null,null,null,null,null,null,null,0]
[null,null,null,null,null,null,null,null,"Control 2",null,"Control:",{"$f":"IF(L4195=\"\",\"\",IF(L4194>L4195,\"E\",IF(L4194<L4195,\"S\",\"√\")))","v":""},{"$f":"IF(M4195=\"\",\"\",IF(M4194>M4195,\"E\",IF(M4194<M4195,\"S\",\"√\")))","v":""},"","","","",{"$f":"IF($C4153=\"\",\"\",IF(AND(L4197=\"√\",M4197=\"√\",N4197=\"√\",O4197=\"√\",P4197=\"√\",Q4197=\"√\"),\"√\",\"Error\"))","v":"Error"},null,null,null,null,null,null,null,null,null,null,null,null,null,null,null,null,null,null,null,null,null,null,null,null,null,null,null,null,null,{"$f":"+IF(OR(B4197=\"\",B4197=\"Lecciones de TIE asignadas -√-\"),1,0)","v":1},null,0]
[null,null,null,null,null,null,null,null,"Plan de Estudios",null,"Control:",{"$f":"+IF(C4173=\"\",\"\",VLOOKUP($A4172,'hoja de cálculo'!$A$17:$BD$321,51,0))","v":""},{"$f":"+IF(C4173=\"\",\"\",VLOOKUP($A4172,'hoja de cálculo'!$A$17:$BD$321,52,0))","v":""},{"$f":"+IF(C4173=\"\",\"\",VLOOKUP($A4172,'hoja de cálculo'!$A$17:$BD$321,53,0))","v":""},{"$f":"+IF(C4173=\"\",\"\",VLOOKUP($A4172,'hoja de cálculo'!$A$17:$BD$321,54,0))","v":""},{"$f":"+IF(C4173=\"\",\"\",VLOOKUP($A4172,'hoja de cálculo'!$A$17:$BD$321,55,0))","v":""},{"$f":"+IF(C4173=\"\",\"\",VLOOKUP($A4172,'hoja de cálculo'!$A$17:$BD$321,56,0))","v":""},null,null,null,null,null,null,null,null,null,null,null,null,null,null,null,null,null,null,null,null,null,null,null,null,null,null,null,{"$f":"+IF(AB4198<0,-AB4198,0)","v":0},null,null,null,null,0]
[null,null,null,"Observaciones:",{"$f":"+IF(OR(C4173=\"Lecciones Labor@ Diurnas\",C4173=\"Lecciones Labor@ Nocturno\"),\"Recuerde generar el informe de labores de lecciones Labor@\",\"\")","v":""},null,null,null,null,null,null,null,null,null,null,null,null,null,null,null,null,null,null,null,null,null,null,null,null,null,null,null,null,null,null,null,null,null,null,null,null,null,null,null,null,null,null,null,null,0]
[null,null,null,null,null,null,null,null,null,null,null,null,null,null,null,null,null,null,null,null,null,null,null,null,null,null,null,null,null,null,null,null,null,null,null,null,null,null,null,null,null,null,null,null,null,null,null,null,null,0]
[null,null,null,null,null,null,null,null,null,null,null,null,null,null,null,null,null,null,null,null,null,null,null,null,null,null,null,null,null,null,null,null,null,null,null,null,null,null,null,null,null,null,null,null,null,null,null,null,null,0]
[null,null,null,null,null,null,null,null,null,null,null,null,null,null,null,null,null,null,null,null,null,null,null,null,null,null,null,null,null,null,null,null,null,null,null,null,null,null,null,null,null,null,null,null,null,null,null,null,null,0]
[null,null,null,null,null,null,null,null,null,null,null,null,null,null,null,null,null,null,null,null,null,null,null,null,null,null,"Hoja de Cálculo",null,null,null,null,null,null,null,null,null,null,null,null,null,null,null,null,null,null,null,null,null,null,0]
[null,null,null,null,null,null,null,null,null,null,null,null,null,null,null,null,null,null,null,null,null,null,null,null,null,null,null,null,null,null,null,null,null,null,null,null,null,null,null,null,null,null,null,null,null,null,null,null,null,0]
[null,null,{"$f":"+\"Declaración Jurada: El suscrito Director \"&$D$4245&\" del \"&$E$12&\", código \"&Información!$E$11&\", hace constar que los datos consignados en éste formulario son veraces y responden al estado real de ésta institución.\"&\" Cualquier inexactitud o falsedad estaré incurriendo en las responsabilidades administrativas y disciplinarias, sin perjuicio de las acciones civiles.\"","v":"Declaración Jurada: El suscrito Director  del , código , hace constar que los datos consignados en éste formulario son veraces y responden al estado real de ésta institución. Cualquier inexactitud o falsedad estaré incurriendo en las responsabilidades administrativas y disciplinarias, sin perjuicio de las acciones civiles."},null,null,null,null,null,null,null,null,null,null,null,null,null,null,null,null,null,null,null,null,null,null,null,null,null,null,null,null,null,null,null,null,null,null,null,null,null,null,null,null,null,null,null,null,null,null,0]
[null,null,null,null,null,null,null,null,null,null,null,null,null,null,null,null,null,null,null,null,null,null,null,null,null,null,null,null,null,null,null,null,null,null,null,null,null,null,null,null,null,null,null,null,null,null,null,null,null,0]
[{"$f":"+A4172+1","v":120},{"$f":"IFERROR(VLOOKUP(A4207,'hoja de cálculo'!$A$22:'hoja de cálculo'!$C$321,3,0),\"\")","v":""},null,null,null,null,null,null,null,null,null,null,null,null,null,null,null,null,null,null,null,null,null,null,null,null,null,null,null,null,null,null,null,null,null,null,null,null,null,null,null,null,null,null,null,null,null,null,null,{"$f":"+IF(B4207=\"\",0,1)","v":0}]
["Ausente","Sustituto",{"$f":"IFERROR(VLOOKUP(A4207,'hoja de cálculo'!$A$7:'hoja de cálculo'!$H$321,8,0),\"\")","v":""},null,null,null,null,null,null,null,null,null,null,null,null,null,null,null,null,null,null,null,null,null,null,null,null,null,"Cont. 1",null,null,null,null,null,null,null,null,null,null,null,null,null,null,null,null,null,null,null,null,{"$f":"+IF(AX4207>0,AX4207+1,0)","v":0}]
[null,null,"Nº","Nombre del servidor",null,null,null,"Nº de cédula","Grupo Prof.","Especialidad",null,"Nivel",null,null,null,null,null,"Sub- Total","Leccs. Co-curriculares",null,null,null,null,"Sub- Total","Pl","Total Leccs.","Nº de leccs.",null,null,null,null,null,null,null,null,null,null,null,null,null,null,null,null,null,null,null,null,null,null,0]
[null,null,null,null,null,null,null,null,null,null,null,"7º","8º","9º","10º","11º","12º",null,null,null,null,null,null,null,null,null,"Prop.","Ints.",null,null,null,{"$f":"+IF($AF$24=0,0,SUMIF($S4210:$W4210,$AF$24,$S4229:$W4229))","v":0},{"$f":"+IF($AG$24=0,0,SUMIF($S4210:$W4210,$AG$24,$S4229:$W4229))","v":0},{"$f":"+IF($AH$24=0,0,SUMIF($S4210:$W4210,$AH$24,$S4229:$W4229))","v":0},{"$f":"+IF($AI$24=0,0,SUMIF($S4210:$W4210,$AI$24,$S4229:$W4229))","v":0},{"$f":"+IF($AJ$24=0,0,SUMIF($S4210:$W4210,$AJ$24,$S4229:$W4229))","v":0},{"$f":"+IF($AK$24=0,0,SUMIF($S4210:$W4210,$AK$24,$S4229:$W4229))","v":0},{"$f":"+IF($AL$24=0,0,SUMIF($S4210:$W4210,$AL$24,$S4229:$W4229))","v":0},{"$f":"+IF($AM$24=0,0,SUMIF($S4210:$W4210,$AM$24,$S4229:$W4229))","v":0},{"$f":"+IF($AN$24=0,0,SUMIF($S4210:$W4210,$AN$24,$S4229:$W4229))","v":0},{"$f":"+IF($AO$24=0,0,SUMIF($S4210:$W4210,$AO$24,$S4229:$W4229))","v":0},{"$f":"+IF($AP$24=0,0,SUMIF($S4210:$W4210,$AP$24,$S4229:$W4229))","v":0},{"$f":"+IF($AQ$24=0,0,SUMIF($S4210:$W4210,$AQ$24,$S4229:$W4229))","v":0},null,null,null,null,null,null,0]
[null,null,1,null,null,null,null,null,null,null,null,null,null,null,null,null,null,{"$f":"+SUM(L4211:Q4211)","v":0},null,null,null,null,null,{"$f":"+SUM(R4211:W4211)","v":0},{"$f":"IF(X4211=0,0,IF(X4211>48,\"E\",IF(X4211<44,0,IF(A4211=\"A\",0,48-X4211))))","v":0},{"$f":"+IF(Y4211=\"E\",\"E\",(X4211+Y4211))","v":0},null,{"$f":"+IF(Z4211=\"E\",\"E\",(Z4211-AA4211))","v":0},{"$f":"IF(A4211=\"A\",\"√\",IF(Z4211>48,\"E\",\"√\"))","v":"√"},{"$f":"+IF(AC4211=\"√\",1,0)","v":1},null,null,null,null,null,null,null,null,null,null,null,null,null,null,null,null,null,null,null,{"$f":"+IF(OR(AA4211+AB4211>0,D4211<>0,H4211<>0,I4211<>0,J4211<>0),AX4210+1,0)","v":0}]
[null,null,2,null,null,null,null,null,null,null,null,null,null,null,null,null,null,0,null,null,null,null,null,0,0,0,null,0,{"$f":"IF(A4212=\"A\",\"√\",IF(Z4212>48,\"E\",\"√\"))","v":"√"},1,null,null,null,null,null,null,null,null,null,null,null,null,null,null,null,null,null,null,null,0]
[null,null,3,null,null,null,null,null,null,null,null,null,null,null,null,null,null,0,null,null,null,null,null,0,0,0,null,0,"√",1,null,null,null,null,null,null,null,null,null,null,null,null,null,null,null,null,null,null,null,0]
[null,null,4,null,null,null,null,null,null,null,null,null,null,null,null,null,null,0,null,null,null,null,null,0,0,0,null,0,"√",1,null,null,null,null,null,null,null,null,null,null,null,null,null,null,null,null,null,null,null,0]
[null,null,5,null,null,null,null,null,null,null,null,null,null,null,null,null,null,0,null,null,null,null,null,0,0,0,null,0,"√",1,null,null,null,null,null,null,null,null,null,null,null,null,null,null,null,null,null,null,null,0]
[null,null,6,null,null,null,null,null,null,null,null,null,null,null,null,null,null,0,null,null,null,null,null,0,0,0,null,0,"√",1,null,null,null,null,null,null,null,null,null,null,null,null,null,null,null,null,null,null,null,0]
[null,null,7,null,null,null,null,null,null,null,null,null,null,null,null,null,null,0,null,null,null,null,null,0,0,0,null,0,"√",1,null,null,null,null,null,null,null,null,null,null,null,null,null,null,null,null,null,null,null,0]
[null,null,8,null,null,null,null,null,null,null,null,null,null,null,null,null,null,0,null,null,null,null,null,0,0,0,null,0,"√",1,null,null,null,null,null,null,null,null,null,null,null,null,null,null,null,null,null,null,null,0]
[null,null,9,null,null,null,null,null,null,null,null,null,null,null,null,null,null,0,null,null,null,null,null,0,0,0,null,0,"√",1,null,null,null,null,null,null,null,null,null,null,null,null,null,null,null,null,null,null,null,0]
[null,null,10,null,null,null,null,null,null,null,null,null,null,null,null,null,null,0,null,null,null,null,null,0,0,0,null,0,"√",1,null,null,null,null,null,null,null,null,null,null,null,null,null,null,null,null,null,null,null,0]
[null,null,11,null,null,null,null,null,null,null,null,null,null,null,null,null,null,0,null,null,null,null,null,0,0,0,null,0,"√",1,null,null,null,null,null,null,null,null,null,null,null,null,null,null,null,null,null,null,null,0]
[null,null,12,null,null,null,null,null,null,null,null,null,null,null,null,null,null,0,null,null,null,null,null,0,0,0,null,0,"√",1,null,null,null,null,null,null,null,null,null,null,null,null,null,null,null,null,null,null,null,0]
[null,null,13,null,null,null,null,null,null,null,null,null,null,null,null,null,null,0,null,null,null,null,null,0,0,0,null,0,"√",1,null,null,null,null,null,null,null,null,null,null,null,null,null,null,null,null,null,null,null,0]
[null,null,14,null,null,null,null,null,null,null,null,null,null,null,null,null,null,0,null,null,null,null,null,0,0,0,null,0,"√",1,null,null,null,null,null,null,null,null,null,null,null,null,null,null,null,null,null,null,null,0]
[null,null,15,null,null,null,null,null,null,null,null,null,null,null,null,null,null,0,null,null,null,null,null,0,0,0,null,0,"√",1,null,null,null,null,null,null,null,null,null,null,null,null,null,null,null,null,null,null,null,0]
[null,null,16,null,null,null,null,null,null,null,null,null,null,null,null,null,null,0,null,null,null,null,null,0,0,0,null,0,"√",1,null,null,null,null,null,null,null,null,null,null,null,null,null,null,null,null,null,null,null,0]
[null,null,17,null,null,null,null,null,null,null,null,null,null,null,null,null,null,0,null,null,null,null,null,0,0,0,null,0,"√",1,null,null,null,null,null,null,null,null,null,null,null,null,null,null,null,null,null,null,null,0]
[null,null,18,null,null,null,null,null,null,null,null,null,null,null,null,null,null,0,null,null,null,null,null,0,0,0,null,0,"√",1,null,null,null,null,null,null,null,null,null,null,null,null,null,null,null,null,null,null,null,0]
[null,null,null,null,null,null,null,null,"Total de lecciones asignadas:",null,null,{"$f":"+SUM(L4211:L4228)-SUMIF($A4211:$A4228,\"A\",L4211:L4228)","v":0},{"$f":"+SUM(M4211:M4228)-SUMIF($A4211:$A4228,\"A\",M4211:M4228)","v":0},0,0,{"$f":"+SUM(P4211:P4228)-SUMIF($A4211:$A4228,\"A\",P4211:P4228)","v":0},{"$f":"+SUM(Q4211:Q4228)-SUMIF($A4211:$A4228,\"A\",Q4211:Q4228)","v":0},{"$f":"+SUM(R4211:R4228)-SUMIF($A4211:$A4228,\"A\",R4211:R4228)","v":0},{"$f":"+SUM(S4211:S4228)-SUMIF($A4211:$A4228,\"A\",S4211:S4228)","v":0},{"$f":"+SUM(T4211:T4228)-SUMIF($A4211:$A4228,\"A\",T4211:T4228)","v":0},0,0,0,{"$f":"+SUM(R4229:W4229)","v":0},{"$f":"+SUM(Y4211:Y4228)","v":0},{"$f":"+SUM(Z4211:Z4228)-SUMIF($A4211:$A4228,\"A\",Z4211:Z4228)","v":0},{"$f":"+SUM(AA4211:AA4228)","v":0},{"$f":"+SUM(AB4211:AB4228)-SUMIF($A4211:$A4228,\"A\",AB4211:AB4228)","v":0},{"$f":"IF($C4208=\"\",\"\",IF(AND(R4232=\"√\",AD4229=18),\"√\",\"Er\"))","v":""},{"$f":"+SUM(AD4211:AD4228)","v":18},null,null,null,null,null,null,null,null,null,null,null,null,null,null,null,{"$f":"+Y4229","v":0},null,null,null,{"$f":"+IF(AX4207>0,AX4210+1,0)","v":0}]
[null,null,null,null,null,null,null,null,"Total de lecciones aprobadas:",null,null,{"$f":"+IF(C4208=\"\",\"\",VLOOKUP($A4207,'hoja de cálculo'!$A$17:$AJ$321,31,0))","v":""},{"$f":"+IF(C4208=\"\",\"\",VLOOKUP($A4207,'hoja de cálculo'!$A$17:$AJ$321,32,0))","v":""},{"$f":"+IF(C4208=\"\",\"\",VLOOKUP($A4207,'hoja de cálculo'!$A$17:$AJ$321,33,0))","v":""},{"$f":"+IF(C4208=\"\",\"\",VLOOKUP($A4207,'hoja de cálculo'!$A$17:$AJ$321,34,0))","v":""},{"$f":"+IF(C4208=\"\",\"\",VLOOKUP($A4207,'hoja de cálculo'!$A$17:$AJ$321,35,0))","v":""},{"$f":"+IF(C4208=\"\",\"\",VLOOKUP($A4207,'hoja de cálculo'!$A$17:$AJ$321,36,0))","v":""},{"$f":"+SUM(L4230:Q4230)","v":0},null,null,null,null,null,null,null,null,null,null,null,null,null,null,null,null,null,null,null,null,null,null,null,null,null,null,null,null,null,null,null,{"$f":"+IF(AX4229>0,AX4229+1,0)","v":0}]
[null,null,null,null,null,null,null,null,"Total de secciones",null,"Control:",{"$f":"+IF(C4208=\"\",\"\",VLOOKUP($A4207,'hoja de cálculo'!$A$17:$AQ$321,38,0))","v":""},{"$f":"+IF(C4208=\"\",\"\",VLOOKUP($A4207,'hoja de cálculo'!$A$17:$AQ$321,39,0))","v":""},{"$f":"+IF(C4208=\"\",\"\",VLOOKUP($A4207,'hoja de cálculo'!$A$17:$AQ$321,40,0))","v":""},{"$f":"+IF(C4208=\"\",\"\",VLOOKUP($A4207,'hoja de cálculo'!$A$17:$AQ$321,41,0))","v":""},{"$f":"+IF(C4208=\"\",\"\",VLOOKUP($A4207,'hoja de cálculo'!$A$17:$AQ$321,42,0))","v":""},{"$f":"+IF(C4208=\"\",\"\",VLOOKUP($A4207,'hoja de cálculo'!$A$17:$AQ$321,43,0))","v":""},{"$f":"+SUM(L4231:Q4231)","v":0},null,null,null,null,null,null,null,null,null,null,null,null,null,null,null,null,null,null,null,null,null,null,null,null,null,null,null,null,null,null,null,0]
[null,null,null,null,null,null,null,null,"Control 2",null,"Control:",{"$f":"IF(L4230=\"\",\"\",IF(L4229>L4230,\"E\",IF(L4229<L4230,\"S\",\"√\")))","v":""},{"$f":"IF(M4230=\"\",\"\",IF(M4229>M4230,\"E\",IF(M4229<M4230,\"S\",\"√\")))","v":""},"","","","",{"$f":"IF($C4188=\"\",\"\",IF(AND(L4232=\"√\",M4232=\"√\",N4232=\"√\",O4232=\"√\",P4232=\"√\",Q4232=\"√\"),\"√\",\"Error\"))","v":"Error"},null,null,null,null,null,null,null,null,null,null,null,null,null,null,null,null,null,null,null,null,null,null,null,null,null,null,null,null,null,{"$f":"+IF(OR(B4232=\"\",B4232=\"Lecciones de TIE asignadas -√-\"),1,0)","v":1},null,0]
[null,null,null,null,null,null,null,null,"Plan de Estudios",null,"Control:",{"$f":"+IF(C4208=\"\",\"\",VLOOKUP($A4207,'hoja de cálculo'!$A$17:$BD$321,51,0))","v":""},{"$f":"+IF(C4208=\"\",\"\",VLOOKUP($A4207,'hoja de cálculo'!$A$17:$BD$321,52,0))","v":""},{"$f":"+IF(C4208=\"\",\"\",VLOOKUP($A4207,'hoja de cálculo'!$A$17:$BD$321,53,0))","v":""},{"$f":"+IF(C4208=\"\",\"\",VLOOKUP($A4207,'hoja de cálculo'!$A$17:$BD$321,54,0))","v":""},{"$f":"+IF(C4208=\"\",\"\",VLOOKUP($A4207,'hoja de cálculo'!$A$17:$BD$321,55,0))","v":""},{"$f":"+IF(C4208=\"\",\"\",VLOOKUP($A4207,'hoja de cálculo'!$A$17:$BD$321,56,0))","v":""},null,null,null,null,null,null,null,null,null,null,null,null,null,null,null,null,null,null,null,null,null,null,null,null,null,null,null,{"$f":"+IF(AB4233<0,-AB4233,0)","v":0},null,null,null,null,0]
[null,null,null,"Observaciones:",{"$f":"+IF(OR(C4208=\"Lecciones Labor@ Diurnas\",C4208=\"Lecciones Labor@ Nocturno\"),\"Recuerde generar el informe de labores de lecciones Labor@\",\"\")","v":""},null,null,null,null,null,null,null,null,null,null,null,null,null,null,null,null,null,null,null,null,null,null,null,null,null,null,null,null,null,null,null,null,null,null,null,null,null,null,null,null,null,null,null,null,0]
[null,null,null,null,null,null,null,null,null,null,null,null,null,null,null,null,null,null,null,null,null,null,null,null,null,null,null,null,null,null,null,null,null,null,null,null,null,null,null,null,null,null,null,null,null,null,null,null,null,0]
[null,null,null,null,null,null,null,null,null,null,null,null,null,null,null,null,null,null,null,null,null,null,null,null,null,null,null,null,null,null,null,null,null,null,null,null,null,null,null,null,null,null,null,null,null,null,null,null,null,0]
[null,null,null,null,null,null,null,null,null,null,null,null,null,null,null,null,null,null,null,null,null,null,null,null,null,null,null,null,null,null,null,null,null,null,null,null,null,null,null,null,null,null,null,null,null,null,null,null,null,0]
[null,null,null,null,null,null,null,null,null,null,null,null,null,null,null,null,null,null,null,null,null,null,null,null,null,null,"Hoja de Cálculo",null,null,null,null,null,null,null,null,null,null,null,null,null,null,null,null,null,null,null,null,null,null,0]
[null,null,null,null,null,null,null,null,null,null,null,null,null,null,null,null,null,null,null,null,null,null,null,null,null,null,null,null,null,null,null,null,null,null,null,null,null,null,null,null,null,null,null,null,null,null,null,null,null,0]
[null,null,{"$f":"+\"Declaración Jurada: El suscrito Director \"&$D$4245&\" del \"&$E$12&\", código \"&Información!$E$11&\", hace constar que los datos consignados en éste formulario son veraces y responden al estado real de ésta institución.\"&\" Cualquier inexactitud o falsedad estaré incurriendo en las responsabilidades administrativas y disciplinarias, sin perjuicio de las acciones civiles.\"","v":"Declaración Jurada: El suscrito Director  del , código , hace constar que los datos consignados en éste formulario son veraces y responden al estado real de ésta institución. Cualquier inexactitud o falsedad estaré incurriendo en las responsabilidades administrativas y disciplinarias, sin perjuicio de las acciones civiles."},null,null,null,null,null,null,null,null,null,null,null,null,null,null,null,null,null,null,null,null,null,null,null,null,null,null,null,null,null,null,null,null,null,null,null,null,null,null,null,null,null,null,null,null,null,null,0]
[null,null,null,null,null,null,null,null,null,null,null,null,null,null,null,null,null,null,null,null,null,null,null,null,null,null,null,null,null,null,null,null,null,null,null,null,null,null,null,null,null,null,null,null,null,null,null,null,null,0]
[null,null,null,null,null,null,null,null,null,null,null,null,null,null,null,null,null,null,null,null,null,null,null,null,null,null,null,null,null,null,null,null,null,null,null,null,null,null,null,null,null,null,null,null,null,null,null,null,null,99]
[null,null,null,null,null,null,null,null,null,null,null,null,null,null,null,null,null,null,null,null,null,null,null,null,null,null,null,null,null,null,null,null,null,null,null,null,null,null,null,null,null,null,null,null,null,null,null,null,null,99]
[null,null,null,null,null,null,null,null,null,null,null,null,null,null,null,null,null,null,null,null,null,null,null,null,null,null,null,null,null,null,null,null,null,null,null,null,null,null,null,null,null,null,null,null,null,null,null,null,null,99]
[null,null,null,{"$f":"IF(Información!$C$28=\"\",\"\",Información!$C$28)","v":""},null,null,null,null,null,null,null,null,null,null,"Provincia:",null,null,{"$f":"+Información!$G$22","v":""},null,null,null,null,"Teléfonos:",null,{"$f":"+Información!$C$24","v":""},null,null,null,null,null,null,null,null,null,null,null,null,null,null,null,null,null,null,null,null,null,null,null,null,99]
[null,null,null,"Nombre del Director",null,null,null,"Firma",null,null,"Sello",null,null,null,"Cantón:",null,null,{"$f":"+Información!$G$23","v":""},null,null,null,null,null,null,{"$f":"+Información!$D$24","v":0},null,null,null,null,null,null,null,null,null,null,null,null,null,null,null,null,null,null,null,null,null,null,null,null,99]
[null,null,null,null,null,null,null,null,null,null,null,null,null,null,"Distrito:",null,null,{"$f":"+Información!$G$24","v":""},null,null,null,null,"Fax:",null,{"$f":"+Información!$C$25","v":""},null,null,null,null,null,null,null,null,null,null,null,null,null,null,null,null,null,null,null,null,null,null,null,null,99]
[null,null,null,null,null,null,null,null,null,null,null,null,null,null,"Poblado:",null,null,{"$f":"+Información!$G$25","v":""},null,null,null,null,null,null,{"$f":"+Información!$D$25","v":0},null,null,null,null,null,null,null,null,null,null,null,null,null,null,null,null,null,null,null,null,null,null,null,null,99]
[null,null,null,null,null,null,null,null,null,null,null,null,null,null,null,null,null,null,null,null,null,null,null,null,null,null,null,null,null,null,null,null,null,null,null,null,null,null,null,null,null,null,null,null,null,null,null,null,null,99]
[null,null,null,null,null,null,null,null,null,null,null,null,null,null,null,null,null,null,null,null,null,null,null,null,null,null,null,null,null,null,null,null,null,null,null,null,null,null,null,null,null,null,null,null,null,null,null,null,null,99]
[null,null,null,"Recibido por",null,null,null,"Fecha",null,null,"Sello",null,null,null,null,null,null,null,null,null,null,null,null,null,null,null,null,null,null,null,null,null,null,null,null,null,null,null,null,null,null,null,null,null,null,null,null,null,null,99]
[null,null,null,null,null,null,null,null,null,null,null,null,null,null,null,null,null,null,null,null,null,null,null,null,null,null,null,null,null,null,null,null,null,null,null,null,null,null,null,null,null,null,null,null,null,null,null,null,null,99]
[null,null,null,null,null,null,null,null,null,null,null,null,null,null,null,null,null,null,null,null,null,null,null,null,null,null,null,null,null,null,null,null,null,null,null,null,null,null,null,null,null,null,null,null,null,null,null,null,null,99]
[null,null,null,null,null,null,null,null,null,null,null,null,null,null,null,null,null,null,null,null,null,null,null,null,null,null,null,null,null,null,null,null,null,null,null,null,null,null,null,null,null,null,null,null,null,null,null,null,null,99]

{"sheet":"Bitacora","index":9,"n_rows":1056,"n_cols":6,"rows_kept":1056,"cut":false,"hidden":true,"merged":[]}
["Username","Userdomain","Date","Time","Computername"]
["Usuario","LAPTOP_LENOVO","2021-01-08","00:03:49","LAPTOP_LENOVO",1]
["Usuario","LAPTOP_LENOVO","2021-01-08","10:59:26","LAPTOP_LENOVO",{"$f":"+F2+1","v":2}]
["Jazmin","DESKTOP-DHOR584","2021-01-08","11:30:32","DESKTOP-DHOR584",3]
["Jazmin","DESKTOP-DHOR584","2021-01-08","12:27:46","DESKTOP-DHOR584",4]
["Jazmin","DESKTOP-DHOR584","2021-01-08","13:53:32","DESKTOP-DHOR584",5]
["jcalderonco","DOMINIOMEP","2021-01-11","12:22:02","L3-001115",6]
["jcalderonco","DOMINIOMEP","2021-01-11","13:38:00","L3-001115",7]
["Usuario","LAPTOP_LENOVO","2021-01-11","17:12:53","LAPTOP_LENOVO",8]
["Usuario","LAPTOP_LENOVO","2021-01-11","17:15:46","LAPTOP_LENOVO",9]
["Jazmin","DESKTOP-DHOR584","2021-01-13","12:02:12","DESKTOP-DHOR584",10]
["Jazmin","DESKTOP-DHOR584","2021-01-14","08:43:02","DESKTOP-DHOR584",11]
["Jazmin","DESKTOP-DHOR584","2021-01-14","10:32:51","DESKTOP-DHOR584",12]
["Jazmin","DESKTOP-DHOR584","2021-01-15","11:20:47","DESKTOP-DHOR584",13]
["Jazmin","DESKTOP-DHOR584","2021-01-15","11:26:10","DESKTOP-DHOR584",14]
["Jazmin","DESKTOP-DHOR584","2021-01-15","11:27:01","DESKTOP-DHOR584",15]
["Jazmin","DESKTOP-DHOR584","2021-01-19","10:54:26","DESKTOP-DHOR584",16]
["jcalderonco","DOMINIOMEP","2021-01-21","09:31:55","L3-001115",17]
["jcalderonco","DOMINIOMEP","2021-01-21","09:33:27","L3-001115",18]
["jcalderonco","DOMINIOMEP","2021-01-21","13:15:16","L3-001115",19]
["jcalderonco","DOMINIOMEP","2021-01-21","13:15:48","L3-001115",20]
["jcalderonco","DOMINIOMEP","2021-01-25","08:19:43","L3-001115",21]
["Usuario","LAPTOP_LENOVO","2021-01-28","10:31:27","LAPTOP_LENOVO",22]
["jcalderonco","DOMINIOMEP","2021-01-28","10:46:23","L3-001115",23]
["jcalderonco","DOMINIOMEP","2021-01-28","10:48:28","L3-001115",24]
["jcalderonco","DOMINIOMEP","2021-01-28","10:57:52","L3-001115",25]
["Jazmin","DESKTOP-DHOR584","2022-01-04","10:27:33","DESKTOP-DHOR584",26]
["Jazmin","DESKTOP-DHOR584","2022-01-04","10:31:00","DESKTOP-DHOR584",27]
["Jazmin","DESKTOP-DHOR584","2022-01-11","14:21:14","DESKTOP-DHOR584",28]
["Jazmin","DESKTOP-DHOR584","2022-01-14","10:37:28","DESKTOP-DHOR584",29]
["Jazmin","DESKTOP-DHOR584","2022-01-14","10:51:31","DESKTOP-DHOR584",30]
["Jazmin","DESKTOP-DHOR584","2022-01-14","10:54:48","DESKTOP-DHOR584",31]
["Jazmin","DESKTOP-DHOR584","2022-01-14","11:00:25","DESKTOP-DHOR584",32]
["jcalderonco","DOMINIOMEP","2022-01-24","08:10:33","L3-001115",33]
["jcalderonco","DOMINIOMEP","2022-01-24","08:28:26","L3-001115",34]
["jcalderonco","DOMINIOMEP","2022-01-24","08:35:27","L3-001115",35]
["jcalderonco","DOMINIOMEP","2022-01-24","08:38:54","L3-001115",36]
["jcalderonco","DOMINIOMEP","2022-01-24","09:41:36","L3-001115",37]
["jcalderonco","DOMINIOMEP","2022-01-24","09:44:28","L3-001115",38]
["jcalderonco","DOMINIOMEP","2022-01-24","09:57:44","L3-001115",39]
["jcalderonco","DOMINIOMEP","2022-01-24","10:01:18","L3-001115",40]
["jcalderonco","DOMINIOMEP","2022-01-24","10:21:46","L3-001115",41]
["jcalderonco","DOMINIOMEP","2022-01-24","11:17:00","L3-001115",42]
["jcalderonco","DOMINIOMEP","2022-01-24","11:44:36","L3-001115",43]
["jcalderonco","DOMINIOMEP","2022-01-24","12:15:54","L3-001115",44]
["jcalderonco","DOMINIOMEP","2022-01-24","12:16:35","L3-001115",45]
["Jazmin","DESKTOP-DHOR584","2022-01-25","09:27:04","DESKTOP-DHOR584",46]
["Jazmin","DESKTOP-DHOR584","2022-01-25","10:11:41","DESKTOP-DHOR584",47]
["Jazmin","DESKTOP-DHOR584","2022-01-25","10:39:27","DESKTOP-DHOR584",48]
["Jazmin","DESKTOP-DHOR584","2022-01-25","10:55:34","DESKTOP-DHOR584",49]
["Jazmin","DESKTOP-DHOR584","2022-01-25","12:06:04","DESKTOP-DHOR584",50]
["Jazmin","DESKTOP-DHOR584","2022-01-25","12:25:22","DESKTOP-DHOR584",51]
["Jazmin","DESKTOP-DHOR584","2022-01-25","12:45:16","DESKTOP-DHOR584",52]
["Jazmin","DESKTOP-DHOR584","2022-01-25","14:18:49","DESKTOP-DHOR584",53]
["Jazmin","DESKTOP-DHOR584","2022-01-25","15:08:56","DESKTOP-DHOR584",54]
["Jazmin","DESKTOP-DHOR584","2022-01-26","10:23:26","DESKTOP-DHOR584",55]
["Jazmin","DESKTOP-DHOR584","2022-01-26","10:31:31","DESKTOP-DHOR584",56]
["Jazmin","DESKTOP-DHOR584","2022-01-26","10:49:21","DESKTOP-DHOR584",57]
["Jazmin","DESKTOP-DHOR584","2022-01-26","11:08:08","DESKTOP-DHOR584",58]
["Jazmin","DESKTOP-DHOR584","2022-01-26","11:22:26","DESKTOP-DHOR584",59]
["Jazmin","DESKTOP-DHOR584","2022-01-26","11:34:56","DESKTOP-DHOR584",60]
["Jazmin","DESKTOP-DHOR584","2022-01-26","11:42:11","DESKTOP-DHOR584",61]
["Jazmin","DESKTOP-DHOR584","2022-01-26","13:28:51","DESKTOP-DHOR584",62]
["Jazmin","DESKTOP-DHOR584","2022-01-26","13:30:36","DESKTOP-DHOR584",63]
["Jazmin","DESKTOP-DHOR584","2022-01-26","13:44:56","DESKTOP-DHOR584",64]
["Jazmin","DESKTOP-DHOR584","2022-01-26","13:58:13","DESKTOP-DHOR584",65]
["Jazmin","DESKTOP-DHOR584","2022-01-26","14:35:59","DESKTOP-DHOR584",66]
["Jazmin","DESKTOP-DHOR584","2022-01-26","14:54:43","DESKTOP-DHOR584",{"$f":"+F67+1","v":67}]
["Jazmin","DESKTOP-DHOR584","2022-01-26","15:24:17","DESKTOP-DHOR584",68]
["Jazmin","DESKTOP-DHOR584","2022-01-26","15:34:04","DESKTOP-DHOR584",69]
["Jazmin","DESKTOP-DHOR584","2022-01-27","07:03:14","DESKTOP-DHOR584",70]
["Jazmin","DESKTOP-DHOR584","2022-01-27","07:06:38","DESKTOP-DHOR584",71]
["Jazmin","DESKTOP-DHOR584","2022-01-27","10:27:24","DESKTOP-DHOR584",72]
["Jazmin","DESKTOP-DHOR584","2022-01-27","13:47:01","DESKTOP-DHOR584",73]
["Jazmin","DESKTOP-DHOR584","2022-01-27","14:19:28","DESKTOP-DHOR584",74]
["Jazmin","DESKTOP-DHOR584","2022-01-27","14:34:38","DESKTOP-DHOR584",75]
["Jazmin","DESKTOP-DHOR584","2022-01-27","14:37:06","DESKTOP-DHOR584",76]
["Jazmin","DESKTOP-DHOR584","2022-01-28","09:06:11","DESKTOP-DHOR584",77]
["Jazmin","DESKTOP-DHOR584","2022-02-01","13:32:45","DESKTOP-DHOR584",78]
["Jazmin","DESKTOP-DHOR584","2022-02-03","14:36:30","DESKTOP-DHOR584",79]
["Jazmin","DESKTOP-DHOR584","2022-02-11","07:54:26","DESKTOP-DHOR584",80]
["Jazmin","DESKTOP-DHOR584","2022-02-11","07:54:55","DESKTOP-DHOR584",81]
["Jazmin","DESKTOP-DHOR584","2022-02-15","07:11:11","DESKTOP-DHOR584",82]
["Jazmin","DESKTOP-DHOR584","2022-02-15","11:23:57","DESKTOP-DHOR584",83]
["Jazmin","DESKTOP-DHOR584","2022-02-15","11:39:08","DESKTOP-DHOR584",84]
["Jazmin","DESKTOP-DHOR584","2022-02-16","11:03:36","DESKTOP-DHOR584",85]
["Usuario","LAPTOP_LENOVO","2022-02-21","22:35:03","LAPTOP_LENOVO",86]
["Usuario","LAPTOP_LENOVO","2022-02-21","22:42:22","LAPTOP_LENOVO",87]
["Usuario","LAPTOP_LENOVO","2022-02-21","22:42:30","LAPTOP_LENOVO",88]
["Usuario","LAPTOP_LENOVO","2022-02-21","22:45:16","LAPTOP_LENOVO",89]
["Usuario","LAPTOP_LENOVO","2022-02-21","22:54:36","LAPTOP_LENOVO",90]
["Usuario","LAPTOP_LENOVO","2022-02-21","23:14:50","LAPTOP_LENOVO",91]
["Usuario","LAPTOP_LENOVO","2022-02-21","23:34:03","LAPTOP_LENOVO",92]
["Usuario","LAPTOP_LENOVO","2022-02-21","23:35:50","LAPTOP_LENOVO",93]
["Usuario","LAPTOP_LENOVO","2022-02-22","20:57:04","LAPTOP_LENOVO",94]
["Usuario","LAPTOP_LENOVO","2022-02-22","21:03:18","LAPTOP_LENOVO",95]
["Dennis Moya","pc","2022-02-23","10:17:29","PC",96]
["Dennis Moya","pc","2022-02-23","10:42:12","PC",97]
["Dennis Moya","pc","2022-02-23","10:42:28","PC",98]
["Dennis Moya","pc","2022-02-23","10:42:39","PC",99]
["Dennis Moya","pc","2022-02-23","10:42:46","PC",100]
["Dennis Moya","pc","2022-02-23","10:43:48","PC",101]
["Dennis Moya","pc","2022-02-23","17:31:53","PC",102]
["Dennis Moya","pc","2022-02-23","17:35:46","PC",103]
["jmejias","DOMINIOMEP","2022-02-24","07:38:38","L2-000083",104]
["dmoya","DOMINIOMEP","2022-02-24","08:42:51","L4-000136D",105]
["dmoya","DOMINIOMEP","2022-02-24","08:43:24","L4-000136D",106]
["tfloresm","DOMINIOMEP","2022-02-24","12:27:19","EMB-SESHOST-07",107]
["Dennis Moya","pc","2022-02-28","12:12:43","PC",108]
["Dennis Moya","pc","2022-02-28","12:13:50","PC",109]
["Dennis Moya","pc","2022-02-28","12:14:00","PC",110]
["Dennis Moya","pc","2022-02-28","12:14:33","PC",111]
["Dennis Moya","pc","2022-02-28","12:15:49","PC",112]
["Dennis Moya","pc","2022-02-28","12:44:42","PC",113]
["Dennis Moya","pc","2022-02-28","20:10:32","PC",114]
["Dennis Moya","pc","2022-02-28","20:12:05","PC",115]
["dmoya","DOMINIOMEP","2022-03-14","07:28:32","EMB-SESHOST-06",116]
["Jazmin","DESKTOP-DHOR584","2022-11-30","10:12:02","DESKTOP-DHOR584",117]
["Jazmin","DESKTOP-DHOR584","2022-11-30","10:53:42","DESKTOP-DHOR584",118]
["Jazmin","DESKTOP-DHOR584","2022-11-30","11:24:19","DESKTOP-DHOR584",119]
["Jazmin","DESKTOP-DHOR584","2022-11-30","11:34:01","DESKTOP-DHOR584",120]
["dmoya","DOMINIOMEP","2022-11-30","14:20:17","L4-000136D",121]
["HOME","DESKTOP-JM7F3UR","2022-12-01","10:45:54","DESKTOP-JM7F3UR",122]
["HOME","DESKTOP-JM7F3UR","2022-12-01","10:53:35","DESKTOP-JM7F3UR",123]
["dmoya","DOMINIOMEP","2022-12-02","09:45:31","L4-000136D",124]
["dmoya","DOMINIOMEP","2022-12-02","09:57:00","L4-000136D",125]
["dmoya","DOMINIOMEP","2022-12-02","09:58:24","L4-000136D",126]
["dmoya","DOMINIOMEP","2022-12-02","10:07:51","L4-000136D",127]
["dmoya","DOMINIOMEP","2022-12-02","10:16:13","L4-000136D",128]
["dmoya","DOMINIOMEP","2022-12-02","10:35:37","L4-000136D",129]
["dmoya","DOMINIOMEP","2022-12-02","10:42:36","L4-000136D",130]
["dmoya","DOMINIOMEP","2022-12-02","11:04:01","L4-000136D",{"$f":"+F131+1","v":131}]
["dmoya","DOMINIOMEP","2022-12-02","11:08:06","L4-000136D",132]
["HOME","DESKTOP-JM7F3UR","2023-01-13","11:03:44","DESKTOP-JM7F3UR",133]
["HOME","DESKTOP-JM7F3UR","2023-01-13","11:42:49","DESKTOP-JM7F3UR",134]
["HOME","DESKTOP-JM7F3UR","2023-01-13","11:52:44","DESKTOP-JM7F3UR",135]
["HOME","DESKTOP-JM7F3UR","2023-01-13","13:02:43","DESKTOP-JM7F3UR",136]
["HOME","DESKTOP-JM7F3UR","2023-01-13","13:27:16","DESKTOP-JM7F3UR",137]
["HOME","DESKTOP-JM7F3UR","2023-01-13","14:13:22","DESKTOP-JM7F3UR",138]
["HOME","DESKTOP-JM7F3UR","2023-01-13","14:18:05","DESKTOP-JM7F3UR",139]
["HOME","DESKTOP-JM7F3UR","2023-01-13","14:24:23","DESKTOP-JM7F3UR",140]
["HOME","DESKTOP-JM7F3UR","2023-01-13","14:24:24","DESKTOP-JM7F3UR",141]
["dmoya","DOMINIOMEP","2023-01-17","07:17:28","EMB-SESHOST-09",142]
["dmoya","DOMINIOMEP","2023-01-17","07:44:06","EMB-SESHOST-09",143]
["dmoya","DOMINIOMEP","2023-01-17","07:44:20","EMB-SESHOST-09",144]
["dmoya","DOMINIOMEP","2023-01-17","09:05:02","EMB-SESHOST-09",145]
["dmoya","DOMINIOMEP","2023-01-20","08:23:54","L4-000136",146]
["dmoya","DOMINIOMEP","2023-01-20","08:27:36","L4-000136",147]
["dmoya","DOMINIOMEP","2023-01-20","11:41:21","L4-000136",148]
["dmoya","DOMINIOMEP","2023-01-20","11:41:43","L4-000136",149]
["dmoya","DOMINIOMEP","2023-01-24","14:28:11","EMB-SESHOST-07",150]
["dmoya","DOMINIOMEP","2023-01-24","14:54:07","EMB-SESHOST-07",151]
["dmoya","DOMINIOMEP","2023-01-26","13:12:57","L4-000136",152]
["dmoya","DOMINIOMEP","2023-01-26","13:14:01","L4-000136",153]
["dmoya","DOMINIOMEP","2023-02-10","06:32:29","EMB-SESHOST-07",154]
["dmoya","DOMINIOMEP","2023-02-10","06:32:50","EMB-SESHOST-07",155]
["dmoya","DOMINIOMEP","2023-02-13","07:13:08","L4-000136",156]
["dmoya","DOMINIOMEP","2023-10-06","10:12:33","AL2-000689",157]
["dmoya","DOMINIOMEP","2023-10-06","10:17:09","AL2-000689",158]
["dmoya","DOMINIOMEP","2023-10-06","10:18:09","AL2-000689",159]
["dmoya","DOMINIOMEP","2023-10-06","10:18:31","AL2-000689",160]
["dmoya","DOMINIOMEP","2023-10-06","10:18:41","AL2-000689",161]
["dmoya","DOMINIOMEP","2023-10-06","10:18:49","AL2-000689",162]
["dmoya","DOMINIOMEP","2023-10-06","10:19:20","AL2-000689",163]
["dmoya","DOMINIOMEP","2023-10-06","10:19:30","AL2-000689",164]
["dmoya","DOMINIOMEP","2023-10-06","10:19:41","AL2-000689",165]
["dmoya","DOMINIOMEP","2023-10-06","10:19:52","AL2-000689",166]
["dmoya","DOMINIOMEP","2023-10-06","10:20:15","AL2-000689",167]
["dmoya","DOMINIOMEP","2023-10-06","10:31:53","AL2-000689",168]
["dmoya","DOMINIOMEP","2023-10-06","10:32:13","AL2-000689",169]
["dmoya","DOMINIOMEP","2023-10-06","10:32:26","AL2-000689",170]
["dmoya","DOMINIOMEP","2023-10-09","11:22:03","AL2-000689",171]
["dmoya","DOMINIOMEP","2023-10-09","11:22:15","AL2-000689",172]
["dmoya","DOMINIOMEP","2023-10-09","11:24:31","AL2-000689",173]
["dmoya","DOMINIOMEP","2023-10-09","11:37:51","AL2-000689",174]
["dmoya","DOMINIOMEP","2023-10-18","13:27:45","AL2-000689",175]
["dmoya","DOMINIOMEP","2023-10-18","13:27:57","AL2-000689",176]
["dmoya","DOMINIOMEP","2023-10-18","13:28:29","AL2-000689",177]
["dmoya","DOMINIOMEP","2023-10-18","13:28:34","AL2-000689",178]
["dmoya","DOMINIOMEP","2023-10-18","13:30:01","AL2-000689",179]
["dmoya","DOMINIOMEP","2023-10-18","13:41:11","AL2-000689",180]
["dmoya","DOMINIOMEP","2023-10-18","13:50:15","AL2-000689",181]
["dmoya","DOMINIOMEP","2023-10-21","08:26:45","AL2-000689",182]
["dmoya","DOMINIOMEP","2023-11-07","09:17:35","AL2-000689",183]
["dmoya","DOMINIOMEP","2023-11-07","09:18:31","AL2-000689",184]
["dmoya","DOMINIOMEP","2023-11-07","09:18:57","AL2-000689",185]
["dmoya","DOMINIOMEP","2023-11-15","14:03:00","AL2-000689",186]
["dmoya","DOMINIOMEP","2023-11-15","14:03:46","AL2-000689",187]
["dmoya","DOMINIOMEP","2023-11-16","09:14:27","AL2-000689",188]
["dmoya","DOMINIOMEP","2023-11-16","09:14:42","AL2-000689",189]
["dmoya","DOMINIOMEP","2023-11-23","09:20:07","AL2-000689",190]
["dmoya","DOMINIOMEP","2023-11-24","10:26:08","AL2-000689",191]
["dmoya","DOMINIOMEP","2023-11-24","14:01:45","AL2-000689",192]
["dmoya","DOMINIOMEP","2023-11-24","14:02:17","AL2-000689",193]
["dmoya","DOMINIOMEP","2023-11-24","14:07:40","AL2-000689",194]
["dmoya","DOMINIOMEP","2023-11-27","07:00:34","AL2-000689",{"$f":"+F195+1","v":195}]
["dmoya","DOMINIOMEP","2023-11-27","07:13:51","AL2-000689",196]
["dmoya","DOMINIOMEP","2023-11-27","07:14:32","AL2-000689",197]
["dmoya","DOMINIOMEP","2023-11-27","07:15:27","AL2-000689",198]
["dmoya","DOMINIOMEP","2023-11-27","08:52:25","AL2-000689",199]
["dmoya","DOMINIOMEP","2023-11-27","09:04:20","AL2-000689",200]
["dmoya","DOMINIOMEP","2023-11-27","09:18:17","AL2-000689",201]
["dmoya","DOMINIOMEP","2023-11-27","09:47:54","AL2-000689",202]
["dmoya","DOMINIOMEP","2023-11-27","09:49:50","AL2-000689",203]
["dmoya","DOMINIOMEP","2023-11-27","09:51:31","AL2-000689",204]
["dmoya","DOMINIOMEP","2023-11-27","09:57:09","AL2-000689",205]
["dmoya","DOMINIOMEP","2023-11-27","10:39:22","AL2-000689",206]
["dmoya","DOMINIOMEP","2023-11-27","10:58:26","AL2-000689",207]
["dmoya","DOMINIOMEP","2023-11-27","13:38:19","AL2-000689",208]
["dmoya","DOMINIOMEP","2023-11-27","15:08:48","AL2-000689",209]
["dmoya","DOMINIOMEP","2023-11-28","08:39:18","AL2-000689",210]
["dmoya","DOMINIOMEP","2023-11-28","09:55:13","AL2-000689",211]
["dmoya","DOMINIOMEP","2023-11-28","09:55:15","AL2-000689",212]
["dmoya","DOMINIOMEP","2023-12-06","11:16:54","AL2-000689",213]
["dmoya","DOMINIOMEP","2023-12-06","13:28:22","AL2-000689",214]
["dmoya","DOMINIOMEP","2023-12-11","09:05:23","AL2-000689",215]
["dmoya","DOMINIOMEP","2023-12-12","11:12:56","AL2-000689",216]
["dmoya","DOMINIOMEP","2023-12-12","11:16:58","AL2-000689",217]
["dmoya","DOMINIOMEP","2023-12-13","11:46:03","AL2-000689",218]
["dmoya","DOMINIOMEP","2023-12-13","11:48:03","AL2-000689",219]
["dmoya","DOMINIOMEP","2023-12-13","12:13:37","AL2-000689",220]
["dmoya","DOMINIOMEP","2023-12-13","13:52:18","AL2-000689",221]
["dmoya","DOMINIOMEP","2023-12-18","11:10:16","AL2-000689",222]
["dmoya","DOMINIOMEP","2023-12-19","07:27:29","AL2-000689",223]
["dmoya","DOMINIOMEP","2023-12-19","07:30:26","AL2-000689",224]
["dmoya","DOMINIOMEP","2023-12-19","07:30:33","AL2-000689",225]
["dmoya","DOMINIOMEP","2023-12-19","09:07:59","AL2-000689",226]
["dmoya","DOMINIOMEP","2023-12-19","09:16:16","AL2-000689",227]
["dmoya","DOMINIOMEP","2023-12-19","09:17:38","AL2-000689",228]
["dmoya","DOMINIOMEP","2023-12-19","09:46:24","AL2-000689",229]
["dmoya","DOMINIOMEP","2024-01-09","07:59:17","AL2-000689",230]
["dmoya","DOMINIOMEP","2024-01-09","08:01:36","AL2-000689",231]
["dmoya","DOMINIOMEP","2024-01-10","09:23:28","AL2-000689",232]
["dmoya","DOMINIOMEP","2024-01-10","09:23:55","AL2-000689",233]
["dmoya","DOMINIOMEP","2024-01-10","11:10:31","AL2-000689",234]
["dmoya","DOMINIOMEP","2024-01-10","11:10:42","AL2-000689",235]
["dmoya","DOMINIOMEP","2024-01-10","11:48:33","AL2-000689",236]
["dmoya","DOMINIOMEP","2024-01-10","11:48:53","AL2-000689",237]
["dmoya","DOMINIOMEP","2024-01-11","09:05:05","AL2-000689",238]
["dmoya","DOMINIOMEP","2024-01-11","09:08:02","AL2-000689",239]
["dmoya","DOMINIOMEP","2024-01-11","09:08:06","AL2-000689",240]
["dmoya","DOMINIOMEP","2024-01-11","09:08:08","AL2-000689",241]
["dmoya","DOMINIOMEP","2024-01-11","09:18:57","AL2-000689",242]
["dmoya","DOMINIOMEP","2024-01-11","09:33:19","AL2-000689",243]
["dmoya","DOMINIOMEP","2024-01-11","10:49:23","AL2-000689",244]
["dmoya","DOMINIOMEP","2024-01-11","11:19:58","AL2-000689",245]
["dmoya","DOMINIOMEP","2024-01-15","06:56:54","AL2-000689",246]
["dmoya","DOMINIOMEP","2024-01-15","06:57:49","AL2-000689",247]
["dmoya","DOMINIOMEP","2024-01-15","07:07:20","AL2-000689",248]
["dmoya","DOMINIOMEP","2024-01-15","07:10:31","AL2-000689",249]
["dmoya","DOMINIOMEP","2024-01-15","07:15:53","AL2-000689",250]
["dmoya","DOMINIOMEP","2024-01-15","08:54:59","AL2-000689",251]
["dmoya","DOMINIOMEP","2024-01-15","09:04:36","AL2-000689",252]
["dmoya","DOMINIOMEP","2024-01-15","10:59:09","AL2-000689",253]
["dmoya","DOMINIOMEP","2024-01-15","11:26:30","AL2-000689",254]
["dmoya","DOMINIOMEP","2024-01-15","13:54:58","AL2-000689",255]
["dmoya","DOMINIOMEP","2024-01-17","07:10:09","AL2-000689",256]
["dmoya","DOMINIOMEP","2024-01-17","07:10:26","AL2-000689",257]
["dmoya","DOMINIOMEP","2024-01-17","07:10:38","AL2-000689",258]
["dmoya","DOMINIOMEP","2024-01-17","07:12:02","AL2-000689",{"$f":"+F259+1","v":259}]
["dmoya","DOMINIOMEP","2024-02-01","08:07:36","AL2-000689",260]
["dmoya","DOMINIOMEP","2024-02-01","08:28:02","AL2-000689",261]
["dmoya","DOMINIOMEP","2024-02-02","12:47:04","AL2-000689",262]
["dmoya","DOMINIOMEP","2024-02-05","09:39:09","AL2-000689",263]
["dmoya","DOMINIOMEP","2024-02-06","13:58:49","AL2-000689",264]
["dmoya","DOMINIOMEP","2024-02-07","11:22:33","AL2-000689",265]
["dmoya","DOMINIOMEP","2024-02-07","11:23:10","AL2-000689",266]
["dmoya","DOMINIOMEP","2024-02-08","11:28:10","AL2-000689",267]
["dmoya","DOMINIOMEP","2024-02-08","11:28:42","AL2-000689",268]
["dmoya","DOMINIOMEP","2024-02-12","10:55:53","AL2-000689",269]
["dmoya","DOMINIOMEP","2024-02-12","14:10:33","AL2-000689",270]
["dmoya","DOMINIOMEP","2024-02-13","12:07:36","AL2-000689",271]
["dmoya","DOMINIOMEP","2024-02-13","14:20:07","AL2-000689",272]
["dmoya","DOMINIOMEP","2024-02-14","06:19:32","AL2-000689",273]
["dmoya","DOMINIOMEP","2024-02-14","06:41:59","AL2-000689",274]
["dmoya","DOMINIOMEP","2024-02-14","06:43:16","AL2-000689",275]
["dmoya","DOMINIOMEP","2024-02-14","06:44:22","AL2-000689",276]
["dmoya","DOMINIOMEP","2024-02-20","07:46:30","AL2-000689",277]
["dmoya","DOMINIOMEP","2024-02-20","07:46:36","AL2-000689",278]
["dmoya","DOMINIOMEP","2024-03-06","07:05:38","AL2-000689",279]
["dmoya","DOMINIOMEP","2024-03-06","07:07:06","AL2-000689",280]
["shidalgo","DOMINIOMEP","2024-03-06","09:42:45","AL2-000664",281]
["shidalgo","DOMINIOMEP","2024-03-06","09:52:24","AL2-000664",282]
["shidalgo","DOMINIOMEP","2024-03-08","12:12:22","AL2-000664",283]
[null,null,null,null,null,284]
[null,null,null,null,null,285]
[null,null,null,null,null,286]
[null,null,null,null,null,287]
[null,null,null,null,null,288]
[null,null,null,null,null,289]
[null,null,null,null,null,290]
[null,null,null,null,null,291]
[null,null,null,null,null,292]
[null,null,null,null,null,293]
[null,null,null,null,null,294]
[null,null,null,null,null,295]
[null,null,null,null,null,296]
[null,null,null,null,null,297]
[null,null,null,null,null,298]
[null,null,null,null,null,299]
[null,null,null,null,null,300]
[null,null,null,null,null,301]
[null,null,null,null,null,302]
[null,null,null,null,null,303]
[null,null,null,null,null,304]
[null,null,null,null,null,305]
[null,null,null,null,null,306]
[null,null,null,null,null,307]
[null,null,null,null,null,308]
[null,null,null,null,null,309]
[null,null,null,null,null,310]
[null,null,null,null,null,311]
[null,null,null,null,null,312]
[null,null,null,null,null,313]
[null,null,null,null,null,314]
[null,null,null,null,null,315]
[null,null,null,null,null,316]
[null,null,null,null,null,317]
[null,null,null,null,null,318]
[null,null,null,null,null,319]
[null,null,null,null,null,320]
[null,null,null,null,null,321]
[null,null,null,null,null,322]
[null,null,null,null,null,{"$f":"+F323+1","v":323}]
[null,null,null,null,null,324]
[null,null,null,null,null,325]
[null,null,null,null,null,326]
[null,null,null,null,null,327]
[null,null,null,null,null,328]
[null,null,null,null,null,329]
[null,null,null,null,null,330]
[null,null,null,null,null,331]
[null,null,null,null,null,332]
[null,null,null,null,null,333]
[null,null,null,null,null,334]
[null,null,null,null,null,335]
[null,null,null,null,null,336]
[null,null,null,null,null,337]
[null,null,null,null,null,338]
[null,null,null,null,null,339]
[null,null,null,null,null,340]
[null,null,null,null,null,341]
[null,null,null,null,null,342]
[null,null,null,null,null,343]
[null,null,null,null,null,344]
[null,null,null,null,null,345]
[null,null,null,null,null,346]
[null,null,null,null,null,347]
[null,null,null,null,null,348]
[null,null,null,null,null,349]
[null,null,null,null,null,350]
[null,null,null,null,null,351]
[null,null,null,null,null,352]
[null,null,null,null,null,353]
[null,null,null,null,null,354]
[null,null,null,null,null,355]
[null,null,null,null,null,356]
[null,null,null,null,null,357]
[null,null,null,null,null,358]
[null,null,null,null,null,359]
[null,null,null,null,null,360]
[null,null,null,null,null,361]
[null,null,null,null,null,362]
[null,null,null,null,null,363]
[null,null,null,null,null,364]
[null,null,null,null,null,365]
[null,null,null,null,null,366]
[null,null,null,null,null,367]
[null,null,null,null,null,368]
[null,null,null,null,null,369]
[null,null,null,null,null,370]
[null,null,null,null,null,371]
[null,null,null,null,null,372]
[null,null,null,null,null,373]
[null,null,null,null,null,374]
[null,null,null,null,null,375]
[null,null,null,null,null,376]
[null,null,null,null,null,377]
[null,null,null,null,null,378]
[null,null,null,null,null,379]
[null,null,null,null,null,380]
[null,null,null,null,null,381]
[null,null,null,null,null,382]
[null,null,null,null,null,383]
[null,null,null,null,null,384]
[null,null,null,null,null,385]
[null,null,null,null,null,386]
[null,null,null,null,null,{"$f":"+F387+1","v":387}]
[null,null,null,null,null,388]
[null,null,null,null,null,389]
[null,null,null,null,null,390]
[null,null,null,null,null,391]
[null,null,null,null,null,392]
[null,null,null,null,null,393]
[null,null,null,null,null,394]
[null,null,null,null,null,395]
[null,null,null,null,null,396]
[null,null,null,null,null,397]
[null,null,null,null,null,398]
[null,null,null,null,null,399]
[null,null,null,null,null,400]
[null,null,null,null,null,401]
[null,null,null,null,null,402]
[null,null,null,null,null,403]
[null,null,null,null,null,404]
[null,null,null,null,null,405]
[null,null,null,null,null,406]
[null,null,null,null,null,407]
[null,null,null,null,null,408]
[null,null,null,null,null,409]
[null,null,null,null,null,410]
[null,null,null,null,null,411]
[null,null,null,null,null,412]
[null,null,null,null,null,413]
[null,null,null,null,null,414]
[null,null,null,null,null,415]
[null,null,null,null,null,416]
[null,null,null,null,null,417]
[null,null,null,null,null,418]
[null,null,null,null,null,419]
[null,null,null,null,null,420]
[null,null,null,null,null,421]
[null,null,null,null,null,422]
[null,null,null,null,null,423]
[null,null,null,null,null,424]
[null,null,null,null,null,425]
[null,null,null,null,null,426]
[null,null,null,null,null,427]
[null,null,null,null,null,428]
[null,null,null,null,null,429]
[null,null,null,null,null,430]
[null,null,null,null,null,431]
[null,null,null,null,null,432]
[null,null,null,null,null,433]
[null,null,null,null,null,434]
[null,null,null,null,null,435]
[null,null,null,null,null,436]
[null,null,null,null,null,437]
[null,null,null,null,null,438]
[null,null,null,null,null,439]
[null,null,null,null,null,440]
[null,null,null,null,null,441]
[null,null,null,null,null,442]
[null,null,null,null,null,443]
[null,null,null,null,null,444]
[null,null,null,null,null,445]
[null,null,null,null,null,446]
[null,null,null,null,null,447]
[null,null,null,null,null,448]
[null,null,null,null,null,449]
[null,null,null,null,null,450]
[null,null,null,null,null,{"$f":"+F451+1","v":451}]
[null,null,null,null,null,452]
[null,null,null,null,null,453]
[null,null,null,null,null,454]
[null,null,null,null,null,455]
[null,null,null,null,null,456]
[null,null,null,null,null,457]
[null,null,null,null,null,458]
[null,null,null,null,null,459]
[null,null,null,null,null,460]
[null,null,null,null,null,461]
[null,null,null,null,null,462]
[null,null,null,null,null,463]
[null,null,null,null,null,464]
[null,null,null,null,null,465]
[null,null,null,null,null,466]
[null,null,null,null,null,467]
[null,null,null,null,null,468]
[null,null,null,null,null,469]
[null,null,null,null,null,470]
[null,null,null,null,null,471]
[null,null,null,null,null,472]
[null,null,null,null,null,473]
[null,null,null,null,null,474]
[null,null,null,null,null,475]
[null,null,null,null,null,476]
[null,null,null,null,null,477]
[null,null,null,null,null,478]
[null,null,null,null,null,479]
[null,null,null,null,null,480]
[null,null,null,null,null,481]
[null,null,null,null,null,482]
[null,null,null,null,null,483]
[null,null,null,null,null,484]
[null,null,null,null,null,485]
[null,null,null,null,null,486]
[null,null,null,null,null,487]
[null,null,null,null,null,488]
[null,null,null,null,null,489]
[null,null,null,null,null,490]
[null,null,null,null,null,491]
[null,null,null,null,null,492]
[null,null,null,null,null,493]
[null,null,null,null,null,494]
[null,null,null,null,null,495]
[null,null,null,null,null,496]
[null,null,null,null,null,497]
[null,null,null,null,null,498]
[null,null,null,null,null,499]
[null,null,null,null,null,500]
[null,null,null,null,null,501]
[null,null,null,null,null,502]
[null,null,null,null,null,503]
[null,null,null,null,null,504]
[null,null,null,null,null,505]
[null,null,null,null,null,506]
[null,null,null,null,null,507]
[null,null,null,null,null,508]
[null,null,null,null,null,509]
[null,null,null,null,null,510]
[null,null,null,null,null,511]
[null,null,null,null,null,512]
[null,null,null,null,null,513]
[null,null,null,null,null,514]
[null,null,null,null,null,{"$f":"+F515+1","v":515}]
[null,null,null,null,null,516]
[null,null,null,null,null,517]
[null,null,null,null,null,518]
[null,null,null,null,null,519]
[null,null,null,null,null,520]
[null,null,null,null,null,521]
[null,null,null,null,null,522]
[null,null,null,null,null,523]
[null,null,null,null,null,524]
[null,null,null,null,null,525]
[null,null,null,null,null,526]
[null,null,null,null,null,527]
[null,null,null,null,null,528]
[null,null,null,null,null,529]
[null,null,null,null,null,530]
[null,null,null,null,null,531]
[null,null,null,null,null,532]
[null,null,null,null,null,533]
[null,null,null,null,null,534]
[null,null,null,null,null,535]
[null,null,null,null,null,536]
[null,null,null,null,null,537]
[null,null,null,null,null,538]
[null,null,null,null,null,539]
[null,null,null,null,null,540]
[null,null,null,null,null,541]
[null,null,null,null,null,542]
[null,null,null,null,null,543]
[null,null,null,null,null,544]
[null,null,null,null,null,545]
[null,null,null,null,null,546]
[null,null,null,null,null,547]
[null,null,null,null,null,548]
[null,null,null,null,null,549]
[null,null,null,null,null,550]
[null,null,null,null,null,551]
[null,null,null,null,null,552]
[null,null,null,null,null,553]
[null,null,null,null,null,554]
[null,null,null,null,null,555]
[null,null,null,null,null,556]
[null,null,null,null,null,557]
[null,null,null,null,null,558]
[null,null,null,null,null,559]
[null,null,null,null,null,560]
[null,null,null,null,null,561]
[null,null,null,null,null,562]
[null,null,null,null,null,563]
[null,null,null,null,null,564]
[null,null,null,null,null,565]
[null,null,null,null,null,566]
[null,null,null,null,null,567]
[null,null,null,null,null,568]
[null,null,null,null,null,569]
[null,null,null,null,null,570]
[null,null,null,null,null,571]
[null,null,null,null,null,572]
[null,null,null,null,null,573]
[null,null,null,null,null,574]
[null,null,null,null,null,575]
[null,null,null,null,null,576]
[null,null,null,null,null,577]
[null,null,null,null,null,578]
[null,null,null,null,null,{"$f":"+F579+1","v":579}]
[null,null,null,null,null,580]
[null,null,null,null,null,581]
[null,null,null,null,null,582]
[null,null,null,null,null,583]
[null,null,null,null,null,584]
[null,null,null,null,null,585]
[null,null,null,null,null,586]
[null,null,null,null,null,587]
[null,null,null,null,null,588]
[null,null,null,null,null,589]
[null,null,null,null,null,590]
[null,null,null,null,null,591]
[null,null,null,null,null,592]
[null,null,null,null,null,593]
[null,null,null,null,null,594]
[null,null,null,null,null,595]
[null,null,null,null,null,596]
[null,null,null,null,null,597]
[null,null,null,null,null,598]
[null,null,null,null,null,599]
[null,null,null,null,null,600]
[null,null,null,null,null,601]
[null,null,null,null,null,602]
[null,null,null,null,null,603]
[null,null,null,null,null,604]
[null,null,null,null,null,605]
[null,null,null,null,null,606]
[null,null,null,null,null,607]
[null,null,null,null,null,608]
[null,null,null,null,null,609]
[null,null,null,null,null,610]
[null,null,null,null,null,611]
[null,null,null,null,null,612]
[null,null,null,null,null,613]
[null,null,null,null,null,614]
[null,null,null,null,null,615]
[null,null,null,null,null,616]
[null,null,null,null,null,617]
[null,null,null,null,null,618]
[null,null,null,null,null,619]
[null,null,null,null,null,620]
[null,null,null,null,null,621]
[null,null,null,null,null,622]
[null,null,null,null,null,623]
[null,null,null,null,null,624]
[null,null,null,null,null,625]
[null,null,null,null,null,626]
[null,null,null,null,null,627]
[null,null,null,null,null,628]
[null,null,null,null,null,629]
[null,null,null,null,null,630]
[null,null,null,null,null,631]
[null,null,null,null,null,632]
[null,null,null,null,null,633]
[null,null,null,null,null,634]
[null,null,null,null,null,635]
[null,null,null,null,null,636]
[null,null,null,null,null,637]
[null,null,null,null,null,638]
[null,null,null,null,null,639]
[null,null,null,null,null,640]
[null,null,null,null,null,641]
[null,null,null,null,null,642]
[null,null,null,null,null,{"$f":"+F643+1","v":643}]
[null,null,null,null,null,644]
[null,null,null,null,null,645]
[null,null,null,null,null,646]
[null,null,null,null,null,647]
[null,null,null,null,null,648]
[null,null,null,null,null,649]
[null,null,null,null,null,650]
[null,null,null,null,null,651]
[null,null,null,null,null,652]
[null,null,null,null,null,653]
[null,null,null,null,null,654]
[null,null,null,null,null,655]
[null,null,null,null,null,656]
[null,null,null,null,null,657]
[null,null,null,null,null,658]
[null,null,null,null,null,659]
[null,null,null,null,null,660]
[null,null,null,null,null,661]
[null,null,null,null,null,662]
[null,null,null,null,null,663]
[null,null,null,null,null,664]
[null,null,null,null,null,665]
[null,null,null,null,null,666]
[null,null,null,null,null,667]
[null,null,null,null,null,668]
[null,null,null,null,null,669]
[null,null,null,null,null,670]
[null,null,null,null,null,671]
[null,null,null,null,null,672]
[null,null,null,null,null,673]
[null,null,null,null,null,674]
[null,null,null,null,null,675]
[null,null,null,null,null,676]
[null,null,null,null,null,677]
[null,null,null,null,null,678]
[null,null,null,null,null,679]
[null,null,null,null,null,680]
[null,null,null,null,null,681]
[null,null,null,null,null,682]
[null,null,null,null,null,683]
[null,null,null,null,null,684]
[null,null,null,null,null,685]
[null,null,null,null,null,686]
[null,null,null,null,null,687]
[null,null,null,null,null,688]
[null,null,null,null,null,689]
[null,null,null,null,null,690]
[null,null,null,null,null,691]
[null,null,null,null,null,692]
[null,null,null,null,null,693]
[null,null,null,null,null,694]
[null,null,null,null,null,695]
[null,null,null,null,null,696]
[null,null,null,null,null,697]
[null,null,null,null,null,698]
[null,null,null,null,null,699]
[null,null,null,null,null,700]
[null,null,null,null,null,701]
[null,null,null,null,null,702]
[null,null,null,null,null,703]
[null,null,null,null,null,704]
[null,null,null,null,null,705]
[null,null,null,null,null,706]
[null,null,null,null,null,{"$f":"+F707+1","v":707}]
[null,null,null,null,null,708]
[null,null,null,null,null,709]
[null,null,null,null,null,710]
[null,null,null,null,null,711]
[null,null,null,null,null,712]
[null,null,null,null,null,713]
[null,null,null,null,null,714]
[null,null,null,null,null,715]
[null,null,null,null,null,716]
[null,null,null,null,null,717]
[null,null,null,null,null,718]
[null,null,null,null,null,719]
[null,null,null,null,null,720]
[null,null,null,null,null,721]
[null,null,null,null,null,722]
[null,null,null,null,null,723]
[null,null,null,null,null,724]
[null,null,null,null,null,725]
[null,null,null,null,null,726]
[null,null,null,null,null,727]
[null,null,null,null,null,728]
[null,null,null,null,null,729]
[null,null,null,null,null,730]
[null,null,null,null,null,731]
[null,null,null,null,null,732]
[null,null,null,null,null,733]
[null,null,null,null,null,734]
[null,null,null,null,null,735]
[null,null,null,null,null,736]
[null,null,null,null,null,737]
[null,null,null,null,null,738]
[null,null,null,null,null,739]
[null,null,null,null,null,740]
[null,null,null,null,null,741]
[null,null,null,null,null,742]
[null,null,null,null,null,743]
[null,null,null,null,null,744]
[null,null,null,null,null,745]
[null,null,null,null,null,746]
[null,null,null,null,null,747]
[null,null,null,null,null,748]
[null,null,null,null,null,749]
[null,null,null,null,null,750]
[null,null,null,null,null,751]
[null,null,null,null,null,752]
[null,null,null,null,null,753]
[null,null,null,null,null,754]
[null,null,null,null,null,755]
[null,null,null,null,null,756]
[null,null,null,null,null,757]
[null,null,null,null,null,758]
[null,null,null,null,null,759]
[null,null,null,null,null,760]
[null,null,null,null,null,761]
[null,null,null,null,null,762]
[null,null,null,null,null,763]
[null,null,null,null,null,764]
[null,null,null,null,null,765]
[null,null,null,null,null,766]
[null,null,null,null,null,767]
[null,null,null,null,null,768]
[null,null,null,null,null,769]
[null,null,null,null,null,770]
[null,null,null,null,null,{"$f":"+F771+1","v":771}]
[null,null,null,null,null,772]
[null,null,null,null,null,773]
[null,null,null,null,null,774]
[null,null,null,null,null,775]
[null,null,null,null,null,776]
[null,null,null,null,null,777]
[null,null,null,null,null,778]
[null,null,null,null,null,779]
[null,null,null,null,null,780]
[null,null,null,null,null,781]
[null,null,null,null,null,782]
[null,null,null,null,null,783]
[null,null,null,null,null,784]
[null,null,null,null,null,785]
[null,null,null,null,null,786]
[null,null,null,null,null,787]
[null,null,null,null,null,788]
[null,null,null,null,null,789]
[null,null,null,null,null,790]
[null,null,null,null,null,791]
[null,null,null,null,null,792]
[null,null,null,null,null,793]
[null,null,null,null,null,794]
[null,null,null,null,null,795]
[null,null,null,null,null,796]
[null,null,null,null,null,797]
[null,null,null,null,null,798]
[null,null,null,null,null,799]
[null,null,null,null,null,800]
[null,null,null,null,null,801]
[null,null,null,null,null,802]
[null,null,null,null,null,803]
[null,null,null,null,null,804]
[null,null,null,null,null,805]
[null,null,null,null,null,806]
[null,null,null,null,null,807]
[null,null,null,null,null,808]
[null,null,null,null,null,809]
[null,null,null,null,null,810]
[null,null,null,null,null,811]
[null,null,null,null,null,812]
[null,null,null,null,null,813]
[null,null,null,null,null,814]
[null,null,null,null,null,815]
[null,null,null,null,null,816]
[null,null,null,null,null,817]
[null,null,null,null,null,818]
[null,null,null,null,null,819]
[null,null,null,null,null,820]
[null,null,null,null,null,821]
[null,null,null,null,null,822]
[null,null,null,null,null,823]
[null,null,null,null,null,824]
[null,null,null,null,null,825]
[null,null,null,null,null,826]
[null,null,null,null,null,827]
[null,null,null,null,null,828]
[null,null,null,null,null,829]
[null,null,null,null,null,830]
[null,null,null,null,null,831]
[null,null,null,null,null,832]
[null,null,null,null,null,833]
[null,null,null,null,null,834]
[null,null,null,null,null,{"$f":"+F835+1","v":835}]
[null,null,null,null,null,836]
[null,null,null,null,null,837]
[null,null,null,null,null,838]
[null,null,null,null,null,839]
[null,null,null,null,null,840]
[null,null,null,null,null,841]
[null,null,null,null,null,842]
[null,null,null,null,null,843]
[null,null,null,null,null,844]
[null,null,null,null,null,845]
[null,null,null,null,null,846]
[null,null,null,null,null,847]
[null,null,null,null,null,848]
[null,null,null,null,null,849]
[null,null,null,null,null,850]
[null,null,null,null,null,851]
[null,null,null,null,null,852]
[null,null,null,null,null,853]
[null,null,null,null,null,854]
[null,null,null,null,null,855]
[null,null,null,null,null,856]
[null,null,null,null,null,857]
[null,null,null,null,null,858]
[null,null,null,null,null,859]
[null,null,null,null,null,860]
[null,null,null,null,null,861]
[null,null,null,null,null,862]
[null,null,null,null,null,863]
[null,null,null,null,null,864]
[null,null,null,null,null,865]
[null,null,null,null,null,866]
[null,null,null,null,null,867]
[null,null,null,null,null,868]
[null,null,null,null,null,869]
[null,null,null,null,null,870]
[null,null,null,null,null,871]
[null,null,null,null,null,872]
[null,null,null,null,null,873]
[null,null,null,null,null,874]
[null,null,null,null,null,875]
[null,null,null,null,null,876]
[null,null,null,null,null,877]
[null,null,null,null,null,878]
[null,null,null,null,null,879]
[null,null,null,null,null,880]
[null,null,null,null,null,881]
[null,null,null,null,null,882]
[null,null,null,null,null,883]
[null,null,null,null,null,884]
[null,null,null,null,null,885]
[null,null,null,null,null,886]
[null,null,null,null,null,887]
[null,null,null,null,null,888]
[null,null,null,null,null,889]
[null,null,null,null,null,890]
[null,null,null,null,null,891]
[null,null,null,null,null,892]
[null,null,null,null,null,893]
[null,null,null,null,null,894]
[null,null,null,null,null,895]
[null,null,null,null,null,896]
[null,null,null,null,null,897]
[null,null,null,null,null,898]
[null,null,null,null,null,{"$f":"+F899+1","v":899}]
[null,null,null,null,null,900]
[null,null,null,null,null,901]
[null,null,null,null,null,902]
[null,null,null,null,null,903]
[null,null,null,null,null,904]
[null,null,null,null,null,905]
[null,null,null,null,null,906]
[null,null,null,null,null,907]
[null,null,null,null,null,908]
[null,null,null,null,null,909]
[null,null,null,null,null,910]
[null,null,null,null,null,911]
[null,null,null,null,null,912]
[null,null,null,null,null,913]
[null,null,null,null,null,914]
[null,null,null,null,null,915]
[null,null,null,null,null,916]
[null,null,null,null,null,917]
[null,null,null,null,null,918]
[null,null,null,null,null,919]
[null,null,null,null,null,920]
[null,null,null,null,null,921]
[null,null,null,null,null,922]
[null,null,null,null,null,923]
[null,null,null,null,null,924]
[null,null,null,null,null,925]
[null,null,null,null,null,926]
[null,null,null,null,null,927]
[null,null,null,null,null,928]
[null,null,null,null,null,929]
[null,null,null,null,null,930]
[null,null,null,null,null,931]
[null,null,null,null,null,932]
[null,null,null,null,null,933]
[null,null,null,null,null,934]
[null,null,null,null,null,935]
[null,null,null,null,null,936]
[null,null,null,null,null,937]
[null,null,null,null,null,938]
[null,null,null,null,null,939]
[null,null,null,null,null,940]
[null,null,null,null,null,941]
[null,null,null,null,null,942]
[null,null,null,null,null,943]
[null,null,null,null,null,944]
[null,null,null,null,null,945]
[null,null,null,null,null,946]
[null,null,null,null,null,947]
[null,null,null,null,null,948]
[null,null,null,null,null,949]
[null,null,null,null,null,950]
[null,null,null,null,null,951]
[null,null,null,null,null,952]
[null,null,null,null,null,953]
[null,null,null,null,null,954]
[null,null,null,null,null,955]
[null,null,null,null,null,956]
[null,null,null,null,null,957]
[null,null,null,null,null,958]
[null,null,null,null,null,959]
[null,null,null,null,null,960]
[null,null,null,null,null,961]
[null,null,null,null,null,962]
[null,null,null,null,null,{"$f":"+F963+1","v":963}]
[null,null,null,null,null,964]
[null,null,null,null,null,965]
[null,null,null,null,null,966]
[null,null,null,null,null,967]
[null,null,null,null,null,968]
[null,null,null,null,null,969]
[null,null,null,null,null,970]
[null,null,null,null,null,971]
[null,null,null,null,null,972]
[null,null,null,null,null,973]
[null,null,null,null,null,974]
[null,null,null,null,null,975]
[null,null,null,null,null,976]
[null,null,null,null,null,977]
[null,null,null,null,null,978]
[null,null,null,null,null,979]
[null,null,null,null,null,980]
[null,null,null,null,null,981]
[null,null,null,null,null,982]
[null,null,null,null,null,983]
[null,null,null,null,null,984]
[null,null,null,null,null,985]
[null,null,null,null,null,986]
[null,null,null,null,null,987]
[null,null,null,null,null,988]
[null,null,null,null,null,989]
[null,null,null,null,null,990]
[null,null,null,null,null,991]
[null,null,null,null,null,992]
[null,null,null,null,null,993]
[null,null,null,null,null,994]
[null,null,null,null,null,995]
[null,null,null,null,null,996]
[null,null,null,null,null,997]
[null,null,null,null,null,998]
[null,null,null,null,null,999]
[null,null,null,null,null,1000]
[null,null,null,null,null,1001]
[null,null,null,null,null,1002]
[null,null,null,null,null,1003]
[null,null,null,null,null,1004]
[null,null,null,null,null,1005]
[null,null,null,null,null,1006]
[null,null,null,null,null,1007]
[null,null,null,null,null,1008]
[null,null,null,null,null,1009]
[null,null,null,null,null,1010]
[null,null,null,null,null,1011]
[null,null,null,null,null,1012]
[null,null,null,null,null,1013]
[null,null,null,null,null,1014]
[null,null,null,null,null,1015]
[null,null,null,null,null,1016]
[null,null,null,null,null,1017]
[null,null,null,null,null,1018]
[null,null,null,null,null,1019]
[null,null,null,null,null,1020]
[null,null,null,null,null,1021]
[null,null,null,null,null,1022]
[null,null,null,null,null,1023]
[null,null,null,null,null,1024]
[null,null,null,null,null,1025]
[null,null,null,null,null,1026]
[null,null,null,null,null,{"$f":"+F1027+1","v":1027}]
[null,null,null,null,null,1028]
[null,null,null,null,null,1029]
[null,null,null,null,null,1030]
[null,null,null,null,null,1031]
[null,null,null,null,null,1032]
[null,null,null,null,null,1033]
[null,null,null,null,null,1034]
[null,null,null,null,null,1035]
[null,null,null,null,null,1036]
[null,null,null,null,null,1037]
[null,null,null,null,null,1038]
[null,null,null,null,null,1039]
[null,null,null,null,null,1040]
[null,null,null,null,null,1041]
[null,null,null,null,null,1042]
[null,null,null,null,null,1043]
[null,null,null,null,null,1044]
[null,null,null,null,null,1045]
[null,null,null,null,null,1046]
[null,null,null,null,null,1047]
[null,null,null,null,null,1048]
[null,null,null,null,null,1049]
[null,null,null,null,null,1050]
[null,null,null,null,null,1051]
[null,null,null,null,null,1052]
[null,null,null,null,null,1053]
[null,null,null,null,null,1054]
[null,null,null,null,null,1055]

{"sheet":"Plan de Estudios","index":10,"n_rows":22,"n_cols":8,"rows_kept":22,"cut":false,"hidden":false,"merged":[[2,0,3,0],[2,1,2,3],[2,4,2,6],[2,7,3,7]]}
["COLEGIO TECNICO PROFESIONAL"]
[]
["DETALLE","TERCER CICLO",null,null,"CUARTO CICLO",null,null,"Taller Pre y Voca."]
[null,"Sétimo","Octavo","Noveno","Décimo","Undécimo","Duodécimo"]
["Actividad de Grupo",1,1,1,1,1]
["Ciencias",5,5,5]
["Ciencias Biología",null,null,null,null,3,3]
["Ciencias Física",null,null,null,6]
["Ciencias Química",null,null,null,null,3,3]
["Educación Cívica"]
["Educación Física ( 2 o 4 )",2,2,2,2,2,null,2]
["Educación Musical",2,2,2,1,1,null,2]
["Educación Religiosa",1,1,1,1,1,null,1]
["Español",5,5,5,3,3,4]
["Estudios Sociales",6,6,6,3,3,6]
["Fortalecimiento de Areas Específicas",1,1,1]
["Francés",3,3,3]
["Informática Educativa (SI o NO)",2,2,2,null,null,null,2]
["Inglés",3,3,3,4,3,3]
["Matemática",5,5,5,3,3,4]
["Afectividad y Sexualidad Integral",null,null,null,null,1]
["Sicología y Etica",null,null,null,null,null,1]